{"text_format":"1","workbook":"xlsx","n_sheets":35,"sheets":["Summary Sheet","SLAB AREAS","FOOTING LENGTHS","PIERS","HIGHLIGHER LIST","BWK INTERNAL","INT LINTEL LIST","FINISH - EXT","FINISH - INT","EXT LINTEL LIST","BWK EXTERNAL","Brick Chart","STD LINTEL SHEET","START UP","Main Details","Concrete & Reo","INT-EXT DOORS & int walls","Lintels.windows ","BRICKWORK","Brick Final Sheet ","BUILDERS BRICK SELECTION","Fascia-Roof Hardware","Roof & Ceiling Quantities ","Elec,Ceiling,Plaster,Paint ","FIxing Carpentry & Moulding","Lists","Tiling","BUILDERS SETTINGS","Paving&Grano","Additional Items","Blinds2","QUOTES","Test without gaps","Sheet2","Sheet1"],"not_rendered":{"charts":0,"images":1,"macros":1,"external_links":9,"defined_names":687,"comments":9,"pivot_tables":0},"unopened":[],"bounds":{"document_bytes":16777216,"sheet_cells":100000,"rows_first":2000,"rows_last":500,"rows_between":2000,"halvings":0,"cell_chars":16384,"cell_head_chars":4096},"cells_cut":0,"cells_raw":0,"read":"whole","date_system":"1900"}

{"sheet":"Summary Sheet","index":0,"n_rows":94,"n_cols":9,"rows_kept":94,"cut":false,"hidden":true,"merged":[[0,2,0,5]]}
[null,"File Name"]
[]
[null,"Brickwork",null,"Notes"]
[null,"2c FACE BRICKWORK",null,null,null,"OG Figures"]
[null,"2c Face Brickwork",{"$f":"SUMIF('BWK EXTERNAL'!B4:B301,\"FACE BWK\",'BWK EXTERNAL'!F4:F301)+SUMIF(PIERS!B:B,\"Pier 2c Face\",PIERS!I:I)-SUM(C6:C7)-C8-C9","v":139.28099999999995},"Includes Piers and deducts the three rows of calcs below",null,"2c"]
[null,"1c Cored Face brick to Heads",{"$f":"SUMIF('EXT LINTEL LIST'!J4:J101,\"FACE BWK\",'EXT LINTEL LIST'!L4:L101)","v":0},null,null,"1c"]
[null,"1c Cored Face Brick Sills",{"$f":"SUMIF('EXT LINTEL LIST'!M4:M101,\"1c Face Modular Solid\",'EXT LINTEL LIST'!N4:N101)","v":2.6259999999999994},null,null,"1c"]
[null,"2c Finishing Bricks Ext Windows & Door Heads",{"$f":"SUMIF('EXT LINTEL LIST'!M4:M101,\"Finishing Block\",'EXT LINTEL LIST'!N4:N101)","v":0.22500000000000001},null,{"$f":"C8/2","v":0.1125},"1c"]
[null,"Zero Course 1c Face Solids and Cored",{"$f":"SUMIF('EXT LINTEL LIST'!M4:M101,\"Sill Brick - Zero Course\",'EXT LINTEL LIST'!N4:N101)","v":0},null,null,"1c"]
[]
[null,"Internal Leaf Double Decker",{"$f":"SUMIF('BWK INTERNAL'!B3:B301,\"FACE BWK\",'BWK INTERNAL'!F3:F301)+SUMIF('BWK INTERNAL'!B3:B301,\"REAR GARAGE FACE BWK\",'BWK INTERNAL'!F3:F301)-SUM(C12:C13)-W70","v":9.5210000000000008},null,null,"2c"]
[null,"Mod Int Leaf Heads",{"$f":"SUMIF('INT LINTEL LIST'!J4:J105,\"FACE BWK\",'INT LINTEL LIST'!L4:L105)","v":0},null,null,"1c"]
[null,"Mod Int Leaf Sills",{"$f":"SUMIF('INT LINTEL LIST'!M4:M100,\"1c Face Modular Solid\",'INT LINTEL LIST'!N4:N100)","v":0},null,null,"1c"]
[]
[null,"1c Face Cored for Walls (Odd course)",{"$f":"SUMIF('BWK EXTERNAL'!B4:B300,\"FACE BWK\",'BWK EXTERNAL'!G4:G300)+SUMIF('BWK EXTERNAL'!B4:B300,\"FACE BWK\",'BWK EXTERNAL'!H4:H300)-SUMIF('EXT LINTEL LIST'!J4:J100,\"FACE BWK\",'EXT LINTEL LIST'!O4:O100)","v":11.145},"Note: Includes Deduction for above windows at an Odds course",null,"1c"]
[null,"1c Face Sill Brick Solids",{"$f":"SUMIF('EXT LINTEL LIST'!M:M,\"1c Face Modular Solid\",'EXT LINTEL LIST'!N:N)","v":2.6259999999999994},"Window sill solids",null,"1c"]
[null,"1c Face Head Bricks Solid",{"$f":"SUMIF('EXT LINTEL LIST'!M:M,\"1c Face Modular Solid\",'EXT LINTEL LIST'!N:N)","v":2.6259999999999994},null,null,"1c"]
[null,"Finishing Bricks Int Windows & Door Heads",{"$f":"SUMIF('EXT LINTEL LIST'!M:M,\"Sill Brick - Zero Course\",'EXT LINTEL LIST'!N:N)*0.5","v":0},null,null,"1c"]
[]
[null,"1c Feature Face",{"$f":"SUMIF('BWK EXTERNAL'!B4:B300,\"1C FACE BWK\",'BWK EXTERNAL'!F4:F300)","v":6.7119999999999997}]
[null,"Internal 2c Face",{"$f":"SUMIF('BWK INTERNAL'!B3:B300,\"FACE BWK\",'BWK INTERNAL'!G3:G300)+SUMIF('BWK INTERNAL'!B3:B300,\"FACE BWK\",'BWK INTERNAL'!H3:H300)","v":2.0650000000000004},null,null,"1c"]
[]
[null,"HIGHLIGHTER Internal & External Corner Snaps",{"$f":"SUMIF('HIGHLIGHER LIST'!A4:A300,\"CORNER SNAPS\",'HIGHLIGHER LIST'!B4:B300)*0.19*0.172","v":0}]
[null,"Snaps Calculation from Windows",{"$f":"SUMIF('EXT LINTEL LIST'!J:J,\"FACE BWK\",'EXT LINTEL LIST'!P:P)/1000*0.37","v":10.750349999999999},"Calculates window heights and multiple by .2"]
[null,"Piers - Snaps",{"$f":"SUMIF(PIERS!B:B,\"Pier 2c Face\",PIERS!I:I)","v":0}]
[]
[null,"VERTICORE / VERTICLAY / RENDERED"]
[null,"External 2c Render Bricks",{"$f":"SUMIF('BWK EXTERNAL'!B4:B301,\"RENDER BWK\",'BWK EXTERNAL'!F4:F301)+C33+SUMIF(PIERS!B:B,\"Pier 2c Rendered\",PIERS!J:J)","v":32.055999999999997},"Includes Piers",null,"2c"]
[null,"1c Render brick when wall finishes on Odd course",{"$f":"SUMIF('BWK EXTERNAL'!B4:B300,\"RENDER BWK\",'BWK EXTERNAL'!G4:G300)+SUMIF('BWK EXTERNAL'!B4:B300,\"RENDER BWK\",'BWK EXTERNAL'!H4:H300)-SUMIF('EXT LINTEL LIST'!J4:J100,\"RENDER BWK\",'EXT LINTEL LIST'!O4:O100)","v":2.7570000000000006},"Note: Includes Deduction for above windows at an Odd course",null,"1c"]
[null,"1c Render Brick over Windows",{"$f":"SUMIF('EXT LINTEL LIST'!J4:J100,\"RENDER BWK\",'EXT LINTEL LIST'!L4:L100)+C34","v":0.32200000000000001},null,null,"1c"]
[null,"1c Render Brick under Windows",{"$f":"SUMIF('EXT LINTEL LIST'!M4:M100,\"1c Rough Longreach\",'EXT LINTEL LIST'!N4:N100)+C35","v":3.3289999999999993},null,null,"1c"]
[]
[null,"Internal Leaf Verticore",{"$f":"SUMIF('BWK INTERNAL'!B3:B301,\"RENDER BWK\",'BWK INTERNAL'!F3:F301)","v":1.262},"Note: Added to Above Figures",null,"1c"]
[null,"Int 2c s Windows & Doors Heads",{"$f":"SUMIF('INT LINTEL LIST'!J4:J102,\"RENDER BWK\",'INT LINTEL LIST'!L4:L102)","v":0},"Note: Added to Above Figures",null,"1c"]
[null,"Int Modulars Windows & Doors Sills",{"$f":"SUMIF('INT LINTEL LIST'!N6:N102,\"1c Rough Longreach\",'INT LINTEL LIST'!O6:O102)","v":2.9039999999999995},"Note: Added to Above Figures",null,"1c"]
[]
[null,"INTERNALS"]
[null,"Internal Leaf",{"$f":"SUMIF('BWK INTERNAL'!B3:B300,\"INT CAV BWK\",'BWK INTERNAL'!F3:F300)+C44","v":86.509},"Internal pertitions and cavity internal leaf + low walls",null,"2c"]
[null,"Internal Walls",{"$f":"SUMIF('BWK INTERNAL'!B3:B300,\"INT PARTITION\",'BWK INTERNAL'!F3:F300)","v":262.12800000000004},null,null,"2c"]
[null,"Window Heads Int Leaf",{"$f":"SUMIF('INT LINTEL LIST'!J4:J100,\"INT CAV BWK\",'INT LINTEL LIST'!L4:L100)+SUMIF('INT LINTEL LIST'!J4:J100,\"INT PARTITION\",'INT LINTEL LIST'!L4:L100)+C45","v":3.177},"Inc Window Heads on 190 rendered internal skins",null,"1c"]
[null,"Window Sills Int Leaf",{"$f":"SUMIF('INT LINTEL LIST'!J4:J100,\"INT CAV BWK\",'INT LINTEL LIST'!M4:M100)+C46","v":3.0509999999999993},"Inc Window Sill on 190 rendered internal skins",null,"1c"]
[null,"Low Walls",{"$f":"SUMIF('BWK INTERNAL'!B3:B300,\"INT CAV BWK\",'BWK INTERNAL'!H3:H300)+SUMIF('BWK INTERNAL'!B3:B300,\"INT PARTITION\",'BWK INTERNAL'!H3:H300)","v":15.766999999999999},null,null,"1c"]
[null,"Int Modulars Wall Head odd Course",{"$f":"SUMIF('BWK INTERNAL'!B3:B300,\"INT CAV BWK\",'BWK INTERNAL'!G3:G300)+SUMIF('BWK INTERNAL'!B3:B300,\"INT PARTITION\",'BWK INTERNAL'!G3:G300)","v":8.8210000000000015},null,null,"1c"]
[null,"Internal Blocks - Second Skin",{"$f":"SUMIF('BWK EXTERNAL'!B3:B300,\"INT PARTITION\",'BWK EXTERNAL'!F3:F300)+SUMIF('BWK EXTERNAL'!B3:B300,\"INT CAV BWK\",'BWK EXTERNAL'!F3:F300)","v":0},"added to the above formulas"]
[null,"Window Heads Ext Leaf",{"$f":"SUMIF('EXT LINTEL LIST'!J4:J100,\"INT CAV BWK\",'EXT LINTEL LIST'!L4:L100)","v":0},"added to the above formulas"]
[null,"Window Sills Ext Leaf",{"$f":"SUMIF('EXT LINTEL LIST'!J4:J100,\"INT CAV BWK\",'EXT LINTEL LIST'!M4:M100)","v":0},"added to the above formulas"]
[]
[null,"PLASTERING - FINISHES"]
[null,"External Plastering",{"$f":"SUMIF('FINISH - EXT'!C:C,\"RENDER BWK\",'FINISH - EXT'!G:G)+SUMIF('FINISH - INT'!C:C,\"RENDER BWK\",'FINISH - INT'!G:G)+SUMIF(PIERS!B:B,\"Pier 2c Rendered\",PIERS!J:J)-C50","v":68.754000000000005}]
[null,"External Plaster Deductions",{"$f":"SUMIF('FINISH - EXT'!H:H,\"FACE BWK\",'FINISH - EXT'!I:I)","v":0},"Garage Door deduction"]
[null,"Internal Float and Set Cav",{"$f":"SUMIF('FINISH - INT'!C:C,\"INT CAV BWK\",'FINISH - INT'!G:G)","v":177.44100000000003}]
[null,"Internal Float and Set Paritions",{"$f":"SUMIF('FINISH - INT'!C:C,\"INT PARTITION\",'FINISH - INT'!G:G) + SUMIF('FINISH - EXT'!C:C,\"INT PARTITION\",'FINISH - EXT'!G:G)-C56","v":610.99968000000013}]
[null,"Plaster Beads",{"$f":"SUMIF('HIGHLIGHER LIST'!A4:A100,\"CORNER BEADS\",'HIGHLIGHER LIST'!B4:B100)","v":0}]
[null,"Window Beads 2.4",{"$f":"SUMIF('HIGHLIGHER LIST'!A4:A100,\"WINDOW BEADS 2.4\",'HIGHLIGHER LIST'!B4:B100)","v":21}]
[null,"T-Junctions 28c",{"$f":"SUMIF('HIGHLIGHER LIST'!A:A,\"T-WALL JUNCTION 28c\",'HIGHLIGHER LIST'!B:B)*0.09*2.4","v":0}]
[null,"T-Junctions 30c",{"$f":"SUMIF('HIGHLIGHER LIST'!A:A,\"T-WALL JUNCTION 30c\",'HIGHLIGHER LIST'!B:B)*0.09*2.572","v":2.0833200000000001}]
[null,"T-Junctions 31c",{"$f":"SUMIF('HIGHLIGHER LIST'!A:A,\"T-WALL JUNCTION 31c\",'HIGHLIGHER LIST'!B:B)*0.09*2.657","v":0}]
[]
[null,"Concrete"]
[null,"Perimeter for footing",{"$f":"SUMIF('FOOTING LENGTHS'!A3:A101,\"Perimeter Walls\",'FOOTING LENGTHS'!B3:B101)+SUMIF('FOOTING LENGTHS'!A3:A101,\"Rear Garage Walls\",'FOOTING LENGTHS'!B3:B101)/100","v":65836.19}]
[null,"Garage Walls Lineal",{"$f":"(SUMIF('FOOTING LENGTHS'!A3:A101,\"Garage Walls\",'FOOTING LENGTHS'!B3:B101)+SUMIF('FOOTING LENGTHS'!A3:A101,\"Garage Wall 190\",'FOOTING LENGTHS'!B3:B101)-SUMIF('FOOTING LENGTHS'!A3:A101,\"Garage door deduction\",'FOOTING LENGTHS'!B3:B101))","v":14275}]
[null,"Garage Door Deduction",{"$f":"(SUMIF('FOOTING LENGTHS'!A:A,\"Garage Door Deduction\",'FOOTING LENGTHS'!B:B))/1000","v":7.52}]
[null,"House Slab Area",{"$f":"SUMIF('SLAB AREAS'!A3:A50,\"FLOOR PLAN\",'SLAB AREAS'!B3:B50)","v":296.601}]
[null,"Garage / Store Slab Area",{"$f":"SUMIF('SLAB AREAS'!A4:A51,\"GARAGE\",'SLAB AREAS'!B4:B51)+SUMIF('SLAB AREAS'!A4:A51,\"STORE\",'SLAB AREAS'!B4:B51)+SUMIF('SLAB AREAS'!A4:A51,\"GARAGE / STORE\",'SLAB AREAS'!B4:B51)","v":57.854999999999997}]
[null,"Alfresco",{"$f":"SUMIF('SLAB AREAS'!$A$3:$A$51,\"ALFRESCO\",'SLAB AREAS'!$B$3:$B$51)","v":24}]
[null,"Porch /Verandah",{"$f":"SUMIF('SLAB AREAS'!$A$3:$A$51,\"PORCH\",'SLAB AREAS'!$B$3:$B$51)+SUMIF('SLAB AREAS'!$A$3:$A$51,\"PORTICO\",'SLAB AREAS'!$B$3:$B$51)+SUMIF('SLAB AREAS'!$A$3:$A$51,\"VERANDAH\",'SLAB AREAS'!$B$3:$B$51)","v":5.157}]
[]
[null,"Lintels","Internal Length","Internal Type","External Length","External Type","Height"]
[null,{"$f":"'INT LINTEL LIST'!A4","v":"BATH 2"},{"$f":"'INT LINTEL LIST'!D4","v":1310},{"$f":"'INT LINTEL LIST'!G4","v":"75 x 75 x8.0 EA"},{"$f":"'EXT LINTEL LIST'!D4","v":1310},{"$f":"'EXT LINTEL LIST'!G4","v":"75 x 75 x8.0 EA"},{"$f":"'INT LINTEL LIST'!P4/1000","v":0.51400000000000001},{"$f":"E69*G69/1000","v":0.67334000000000005},{"$f":"G69/0.086","v":5.9767441860465125}]
[null,{"$f":"'INT LINTEL LIST'!A5","v":"BED 2"},{"$f":"'INT LINTEL LIST'!D5","v":1710},{"$f":"'INT LINTEL LIST'!G5","v":"75 x 75 x8.0 EA"},{"$f":"'EXT LINTEL LIST'!D5","v":1710},{"$f":"'EXT LINTEL LIST'!G5","v":"75 x 75 x8.0 EA"},{"$f":"'INT LINTEL LIST'!P5/1000","v":2.3140000000000001},{"$f":"E70*G70/1000","v":3.9569399999999999},{"$f":"G70/0.086","v":26.90697674418605}]
[null,{"$f":"'INT LINTEL LIST'!A6","v":"BED 3"},{"$f":"'INT LINTEL LIST'!D6","v":1710},{"$f":"'INT LINTEL LIST'!G6","v":"75 x 75 x8.0 EA"},{"$f":"'EXT LINTEL LIST'!D6","v":1710},{"$f":"'EXT LINTEL LIST'!G6","v":"75 x 75 x8.0 EA"},{"$f":"'INT LINTEL LIST'!P6/1000","v":2.3140000000000001},3.9569399999999999,26.90697674418605]
[null,{"$f":"'INT LINTEL LIST'!A7","v":"BED 4"},{"$f":"'INT LINTEL LIST'!D7","v":2770},{"$f":"'INT LINTEL LIST'!G7","v":"125 x 75 x 8.0 UA"},{"$f":"'EXT LINTEL LIST'!D7","v":2770},{"$f":"'EXT LINTEL LIST'!G7","v":"125 x 75 x 8.0 UA"},{"$f":"'INT LINTEL LIST'!P7/1000","v":2.3140000000000001},6.4097799999999996,26.90697674418605]
[null,{"$f":"'INT LINTEL LIST'!A8","v":"BED 5"},{"$f":"'INT LINTEL LIST'!D8","v":1810},{"$f":"'INT LINTEL LIST'!G8","v":"75 x 75 x8.0 EA"},{"$f":"'EXT LINTEL LIST'!D8","v":1810},{"$f":"'EXT LINTEL LIST'!G8","v":"75 x 75 x8.0 EA"},{"$f":"'INT LINTEL LIST'!P8/1000","v":2.3140000000000001},4.1883400000000002,26.90697674418605]
[null,{"$f":"'INT LINTEL LIST'!A9","v":"BED 6"},{"$f":"'INT LINTEL LIST'!D9","v":1810},{"$f":"'INT LINTEL LIST'!G9","v":"75 x 75 x8.0 EA"},{"$f":"'EXT LINTEL LIST'!D9","v":1810},{"$f":"'EXT LINTEL LIST'!G9","v":"75 x 75 x8.0 EA"},{"$f":"'INT LINTEL LIST'!P9/1000","v":2.3140000000000001},4.1883400000000002,26.90697674418605]
[null,{"$f":"'INT LINTEL LIST'!A10","v":"ENS 1"},{"$f":"'INT LINTEL LIST'!D10","v":1310},{"$f":"'INT LINTEL LIST'!G10","v":"75 x 75 x8.0 EA"},{"$f":"'EXT LINTEL LIST'!D10","v":1310},{"$f":"'EXT LINTEL LIST'!G10","v":"75 x 75 x8.0 EA"},{"$f":"'INT LINTEL LIST'!P10/1000","v":1.4570000000000001},1.9086700000000001,16.941860465116282]
[null,{"$f":"'INT LINTEL LIST'!A11","v":"ENS 2"},{"$f":"'INT LINTEL LIST'!D11","v":910},{"$f":"'INT LINTEL LIST'!G11","v":"75 x 75 x8.0 EA"},{"$f":"'EXT LINTEL LIST'!D11","v":910},{"$f":"'EXT LINTEL LIST'!G11","v":"75 x 75 x8.0 EA"},{"$f":"'INT LINTEL LIST'!P11/1000","v":2.3140000000000001},2.1057400000000004,26.90697674418605]
[null,{"$f":"'INT LINTEL LIST'!A12","v":"KITCHEN 1"},{"$f":"'INT LINTEL LIST'!D12","v":3010},{"$f":"'INT LINTEL LIST'!G12","v":"125 x 75 x 8.0 UA"},{"$f":"'EXT LINTEL LIST'!D12","v":3010},{"$f":"'EXT LINTEL LIST'!G12","v":"125 x 75 x 8.0 UA"},{"$f":"'INT LINTEL LIST'!P12/1000","v":2.1429999999999998},6.450429999999999,24.918604651162791]
[null,{"$f":"'INT LINTEL LIST'!A13","v":"L'DRY 1"},{"$f":"'INT LINTEL LIST'!D13","v":1510},{"$f":"'INT LINTEL LIST'!G13","v":"75 x 75 x8.0 EA"},{"$f":"'EXT LINTEL LIST'!D13","v":1510},{"$f":"'EXT LINTEL LIST'!G13","v":"75 x 75 x8.0 EA"},{"$f":"'INT LINTEL LIST'!P13/1000","v":2.3140000000000001},3.4941399999999998,26.90697674418605]
[null,{"$f":"'INT LINTEL LIST'!A14","v":"LIVING / DINING 1"},{"$f":"'INT LINTEL LIST'!D14","v":3010},{"$f":"'INT LINTEL LIST'!G14","v":"125 x 75 x 8.0 UA"},{"$f":"'EXT LINTEL LIST'!D14","v":3010},{"$f":"'EXT LINTEL LIST'!G14","v":"125 x 75 x 8.0 UA"},{"$f":"'INT LINTEL LIST'!P14/1000","v":2.1429999999999998},6.450429999999999,24.918604651162791]
[null,{"$f":"'INT LINTEL LIST'!A15","v":"LIVING / DINING 1"},{"$f":"'INT LINTEL LIST'!D15","v":3110},{"$f":"'INT LINTEL LIST'!G15","v":"150 x 90 x 8.0 UA"},{"$f":"'EXT LINTEL LIST'!D15","v":3110},{"$f":"'EXT LINTEL LIST'!G15","v":"150 x 90 x 8.0 UA"},{"$f":"'INT LINTEL LIST'!P15/1000","v":2.1429999999999998},6.6647299999999996,24.918604651162791]
[null,{"$f":"'INT LINTEL LIST'!A16","v":"LIVING / DINING 1"},{"$f":"'INT LINTEL LIST'!D16","v":3110},{"$f":"'INT LINTEL LIST'!G16","v":"150 x 90 x 8.0 UA"},{"$f":"'EXT LINTEL LIST'!D16","v":3110},{"$f":"'EXT LINTEL LIST'!G16","v":"150 x 90 x 8.0 UA"},{"$f":"'INT LINTEL LIST'!P16/1000","v":2.1429999999999998},6.6647299999999996,24.918604651162791]
[null,{"$f":"'INT LINTEL LIST'!A17","v":"LIVING 2"},{"$f":"'INT LINTEL LIST'!D17","v":3010},{"$f":"'INT LINTEL LIST'!G17","v":"125 x 75 x 8.0 UA"},{"$f":"'EXT LINTEL LIST'!D17","v":3010},{"$f":"'EXT LINTEL LIST'!G17","v":"125 x 75 x 8.0 UA"},{"$f":"'INT LINTEL LIST'!P17/1000","v":2.3140000000000001},6.9651399999999999,26.90697674418605]
[null,{"$f":"'INT LINTEL LIST'!A18","v":"MAIN BED"},{"$f":"'INT LINTEL LIST'!D18","v":2410},{"$f":"'INT LINTEL LIST'!G18","v":"100 x 75 x 8.0 UA"},{"$f":"'EXT LINTEL LIST'!D18","v":2410},{"$f":"'EXT LINTEL LIST'!G18","v":"100 x 75 x 8.0 UA"},{"$f":"'INT LINTEL LIST'!P18/1000","v":2.3140000000000001},5.57674,26.90697674418605]
[null,{"$f":"'INT LINTEL LIST'!A19","v":"PORCH"},{"$f":"'INT LINTEL LIST'!D19","v":1270},{"$f":"'INT LINTEL LIST'!G19","v":"75 x 75 x8.0 EA"},{"$f":"'EXT LINTEL LIST'!D19","v":1270},{"$f":"'EXT LINTEL LIST'!G19","v":"75 x 75 x8.0 EA"},{"$f":"'INT LINTEL LIST'!P19/1000","v":2.3140000000000001},2.9387800000000004,26.90697674418605]
[null,{"$f":"'INT LINTEL LIST'!A20","v":"THEATRE"},{"$f":"'INT LINTEL LIST'!D20","v":3010},{"$f":"'INT LINTEL LIST'!G20","v":"125 x 75 x 8.0 UA"},{"$f":"'EXT LINTEL LIST'!D20","v":3010},{"$f":"'EXT LINTEL LIST'!G20","v":"125 x 75 x 8.0 UA"},{"$f":"'INT LINTEL LIST'!P20/1000","v":2.3140000000000001},6.9651399999999999,26.90697674418605]
[null,{"$f":"'INT LINTEL LIST'!A21","v":0},{"$f":"'INT LINTEL LIST'!D21","v":0},{"$f":"'INT LINTEL LIST'!G21","v":0},{"$f":"'EXT LINTEL LIST'!D21","v":0},{"$f":"'EXT LINTEL LIST'!G21","v":0},{"$f":"'INT LINTEL LIST'!P21/1000","v":0},0,0]
[null,{"$f":"'INT LINTEL LIST'!A22","v":0},{"$f":"'INT LINTEL LIST'!D22","v":0},{"$f":"'INT LINTEL LIST'!G22","v":0},{"$f":"'EXT LINTEL LIST'!D22","v":0},{"$f":"'EXT LINTEL LIST'!G22","v":0},{"$f":"'INT LINTEL LIST'!P22/1000","v":0},0,0]
[null,{"$f":"'INT LINTEL LIST'!A23","v":0},{"$f":"'INT LINTEL LIST'!D23","v":0},{"$f":"'INT LINTEL LIST'!G23","v":0},{"$f":"'EXT LINTEL LIST'!D23","v":0},{"$f":"'EXT LINTEL LIST'!G23","v":0},{"$f":"'INT LINTEL LIST'!P23/1000","v":0},0,0]
[null,{"$f":"'INT LINTEL LIST'!A24","v":0},{"$f":"'INT LINTEL LIST'!D24","v":0},{"$f":"'INT LINTEL LIST'!G24","v":0},{"$f":"'EXT LINTEL LIST'!D24","v":0},{"$f":"'EXT LINTEL LIST'!G24","v":0},{"$f":"'INT LINTEL LIST'!P24/1000","v":0},0,0]
[null,{"$f":"'INT LINTEL LIST'!A25","v":0},{"$f":"'INT LINTEL LIST'!D25","v":0},{"$f":"'INT LINTEL LIST'!G25","v":0},{"$f":"'EXT LINTEL LIST'!D25","v":0},{"$f":"'EXT LINTEL LIST'!G25","v":0},{"$f":"'INT LINTEL LIST'!P25/1000","v":0},0,0]
[]
[]
[null,"Cladding",{"$f":"SUMIF('FINISH - EXT'!C:C,\"CLADDING\",'FINISH - EXT'!G:G)","v":0}]
[null,null,null,null,null,null,null,{"$f":"SUM(H69:H90)","v":79.558350000000004}]

{"sheet":"SLAB AREAS","index":1,"n_rows":6,"n_cols":2,"rows_kept":6,"cut":false,"hidden":true,"merged":[]}
["SLAB AREAS","Column2"]
["Area Name","Area Calculation"]
["ALFRESCO",24]
["FLOOR PLAN",296.601]
["GARAGE",57.854999999999997]
["PORCH",5.157]

{"sheet":"FOOTING LENGTHS","index":2,"n_rows":30,"n_cols":2,"rows_kept":30,"cut":false,"hidden":true,"merged":[]}
["FOOTING LENGTHS","Column2"]
["Footing Type","Footing Lengths"]
["Garage Door Deduction",2610]
["Garage Door Deduction",4910]
["Garage Wall 190",545]
["Garage Wall 190",600]
["Garage Wall 190",3150]
["Garage Wall 190",5305]
["Garage Walls",905]
["Garage Walls",1020]
["Garage Walls",2570]
["Garage Walls",2655]
["Garage Walls",5045]
["Perimeter Walls",500]
["Perimeter Walls",580]
["Perimeter Walls",1265]
["Perimeter Walls",1300]
["Perimeter Walls",1435]
["Perimeter Walls",1470]
["Perimeter Walls",1900]
["Perimeter Walls",3200]
["Perimeter Walls",3515]
["Perimeter Walls",4245]
["Perimeter Walls",7655]
["Perimeter Walls",8060]
["Perimeter Walls",8305]
["Perimeter Walls",10285]
["Perimeter Walls",12000]
["Rear Garage Walls",5555]
["Rear Garage Walls",6564]

{"sheet":"PIERS","index":3,"n_rows":4,"n_cols":10,"rows_kept":4,"cut":false,"hidden":true,"merged":[]}
["Column1","Column2","Column3","Column4","Column5","Column6","Column7","Column8","Column9","Column10"]
[]
["Preview","Pier Type","Height","Pier Height","Pier Width","Pier Splits","Pier Blocks","Pier Splits SQM","Pier Blocks SQM","Pier Rendered Total Area"]
[" ","Pier 2c Rendered",2829,390,490,1,4,0,0,4.9790000000000001]

{"sheet":"HIGHLIGHER LIST","index":4,"n_rows":36,"n_cols":2,"rows_kept":36,"cut":false,"hidden":true,"merged":[]}
["Column1","Column2"]
[]
["Type","Quantity"]
["T-WALL JUNCTION 30c",1]
["T-WALL JUNCTION 30c",1]
["T-WALL JUNCTION 30c",1]
["T-WALL JUNCTION 30c",1]
["T-WALL JUNCTION 30c",1]
["T-WALL JUNCTION 30c",1]
["T-WALL JUNCTION 30c",1]
["T-WALL JUNCTION 30c",1]
["T-WALL JUNCTION 30c",1]
["",9]
["WINDOW BEADS 2.4",1]
["WINDOW BEADS 2.4",1]
["WINDOW BEADS 2.4",1]
["WINDOW BEADS 2.4",1]
["WINDOW BEADS 2.4",1]
["WINDOW BEADS 2.4",1]
["WINDOW BEADS 2.4",1]
["WINDOW BEADS 2.4",1]
["WINDOW BEADS 2.4",1]
["WINDOW BEADS 2.4",1]
["WINDOW BEADS 2.4",1]
["WINDOW BEADS 2.4",1]
["WINDOW BEADS 2.4",1]
["WINDOW BEADS 2.4",1]
["WINDOW BEADS 2.4",1]
["WINDOW BEADS 2.4",1]
["WINDOW BEADS 2.4",1]
["WINDOW BEADS 2.4",1]
["WINDOW BEADS 2.4",1]
["WINDOW BEADS 2.4",1]
["WINDOW BEADS 2.4",1]
["",21]
["",30]

{"sheet":"BWK INTERNAL","index":5,"n_rows":70,"n_cols":10,"rows_kept":70,"cut":false,"hidden":true,"merged":[]}
["01 BWK INTERNAL","Column2","Column3","Column4","Column5","Column6","Column7","Column8","Column9","Column10"]
["","Internal Brick Type","Nominal Width","WALL","WALL Height Int","Area","Top LR Ded","Bot LR Ded","INT Brick Multiplier","Internal Num of Bricks"]
["Ground Floor","FACE BWK",190,"s90 Footing (1)",2058,4.9219999999999997,0.224,0.224,18.5,91.066000000000003]
["Ground Floor","FACE BWK",190,"s190 Footing",2744,0.42099999999999999,0.46400000000000002,0.46400000000000002,18.5,7.782]
["Ground Floor","FACE BWK",190,"s190 Footing",2744,0.81399999999999995,0.26700000000000002,0.26700000000000002,18.5,15.058]
["Ground Floor","FACE BWK",190,"s190 Footing",2744,1.5429999999999999,5.1999999999999998E-2,5.1999999999999998E-2,18.5,28.548999999999999]
["Ground Floor","FACE BWK",190,"s190 Footing",3172,1.821,0,5.0999999999999997E-2,18.5,33.683999999999997]
["Ground Floor","INT CAV BWK",230,"c230_Footing",2572,1.2,4.2999999999999997E-2,4.2999999999999997E-2,18.5,22.2]
["Ground Floor","INT CAV BWK",230,"c230_Footing",2572,2.4540000000000002,0.16300000000000001,0.16300000000000001,18.5,45.404000000000003]
["Ground Floor","INT CAV BWK",230,"c230_Footing",2572,3.12,0.112,0.112,18.5,57.72]
["Ground Floor","INT CAV BWK",230,"c230_Footing",2572,3.3119999999999998,0.11899999999999999,0.11899999999999999,18.5,61.271999999999998]
["Ground Floor","INT CAV BWK",230,"c230_Footing",2572,4.5030000000000001,0.36099999999999999,0.36099999999999999,18.5,83.31]
["Ground Floor","INT CAV BWK",230,"c230_Footing",2572,10.427,1.032,1.032,18.5,192.89699999999999]
["Ground Floor","INT CAV BWK",230,"c230_Footing",2572,12.930999999999999,0.71299999999999997,0.71299999999999997,18.5,239.221]
["Ground Floor","INT CAV BWK",230,"c230_Footing",2829,0.65500000000000003,0,0.113,18.5,12.109]
["Ground Floor","INT CAV BWK",230,"c230_Footing",2829,1.4259999999999999,0,4.4999999999999998E-2,18.5,26.388000000000002]
["Ground Floor","INT CAV BWK",230,"c230_Footing",2829,3.5470000000000002,0,0.312,18.5,65.625]
["Ground Floor","INT CAV BWK",230,"c230_Footing",2829,5.83,0,0.66800000000000004,18.5,107.849]
["Ground Floor","INT CAV BWK",230,"c230_Footing",2829,8.7780000000000005,0,0.27500000000000002,18.5,162.386]
["Ground Floor","INT CAV BWK",230,"c230_Footing",2829,10.621,0,0.89400000000000002,18.5,196.483]
["Ground Floor","INT CAV BWK",230,"c230_Footing",2829,14.045999999999999,0,0.72399999999999998,18.5,259.85199999999998]
["Ground Floor","INT CAV BWK",230,"c230_Footing",2944,3.6589999999999998,0.114,0.114,18.5,67.691999999999993]
["Ground Floor","INT PARTITION",90,"s90 Internal",1050,0.57099999999999995,5.6000000000000001E-2,5.6000000000000001E-2,18.5,10.558]
["Ground Floor","INT PARTITION",90,"s90 Internal",2572,0.44600000000000001,0.13300000000000001,0.13300000000000001,18.5,8.2579999999999991]
["Ground Floor","INT PARTITION",90,"s90 Internal",2572,1.44,5.1999999999999998E-2,5.1999999999999998E-2,18.5,26.64]
["Ground Floor","INT PARTITION",90,"s90 Internal",2572,1.44,5.1999999999999998E-2,5.1999999999999998E-2,18.5,26.64]
["Ground Floor","INT PARTITION",90,"s90 Internal",2572,1.44,5.1999999999999998E-2,5.1999999999999998E-2,18.5,26.64]
["Ground Floor","INT PARTITION",90,"s90 Internal",2572,1.5169999999999999,0.14199999999999999,0.14199999999999999,18.5,28.056999999999999]
["Ground Floor","INT PARTITION",90,"s90 Internal",2572,1.6559999999999999,5.8999999999999997E-2,5.8999999999999997E-2,18.5,30.635999999999999]
["Ground Floor","INT PARTITION",90,"s90 Internal",2572,1.8959999999999999,6.8000000000000005E-2,6.8000000000000005E-2,18.5,35.076000000000001]
["Ground Floor","INT PARTITION",90,"s90 Internal",2572,1.992,7.0999999999999994E-2,7.0999999999999994E-2,18.5,36.851999999999997]
["Ground Floor","INT PARTITION",90,"s90 Internal",2572,2.016,7.1999999999999995E-2,7.1999999999999995E-2,18.5,37.295999999999999]
["Ground Floor","INT PARTITION",90,"s90 Internal",2572,2.016,7.1999999999999995E-2,7.1999999999999995E-2,18.5,37.295999999999999]
["Ground Floor","INT PARTITION",90,"s90 Internal",2572,2.423,0.15,0.15,18.5,44.826000000000001]
["Ground Floor","INT PARTITION",90,"s90 Internal",2572,2.7589999999999999,0.16200000000000001,0.16200000000000001,18.5,51.042000000000002]
["Ground Floor","INT PARTITION",90,"s90 Internal",2572,2.9750000000000001,0.16900000000000001,0.16900000000000001,18.5,55.029000000000003]
["Ground Floor","INT PARTITION",90,"s90 Internal",2572,3.2160000000000002,0.115,0.115,18.5,59.496000000000002]
["Ground Floor","INT PARTITION",90,"s90 Internal",2572,3.7679999999999998,0.13500000000000001,0.13500000000000001,18.5,69.707999999999998]
["Ground Floor","INT PARTITION",90,"s90 Internal",2572,4.5599999999999996,0.16300000000000001,0.16300000000000001,18.5,84.36]
["Ground Floor","INT PARTITION",90,"s90 Internal",2572,4.7270000000000003,0.23200000000000001,0.23200000000000001,18.5,87.45]
["Ground Floor","INT PARTITION",90,"s90 Internal",2572,7.7519999999999998,0.27800000000000002,0.27800000000000002,18.5,143.41200000000001]
["Ground Floor","INT PARTITION",90,"s90 Internal",2572,8.0440000000000005,0.35899999999999999,0.35899999999999999,18.5,148.81100000000001]
["Ground Floor","INT PARTITION",90,"s90 Internal",2572,8.0440000000000005,0.35899999999999999,0.35899999999999999,18.5,148.81100000000001]
["Ground Floor","INT PARTITION",90,"s90 Internal",2572,8.7360000000000007,0.313,0.313,18.5,161.61600000000001]
["Ground Floor","INT PARTITION",90,"s90 Internal",2572,11.496,0.41199999999999998,0.41199999999999998,18.5,212.67599999999999]
["Ground Floor","INT PARTITION",90,"s90 Internal",2572,11.784000000000001,0.42199999999999999,0.42199999999999999,18.5,218.00399999999999]
["Ground Floor","INT PARTITION",90,"s90 Internal",2572,11.832000000000001,0.42399999999999999,0.42399999999999999,18.5,218.892]
["Ground Floor","INT PARTITION",90,"s90 Internal",2572,11.864000000000001,0.56599999999999995,0.56599999999999995,18.5,219.47800000000001]
["Ground Floor","INT PARTITION",90,"s90 Internal",2572,14.352,0.51400000000000001,0.51400000000000001,18.5,265.512]
["Ground Floor","INT PARTITION",90,"s90 Internal",2572,15.672000000000001,0.56200000000000006,0.56200000000000006,18.5,289.93200000000002]
["Ground Floor","INT PARTITION",90,"s90 Internal",2829,1.1080000000000001,0,9.6000000000000002E-2,18.5,20.498000000000001]
["Ground Floor","INT PARTITION",90,"s90 Internal",2829,1.5089999999999999,0,4.7E-2,18.5,27.91]
["Ground Floor","INT PARTITION",90,"s90 Internal",2829,1.6180000000000001,0,5.0999999999999997E-2,18.5,29.94]
["Ground Floor","INT PARTITION",90,"s90 Internal",2829,1.865,0,5.8000000000000003E-2,18.5,34.506999999999998]
["Ground Floor","INT PARTITION",90,"s90 Internal",2829,1.92,0,0.06,18.5,35.521999999999998]
["Ground Floor","INT PARTITION",90,"s90 Internal",2829,2.1669999999999998,0,6.8000000000000005E-2,18.5,40.088999999999999]
["Ground Floor","INT PARTITION",90,"s90 Internal",2829,2.99,0,9.4E-2,18.5,55.313000000000002]
["Ground Floor","INT PARTITION",90,"s90 Internal",2829,3.2919999999999998,0,0.10299999999999999,18.5,60.895000000000003]
["Ground Floor","INT PARTITION",90,"s90 Internal",2829,4.774,0,0.161,18.5,88.326999999999998]
["Ground Floor","INT PARTITION",90,"s90 Internal",2829,4.883,0,0.153,18.5,90.326999999999998]
["Ground Floor","INT PARTITION",90,"s90 Internal",2829,5.952,0,0.187,18.5,110.11799999999999]
["Ground Floor","INT PARTITION",90,"s90 Internal",2829,7.6260000000000003,0,0.23899999999999999,18.5,141.072]
["Ground Floor","INT PARTITION",90,"s90 Internal",2829,9.1560000000000006,0,0.36,18.5,169.387]
["Ground Floor","INT PARTITION",90,"s90 Internal",2829,9.25,0,0.35099999999999998,18.5,171.119]
["Ground Floor","INT PARTITION",90,"s90 Internal",2829,9.4369999999999994,0,0.43,18.5,174.58199999999999]
["Ground Floor","INT PARTITION",90,"s90 Internal",2829,12.536,0,0.39300000000000002,18.5,231.90700000000001]
["Ground Floor","INT PARTITION",90,"s90 Internal",2829,13.89,0,0.497,18.5,256.97199999999998]
["Ground Floor","INT PARTITION",90,"s90 Internal",2829,17.721,0,0.56699999999999995,18.5,327.84500000000003]
["GF Ceiling","RENDER BWK",90,"s90 Internal",292,0.33100000000000002,0.23699999999999999,0.23699999999999999,18.5,6.1269999999999998]
["GF Ceiling","RENDER BWK",90,"s90 Internal",292,0.93100000000000005,0.66700000000000004,0.66700000000000004,18.5,17.228000000000002]

{"sheet":"INT LINTEL LIST","index":6,"n_rows":20,"n_cols":16,"rows_kept":20,"cut":false,"hidden":true,"merged":[]}
["Column1","Column2","Column3","Column4","Column5","Column6","Column7","Column8","Column9","Column10","Column11","Column12","Column13","Column14","Column15","Column16"]
[]
["Related Zone Name","2D Plan Preview","ID","Window Width","Head","Type","Internal Size","Bearing","Lintel Len.","INT. TYPE","No. OVER","Head LR Area","Sill LR Area","INT WINDOW SILL BRICKS - TYPE","INT SILL BRICKS - AREA","Height"]
["BATH 2"," ","W09",1310,2314,"Auto","75 x 75 x8.0 EA",200,1510,"INT CAV BWK",0,0,0,"Rough Block",0.22500000000000001,514]
["BED 2"," ","W04",1710,2314,"Auto","75 x 75 x8.0 EA",200,1910,"INT CAV BWK",2,0.39700000000000002,0.14699999999999999,"1c Rough Longreach",0.14699999999999999,2314]
["BED 3"," ","W05",1710,2314,"Auto","75 x 75 x8.0 EA",200,1910,"INT CAV BWK",2,0.39700000000000002,0.14699999999999999,"1c Rough Longreach",0.14699999999999999,2314]
["BED 4"," ","W01",2770,2314,"Auto","125 x 75 x 8.0 UA",300,3070,"INT CAV BWK",0,0,0.23799999999999999,"1c Rough Longreach",0.23799999999999999,2314]
["BED 5"," ","W10",1810,2314,"Auto","75 x 75 x8.0 EA",200,2010,"INT CAV BWK",0,0,0.156,"1c Rough Longreach",0.156,2314]
["BED 6"," ","W08",1810,2314,"Auto","75 x 75 x8.0 EA",200,2010,"INT CAV BWK",0,0,0.156,"1c Rough Longreach",0.156,2314]
["ENS 1"," ","W15",1310,2314,"Auto","75 x 75 x8.0 EA",200,1510,"INT CAV BWK",0,0,0.113,"1c Rough Longreach",0.113,1457]
["ENS 2"," ","W02",910,2314,"Auto","75 x 75 x8.0 EA",200,1110,"INT CAV BWK",2,0.26,7.8E-2,"1c Rough Longreach",7.8E-2,2314]
["KITCHEN 1"," ","W11",3010,2143,"Auto","125 x 75 x 8.0 UA",300,3310,"INT CAV BWK",0,0,0.25900000000000001,"1c Rough Longreach",0.25900000000000001,2143]
["L'DRY 1"," ","W06",1510,2314,"Auto","75 x 75 x8.0 EA",200,1710,"INT CAV BWK",2,0.36299999999999999,0.13,"1c Rough Longreach",0.13,2314]
["LIVING / DINING 1"," ","W12",3010,2143,"Auto","125 x 75 x 8.0 UA",300,3310,"INT CAV BWK",0,0,0.25900000000000001,"1c Rough Longreach",0.25900000000000001,2143]
["LIVING / DINING 1"," ","W14",3110,2143,"Auto","150 x 90 x 8.0 UA",300,3410,"INT CAV BWK",0,0,0.26700000000000002,"1c Rough Longreach",0.26700000000000002,2143]
["LIVING / DINING 1"," ","W13",3110,2143,"Auto","150 x 90 x 8.0 UA",300,3410,"INT CAV BWK",0,0,0.26700000000000002,"1c Rough Longreach",0.26700000000000002,2143]
["LIVING 2"," ","W07",3010,2314,"Auto","125 x 75 x 8.0 UA",300,3310,"INT CAV BWK",2,0.621,0.25900000000000001,"1c Rough Longreach",0.25900000000000001,2314]
["MAIN BED"," ","W16",2410,2314,"Auto","100 x 75 x 8.0 UA",270,2680,"INT CAV BWK",2,0.51800000000000002,0.20699999999999999,"1c Rough Longreach",0.20699999999999999,2314]
["PORCH"," ","D14",1270,2314,"Auto","75 x 75 x8.0 EA",200,1470,"INT CAV BWK",0,0,0.109,"1c Rough Longreach",0.109,2314]
["THEATRE"," ","W03",3010,2314,"Auto","125 x 75 x 8.0 UA",300,3310,"INT CAV BWK",2,0.621,0.25900000000000001,"1c Rough Longreach",0.25900000000000001,2314]

{"sheet":"FINISH - EXT","index":7,"n_rows":105,"n_cols":10,"rows_kept":105,"cut":false,"hidden":true,"merged":[]}
["01 PLASTER EXTERNAL","Column2","Column3","Column4","Column5","Column6","Column7","Column8","Column9","Column10"]
["","Type","External Plaster Type","Width","Profile Name","Ext Skin Ht","Ext Plaster Area","EXTERNAL LINTELS BRICK TYPE","External Plaster Deductions","Net Surface Area on the Outside Face"]
["Ground Floor","Column","Pier 2c Rendered","---","---","---","---","---","---","---"]
["Ground Floor","Door","---","---","---",2407,"---","RENDER BWK",7.1589999999999998,"---"]
["Ground Floor","Door","---","---","---",2407,"---","RENDER BWK",13.468,"---"]
["Ground Floor","Wall","---","---","---",2400,"---","---","---",0]
["Ground Floor","Wall","---","---","---",2400,"---","---","---",0]
["Ground Floor","Wall","---","---","---",2572,"---","---","---",0.13700000000000001]
["Ground Floor","Wall","---","---","---",2572,"---","---","---",0.32700000000000001]
["Ground Floor","Wall","---","---","---",2572,"---","---","---",0.32700000000000001]
["Ground Floor","Wall","---","---","---",2915,"---","---","---",0.84899999999999998]
["Ground Floor","Wall","---","---","---",2915,"---","---","---",1.1040000000000001]
["Ground Floor","Wall","---","---","---",2915,"---","---","---",1.3069999999999999]
["Ground Floor","Wall","---","---","---",2915,"---","---","---",1.4430000000000001]
["Ground Floor","Wall","---","---","---",3425,"---","---","---",0.44500000000000001]
["Ground Floor","Wall","---","---","---",3425,"---","---","---",1.452]
["Ground Floor","Wall","---","---","---",3425,"---","---","---",2.9140000000000001]
["Ground Floor","Wall","---","---","---",3425,"---","---","---",3.2879999999999998]
["Ground Floor","Wall","<Undefined>",90,"s90 Internal",2572,"<Undefined>","---","---",2.9020000000000001]
["Ground Floor","Wall","<Undefined>",90,"s90 Internal",2572,"<Undefined>","---","---",9.6310000000000002]
["Ground Floor","Wall","FACE BWK",90,"s90 Footing (1)",2744,0,"---","---",2.641]
["Ground Floor","Wall","FACE BWK",90,"s90 Footing (1)",2744,0,"---","---",3.1579999999999999]
["Ground Floor","Wall","FACE BWK",90,"s90 Footing (1)",2744,0,"---","---",7.53]
["Ground Floor","Wall","FACE BWK",90,"s90 Footing (1)",2744,0,"---","---",15.005000000000001]
["Ground Floor","Wall","FACE BWK",90,"s90 Footing (1)",2914,0,"---","---",20.481999999999999]
["Ground Floor","Wall","FACE BWK",90,"s90 Footing (1)",3001,0,"---","---",16.058]
["Ground Floor","Wall","FACE BWK",100,"s90 Footing (1)",2744,0,"---","---",0.79600000000000004]
["Ground Floor","Wall","FACE BWK",100,"s90 Footing (1)",2744,0,"---","---",0.79600000000000004]
["Ground Floor","Wall","FACE BWK",100,"s90 Footing (1)",2744,0,"---","---",0.79600000000000004]
["Ground Floor","Wall","FACE BWK",100,"s90 Footing (1)",2744,0,"---","---",0.79600000000000004]
["Ground Floor","Wall","FACE BWK",100,"s90 Footing (1)",2744,0,"---","---",0.79600000000000004]
["Ground Floor","Wall","FACE BWK",100,"s90 Footing (1)",2744,0,"---","---",0.79600000000000004]
["Ground Floor","Wall","FACE BWK",100,"s90 Footing (1)",2744,0,"---","---",0.79600000000000004]
["Ground Floor","Wall","FACE BWK",100,"s90 Footing (1)",2744,0,"---","---",1.07]
["Ground Floor","Wall","FACE BWK",100,"s90 Footing (1)",2744,0,"---","---",1.345]
["Ground Floor","Wall","FACE BWK",100,"s90 Footing (1)",2744,0,"---","---",1.893]
["Ground Floor","Wall","FACE BWK",190,"s90 Footing (1)",2058,0,"---","---",5.8490000000000002]
["Ground Floor","Wall","FACE BWK",230,"c230_Footing",2487,0,"---","---",1.129]
["Ground Floor","Wall","FACE BWK",230,"c230_Footing",2487,0,"---","---",4.1340000000000003]
["Ground Floor","Wall","FACE BWK",230,"c230_Footing",2487,0,"---","---",6.7679999999999998]
["Ground Floor","Wall","FACE BWK",230,"c230_Footing",2487,0,"---","---",16.954999999999998]
["Ground Floor","Wall","FACE BWK",230,"c230_Footing",2487,0,"---","---",17.081]
["Ground Floor","Wall","FACE BWK",230,"c230_Footing",2744,0,"---","---",15.288]
["Ground Floor","Wall","FACE BWK",230,"c230_Footing",2744,0,"---","---",17.488]
["Ground Floor","Wall","FACE BWK",230,"c230_Footing",2859,0,"---","---",4.71]
["Ground Floor","Wall","FACE BWK",230,"c230_Footing",3001,0,"---","---",8.4079999999999995]
["Ground Floor","Wall","INT PARTITION",90,"s90 Internal",1050,0.68300000000000005,"---","---",0.68300000000000005]
["Ground Floor","Wall","INT PARTITION",90,"s90 Internal",2572,1.3120000000000001,"---","---",1.3120000000000001]
["Ground Floor","Wall","INT PARTITION",90,"s90 Internal",2572,1.3120000000000001,"---","---",1.5429999999999999]
["Ground Floor","Wall","INT PARTITION",90,"s90 Internal",2572,1.5429999999999999,"---","---",1.5429999999999999]
["Ground Floor","Wall","INT PARTITION",90,"s90 Internal",2572,1.5429999999999999,"---","---",1.5429999999999999]
["Ground Floor","Wall","INT PARTITION",90,"s90 Internal",2572,1.7749999999999999,"---","---",1.659]
["Ground Floor","Wall","INT PARTITION",90,"s90 Internal",2572,1.8,"---","---",1.9159999999999999]
["Ground Floor","Wall","INT PARTITION",90,"s90 Internal",2572,1.929,"---","---",2.0449999999999999]
["Ground Floor","Wall","INT PARTITION",90,"s90 Internal",2572,1.929,"---","---",2.0449999999999999]
["Ground Floor","Wall","INT PARTITION",90,"s90 Internal",2572,3.4460000000000002,"---","---",3.4460000000000002]
["Ground Floor","Wall","INT PARTITION",90,"s90 Internal",2572,3.8069999999999999,"---","---",3.8069999999999999]
["Ground Floor","Wall","INT PARTITION",90,"s90 Internal",2572,4.2439999999999998,"---","---",1.8]
["Ground Floor","Wall","INT PARTITION",90,"s90 Internal",2572,4.2439999999999998,"---","---",2.4910000000000001]
["Ground Floor","Wall","INT PARTITION",90,"s90 Internal",2572,4.45,"---","---",0.94399999999999995]
["Ground Floor","Wall","INT PARTITION",90,"s90 Internal",2572,4.6040000000000001,"---","---",3.0819999999999999]
["Ground Floor","Wall","INT PARTITION",90,"s90 Internal",2572,4.6550000000000002,"---","---",4.8869999999999996]
["Ground Floor","Wall","INT PARTITION",90,"s90 Internal",2572,4.835,"---","---",2.85]
["Ground Floor","Wall","INT PARTITION",90,"s90 Internal",2572,6.7130000000000001,"---","---",4.96]
["Ground Floor","Wall","INT PARTITION",90,"s90 Internal",2572,7.7160000000000002,"---","---",7.8319999999999999]
["Ground Floor","Wall","INT PARTITION",90,"s90 Internal",2572,9.5939999999999994,"---","---",9.4779999999999998]
["Ground Floor","Wall","INT PARTITION",90,"s90 Internal",2572,10.134,"---","---",8.17]
["Ground Floor","Wall","INT PARTITION",90,"s90 Internal",2572,10.134,"---","---",8.17]
["Ground Floor","Wall","INT PARTITION",90,"s90 Internal",2572,12.087999999999999,"---","---",12.087999999999999]
["Ground Floor","Wall","INT PARTITION",90,"s90 Internal",2572,12.32,"---","---",12.087999999999999]
["Ground Floor","Wall","INT PARTITION",90,"s90 Internal",2572,12.629,"---","---",12.629]
["Ground Floor","Wall","INT PARTITION",90,"s90 Internal",2572,15.381,"---","---",15.381]
["Ground Floor","Wall","INT PARTITION",90,"s90 Internal",2572,16.795000000000002,"---","---",16.795000000000002]
["Ground Floor","Wall","INT PARTITION",90,"s90 Internal",2572,16.923999999999999,"---","---",12.763999999999999]
["Ground Floor","Wall","INT PARTITION",90,"s90 Internal",2829,1.556,"---","---",1.556]
["Ground Floor","Wall","INT PARTITION",90,"s90 Internal",2829,1.669,"---","---",1.796]
["Ground Floor","Wall","INT PARTITION",90,"s90 Internal",2829,1.9239999999999999,"---","---",1.9239999999999999]
["Ground Floor","Wall","INT PARTITION",90,"s90 Internal",2829,1.98,"---","---",1.98]
["Ground Floor","Wall","INT PARTITION",90,"s90 Internal",2829,2.2349999999999999,"---","---",2.2349999999999999]
["Ground Floor","Wall","INT PARTITION",90,"s90 Internal",2829,2.8290000000000002,"---","---",2.8290000000000002]
["Ground Floor","Wall","INT PARTITION",90,"s90 Internal",2829,3.1680000000000001,"---","---",1.204]
["Ground Floor","Wall","INT PARTITION",90,"s90 Internal",2829,3.395,"---","---",3.395]
["Ground Floor","Wall","INT PARTITION",90,"s90 Internal",2829,5.0359999999999996,"---","---",4.7039999999999997]
["Ground Floor","Wall","INT PARTITION",90,"s90 Internal",2829,5.0359999999999996,"---","---",5.0359999999999996]
["Ground Floor","Wall","INT PARTITION",90,"s90 Internal",2829,6.1390000000000002,"---","---",6.1390000000000002]
["Ground Floor","Wall","INT PARTITION",90,"s90 Internal",2829,7.61,"---","---",7.7370000000000001]
["Ground Floor","Wall","INT PARTITION",90,"s90 Internal",2829,11.288,"---","---",9.3689999999999998]
["Ground Floor","Wall","INT PARTITION",90,"s90 Internal",2829,11.599,"---","---",9.0069999999999997]
["Ground Floor","Wall","INT PARTITION",90,"s90 Internal",2829,13.183,"---","---",12.646000000000001]
["Ground Floor","Wall","INT PARTITION",90,"s90 Internal",2829,13.89,"---","---",10.276999999999999]
["Ground Floor","Wall","INT PARTITION",90,"s90 Internal",2829,16.606000000000002,"---","---",14.515000000000001]
["Ground Floor","Wall","INT PARTITION",90,"s90 Internal",2829,17.738,"---","---",17.510000000000002]
["Ground Floor","Wall","RENDER BWK",190,"s190 Footing",2744,1.6459999999999999,"---","---",1.4590000000000001]
["Ground Floor","Wall","RENDER BWK",190,"s190 Footing",2744,8.5060000000000002,"---","---",2.29]
["Ground Floor","Wall","RENDER BWK",190,"s190 Footing",2744,14.818,"---","---",2.4329999999999998]
["Ground Floor","Wall","RENDER BWK",190,"s190 Footing",3172,1.871,"---","---",1.7210000000000001]
["Ground Floor","Wall","RENDER BWK",230,"c230_Footing",2487,3.4319999999999999,"---","---",3.7290000000000001]
["Ground Floor","Wall","RENDER BWK",230,"c230_Footing",2487,4.7249999999999996,"---","---",3.7360000000000002]
["Ground Floor","Wall","RENDER BWK",230,"c230_Footing",2744,3.5950000000000002,"---","---",1.4279999999999999]
["Ground Floor","Wall","RENDER BWK",230,"c230_Footing",3001,1.5609999999999999,"---","---",1.714]
["Ground Floor","Wall","RENDER BWK",230,"c230_Footing",3001,9.6029999999999998,"---","---",10.031000000000001]
["Ground Floor","Wall","RENDER BWK",230,"c230_Footing",3001,10.894,"---","---",4.8890000000000002]
["GF Ceiling","Wall","---","---","---",543,"---","---","---",0.58299999999999996]
["GF Ceiling","Wall","<Undefined>",90,"s90 Internal",292,"<Undefined>","---","---",0.94699999999999995]
["GF Ceiling","Wall","<Undefined>",90,"s90 Internal",292,"<Undefined>","---","---",2.5819999999999999]

{"sheet":"FINISH - INT","index":8,"n_rows":104,"n_cols":10,"rows_kept":104,"cut":false,"hidden":true,"merged":[]}
["01 FINISH - INTERNAL","Column2","Column3","Column4","Column5","Column6","Column7","Column8","Column9","Column10"]
["","Type","Internal Plaster Type","Width","Profile Name","Int Skin Ht.","Int Plaster Area","INTERNAL LINTELS BRICK TYPE","Internal Plaster Deductions","Net Surface Area on the Inside Face"]
["Ground Floor","Door","---","---","---","---","---","FACE BWK",7.1589999999999998,"---"]
["Ground Floor","Door","---","---","---","---","---","FACE BWK",13.468,"---"]
["Ground Floor","Wall","---","---","---","---","---","NOT CALCULATED","---",0]
["Ground Floor","Wall","---","---","---","---","---","NOT CALCULATED","---",0]
["Ground Floor","Wall","---","---","---","---","---","NOT CALCULATED","---",0.13700000000000001]
["Ground Floor","Wall","---","---","---","---","---","NOT CALCULATED","---",0.32700000000000001]
["Ground Floor","Wall","---","---","---","---","---","NOT CALCULATED","---",0.32700000000000001]
["Ground Floor","Wall","---","---","---","---","---","NOT CALCULATED","---",0.44500000000000001]
["Ground Floor","Wall","---","---","---","---","---","NOT CALCULATED","---",0.84899999999999998]
["Ground Floor","Wall","---","---","---","---","---","NOT CALCULATED","---",1.1040000000000001]
["Ground Floor","Wall","---","---","---","---","---","NOT CALCULATED","---",1.3069999999999999]
["Ground Floor","Wall","---","---","---","---","---","NOT CALCULATED","---",1.4430000000000001]
["Ground Floor","Wall","---","---","---","---","---","NOT CALCULATED","---",1.452]
["Ground Floor","Wall","---","---","---","---","---","NOT CALCULATED","---",2.9140000000000001]
["Ground Floor","Wall","---","---","---","---","---","NOT CALCULATED","---",3.2879999999999998]
["Ground Floor","Wall","<Undefined>",90,"s90 Internal",2572,"<Undefined>","NOT CALCULATED","---",2.9020000000000001]
["Ground Floor","Wall","<Undefined>",90,"s90 Internal",2572,"<Undefined>","NOT CALCULATED","---",9.6310000000000002]
["Ground Floor","Wall","FACE BWK",90,"s90 Footing (1)",2744,0,"NOT CALCULATED","---",2.367]
["Ground Floor","Wall","FACE BWK",90,"s90 Footing (1)",2744,0,"NOT CALCULATED","---",2.9689999999999999]
["Ground Floor","Wall","FACE BWK",90,"s90 Footing (1)",2744,0,"NOT CALCULATED","---",7.4059999999999997]
["Ground Floor","Wall","FACE BWK",90,"s90 Footing (1)",2744,0,"NOT CALCULATED","---",14.881]
["Ground Floor","Wall","FACE BWK",90,"s90 Footing (1)",3001,0,"NOT CALCULATED","---",15.802]
["Ground Floor","Wall","FACE BWK",100,"s90 Footing (1)",2744,0,"NOT CALCULATED","---",0.79600000000000004]
["Ground Floor","Wall","FACE BWK",100,"s90 Footing (1)",2744,0,"NOT CALCULATED","---",0.79600000000000004]
["Ground Floor","Wall","FACE BWK",100,"s90 Footing (1)",2744,0,"NOT CALCULATED","---",0.79600000000000004]
["Ground Floor","Wall","FACE BWK",100,"s90 Footing (1)",2744,0,"NOT CALCULATED","---",0.79600000000000004]
["Ground Floor","Wall","FACE BWK",100,"s90 Footing (1)",2744,0,"NOT CALCULATED","---",0.79600000000000004]
["Ground Floor","Wall","FACE BWK",100,"s90 Footing (1)",2744,0,"NOT CALCULATED","---",0.79600000000000004]
["Ground Floor","Wall","FACE BWK",100,"s90 Footing (1)",2744,0,"NOT CALCULATED","---",0.79600000000000004]
["Ground Floor","Wall","FACE BWK",100,"s90 Footing (1)",2744,0,"NOT CALCULATED","---",1.07]
["Ground Floor","Wall","FACE BWK",100,"s90 Footing (1)",2744,0,"NOT CALCULATED","---",1.345]
["Ground Floor","Wall","FACE BWK",100,"s90 Footing (1)",2744,0,"NOT CALCULATED","---",1.893]
["Ground Floor","Wall","FACE BWK",190,"s90 Footing (1)",2058,0,"NOT CALCULATED","---",5.9050000000000002]
["Ground Floor","Wall","FACE BWK",190,"s190 Footing",2744,0,"NOT CALCULATED","---",1.4590000000000001]
["Ground Floor","Wall","FACE BWK",190,"s190 Footing",2744,0,"NOT CALCULATED","---",1.9119999999999999]
["Ground Floor","Wall","FACE BWK",190,"s190 Footing",2744,0,"NOT CALCULATED","---",2.1669999999999998]
["Ground Floor","Wall","FACE BWK",190,"s190 Footing",3172,0,"NOT CALCULATED","---",1.339]
["Ground Floor","Wall","INT CAV BWK",230,"c230_Footing",2572,1.286,"NOT CALCULATED","---",1.139]
["Ground Floor","Wall","INT CAV BWK",230,"c230_Footing",2572,2.9580000000000002,"NOT CALCULATED","---",3.3969999999999998]
["Ground Floor","Wall","INT CAV BWK",230,"c230_Footing",2572,3.3439999999999999,"NOT CALCULATED","---",4.1859999999999999]
["Ground Floor","Wall","INT CAV BWK",230,"c230_Footing",2572,4.8869999999999996,"NOT CALCULATED","---",3.7290000000000001]
["Ground Floor","Wall","INT CAV BWK",230,"c230_Footing",2572,11.034000000000001,"NOT CALCULATED","---",7.14]
["Ground Floor","Wall","INT CAV BWK",230,"c230_Footing",2572,20.138999999999999,"NOT CALCULATED","---",16.661999999999999]
["Ground Floor","Wall","INT CAV BWK",230,"c230_Footing",2572,30.864000000000001,"NOT CALCULATED","---",17.369]
["Ground Floor","Wall","INT CAV BWK",230,"c230_Footing",2829,1.8109999999999999,"NOT CALCULATED","---",1.742]
["Ground Floor","Wall","INT CAV BWK",230,"c230_Footing",2829,4.6109999999999998,"NOT CALCULATED","---",2.1480000000000001]
["Ground Floor","Wall","INT CAV BWK",230,"c230_Footing",2829,9.0530000000000008,"NOT CALCULATED","---",10.266]
["Ground Floor","Wall","INT CAV BWK",230,"c230_Footing",2829,9.6189999999999998,"NOT CALCULATED","---",4.4850000000000003]
["Ground Floor","Wall","INT CAV BWK",230,"c230_Footing",2829,21.331,"NOT CALCULATED","---",8.9079999999999995]
["Ground Floor","Wall","INT CAV BWK",230,"c230_Footing",2829,23.17,"NOT CALCULATED","---",17.204000000000001]
["Ground Floor","Wall","INT CAV BWK",230,"c230_Footing",2829,28.771000000000001,"NOT CALCULATED","---",15.263999999999999]
["Ground Floor","Wall","INT CAV BWK",230,"c230_Footing",2944,4.5629999999999997,"NOT CALCULATED","---",5.1120000000000001]
["Ground Floor","Wall","INT PARTITION",90,"s90 Internal",1050,0.68300000000000005,"NOT CALCULATED","---",0.68300000000000005]
["Ground Floor","Wall","INT PARTITION",90,"s90 Internal",2572,1.3120000000000001,"NOT CALCULATED","---",1.3120000000000001]
["Ground Floor","Wall","INT PARTITION",90,"s90 Internal",2572,1.5429999999999999,"NOT CALCULATED","---",1.5429999999999999]
["Ground Floor","Wall","INT PARTITION",90,"s90 Internal",2572,1.5429999999999999,"NOT CALCULATED","---",1.5429999999999999]
["Ground Floor","Wall","INT PARTITION",90,"s90 Internal",2572,1.5429999999999999,"NOT CALCULATED","---",1.5429999999999999]
["Ground Floor","Wall","INT PARTITION",90,"s90 Internal",2572,1.5429999999999999,"NOT CALCULATED","---",1.5429999999999999]
["Ground Floor","Wall","INT PARTITION",90,"s90 Internal",2572,2.032,"NOT CALCULATED","---",2.032]
["Ground Floor","Wall","INT PARTITION",90,"s90 Internal",2572,2.16,"NOT CALCULATED","---",2.16]
["Ground Floor","Wall","INT PARTITION",90,"s90 Internal",2572,2.16,"NOT CALCULATED","---",2.16]
["Ground Floor","Wall","INT PARTITION",90,"s90 Internal",2572,3.4460000000000002,"NOT CALCULATED","---",3.4460000000000002]
["Ground Floor","Wall","INT PARTITION",90,"s90 Internal",2572,3.5750000000000002,"NOT CALCULATED","---",3.6909999999999998]
["Ground Floor","Wall","INT PARTITION",90,"s90 Internal",2572,3.9870000000000001,"NOT CALCULATED","---",0.71299999999999997]
["Ground Floor","Wall","INT PARTITION",90,"s90 Internal",2572,4.2439999999999998,"NOT CALCULATED","---",1.8]
["Ground Floor","Wall","INT PARTITION",90,"s90 Internal",2572,4.2439999999999998,"NOT CALCULATED","---",2.4910000000000001]
["Ground Floor","Wall","INT PARTITION",90,"s90 Internal",2572,4.835,"NOT CALCULATED","---",2.85]
["Ground Floor","Wall","INT PARTITION",90,"s90 Internal",2572,4.835,"NOT CALCULATED","---",3.0819999999999999]
["Ground Floor","Wall","INT PARTITION",90,"s90 Internal",2572,4.8869999999999996,"NOT CALCULATED","---",4.8869999999999996]
["Ground Floor","Wall","INT PARTITION",90,"s90 Internal",2572,6.7130000000000001,"NOT CALCULATED","---",4.96]
["Ground Floor","Wall","INT PARTITION",90,"s90 Internal",2572,7.9470000000000001,"NOT CALCULATED","---",7.9470000000000001]
["Ground Floor","Wall","INT PARTITION",90,"s90 Internal",2572,9.3620000000000001,"NOT CALCULATED","---",9.3620000000000001]
["Ground Floor","Wall","INT PARTITION",90,"s90 Internal",2572,10.134,"NOT CALCULATED","---",8.17]
["Ground Floor","Wall","INT PARTITION",90,"s90 Internal",2572,10.365,"NOT CALCULATED","---",8.2850000000000001]
["Ground Floor","Wall","INT PARTITION",90,"s90 Internal",2572,12.087999999999999,"NOT CALCULATED","---",12.087999999999999]
["Ground Floor","Wall","INT PARTITION",90,"s90 Internal",2572,12.32,"NOT CALCULATED","---",12.087999999999999]
["Ground Floor","Wall","INT PARTITION",90,"s90 Internal",2572,12.629,"NOT CALCULATED","---",12.414]
["Ground Floor","Wall","INT PARTITION",90,"s90 Internal",2572,15.381,"NOT CALCULATED","---",15.381]
["Ground Floor","Wall","INT PARTITION",90,"s90 Internal",2572,16.692,"NOT CALCULATED","---",12.648]
["Ground Floor","Wall","INT PARTITION",90,"s90 Internal",2572,16.795000000000002,"NOT CALCULATED","---",16.795000000000002]
["Ground Floor","Wall","INT PARTITION",90,"s90 Internal",2829,1.8109999999999999,"NOT CALCULATED","---",1.6830000000000001]
["Ground Floor","Wall","INT PARTITION",90,"s90 Internal",2829,1.9239999999999999,"NOT CALCULATED","---",1.9239999999999999]
["Ground Floor","Wall","INT PARTITION",90,"s90 Internal",2829,1.9239999999999999,"NOT CALCULATED","---",1.9239999999999999]
["Ground Floor","Wall","INT PARTITION",90,"s90 Internal",2829,1.98,"NOT CALCULATED","---",2.1080000000000001]
["Ground Floor","Wall","INT PARTITION",90,"s90 Internal",2829,2.2349999999999999,"NOT CALCULATED","---",2.1080000000000001]
["Ground Floor","Wall","INT PARTITION",90,"s90 Internal",2829,3.0840000000000001,"NOT CALCULATED","---",2.956]
["Ground Floor","Wall","INT PARTITION",90,"s90 Internal",2829,3.1680000000000001,"NOT CALCULATED","---",1.204]
["Ground Floor","Wall","INT PARTITION",90,"s90 Internal",2829,3.649,"NOT CALCULATED","---",3.5219999999999998]
["Ground Floor","Wall","INT PARTITION",90,"s90 Internal",2829,5.0359999999999996,"NOT CALCULATED","---",5.0359999999999996]
["Ground Floor","Wall","INT PARTITION",90,"s90 Internal",2829,5.29,"NOT CALCULATED","---",5.1740000000000004]
["Ground Floor","Wall","INT PARTITION",90,"s90 Internal",2829,6.3940000000000001,"NOT CALCULATED","---",6.266]
["Ground Floor","Wall","INT PARTITION",90,"s90 Internal",2829,7.8650000000000002,"NOT CALCULATED","---",7.8650000000000002]
["Ground Floor","Wall","INT PARTITION",90,"s90 Internal",2829,11.288,"NOT CALCULATED","---",9.3689999999999998]
["Ground Floor","Wall","INT PARTITION",90,"s90 Internal",2829,11.599,"NOT CALCULATED","---",9.0069999999999997]
["Ground Floor","Wall","INT PARTITION",90,"s90 Internal",2829,12.929,"NOT CALCULATED","---",13.055999999999999]
["Ground Floor","Wall","INT PARTITION",90,"s90 Internal",2829,14.145,"NOT CALCULATED","---",9.8670000000000009]
["Ground Floor","Wall","INT PARTITION",90,"s90 Internal",2829,16.352,"NOT CALCULATED","---",14.387]
["Ground Floor","Wall","INT PARTITION",90,"s90 Internal",2829,17.992000000000001,"NOT CALCULATED","---",17.992000000000001]
["Ground Floor","Wall","SINGLE BRICK WALL",90,"s90 Footing (1)",2914,19.260000000000002,"NOT CALCULATED","---",20.47]
["GF Ceiling","Wall","---","---","---","---","---","NOT CALCULATED","---",1.129]
["GF Ceiling","Wall","RENDER BWK",90,"s90 Internal",292,0.83199999999999996,"NOT CALCULATED","---",0.95799999999999996]
["GF Ceiling","Wall","RENDER BWK",90,"s90 Internal",292,2.2919999999999998,"NOT CALCULATED","---",2.593]

{"sheet":"EXT LINTEL LIST","index":9,"n_rows":20,"n_cols":16,"rows_kept":20,"cut":false,"hidden":true,"merged":[]}
["Column1","Column2","Column3","Column4","Column5","Column6","Column7","Column8","Column9","Column10","Column11","Column12","Column13","Column14","Column15","Column16"]
[]
["Related Zone Name","2D Plan Preview","ID","Window Width","Head","Type","External Size","Bearing","Lintel  Len.","EX TYPE","No. Over","L-R Area","EXT Sill Type","SILL AREA","EXTERNAL LR HEAD DED.","Height"]
["BATH 2"," ","W09",1310,2314,"Auto","75 x 75 x8.0 EA",200,1510,"FACE BWK",0,0,"Finishing Block",0.22500000000000001,0,514]
["BED 2"," ","W04",1710,2314,"Auto","75 x 75 x8.0 EA",200,1910,"FACE BWK",0,0,"1c Face Modular Solid",0.14699999999999999,0,2314]
["BED 3"," ","W05",1710,2314,"Auto","75 x 75 x8.0 EA",200,1910,"FACE BWK",0,0,"1c Face Modular Solid",0.14699999999999999,0,2314]
["BED 4"," ","W01",2770,2314,"Auto","125 x 75 x 8.0 UA",300,3070,"RENDER BWK",0,0,"1c Rough Longreach",0.23799999999999999,0,2314]
["BED 5"," ","W10",1810,2314,"Auto","75 x 75 x8.0 EA",200,2010,"FACE BWK",0,0,"1c Face Modular Solid",0.156,0,2314]
["BED 6"," ","W08",1810,2314,"Auto","75 x 75 x8.0 EA",200,2010,"FACE BWK",0,0,"1c Face Modular Solid",0.156,0,2314]
["ENS 1"," ","W15",1310,2314,"Auto","75 x 75 x8.0 EA",200,1510,"FACE BWK",0,0,"1c Face Modular Solid",0.113,0,1457]
["ENS 2"," ","W02",910,2314,"Auto","75 x 75 x8.0 EA",200,1110,"RENDER BWK",0,0,"1c Rough Longreach",7.8E-2,0,2314]
["KITCHEN 1"," ","W11",3010,2143,"Auto","125 x 75 x 8.0 UA",300,3310,"FACE BWK",0,0,"1c Face Modular Solid",0.25900000000000001,0,2143]
["L'DRY 1"," ","W06",1510,2314,"Auto","75 x 75 x8.0 EA",200,1710,"FACE BWK",0,0,"1c Face Modular Solid",0.13,0,2314]
["LIVING / DINING 1"," ","W12",3010,2143,"Auto","125 x 75 x 8.0 UA",300,3310,"FACE BWK",0,0,"1c Face Modular Solid",0.25900000000000001,0,2143]
["LIVING / DINING 1"," ","W14",3110,2143,"Auto","150 x 90 x 8.0 UA",300,3410,"FACE BWK",0,0,"1c Face Modular Solid",0.26700000000000002,0,2143]
["LIVING / DINING 1"," ","W13",3110,2143,"Auto","150 x 90 x 8.0 UA",300,3410,"FACE BWK",0,0,"1c Face Modular Solid",0.26700000000000002,0,2143]
["LIVING 2"," ","W07",3010,2314,"Auto","125 x 75 x 8.0 UA",300,3310,"FACE BWK",0,0,"1c Face Modular Solid",0.25900000000000001,0,2314]
["MAIN BED"," ","W16",2410,2314,"Auto","100 x 75 x 8.0 UA",270,2680,"FACE BWK",0,0,"1c Face Modular Solid",0.20699999999999999,0,2314]
["PORCH"," ","D14",1270,2314,"Auto","75 x 75 x8.0 EA",200,1470,"RENDER BWK",2,0.32200000000000001,"1c Rough Longreach",0.109,0,2314]
["THEATRE"," ","W03",3010,2314,"Auto","125 x 75 x 8.0 UA",300,3310,"FACE BWK",0,0,"1c Face Modular Solid",0.25900000000000001,0,2314]

{"sheet":"BWK EXTERNAL","index":10,"n_rows":47,"n_cols":10,"rows_kept":47,"cut":false,"hidden":true,"merged":[]}
["BWK EXTERNAL","Column2","Column3","Column4","Column5","Column6","Column7","Column8","Column9","Column10"]
["","External Brick Type","Width","Building Material / Composite / Profile / Fill","WALL Height","External Skin Area","LONG REACH DEDUCTIONS",null,"2c FB Multiplier","External Num of Bricks"]
[null,null,null,null,null,null,"TOP","BOT"]
["Ground Floor","1c FACE BWK","---","Wall_s110",3425,0.44500000000000001,0,0,48.5,21.594999999999999]
["Ground Floor","1c FACE BWK","---","Wall_s110",3425,0.44500000000000001,0,0,48.5,21.594999999999999]
["Ground Floor","1c FACE BWK","---","Wall_s110",3425,2.911,0,0,48.5,141.196]
["Ground Floor","1c FACE BWK","---","Wall_s110",3425,2.911,0,0,48.5,141.196]
["Ground Floor","FACE BWK","---","Wall_s090",2915,1.07,3.4000000000000002E-2,3.4000000000000002E-2,19.5,20.861000000000001]
["Ground Floor","FACE BWK","---","Wall_s090",2915,1.07,3.4000000000000002E-2,3.4000000000000002E-2,19.5,20.861000000000001]
["Ground Floor","FACE BWK","---","Wall_s090",2915,1.893,5.8999999999999997E-2,5.8999999999999997E-2,19.5,36.906999999999996]
["Ground Floor","FACE BWK","---","Wall_s090",2915,1.893,5.8999999999999997E-2,5.8999999999999997E-2,19.5,36.906999999999996]
["Ground Floor","FACE BWK",90,"s90 Footing (1)",2744,2.5720000000000001,8.5999999999999993E-2,8.5999999999999993E-2,19.5,50.154000000000003]
["Ground Floor","FACE BWK",90,"s90 Footing (1)",2744,2.5720000000000001,8.5999999999999993E-2,8.5999999999999993E-2,19.5,50.154000000000003]
["Ground Floor","FACE BWK",90,"s90 Footing (1)",2744,6.43,0.215,0.215,19.5,125.38500000000001]
["Ground Floor","FACE BWK",90,"s90 Footing (1)",2744,13.090999999999999,0.438,0.438,19.5,255.28399999999999]
["Ground Floor","FACE BWK",90,"s90 Footing (1)",2914,18.123000000000001,0.56799999999999995,0.56799999999999995,19.5,353.40300000000002]
["Ground Floor","FACE BWK",90,"s90 Footing (1)",3001,14.097,0,0.47399999999999998,19.5,274.90100000000001]
["Ground Floor","FACE BWK",100,"s90 Footing (1)",2744,0.746,2.5000000000000001E-2,2.5000000000000001E-2,19.5,14.545]
["Ground Floor","FACE BWK",100,"s90 Footing (1)",2744,0.746,2.5000000000000001E-2,2.5000000000000001E-2,19.5,14.545]
["Ground Floor","FACE BWK",100,"s90 Footing (1)",2744,0.746,2.5000000000000001E-2,2.5000000000000001E-2,19.5,14.545]
["Ground Floor","FACE BWK",100,"s90 Footing (1)",2744,0.746,2.5000000000000001E-2,2.5000000000000001E-2,19.5,14.545]
["Ground Floor","FACE BWK",100,"s90 Footing (1)",2744,0.746,2.5000000000000001E-2,2.5000000000000001E-2,19.5,14.545]
["Ground Floor","FACE BWK",100,"s90 Footing (1)",2744,0.746,2.5000000000000001E-2,2.5000000000000001E-2,19.5,14.545]
["Ground Floor","FACE BWK",100,"s90 Footing (1)",2744,0.746,2.5000000000000001E-2,2.5000000000000001E-2,19.5,14.545]
["Ground Floor","FACE BWK",100,"s90 Footing (1)",2744,1.26,4.2000000000000003E-2,4.2000000000000003E-2,19.5,24.574999999999999]
["Ground Floor","FACE BWK",100,"s90 Footing (1)",2744,1.5169999999999999,5.0999999999999997E-2,5.0999999999999997E-2,19.5,29.591000000000001]
["Ground Floor","FACE BWK",100,"s90 Footing (1)",2744,2.032,6.8000000000000005E-2,6.8000000000000005E-2,19.5,39.622]
["Ground Floor","FACE BWK",190,"s90 Footing (1)",2058,4.9219999999999997,0.224,0.224,19.5,95.988]
["Ground Floor","FACE BWK",230,"c230_Footing",2487,1.2010000000000001,0,4.2999999999999997E-2,19.5,23.41]
["Ground Floor","FACE BWK",230,"c230_Footing",2487,3.121,0,0.112,19.5,60.865000000000002]
["Ground Floor","FACE BWK",230,"c230_Footing",2487,4.5069999999999997,0,0.36099999999999999,19.5,87.894999999999996]
["Ground Floor","FACE BWK",230,"c230_Footing",2487,10.439,0,1.032,19.5,203.55699999999999]
["Ground Floor","FACE BWK",230,"c230_Footing",2487,12.939,0,0.71299999999999997,19.5,252.31299999999999]
["Ground Floor","FACE BWK",230,"c230_Footing",2744,8.8420000000000005,0.89400000000000002,0.89400000000000002,19.5,172.42500000000001]
["Ground Floor","FACE BWK",230,"c230_Footing",2744,12.606,0.72399999999999998,0.72399999999999998,19.5,245.821]
["Ground Floor","FACE BWK",230,"c230_Footing",2859,3.5470000000000002,0.114,0.114,19.5,69.162999999999997]
["Ground Floor","FACE BWK",230,"c230_Footing",3001,7.1660000000000004,0,0.66800000000000004,19.5,139.739]
["Ground Floor","RENDER BWK",190,"s190 Footing",2744,0.42099999999999999,0.46400000000000002,0.46400000000000002,18.5,7.782]
["Ground Floor","RENDER BWK",190,"s190 Footing",2744,0.81399999999999995,0.26700000000000002,0.26700000000000002,18.5,15.058]
["Ground Floor","RENDER BWK",190,"s190 Footing",2744,1.5429999999999999,5.1999999999999998E-2,5.1999999999999998E-2,18.5,28.548999999999999]
["Ground Floor","RENDER BWK",190,"s190 Footing",3172,1.821,0,5.0999999999999997E-2,18.5,33.683999999999997]
["Ground Floor","RENDER BWK",230,"c230_Footing",2487,2.456,0,0.16300000000000001,18.5,45.439]
["Ground Floor","RENDER BWK",230,"c230_Footing",2487,3.3130000000000002,0,0.11899999999999999,18.5,61.298000000000002]
["Ground Floor","RENDER BWK",230,"c230_Footing",2744,0.43099999999999999,0.113,0.113,18.5,7.9649999999999999]
["Ground Floor","RENDER BWK",230,"c230_Footing",3001,1.516,0,4.4999999999999998E-2,18.5,28.042000000000002]
["Ground Floor","RENDER BWK",230,"c230_Footing",3001,4.1719999999999997,0,0.312,18.5,77.176000000000002]
["Ground Floor","RENDER BWK",230,"c230_Footing",3001,9.3279999999999994,0,0.27500000000000002,18.5,172.56800000000001]

{"sheet":"Brick Chart","index":11,"n_rows":0,"n_cols":0,"rows_kept":0,"cut":false,"hidden":true,"merged":[]}

{"sheet":"STD LINTEL SHEET","index":12,"n_rows":62,"n_cols":40,"rows_kept":62,"cut":false,"hidden":true,"merged":[[8,1,8,4],[27,12,27,26],[26,12,26,26],[54,13,56,15],[53,34,55,36],[8,33,8,36],[27,33,30,33],[27,35,30,35],[17,22,17,27],[38,15,38,22],[49,24,51,26],[49,30,51,32],[11,39,18,39],[13,35,16,35],[37,33,37,36],[13,33,16,33],[47,3,47,7],[47,26,47,30],[38,1,38,4],[40,9,40,29],[38,33,38,36],[36,15,36,22],[37,1,37,4],[27,2,30,2],[27,4,30,4],[13,4,16,4],[13,2,16,2],[17,12,17,17],[61,20,61,34],[61,1,61,15],[41,9,41,29],[53,20,55,22],[43,20,43,34],[44,20,44,34],[50,14,52,16],[60,1,60,15],[60,20,60,34],[58,4,58,7],[56,26,56,30],[58,13,58,16],[58,20,58,23],[58,33,58,36],[58,26,58,30],[56,4,56,7],[0,0,1,4],[7,1,7,4],[0,10,1,12],[0,13,1,37],[0,5,1,9],[7,33,7,36],[7,10,7,13],[5,10,5,13],[5,24,5,27],[7,24,7,27]]}
["JOB No:",null,null,null,null,{"$f":"'Main Details'!D6","v":0},null,null,null,null,"LOT:"]
[]
[null,"INTERNAL = O/ALL BRICKWORK - 150mm + BEARING",null,null,null,null,null,null,null,null,null,null,null,null,null,null,null,null,null,null,"INTERNAL = O/ALL BRICKWORK - 150mm + BEARING"]
[null,"EXTERNAL = O/ALL BRICKWORK - 120mm + BEARING",null,null,null,null,null,null,null,null,null,null,null,null,null,null,null,null,null,null,"EXTERNAL = O/ALL BRICKWORK - 120mm + BEARING"]
[]
[]
[null,"COLUMN:-",null,null,null,null,null,null,null,null,null,null,null,null,null,null,null,null,null,null,null,null,null,null,null,null,null,null,null,null,null,null,null,"COLUMN:-"]
[]
[]
[]
[]
[null,null,null,null,null,null,null,null,null,null,null,null,null,null,null,null,null,null,null,null,null,null,null,null,null,null,null,null,null,null,null,null,null,null,null,null,null,null,null,"NOTE:    MUST PRINT SEPARATE"]
[]
[]
[]
[]
[null,null,null,null,null,null,null,null,null,null,null,null,"LOCATION:-",null,null,null,null,null,null,null,null,null,"LOCATION:-"]
[]
[]
[]
[]
[]
[]
[]
[]
[]
[null,null,null,null,null,null,null,null,null,null,null,null,"LOCATION:-"]
[]
[]
[]
[]
[]
[]
[]
[]
[]
[null,"COLUMN:-",null,null,null,null,null,null,null,null,null,null,null,null,null,null,null,null,null,null,null,null,null,null,null,null,null,null,null,null,null,null,null,"COLUMN:-"]
[]
[]
[]
[null,null,null,null,null,null,null,null,null,"INTERNAL = O/ALL BRICKWORK - 300mm  / Returns -150mm + BEARING"]
[null,null,null,null,null,null,null,null,null,"EXTERNAL = O/ALL BRICKWORK - 240mm / Returns - 120mm + BEARING"]
[]
[null,null,null,null,null,null,null,null,null,null,null,null,null,null,null,null,null,null,null,null,"INTERNAL = O/ALL BRICKWORK - 60mm + BEARING"]
[null,null,null,null,null,null,null,null,null,null,null,null,null,null,null,null,null,null,null,null,"INTERNAL = O/ALL BRICKWORK - 125mm"]
[]
[null,null,null,"LOCATION:-",null,null,null,null,null,null,null,null,null,null,null,null,null,null,null,null,null,null,null,null,null,null,"LOCATION:-"]
[]
[]
[]
[]
[]
[]
[]
[]
[]
[]
[null,null,null,null,null,null,null,null,null,null,null,null,null,"COLUMN:-",null,null,null,null,null,null,"COLUMN:-",null,null,null,null,null,null,null,null,null,null,null,null,"COLUMN:-"]
[]
[]
[null,"INTERNAL = O/ALL BRICKWORK - 60mm + BEARING",null,null,null,null,null,null,null,null,null,null,null,null,null,null,null,null,null,null,"EXTERNAL = O/ALL BRICKWORK - 50mm + BEARING"]
[null,"EXTERNAL = O/ALL BRICKWORK - 50mm + BEARING",null,null,null,null,null,null,null,null,null,null,null,null,null,null,null,null,null,null,"EXTERNAL = O/ALL BRICKWORK - 100mm"]

{"sheet":"START UP","index":13,"n_rows":10,"n_cols":22,"rows_kept":10,"cut":false,"hidden":true,"merged":[[9,14,9,17],[9,21,9,27],[8,9,8,13],[8,14,8,17],[8,21,8,27]]}
[]
[]
[]
[null,null,null,null,null,null,null,null,null,null,null,null,null,null,null,null,"TANGENT SCHEDULING QUANTS"]
[null,null,null,null,null,null,null,null,null,null,null,null,null,null,null,null,"Version - 16/11/2018"]
[]
[]
[]
[null,null,null,null,null,null,null,null,null,"Job No:",null,null,null,null,{"$f":"'Main Details'!D6","v":0},null,null,null,null,"CLIENT:",null,{"$f":"'Main Details'!D7","v":0}]
[null,null,null,null,null,null,null,null,null,null,null,null,null,"Scheduler:",{"$f":"'Main Details'!V3","v":0},null,null,null,null,"Date:",null,{"$f":"'Main Details'!V4","v":"00:00:00"}]

{"sheet":"Main Details","index":14,"n_rows":56,"n_cols":57,"rows_kept":56,"cut":false,"hidden":false,"merged":[[21,51,22,52],[27,53,28,53],[13,2,13,4],[14,2,14,4],[15,2,15,4],[2,21,2,22],[1,21,1,22],[3,21,3,22],[22,2,22,4],[16,2,16,4],[17,2,17,4],[19,2,19,4],[20,2,20,4],[21,2,21,4],[4,21,4,22],[11,2,11,4],[12,2,12,4],[6,3,6,12],[10,16,12,18]]}
[]
[null,{"$f":"INDEX(AW7:AW12,$AW$6)","v":"QUANTITY SHEET FOR EASY START HOMES"},null,null,null,null,null,null,null,null,null,null,null,null,null,null,null,null,null,null,null,"SCHEDULER",null,"PG 1"]
[null,"JOB INFORMATION DETAIL SHEET"]
[null,null,null,null,null,null,null,null,null,null,null,null,"DATE:"]
[null,null,null,"Answer Here",null,null,null,null,null,null,null,null,"Last VO #"]
[null,"ENTER JOB NUMBER",null,null,null,null,null,null,null,null,null,null,null,null,null,null,null,null,null,null,null,null,null,null,null,null,null,null,null,null,null,null,null,null,null,null,null,null,null,null,null,null,null,null,null,null,null,null,3]
[null,"ENTER CLIENTS SURNAME",null,null,null,null,null,null,null,null,null,null,null,null,null,null,null,null,null,null,null,null,null,null,null,null,null,null,null,null,null,null,null,null,null,null,null,null,null,null,null,null,null,null,null,null,null,1,"QUANTITY SHEET FOR SUMMIT HOMES"]
[null,null,null,null,"SUBURB",null,null,null,null,null,null,null,null,null,null,null,null,null,null,null,null,"(OR CLOSET IF NOT FOUND)",null,null,null,null,null,{"$f":"_xlfn.XLOOKUP(M8,'BUILDERS BRICK SELECTION'!AK:AK,'BUILDERS BRICK SELECTION'!AL:AL,0)","v":0},{"$f":"IF(AB8=1,1,0)","v":0},"CARTAGE ZONE 1",null,null,null,null,null,null,null,null,null,null,null,null,null,null,null,null,null,2,"QUANTITY SHEET FOR NEW GENERATION HOMES"]
[null,"MAIN BRICK SELECTIONS",null,null,null,"1c or 2c?",null,null,null,null,null,null,null,null,null,null,null,null,null,null,null,null,null,null,null,null,null,1,{"$f":"IF(AB8=2,1,0)","v":0},"CARTAGE ZONE 2",null,null,null,null,null,null,null,null,null,null,null,null,null,null,null,null,null,3,"QUANTITY SHEET FOR EASY START HOMES"]
[null,null,null,null,null,{"$f":"IF(D45=0.23,\"2c\",\"1c\")","v":"2c"},null,null,null,null,null,null,"Location",null,null,null,null,null,null,null,null,null,null,null,null,null,null,null,{"$f":"IF(AB8=3,1,0)","v":0},"CARTAGE ZONE 3",null,null,null,null,null,null,null,null,null,null,null,null,null,null,null,null,null,4,"QUANTITY SHEET FOR SUMMIT PROJECTS"]
[null,"EXTERNAL SELECTION",null,null,null,null,null,null,null,null,null,null,null,null,null,null,null,null,null,null,null,null,null,null,"230 internal","230 internal",null,null,{"$f":"IF(AB8=4,1,0)","v":0},"CARTAGE ZONE 4",null,null,null,null,null,null,null,null,null,null,null,null,null,5,"QUANTITY SHEET FOR LIFESTYLE HOMES"]
[null,"1c Face Bricks","NO SELECTION MADE",null,null,null,{"$f":"_xlfn.XLOOKUP(C12,'BUILDERS BRICK SELECTION'!$B:$B,'BUILDERS BRICK SELECTION'!$H:$H,0)","v":0},{"$f":"_xlfn.XLOOKUP(C12,'BUILDERS BRICK SELECTION'!$B:$B,'BUILDERS BRICK SELECTION'!E:E,0,)","v":48.5},{"$f":"_xlfn.XLOOKUP(C12,'BUILDERS BRICK SELECTION'!$B:$B,'BUILDERS BRICK SELECTION'!C:C,0,)","v":264},{"$f":"_xlfn.XLOOKUP($C$12,'BUILDERS BRICK SELECTION'!$B:$B,'BUILDERS BRICK SELECTION'!D:D,0,)","v":4},{"$f":"_xlfn.XLOOKUP($C$12,'BUILDERS BRICK SELECTION'!$B:$B,'BUILDERS BRICK SELECTION'!G:G,0,)","v":0},null,null,null,null,null,null,null,null,null,null,null,null,null,"M.g","plastering",null,null,{"$f":"IF(AB8=5,1,0)","v":0},"CARTAGE ZONE 5",null,null,null,null,null,null,null,null,null,null,null,null,null,6,"QUANTITY SHEET FOR SUMMIT HOMES BUNBURY",null,null,null,null,null,null,null,null,null,"Whats New :"]
[null,"Contrast 1c Face Bricks","NO SELECTION MADE",null,null,null,{"$f":"_xlfn.XLOOKUP(C13,'BUILDERS BRICK SELECTION'!B:B,'BUILDERS BRICK SELECTION'!H:H)","v":0},{"$f":"_xlfn.XLOOKUP(C13,'BUILDERS BRICK SELECTION'!$B:$B,'BUILDERS BRICK SELECTION'!E:E,0)","v":48.5},{"$f":"_xlfn.XLOOKUP(C13,'BUILDERS BRICK SELECTION'!$B:$B,'BUILDERS BRICK SELECTION'!C:C,0,)","v":264},{"$f":"_xlfn.XLOOKUP($C$13,'BUILDERS BRICK SELECTION'!$B:$B,'BUILDERS BRICK SELECTION'!D:D,0,)","v":4},{"$f":"_xlfn.XLOOKUP($C$13,'BUILDERS BRICK SELECTION'!$B:$B,'BUILDERS BRICK SELECTION'!G:G,0,)","v":0},null,null,null,null,null,null,null,null,null,null,null,null,null,null,null,null,null,null,null,null,null,null,null,null,null,null,null,null,null,null,null,null,null,13,null,null,null,null,null,null,null,null,null,null,"2025-07-04","Minor adjustments to quantities, "]
[null,"2c Render Blocks","MIDLAND MAXIBRICK",null,null,null,{"$f":"_xlfn.XLOOKUP(C14,'BUILDERS BRICK SELECTION'!K:K,'BUILDERS BRICK SELECTION'!R:R,0)","v":"INTERNAL ROUGH 2C"},{"$f":"_xlfn.XLOOKUP(C14,'BUILDERS BRICK SELECTION'!$K:$K,'BUILDERS BRICK SELECTION'!N:N,0)","v":18.5},{"$f":"_xlfn.XLOOKUP(C14,'BUILDERS BRICK SELECTION'!$K:$K,'BUILDERS BRICK SELECTION'!L:L,0)","v":138},{"$f":"_xlfn.XLOOKUP(C14,'BUILDERS BRICK SELECTION'!$K:$K,'BUILDERS BRICK SELECTION'!M:M,0)","v":3},null,null,null,null,null,null,null,null,null,null,null,null,null,null,{"$f":"$S$14*-0.37","v":0},{"$f":"$S$14*-0.46","v":0},null,null,{"$f":"_xlfn.XLOOKUP(AB9,AC8:AC12,AD8:AD12,0)","v":0},null,null,null,null,null,null,null,null,null,null,null,null,null,null,null,null,null,null,null,null,null,null,null,null,null,null,null,"Addititional Cartage tab"]
[null,"1c Rendered Longreach","MIDLAND LONGREACH CORED",null,null,null,{"$f":"_xlfn.XLOOKUP(C15,'BUILDERS BRICK SELECTION'!K:K,'BUILDERS BRICK SELECTION'!R:R,0)","v":"INTERNAL ROUGH 1C"},{"$f":"_xlfn.XLOOKUP(C15,'BUILDERS BRICK SELECTION'!$K:$K,'BUILDERS BRICK SELECTION'!N:N,0)","v":37},{"$f":"_xlfn.XLOOKUP(C15,'BUILDERS BRICK SELECTION'!$K:$K,'BUILDERS BRICK SELECTION'!L:L,0)","v":252},{"$f":"_xlfn.XLOOKUP(C15,'BUILDERS BRICK SELECTION'!$K:$K,'BUILDERS BRICK SELECTION'!M:M,0)","v":3},null,null,null,null,null,null,null,null,null,null,null,null,null,null,{"$f":"$S$15*0.37","v":0},{"$f":"$S$15*0.46","v":0}]
[null,"1c Rendered Commons","NO SELECTION MADE",null,null,null,{"$f":"_xlfn.XLOOKUP(C16,'BUILDERS BRICK SELECTION'!K:K,'BUILDERS BRICK SELECTION'!R:R,0)","v":0},{"$f":"_xlfn.XLOOKUP(C16,'BUILDERS BRICK SELECTION'!$K:$K,'BUILDERS BRICK SELECTION'!N:N,0)","v":18.5},{"$f":"_xlfn.XLOOKUP(C16,'BUILDERS BRICK SELECTION'!$K:$K,'BUILDERS BRICK SELECTION'!L:L,0)","v":132},{"$f":"_xlfn.XLOOKUP(C16,'BUILDERS BRICK SELECTION'!$K:$K,'BUILDERS BRICK SELECTION'!M:M,0)","v":3},null,null,null,null,null,null,null,null,null,null,null,null,null,null,{"$f":"$S$16*-0.154","v":0},{"$f":"$S$16*-0.19","v":0}]
[null,"2nd Contrast 1c Face Blocks","NO SELECTION MADE",null,null,null,{"$f":"_xlfn.XLOOKUP(C17,'BUILDERS BRICK SELECTION'!B:B,'BUILDERS BRICK SELECTION'!H:H)","v":0},{"$f":"_xlfn.XLOOKUP(C17,'BUILDERS BRICK SELECTION'!$B:$B,'BUILDERS BRICK SELECTION'!E:E,0,)","v":48.5},{"$f":"_xlfn.XLOOKUP(C17,'BUILDERS BRICK SELECTION'!$B:$B,'BUILDERS BRICK SELECTION'!C:C,0,)","v":264},{"$f":"_xlfn.XLOOKUP($C$17,'BUILDERS BRICK SELECTION'!$B:$B,'BUILDERS BRICK SELECTION'!D:D,0,)","v":4},{"$f":"_xlfn.XLOOKUP($C$17,'BUILDERS BRICK SELECTION'!$B:$B,'BUILDERS BRICK SELECTION'!G:G,0,)","v":0},null,null,null,null,null,null,null,null,null,null,null,null,null,{"$f":"$S$17*0.154","v":0},{"$f":"$S$17*0.19","v":0},null,null,null,null,null,null,null,null,null,null,null,null,null,null,null,null,null,null,null,null,null,null,null,null,null,null,null,null,null,"2025-06-26","Cartage for Bricks and Paving amended"]
[null,"2c Face Blocks","NO SELECTION MADE",null,null,null,{"$f":"_xlfn.XLOOKUP(C18,'BUILDERS BRICK SELECTION'!K:K,'BUILDERS BRICK SELECTION'!R:R,0)","v":0},{"$f":"_xlfn.XLOOKUP(C18,'BUILDERS BRICK SELECTION'!$K:$K,'BUILDERS BRICK SELECTION'!N:N,0)","v":18.5},{"$f":"_xlfn.XLOOKUP(C18,'BUILDERS BRICK SELECTION'!$K:$K,'BUILDERS BRICK SELECTION'!L:L,0)","v":132},{"$f":"_xlfn.XLOOKUP($C$18,'BUILDERS BRICK SELECTION'!$K:$K,'BUILDERS BRICK SELECTION'!M:M,0)","v":3},{"$f":"_xlfn.XLOOKUP($C$18,'BUILDERS BRICK SELECTION'!$K:$K,'BUILDERS BRICK SELECTION'!S:S,0)","v":0},38.799999999999997,null,null,null,null,null,null,null,null,null,null,null,null,null,null,null,null,null,null,null,null,null,null,null,null,null,null,null,null,null,null,null,null,null,null,null,null,null,null,null,null,null,null,null,null,"Tile Waterproofing added "]
[null,"INTERNAL SELECTION",null,null,null,null,null,null,null,null,null,264,null,null,null,null,null,null,null,null,null,null,null,null,null,null,null,null,null,null,null,null,null,null,null,null,null,null,null,null,null,null,null,null,null,null,null,null,null,null,null,null,null,null,null,null,"Tiedown bricks Maxis added"]
[null,"1c Face Bricks","NO SELECTION MADE",null,null,null,{"$f":"_xlfn.XLOOKUP(C20,'BUILDERS BRICK SELECTION'!$B:$B,'BUILDERS BRICK SELECTION'!$H:$H,0)","v":0},{"$f":"_xlfn.XLOOKUP(C20,'BUILDERS BRICK SELECTION'!$B:$B,'BUILDERS BRICK SELECTION'!E:E,0,)","v":48.5},{"$f":"_xlfn.XLOOKUP(C20,'BUILDERS BRICK SELECTION'!$B:$B,'BUILDERS BRICK SELECTION'!C:C,0,)","v":264},{"$f":"_xlfn.XLOOKUP($C$20,'BUILDERS BRICK SELECTION'!$B:$B,'BUILDERS BRICK SELECTION'!D:D,0,)","v":4},{"$f":"_xlfn.XLOOKUP($C$20,'BUILDERS BRICK SELECTION'!$B:$B,'BUILDERS BRICK SELECTION'!G:G,0,)","v":0},null,null,null,null,null,null,null,null,null,null,null,null,null,{"$f":"IF(D45=0.23,$D$42+(Y14+Y15+Y16+Y17),0)","v":56},{"$f":"IF(D45=0.23,$D$42+(Z14+Z15+Z16+Z17),0)","v":56},null,null,null,null,null,null,null,null,null,null,null,null,null,null,null,null,null,null,null,null,null,null,null,null,null,null,null,null,null,null,"Flush panel doors adjusted"]
[null,"2c Render Blocks","MIDLAND MAXIBRICK",null,null,null,{"$f":"_xlfn.XLOOKUP(C21,'BUILDERS BRICK SELECTION'!K:K,'BUILDERS BRICK SELECTION'!R:R,0)","v":"INTERNAL ROUGH 2C"},{"$f":"_xlfn.XLOOKUP(C21,'BUILDERS BRICK SELECTION'!$K:$K,'BUILDERS BRICK SELECTION'!N:N,0)","v":18.5},{"$f":"_xlfn.XLOOKUP(C21,'BUILDERS BRICK SELECTION'!$K:$K,'BUILDERS BRICK SELECTION'!L:L,0)","v":138},{"$f":"_xlfn.XLOOKUP(C21,'BUILDERS BRICK SELECTION'!$K:$K,'BUILDERS BRICK SELECTION'!M:M,0)","v":3}]
[null,"1c Rendered Longreach","MIDLAND LONGREACH CORED",null,null,null,{"$f":"_xlfn.XLOOKUP(C22,'BUILDERS BRICK SELECTION'!K:K,'BUILDERS BRICK SELECTION'!R:R,0)","v":"INTERNAL ROUGH 1C"},{"$f":"_xlfn.XLOOKUP(C22,'BUILDERS BRICK SELECTION'!$K:$K,'BUILDERS BRICK SELECTION'!N:N,0)","v":37},{"$f":"_xlfn.XLOOKUP(C22,'BUILDERS BRICK SELECTION'!$K:$K,'BUILDERS BRICK SELECTION'!L:L,0)","v":252},{"$f":"_xlfn.XLOOKUP(C22,'BUILDERS BRICK SELECTION'!$K:$K,'BUILDERS BRICK SELECTION'!M:M,0)","v":3}]
[null,"1c Rendered Commons","NO SELECTION MADE",null,null,null,{"$f":"_xlfn.XLOOKUP(C23,'BUILDERS BRICK SELECTION'!K:K,'BUILDERS BRICK SELECTION'!R:R,0)","v":0},{"$f":"_xlfn.XLOOKUP(C23,'BUILDERS BRICK SELECTION'!$K:$K,'BUILDERS BRICK SELECTION'!N:N,0)","v":18.5},{"$f":"_xlfn.XLOOKUP(C23,'BUILDERS BRICK SELECTION'!$K:$K,'BUILDERS BRICK SELECTION'!L:L,0)","v":132},{"$f":"_xlfn.XLOOKUP(C23,'BUILDERS BRICK SELECTION'!$K:$K,'BUILDERS BRICK SELECTION'!M:M,0)","v":3},null,null,null,null,null,null,null,null,null,null,null,null,null,null,null,null,"Location",null,null,null,null,null,null,null,null,null,null,null,null,null,null,null,null,null,null,null,null,null,null,null,null,null,null,null,null,"2025-06-10","Flush Panel Doors added from internal frames"]
[null,null,null,null,null,null,null,null,null,null,null,null,null,null,null,null,null,null,null,null,null,null,null,null,null,null,"North","285-100-1002600",null,null,null,null,null,null,null,null,null,null,null,null,null,null,null,null,null,null,null,null,null,null,null,null,null,null,null,null,"External Door count on \"Int-Ext Doors and Internal walls\" for Wall Carpentry count"]
[null,null,null,null,null,null,null,null,null,null,null,null,null,null,null,null,null,null,null,null,null,null,null,null,null,null,"South",null,null,null,null,null,null,null,null,null,null,null,null,null,null,null,null,null,null,null,null,null,null,null,null,null,null,null,null,null,"Wall Carpentry items increased and moved to be with Roof Carpentry on \"Fascia-Roof Hardware\" Sheet (renamed)"]
[null,"General Questions…",null,null,null,null,null,null,null,null,null,null,null,null,null,null,null,null,null,null,null,null,null,null,null,null,null,null,null,null,null,null,null,null,null,null,null,null,null,null,null,null,null,null,null,null,null,null,null,null,null,null,null,null,null,null,"Cladding Items including Minimum charge added to \"Fascia-Roof Carpenter\" Sheet"]
[null,null,null,null,null,null,null,null,null,null,null,null,null,null,null,null,null,null,null,null,null,null,null,null,null,null,null,null,null,null,null,null,null,null,null,null,null,null,null,null,null,null,null,null,null,null,null,null,null,null,null,null,null,null,null,null,"R2.5 option for Insulation on External walls added to \"Elec,Ceilinng,Plaster,Paint\" sheet (renamed)"]
[null,"Tiled Roof='Y' Colorbond = 'N'",{"$f":"IF(H28=TRUE,\"Y\",\"N\")","v":"N"},null,null,{"$f":"IF(G28=TRUE,\"Y\",\"N\")","v":"Y"},true,false,null,null,null,null,null,null,null,null,null,null,null,null,null,null,null,null,null,null,null,null,null,null,null,null,null,null,null,null,null,null,null,null,null,null,null,null,null,null,null,null,null,null,null,null,null,null,null,null,"Note added to Robe Rails on \"Fixing Carpentry & Moulding\" Sheet, 1 Rail to 1 line"]
[null,"Coastal Areas",{"$f":"IF(E29=TRUE,\"Y\",\"N\")","v":"N"},null,null,{"$f":"IF(G29=TRUE,\"Y\",\"N\")","v":"Y"},true,null,null,null,null,null,null,null,null,null,null,null,null,null,null,null,null,null,null,null,null,null,null,null,null,null,null,null,null,null,null,null,null,null,null,null,null,null,null,null,null,null,null,null,null,null,null,null,null,null,"\"Paving & Grano\" sheet changed to be less busy and more compact. Addistional options added"]
[null,"Half Bond='Y' Third Bond = 'N'",{"$f":"IF(E30=TRUE,\"Y\",\"N\")","v":"N"},null,null,{"$f":"IF(G30=TRUE,\"Y\",\"N\")","v":"Y"},true,null,null,null,null,null,null,null,null,null,null,null,null,null,null,null,null,null,null,null,null,null,null,null,null,null,null,null,null,null,null,null,null,null,null,null,null,null,null,null,null,null,null,null,null,null,null,null,null,null,"Main Floor Tile added to \"Additional Items' Sheet, Slimline mirrors and shower option updated"]
[null,"Timber Roof = 'Y' Metal Truss = 'N'",null,null,null,null,null,null,null,null,null,null,null,null,null,null,null,null,null,null,null,null,null,null,null,null,null,null,null,null,null,null,null,null,null,null,null,null,null,null,null,null,null,null,null,null,null,null,null,null,null,null,null,null,null,null,"\"Quotes' Sheet changed to be more compact "]
[null,"Build Type",null,"Brick veneer",null,{"$f":"IF(G32=TRUE,\"Y\",\"N\")","v":"Y"},true,{"$f":"D32","v":"Brick veneer"},null,null,null,null,null,null,null,null,null,null,null,null,null,null,null,null,null,null,null,null,null,null,null,null,null,null,null,null,null,null,null,null,null,null,null,null,null,null,null,null,null,null,null,null,null,null,null,null,"Site Welding 'Brickwork' and 'Roof Carpenter' has been added to the 'Brick Final Sheet'"]
[null,"Coastal Value",null,"R1",null,{"$f":"_xlfn.IFNA(VLOOKUP('Main Details'!D33,Lists!V18:W21,2,FALSE),\"\")","v":"Moderate"},null,"Double Brick",null,{"$f":"'Lintels.windows '!N45","v":36.79},null,null,null,null,null,null,null,null,null,null,null,null,null,null,null,null,null,null,null,null,null,null,null,null,null,null,null,null,null,null,null,null,null,null,null,null,null,null,null,null,null,null,null,null,null,null,"Maxi Brick packs sizes adjusted"]
[null,"Bushfire Rating",null,"NO BAL",null,null,null,null,null,null,null,null,null,null,null,null,null,null,null,null,null,null,null,null,null,null,null,null,null,null,null,null,null,null,null,null,null,null,null,null,null,null,null,null,null,null,null,null,null,null,null,null,null,null,null,null,"Termite and Brick Clean cost centres added"]
[null,"Areas Single Storey",null,"m2",null,null,null,"Brick Veneer",null,0]
[null,"FLOOR PLAN",null,{"$f":"IF(W36>0,W36,'Summary Sheet'!C63)","v":296.601}]
[null,"GARAGE",null,{"$f":"IF(W37>0,W37,'Summary Sheet'!C64)","v":57.854999999999997},null,null,null,null,null,null,null,null,null,null,null,null,null,null,null,null,null,null,null,null,null,null,null,null,null,null,null,null,null,null,null,null,null,null,null,null,null,null,null,null,null,null,null,null,null,null,null,null,null,null,null,"2025-05-15","Painting items added to quants"]
[null,"PORCH",null,{"$f":"IF(W38>0,W38,'Summary Sheet'!C66)","v":5.157}]
[null,"ALFRESCO",null,{"$f":"IF(W39>0,W39,'Summary Sheet'!C65)","v":24}]
[null,"Flat Roof AREA",null,250,null,null,null,null,null,null,null,null,null,null,null,null,null,null,null,null,null,null,null,null,null,null,null,null,null,null,null,null,null,null,null,null,null,null,null,null,null,null,null,null,null,null,null,null,null,null,null,null,null,null,null,"2024-12-12","Changes made to suit direct upload"]
[null,"Perimeters/lengths",null,"l/m"]
[null,"House Perimeter",null,56,null,null,null,null,null,null,null,null,null,null,null,null,null,null,null,null,null,null,null,null,null,null,null,null,null,null,null,null,null,null,null,null,null,null,null,null,null,null,null,null,null,null,null,null,null,null,null,null,null,null,null,"2024-11-21","Colour Change to drop down to match across sheets"]
[null,"Internal Partition Wall Length",null,{"$f":"'INT-EXT DOORS & int walls'!AC22","v":0},null,null,null,null,null,null,null,null,null,null,null,null,null,null,null,null,null,null,null,null,null,null,null,null,null,null,null,null,null,null,null,null,null,null,null,null,null,null,null,null,null,null,null,null,null,null,null,null,null,null,null,null,"Brickwork adjusted to '1000' to aid with direct upload "]
[null,null,null,null,null,null,null,null,null,null,null,null,null,null,null,null,null,null,null,null,null,null,null,null,null,null,null,null,null,null,null,null,null,null,null,null,null,null,null,null,null,null,null,null,null,null,null,null,null,null,null,null,null,null,null,null,"Non Essential REO hidden in dropdown to aid with direct upload"]
[null,"Main Cavity Width (.250 or .230)",null,0.23,null,null,null,null,null,null,null,null,null,null,null,null,null,null,null,null,null,null,null,null,null,null,null,null,null,null,null,null,null,null,null,null,null,null,null,null,null,null,null,null,null,null,null,null,null,null,null,null,null,null,null,null,"Brickwork formatting adjusted"]
[null,null,null,{"$f":"D45","v":0.23}]
[null,"Eaves Main Width",null,0.48]
[]
[null,"Rafter Spacing",null,{"$f":"IF(C28=\"Y\",0.6,0.9)","v":0.9}]
[null,"Garage / House Wall Length"]
[null,"Garage / House Wall Width",null,0.09,"ddt add for ceiling"]
[]
[null,"Main House Ceiling Height",null,2.4,{"$f":"VLOOKUP(D53,Lists!V27:W42,2,0)","v":"28c"}]
[null,"Garage Walls Length",null,null,null,{"$f":"D53*D54","v":0}]
[null,"Double Brick Boundary Length",null,null,"Only to be used on Brick Veneer with Double brick boundary walls"]
[null,"Double Brick Boundary Height",null,null,"Internal Brick height only to Dble Brick boundary walls",null,null,null,null,null,{"$f":"D55*D56","v":0}]

{"sheet":"Concrete & Reo","index":15,"n_rows":59,"n_cols":17,"rows_kept":59,"cut":false,"hidden":false,"merged":[[54,7,54,8],[53,7,53,8],[52,7,52,8],[51,7,51,8],[6,9,6,12],[32,8,32,10],[31,7,31,10],[24,7,24,10],[26,9,26,10],[27,8,27,10],[7,9,7,12],[41,3,41,4],[42,3,42,4],[43,3,43,4],[30,1,30,4],[38,7,38,9],[39,7,39,9],[33,1,33,4],[32,1,32,4],[33,7,33,10],[35,1,35,3]]}
[]
[null,{"$f":"'Main Details'!B2","v":"QUANTITY SHEET FOR EASY START HOMES"},null,null,null,null,null,null,null,null,null,null,"PG 2"]
[null,{"$f":"'Main Details'!D6","v":0}]
[null,"CONCRETOR SINGLE STOREY"]
[null,"SLAB TYPE","A85","(Note: Only Guides! Overwrite if Required as per Engineer/Shire Requirements) "]
[null,"SLAB THICKNESS",{"$f":"(VLOOKUP($C$5,'BUILDERS SETTINGS'!D72:F88,3,0))","v":85},"mm"]
[null,"MESH","CERTS","Select Mesh Below",null,null,null,"Concrete Supply","25mpa",null,null,null,null,null,null,"20mpa","116-200-100150"]
[null,"FOOTING / L/M",{"$f":"(VLOOKUP($C$5,'BUILDERS SETTINGS'!D71:L88,9,0))","v":0.06},"(cubic)",null,null,null,null,null,null,null,null,null,null,null,"25mpa","116-200-100160"]
[null,"TRENCH MESH",{"$f":"(VLOOKUP($C$5,'BUILDERS SETTINGS'!D42:M93,10,0))","v":"NO"},null,null,null,null,null,null,null,null,null,null,null,null,{"$f":"IF(I7=P8,Q8,Q7)","v":"116-200-100160"}]
[null,"FOOTINGS:",null,null,null,null,null,"SLAB: "]
[null,"Ext per Footing",{"$f":"'Main Details'!D42","v":56},"l/m x",{"$f":"C8","v":0.06},"=",{"$f":"IF(C11*E11>0,C11*E11,\" \")","v":3.36},"Slab:",{"$f":"'Main Details'!D36","v":296.601},"Sq/m x",{"$f":"C6/1000","v":8.5000000000000006E-2},"=",{"$f":"IF(I11*K11>0,I11*K11,\" \")","v":25.211085000000001}]
[null,null,null,"No x",null,"=",{"$f":"C12*E12","v":0},null,null,"L/m x",null,"="]
[null,"1course DROPPED FOOTING",null,"No x",{"$f":"_xlfn.XLOOKUP(B13,'BUILDERS SETTINGS'!$E:$E,'BUILDERS SETTINGS'!$K:$K,0)","v":0.01},"=",{"$f":"C13*E13","v":0},"3course DROPPED FOOTING",null,"L/m x",0.04,"=",{"$f":"IF(I13*K13>0,I13*K13,\" \")","v":" "}]
[null,"2course DROPPED FOOTING",null,"No x",{"$f":"_xlfn.XLOOKUP(B14,'BUILDERS SETTINGS'!$E:$E,'BUILDERS SETTINGS'!$K:$K,0)","v":0.02},"=",0,"4course DROPPED FOOTING",null,"L/m x",7.0000000000000007E-2,"=",{"$f":"IF(I14*K14>0,I14*K14,\" \")","v":" "}]
[null,"3course DROPPED FOOTING",null,"No x",{"$f":"_xlfn.XLOOKUP(B15,'BUILDERS SETTINGS'!$E:$E,'BUILDERS SETTINGS'!$K:$K,0)","v":0.03},"=",0,"6course DROPPED FOOTING",null,"L/m x",0.11,"=",{"$f":"IF(I15*K15>0,I15*K15,\" \")","v":" "}]
[null,"4course DROPPED FOOTING",null,"No x",{"$f":"_xlfn.XLOOKUP(B16,'BUILDERS SETTINGS'!$E:$E,'BUILDERS SETTINGS'!$K:$K,0)","v":0.04},"=",0,null,null,"L/m x",null,"="]
[null,"5course DROPPED FOOTING",null,"No x",0.04,"=",0,null,null,"L/m x",null,"="," "]
[null,"6course DROPPED FOOTING",null,"No x",0.04,"=",0,"Thickenings (No T/M)",null,"L/m x",6.9000000000000006E-2,"="," "]
[null,null,null,"No x",null,"=",0,null,null,"L/m x",null,"="," "]
[null,"Garage Perimeter",{"$f":"'Main Details'!D54","v":0},"l/m x",{"$f":"C8","v":0.06},"=",0,"Slab Edge Thickenings",{"$f":"'Main Details'!D42","v":56},"L/m x",1.9E-2,"=",1.0640000000000001]
[null,"FP1",null,"No x",9.6000000000000002E-2,"=",0,"Thickenings (incl. T/M)",null,"L/m x",0.08,"=",{"$f":"I21*K21","v":0}]
[null,"FP2",null,"No x",0.19600000000000001,"=",0,"CONNELLY KEY JOINTS",null,"LG"]
[null,"FP3",null,"No x",0.11799999999999999,"=",0,null,null,null," Subtotal","=",{"$f":"IF((SUM(M11:M21))>0,SUM(M11:M21),\" \")","v":26.275085000000001}]
[null,"FP4",null,"No x",null,"=",0,null,null,null,null,null,null,null,0.6]
[null,"FP5",null,"No x",null,"=",0,"NUMBER OF SLAB PUMPS",null,null,null,"=",1]
[null,"SF1",null,"l/m x",0.252,{"$f":"F24","v":"="},0]
[null,"SF2",null,"l/m x",0.06,"=",0,null,null,"Labour Slab",null,"=",{"$f":"IF(M23=\" \",\" \",(INT(((M23*100)+20)/20)*20)/100)","v":26.4}]
[null,null,null,null,null,"=",0,"ADD","20/20/80 Concrete Supply only",null,null,"=",{"$f":"IF(M27=\" \",\" \",(INT(((N28*100)+20)/20)*20)/100)+M25","v":28.2},{"$f":"IF($M$23=\" \",\" \",($M$23*$H$30)+$M$23)","v":27.06333755}]
[null,"Deductions",null,"l/m x",null,"=",0,"Wastage Percentage"]
[null,null,null,null,"Subtotal","=",{"$f":"IF((SUM(G11:G28))>0,SUM(G11:G28,-G29),\" \")","v":3.36},0.03]
[null,"NUMBER OF FOOTING PUMPS",null,null,null,"=",1]
[null,null,null,null,null,null,null,"GROUND FLOOR SLAB & FOOTINGS",null,null,null,"=",{"$f":"IF(AND('Main Details'!D36>0,'Main Details'!D42>0),G33+M27,\" \")","v":29.799999999999997},"Install m3"]
[null,"Labour Footings",null,null,null,"=",{"$f":"IF(G30=\" \",\" \",(INT(((G30*100)+20)/20)*20)/100)","v":3.4},{"$f":"IF($G$30=\" \",\" \",$G$30+($G$30*$H$30))","v":3.4607999999999999}]
[null,"20/20/80 Concrete Supply only",null,null,null,"=",{"$f":"IF(H33=\" \",\" \",(INT(((H33*100)+20)/20)*20)/100)+G31","v":4.5999999999999996},"TOTAL CONCRETE SUPPLY m3 ",null,null,null,"=",{"$f":"IF(AND('Main Details'!D36>0,'Main Details'!D42>0),G34+M28,\" \")","v":32.799999999999997}]
[]
[null,"REINFORCEMENT"]
[null,null,"Qty","Unit"]
[null,"TRENCH MESH SELECTION",null,"No"]
[null,null,{"$f":"IF(C9=\"Yes\",SUM(C11*G40)+I21+SUM(C29*G39)+SUM(C20*G39))+IF(C9=\"NO\",0)","v":0},"L/m -","(Includes)",null,1,"(select) Rows To Garage Perimeter",null,null,{"$f":"IF(C39=0,\" \",((C39+0.5)/5.5))","v":" "}]
[null,"Total Trench Mesh Sheets",{"$f":"IF(K39=\" \",\" \",(ROUNDUP($K$39/1,0)*1)+1+C41)","v":" "},"Sheets ",null,null,1,"(select) Rows To House Perimeter"]
[null,"Additional Trench Mesh as per engs",null,"No"]
[null,"N12 RE-ENTRY BAR 2.0m",null,null,null,null,"LABOUR ITEMS",null,null,"No adjustment"]
[null,"N12 Z BAR 150x260x150mm",null,"Z BAR",null,null,"KEYED JOINT INSTALLATION",null,{"$f":"I22","v":0}]
[null,null,null,"STARTER",null,null,"Z BAR INSTALLATION",null,{"$f":"C43","v":0}]
[null,"Additional Sheets as per engs",null,"m2",null,null,"STARTER BAR INSTALLATION",null,{"$f":"C44","v":0}]
[null,"Mesh Sheets Required",{"$f":"ROUNDUP(SUM(C48/12+(C45/12))+1,0)","v":26},"Sheets "]
[null,"SOG PL BAR CHAIR 50-65mm",{"$f":"(MROUND($G$58/100,1)*100)/100+1","v":7},"Bags"]
[null,"RF63 MESH - 6 x 2.4m",{"$f":"I11","v":296.601},"M2"]
[]
[]
[]
[null,null,"E/O Slab Mesh (select)",null,null,null,0,"Trench Mesh (select)"]
[null,null,"SL52 Mesh",null,null,null,1,"L8 Trench Mesh (200mm)"]
[null,null,"SL53 Mesh",null,null,null,2,"L8 Trench Mesh (300mm)"]
[null,null,"SL63 Mesh",null,null,null,null,"L11 Trench Mesh (200mm)"]
[null,null,"SL62 Mesh"]
[null,null,"SL72 Mesh"]
[null,null,"SL82 Mesh",null,null,null,{"$f":"(C46*22.5)","v":585}]
[null,null,"SL92 Mesh"]

{"sheet":"INT-EXT DOORS & int walls","index":16,"n_rows":150,"n_cols":41,"rows_kept":150,"cut":false,"hidden":false,"merged":[[1,2,1,3],[2,2,2,3],[1,4,2,7],[37,3,37,5],[29,3,29,5],[18,3,18,5],[8,3,8,5],[9,3,9,5],[10,3,10,5],[11,3,11,5],[12,3,12,5],[6,3,6,5],[7,3,7,5],[19,3,19,5],[32,3,32,5],[28,3,28,5],[39,25,39,28],[40,25,40,28],[5,8,6,8],[36,2,36,5],[5,2,5,5],[25,3,25,5],[23,3,23,5],[24,3,24,5],[22,3,22,5],[16,3,16,5],[17,3,17,5],[13,3,13,5],[32,25,32,28],[39,3,39,5],[40,3,40,5],[30,3,30,5],[31,3,31,5],[30,25,30,28],[38,25,38,28],[38,3,38,5],[32,36,32,37],[31,36,31,37],[30,36,30,37],[21,24,21,27],[5,24,5,28],[24,36,24,37],[23,36,23,37],[23,24,23,27],[24,24,24,27],[27,36,27,37],[28,36,28,37],[25,24,25,28],[27,24,27,28],[29,24,29,28]]}
[]
[null,null,"BROAD BUTT HINGES FITTED",null,"DOOR OPENINGS",null,null,null,"EXTRA STANDARD HINGE FITTED"]
[]
[null,null,null,null,null,null,null,null,null,null,null,null,null,null,null,null,null,null,null,null,null,null,null,null,null,null,null,null,null,null,null,null,null,null,null,null,null,null,null,"Std Doors"]
[null,null,null,null,null,null,null,null,null,null,{"$f":"2.04*K7/1000","v":1.0608},{"$f":"2.04*L7/1000","v":1.2647999999999999},{"$f":"2.34*620/1000","v":1.4507999999999999},{"$f":"2.04*N7/1000","v":1.4687999999999999},{"$f":"2.34*720/1000","v":1.6847999999999999},1.6728000000000001,{"$f":"2.34*820/1000","v":1.9188000000000001},1.7747999999999999,1.8768,{"$f":"2.34*920/1000","v":2.1527999999999996}]
[null,null,{"$f":"'Main Details'!D32","v":"Brick veneer"},null,null,null,null,null,"Cost Centre Check",null,"440-610-200200","440-610-200300","440-610-500100","440-610-200400","440-610-500200","440-610-200500","440-610-500300","440-610-200600","440-610-200700","440-610-500410",null,null,null,null,"INTERNAL  PARTITION  WALLS ",null,null,null,null,null,null,null,null,null,null,null,null,"Shopper Door (MUST select)",null,"Double Brick","Brick Veneer"]
[null,null,"Quantity","STD Frames",null,null,null,null,null,null,520,620,"620a",720,"720a",820,"820a",870,920,"920a","STD Height",null,"2340 Doors",null,null,null,null,null,null,null,"175-100-100400","DELUXE 2 HINGES 2040x520 RH",null,"Double Brick",null,null,null,"Double Brick",null,"DELUXE 2 HINGES 2040x520 LH","DELUXE 2 HINGES 2040x620 LH"]
[null,null,null,null,null,null,{"$f":"IF($C$6=\"Brick Veneer\",\"SF\",\"DB\")","v":"SF"},null,{"$f":"_xlfn.XLOOKUP(1,(Lists!$AW:$AW=D8)*(Lists!$AZ:$AZ=G8),(Lists!$AV:$AV),0)","v":0},{"$f":"_xlfn.XLOOKUP('INT-EXT DOORS & int walls'!I8,Lists!AV:AV,Lists!AY:AY,0)","v":0},{"$f":"IF(J8=$K$7,C8,0)","v":0},{"$f":"IF(J8=$L$7,C8,0)","v":0},{"$f":"IF(J8=$M$7,C8,0)","v":0},{"$f":"IF(J8=$N$7,C8,0)","v":0},{"$f":"IF(J8=$O$7,C8,0)","v":0},{"$f":"IF(J8=$P$7,C8,0)","v":0},{"$f":"IF(J8=Q7,C8,0)","v":0},{"$f":"IF(J8=$R$7,C8,0)","v":0},{"$f":"IF(J8=$S$7,C8,0)","v":0},{"$f":"IF(J8=$T$7,C8,0)","v":0},{"$f":"SUM(K8:K14)","v":0},520,null,null,null,null,null,null,null,null,"175-100-100500","DELUXE 2 HINGES 2040x620 LH",null,"Double Brick",null,null,null,"Brick Veneer",null,"DELUXE 2 HINGES 2040x520 RH","DELUXE 2 HINGES 2040x620 RH"]
[null,null,null,null,null,null,{"$f":"IF($C$6=\"Brick Veneer\",\"SF\",\"DB\")","v":"SF"},null,{"$f":"_xlfn.XLOOKUP(1,(Lists!$AW:$AW=D9)*(Lists!$AZ:$AZ=G9),(Lists!$AV:$AV),0)","v":0},{"$f":"_xlfn.XLOOKUP('INT-EXT DOORS & int walls'!I9,Lists!AV:AV,Lists!AY:AY,0)","v":0},{"$f":"IF(J9=$K$7,C9,0)","v":0},{"$f":"IF(J9=$L$7,C9,0)","v":0},{"$f":"IF(J9=$M$7,C9,0)","v":0},{"$f":"IF(J9=$N$7,C9,0)","v":0},{"$f":"IF(J9=$O$7,C9,0)","v":0},0,{"$f":"IF(J9=$Q$7,C9,0)","v":0},{"$f":"IF(J9=$R$7,C9,0)","v":0},{"$f":"IF(J9=$S$7,C9,0)","v":0},{"$f":"IF(J9=$T$7,C9,0)","v":0},{"$f":"SUM(L8:L14)","v":0},620,{"$f":"SUM(M8:M14)","v":0},null,null,null,null,null,null,null,"175-100-100600","DELUXE 2 HINGES 2040x620 RH",null,"Double Brick",null,null,null,null,null,"DELUXE 2 HINGES 2040x620 LH","DELUXE 2 HINGES 2040x720 LH"]
[null,null,null,null,null,null,"SF",null,{"$f":"_xlfn.XLOOKUP(1,(Lists!$AW:$AW=D10)*(Lists!$AZ:$AZ=G10),(Lists!$AV:$AV),0)","v":0},{"$f":"_xlfn.XLOOKUP('INT-EXT DOORS & int walls'!I10,Lists!AV:AV,Lists!AY:AY,0)","v":0},0,0,0,0,0,0,0,0,0,0,{"$f":"SUM(N8:N14)","v":0},720,{"$f":"SUM(O8:O14)","v":0},null,null,null,null,null,null,null,"175-100-100800","DELUXE 2 HINGES 2040x720 LH",null,"Double Brick",null,null,null,"DOOR & METAL FRAME",null,"DELUXE 2 HINGES 2040x620 RH","DELUXE 2 HINGES 2040x720 RH"]
[null,null,null,null,null,null,"SF",null,{"$f":"_xlfn.XLOOKUP(1,(Lists!$AW:$AW=D11)*(Lists!$AZ:$AZ=G11),(Lists!$AV:$AV),0)","v":0},{"$f":"_xlfn.XLOOKUP('INT-EXT DOORS & int walls'!I11,Lists!AV:AV,Lists!AY:AY,0)","v":0},0,0,0,0,0,0,0,0,0,0,{"$f":"SUM(P8:P14)","v":0},820,{"$f":"SUM(Q8:Q14)","v":0},null,null,null,null,null,null,null,"175-100-100900","DELUXE 2 HINGES 2040x720 RH",null,"Double Brick",null,null,null,null,null,"DELUXE 2 HINGES 2040x720 LH","DELUXE 2 HINGES 2040x820 LH"]
[null,null,null,null,null,null,"SF",null,{"$f":"_xlfn.XLOOKUP(1,(Lists!$AW:$AW=D12)*(Lists!$AZ:$AZ=G12),(Lists!$AV:$AV),0)","v":0},{"$f":"_xlfn.XLOOKUP('INT-EXT DOORS & int walls'!I12,Lists!AV:AV,Lists!AY:AY,0)","v":0},0,0,0,0,0,0,0,0,0,0,null,870,null,null,null,null,null,null,null,null,"175-100-101200","DELUXE 2 HINGES 2040x820 LH",null,"Double Brick",null,null,null,null,null,"DELUXE 2 HINGES 2040x720 RH","DELUXE 2 HINGES 2040x820 RH"]
[null,null,null,null,null,null,"SF",null,{"$f":"_xlfn.XLOOKUP(1,(Lists!$AW:$AW=D13)*(Lists!$AZ:$AZ=G13),(Lists!$AV:$AV),0)","v":0},{"$f":"_xlfn.XLOOKUP('INT-EXT DOORS & int walls'!I13,Lists!AV:AV,Lists!AY:AY,0)","v":0},0,0,0,0,0,0,0,0,0,0,{"$f":"SUM(S8:S14)","v":0},920,{"$f":"SUM(T8:T14)","v":0},null,null,null,null,null,null,null,"175-100-101300","DELUXE 2 HINGES 2040x820 RH",null,"Double Brick",null,null,null,null,null,"DELUXE 2 HINGES 2040x820 LH","DELUXE 2 HINGES 2040x920 LH"]
[null,null,null,null,null,null,"SF",null,{"$f":"_xlfn.XLOOKUP(1,(Lists!$AW:$AW=D14)*(Lists!$AZ:$AZ=G14),(Lists!$AV:$AV),0)","v":0},{"$f":"_xlfn.XLOOKUP('INT-EXT DOORS & int walls'!I14,Lists!AV:AV,Lists!AY:AY,0)","v":0},null,0,0,0,0,0,0,null,0,0,{"$f":"SUM(N13:N14)","v":0},null,null,null,null,null,null,null,null,null,"175-100-101400","DELUXE 2 HINGES 2040x870 LH",null,"Double Brick",null,null,null,null,null,"DELUXE 2 HINGES 2040x820 RH","DELUXE 2 HINGES 2040x920 RH"]
[null,null,{"$f":"SUM(C8:C14)","v":0},null,null,null,{"$f":"IF(C3=\"Brick Veneer\",AP36,1)","v":1},null,null,null,{"$f":"SUM(K8:K14)*K5","v":0},{"$f":"SUM(L8:L14)*L5","v":0},0,0,0,0,0,0,0,0,null,{"$f":"SUM(L15:T15)","v":0},null,null,null,null,null,null,null,null,null,null,null,null,null,null,null,null,null,"DELUXE 2 HINGES 2040x870 LH","DELUXE 3 HINGES 2340x620 LH"]
[null,null,null,null,null,null,null,null,null,null,null,"440-610-100100","440-610-500100","440-610-100200","440-610-500200","440-610-100300","440-610-500300","440-610-200600","440-610-500300","440-610-500410",{"$f":"SUM(L18:L20)","v":0},620,{"$f":"SUM(M18:M21)","v":0},null,null,null,null,null,null,null,"175-100-101500","DELUXE 2 HINGES 2040x870 RH",null,"Double Brick",null,null,null,null,null,"DELUXE 2 HINGES 2040x870 RH","DELUXE 3 HINGES 2340x620 RH"]
[null,null,"Quantity","WC Doors",null,null,null,null,null,null,null,620,"620a",720,"720a",820,"820a",870,920,"920a",{"$f":"SUM(N18:N20)","v":0},720,{"$f":"SUM(O18:O21)","v":0},null,null,null,null,null,null,null,"175-100-101600","DELUXE 2 HINGES 2040x920 LH",null,"Double Brick",null,null,null,null,null,"DELUXE 2 HINGES 2040x920 LH","DELUXE 3 HINGES 2340x720 LH"]
[null,null,null,null,null,null,{"$f":"IF($C$6=\"Brick Veneer\",\"SF\",\"DB\")","v":"SF"},null,{"$f":"_xlfn.XLOOKUP(1,(Lists!$AW:$AW=D18)*(Lists!$AZ:$AZ=G18),(Lists!$AV:$AV),0)","v":0},{"$f":"_xlfn.XLOOKUP('INT-EXT DOORS & int walls'!I18,Lists!AV:AV,Lists!AY:AY,0)","v":0},null,{"$f":"IF(J18=$L$17,C18,0)","v":0},{"$f":"IF(J18=$M$17,C18,0)","v":0},{"$f":"IF(J18=$N$17,C18,0)","v":0},{"$f":"IF(J18=$O$17,C18,0)","v":0},{"$f":"IF(J18=$P$17,C18,0)","v":0},{"$f":"IF(J18=$Q$17,C18,0)","v":0},{"$f":"IF(J18=$R$17,C18,0)","v":0},{"$f":"IF(J18=$S$17,C18,0)","v":0},{"$f":"IF(J18=$T$17,C18,0)","v":0},{"$f":"SUM(P18:P20)","v":0},820,{"$f":"SUM(Q18:Q21)","v":0},null,null,null,null,null,null,null,"175-100-101700","DELUXE 2 HINGES 2040x920 RH",null,"Double Brick",null,null,null,null,null,"DELUXE 2 HINGES 2040x920 RH","DELUXE 3 HINGES 2340x720 RH"]
[null,null,null,null,null,null,"SF",null,{"$f":"_xlfn.XLOOKUP(1,(Lists!$AW:$AW=D19)*(Lists!$AZ:$AZ=G19),(Lists!$AV:$AV),0)","v":0},{"$f":"_xlfn.XLOOKUP('INT-EXT DOORS & int walls'!I19,Lists!AV:AV,Lists!AY:AY,0)","v":0},null,{"$f":"IF(J19=$L$17,C19,0)","v":0},{"$f":"IF(J19=$M$17,C19,0)","v":0},{"$f":"IF(J19=$N$17,C19,0)","v":0},{"$f":"IF(J19=$O$17,C19,0)","v":0},{"$f":"IF(J19=$P$17,C19,0)","v":0},{"$f":"IF(J19=$Q$17,C19,0)","v":0},{"$f":"IF(J19=$R$17,C19,0)","v":0},{"$f":"IF(J19=$S$17,C19,0)","v":0},{"$f":"IF(J19=$T$17,C19,0)","v":0},{"$f":"SUM(R18:R20)","v":0},870,null,null,null,null,null,null,null,null,"175-100-101770","DELUXE 3 HINGES 2040x920 LH",null,"Double Brick",null,null,null,null,null,"DELUXE 3 HINGES 2340x620 LH","DELUXE 3 HINGES 2340x820 LH"]
[null,null,null,null,null,null,"SF",null,{"$f":"_xlfn.XLOOKUP(1,(Lists!$AW:$AW=D20)*(Lists!$AZ:$AZ=G20),(Lists!$AV:$AV),0)","v":0},{"$f":"_xlfn.XLOOKUP('INT-EXT DOORS & int walls'!I20,Lists!AV:AV,Lists!AY:AY,0)","v":0},null,{"$f":"IF(J20=$L$17,C20,0)","v":0},{"$f":"IF(J20=$M$17,C20,0)","v":0},{"$f":"IF(J20=$N$17,C20,0)","v":0},{"$f":"IF(J20=$O$17,C20,0)","v":0},{"$f":"IF(J20=$P$17,C20,0)","v":0},{"$f":"IF(J20=$Q$17,C20,0)","v":0},{"$f":"IF(J20=$R$17,C20,0)","v":0},{"$f":"IF(J20=$S$17,C20,0)","v":0},0,{"$f":"SUM(S18:S20)","v":0},920,{"$f":"SUM(T18:T20)","v":0},null,null,null,null,null,null,null,"175-100-101775","DELUXE 3 HINGES 2040x920 RH",null,"Double Brick",null,null,null,null,null,"DELUXE 3 HINGES 2340x620 RH","DELUXE 3 HINGES 2340x820 RH"]
[null,null,{"$f":"SUM(C18:C20)","v":0},null,null,null,null,null,null,{"$f":"_xlfn.XLOOKUP('INT-EXT DOORS & int walls'!I21,Lists!AV:AV,Lists!AY:AY,0)","v":0},{"$f":"SUM(K18:K20)*K5","v":0},{"$f":"SUM(L18:L20)*L5","v":0},0,0,0,0,0,0,0,{"$f":"SUM(T18:T20)*T5","v":0},null,{"$f":"SUM(K21:T21)","v":0},null,null,null,null,null,null,null,null,null,null,null,null,null,null,null,null,null,"DELUXE 3 HINGES 2340x720 LH","DELUXE 3 HINGES 2340x920 LH"]
[null,null,null,null,null,null,null,null,null,null,null,null,{"$f":"SUM(M18:M21)*$L$5","v":0},0,{"$f":"SUM(O18:O21)*$L$5","v":0},null,null,0,0,0,null,null,null,null,"TOTAL INTERNAL WALL LENGTHS",null,null,null,{"$f":"SUM(Y8:AC20)","v":0},null,"175-100-200900","DELUXE 3 HINGES 2340x620 LH",null,"Double Brick",null,null,null,null,null,"DELUXE 3 HINGES 2340x720 RH","DELUXE 3 HINGES 2340x920 RH"]
[null,null,"Quantity","Sliding Doors",null,null,null,null,null,null,null,"440-610-300100",null,"440-610-300200",null,"440-610-300300",null,null,"440-610-200700",870,{"$f":"SUM(L24:L26)","v":0},620,null,null,null,null,null,null,null,null,"175-100-201100","DELUXE 3 HINGES 2340x720 LH",null,"Double Brick",null,null,null,null,null,"DELUXE 3 HINGES 2340x820 LH"]
[null,null,null,null,null,null,{"$f":"IF($C$6=\"Brick Veneer\",\"SF\",\"DB\")","v":"SF"},null,{"$f":"_xlfn.XLOOKUP(1,(Lists!$AW:$AW=D24)*(Lists!$AZ:$AZ=G24),(Lists!$AV:$AV),0)","v":0},{"$f":"_xlfn.XLOOKUP('INT-EXT DOORS & int walls'!I24,Lists!AV:AV,Lists!AY:AY,0)","v":0},null,{"$f":"IF(J24=$L$17,C24,0)","v":0},{"$f":"IF(J24=$M$17,C24,0)","v":0},{"$f":"IF(J24=$N$17,C24,0)","v":0},{"$f":"IF(J24=$O$17,C24,0)","v":0},{"$f":"IF(J24=$P$17,C24,0)","v":0},{"$f":"IF(J24=$Q$17,C24,0)","v":0},null,{"$f":"IF(J24=$T$23,C24,0)","v":0},{"$f":"IF(J24=$T$17,C24,0)","v":0},{"$f":"SUM(N24:N26)","v":0},720,null,null,"METERBOX",null,null,null,"Quantity",null,"175-100-201200","DELUXE 3 HINGES 2340x720 RH",null,"Double Brick",null,null,"Internal Doors",null,null,"DELUXE 3 HINGES 2340x820 RH"]
[null,null,null,null,null,null,"SF",null,{"$f":"_xlfn.XLOOKUP(1,(Lists!$AW:$AW=D25)*(Lists!$AZ:$AZ=G25),(Lists!$AV:$AV),0)","v":0},{"$f":"_xlfn.XLOOKUP('INT-EXT DOORS & int walls'!I25,Lists!AV:AV,Lists!AY:AY,0)","v":0},null,{"$f":"IF(J25=$L$17,C25,0)","v":0},{"$f":"IF(J25=$M$17,C25,0)","v":0},{"$f":"IF(J25=$N$17,C25,0)","v":0},{"$f":"IF(J25=$O$17,C25,0)","v":0},{"$f":"IF(J25=$P$17,C25,0)","v":0},{"$f":"IF(J25=$Q$17,C25,0)","v":0},null,{"$f":"IF(J25=$T$23,C25,0)","v":0},{"$f":"IF(J25=$T$17,C25,0)","v":0},{"$f":"SUM(P24:P26)","v":0},820,null,null,{"$f":"_xlfn.XLOOKUP(1,(Lists!AW:AW=$Y$26)*(Lists!AX:AX=Y28),(Lists!AV:AV),0)","v":"175-500-100900"},null,null,null,1,null,"175-100-201500","DELUXE 3 HINGES 2340x820 LH",null,"Double Brick",null,null,null,null,null,"DELUXE 3 HINGES 2340x920 LH"]
[null,null,null,null,null,null,"SF",null,{"$f":"_xlfn.XLOOKUP(1,(Lists!$AW:$AW=D26)*(Lists!$AZ:$AZ=G26),(Lists!$AV:$AV),0)","v":0},{"$f":"_xlfn.XLOOKUP('INT-EXT DOORS & int walls'!I26,Lists!AV:AV,Lists!AY:AY,0)","v":0},null,{"$f":"IF(J26=$L$17,C26,0)","v":0},{"$f":"IF(J26=$M$17,C26,0)","v":0},{"$f":"IF(J26=$N$17,C26,0)","v":0},{"$f":"IF(J26=$O$17,C26,0)","v":0},{"$f":"IF(J26=$P$17,C26,0)","v":0},{"$f":"IF(J26=$Q$17,C26,0)","v":0},null,0,0,{"$f":"SUM(S24:S26)","v":0},920,null,null,"METERBOX COMBINATION",null,null,null,null,null,"175-100-201600","DELUXE 3 HINGES 2340x820 RH",null,"Double Brick",null,null,null,null,null,"DELUXE 3 HINGES 2340x920 RH"]
[null,null,{"$f":"SUM(C24:C26)","v":0},null,null,null,"SF",null,null,null,{"$f":"SUM(K24:K26)*K5","v":0},{"$f":"SUM(L24:L26)*L5","v":0},0,0,0,0,0,0,0,0,null,{"$f":"SUM(L27:T27)","v":0}]
[null,null,null,null,null,null,null,null,null,{"$f":"2.04*0.52","v":1.0608},null,"440-610-200200",null,"440-610-200300","440-610-500100","440-610-200400","440-610-500200","440-610-200500","440-610-500300",null,"STD Height",null,"2340 Doors",null,"NON REBATED",null,null,null,null,null,"175-100-201650","DELUXE 3 HINGES 2340x920 LH",null,"Double Brick",null,null,{"$f":"C8+C9+C10+C11+C12+C13+C14+C18+C19+C20+C24+C25+C26+C30+C31+C32+C33","v":0}]
[null,null,"Quantity","Double Doors",null,null,null,null,null,null,null,520,"520a",620,"620a",720,"720a",820,"820a",null,{"$f":"SUM(L30:L33)","v":0},520,{"$f":"SUM(M30:M33)","v":0},null,null,null,null,null,null,null,"175-100-201660","DELUXE 3 HINGES 2340x920 RH",null,"Double Brick",null,null,{"$f":"IF(AK25=\"Double Brick\",(#REF!),(AK28))","v":0}]
[null,null,null,null,null,null,{"$f":"IF($C$6=\"Brick Veneer\",\"SF\",\"DB\")","v":"SF"},null,{"$f":"_xlfn.XLOOKUP(1,(AH:AH=$C$6)*(AF:AF=D30),(AE:AE),0)","v":0},{"$f":"_xlfn.XLOOKUP('INT-EXT DOORS & int walls'!I30,Lists!AV:AV,Lists!AY:AY,0)","v":0},null,{"$f":"IF(J30=$L$29,C30*2,0)","v":0},{"$f":"IF(J30=$M$29,C30*2,0)","v":0},{"$f":"IF(J30=$N$29,C19*2,0)","v":0},{"$f":"IF(J30=$O$29,C30*2,0)","v":0},{"$f":"IF(J30=$P$29,C30*2,0)","v":0},{"$f":"IF(J30=$Q$29,C30*2,0)","v":0},{"$f":"IF(J30=$R$29,C30*2,0)","v":0},{"$f":"IF(J30=$S$29,C30*2,0)","v":0},{"$f":"IF(J30=$T$17,C30,0)","v":0},{"$f":"SUM(N30:N33)","v":0},620,{"$f":"SUM(O30:O33)","v":0},null,"Double Doors",null,null,null,null,null,"175-100-201700","DELUXE 3 HINGES 2040x920 LH",null,"Double Brick"]
[null,null,null,null,null,null,"SF",null,{"$f":"_xlfn.XLOOKUP(1,(AH:AH=$C$6)*(AF:AF=D31),(AE:AE),0)","v":0},{"$f":"_xlfn.XLOOKUP('INT-EXT DOORS & int walls'!I31,Lists!AV:AV,Lists!AY:AY,0)","v":0},null,{"$f":"IF(J31=$L$29,C31*2,0)","v":0},{"$f":"IF(J31=$M$29,C31*2,0)","v":0},{"$f":"IF(J31=$N$29,C31*2,0)","v":0},{"$f":"IF(J31=$O$29,C31*2,0)","v":0},{"$f":"IF(J31=$P$29,C31*2,0)","v":0},{"$f":"IF(J31=$Q$29,C31*2,0)","v":0},{"$f":"IF(J31=$R$29,C31*2,0)","v":0},{"$f":"IF(J31=$S$29,C3*26,0)","v":0},{"$f":"IF(J31=$T$17,C31,0)","v":0},{"$f":"SUM(P30:P33)","v":0},720,{"$f":"SUM(Q30:Q33)","v":0},null,null,"MUSHROOM STOP",null,null,null,null,"175-100-300100","DELUXE 2040x620 SLIDER",null,"Double Brick",null,null,"External Doors"]
[null,null,null,null,null,null,"SF",null,{"$f":"_xlfn.XLOOKUP(1,(AH:AH=$C$6)*(AF:AF=D32),(AE:AE),0)","v":0},{"$f":"_xlfn.XLOOKUP('INT-EXT DOORS & int walls'!I32,Lists!AV:AV,Lists!AY:AY,0)","v":0},null,0,0,{"$f":"IF(J32=$N$29,C32*2,0)","v":0},0,0,0,0,{"$f":"IF(J32=$S$29,C4*26,0)","v":0},0,{"$f":"SUM(R30:R33)","v":0},820,{"$f":"SUM(S30:S33)","v":0},null,null,null,null,null,null,null,"175-100-300200","DELUXE 2040x720 SLIDER",null,"Double Brick"]
[null,null,null,null,null,null,"SF",null,{"$f":"_xlfn.XLOOKUP(1,(AH:AH=$C$6)*(AF:AF=D33),(AE:AE),0)","v":0},{"$f":"_xlfn.XLOOKUP('INT-EXT DOORS & int walls'!I33,Lists!AV:AV,Lists!AY:AY,0)","v":0},null,0,0,{"$f":"IF(J33=$N$29,C33*2,0)","v":0},0,0,0,0,{"$f":"IF(J33=$S$29,C33*2,0)","v":0},null,null,null,{"$f":"SUM(T30:T37)","v":0},null,null,"TIMBER ENTRY DOOR FRAME",null,null,null,null,"175-100-300300","DELUXE 2040x820 SLIDER",null,"Double Brick"]
[null,null,{"$f":"SUM(C30:C33)","v":0},null,null,null,null,null,null,null,{"$f":"SUM(K30:K33)*K5","v":0},{"$f":"SUM(L30:L33)*L5","v":0},0,0,0,0,0,0,0,0,null,{"$f":"SUM(L34:T34)","v":0}]
[null,null,{"$f":"C15+C21+C27+C34","v":0},null,null,null,null,null,null,null,null,null,null,null,null,null,null,null,null,null,null,{"$f":"V15+V21+V27+V34","v":0},null,null,null,null,null,null,null,null,"175-100-300350","DELUXE 2040x870 SLIDER",null,"Double Brick"]
[]
[null,null,"Double Brick",null,null,null,null,null,null,null,null,null,null,null,null,null,null,null,null,null,null,null,null,null,null,null,null,null,null,null,"175-100-300700","DELUXE 2340x820 SLIDER",null,"Double Brick",null,null,null,null,null,"WC doors"]
[null,null,"Quantity","Shopper Garage",null,null,null,null,null,null,null,null,null,null,null,null,null,null,null,null,null,null,null,null,"\"Y\"",null,null,null,null,null,"175-110-100300","DELUXE 2 HINGES 2040x620 LH WC","WC-2 hinges","Double Brick",null,null,null,null,null,"Double Brick","Brick Veneer"]
[null,null,null,null,null,null,null,null,{"$f":"_xlfn.XLOOKUP(1,(AH:AH=$C$37)*(AF:AF=D39)*(AG:AG=H39),(AE:AE),0)","v":0},null,"DB",{"$f":"_xlfn.XLOOKUP(I39,AE:AE,AI:AI,0)","v":0},{"$f":"IF(L39>0,C39,0)","v":0},null,null,null,null,null,null,null,null,null,null,null,null,"GARAGE/HOUSE SEAL REQUIRED",null,null,null,null,"175-110-100400","DELUXE 2 HINGES 2040x620 RH WC","WC-2 hinges","Double Brick",null,null,{"$f":"IF(Y39=\"Y\",C39,\"\")","v":""},{"$f":"SUM(AK39:AK41)","v":0},"RAVEN RP5 915mm","DELUXE 2 HINGES 2040x620 LH WC","DELUXE 2 HINGES 2040x620 LH WC"]
[null,null,null,null,null,null,null,null,{"$f":"_xlfn.XLOOKUP(1,(AH:AH=$C$37)*(AF:AF=D40)*(AG:AG=H40),(AE:AE),0)","v":0},null,null,{"$f":"_xlfn.XLOOKUP(I40,AE:AE,AI:AI,0)","v":0},{"$f":"IF(L40>0,C40,0)","v":0},null,null,null,null,null,null,null,null,null,null,null,null,"GARAGE/HOUSE SEAL REQUIRED",null,null,null,null,"175-110-100500","DELUXE 2 HINGES 2040x720 LH WC","WC-2 hinges","Double Brick",null,null,{"$f":"IF(Y40=\"Y\",C40,\"\")","v":""},{"$f":"SUM(AK39:AK41)","v":0},"COWDROY DOOR SEAL","DELUXE 2 HINGES 2040x620 RH WC","DELUXE 2 HINGES 2040x620 RH WC"]
[null,null,null,null,null,null,null,null,{"$f":"_xlfn.XLOOKUP(1,(AH:AH=$C$37)*(AF:AF=D41)*(AG:AG=H41),(AE:AE),0)","v":0},null,null,0,0,null,null,null,null,null,null,null,null,null,null,null,null,"GARAGE/HOUSE SEAL REQUIRED",null,null,null,null,"175-110-100600","DELUXE 2 HINGES 2040x720 RH WC","WC-2 hinges","Double Brick",null,null,{"$f":"IF(Y41=\"Y\",C41,\"\")","v":""},null,null,"DELUXE 2 HINGES 2040x720 LH WC","DELUXE 2 HINGES 2040x720 LH WC"]
[null,null,{"$f":"SUM(C39:C41)","v":0},null,null,null,null,null,null,null,null,0,null,null,null,null,null,null,null,null,null,null,null,null,null,null,null,null,null,null,null,null,"WC-2 hinges",null,null,null,null,null,null,"DELUXE 2 HINGES 2040x720 RH WC","DELUXE 2 HINGES 2040x720 RH WC"]
[null,null,{"$f":"SUM(C39:C41)","v":0},null,null,null,null,null,null,null,null,null,null,null,null,null,null,null,null,null,null,null,null,null,null,null,null,null,null,null,"175-110-100700","DELUXE 2 HINGES 2040x820 LH WC","WC-2 hinges","Double Brick",null,null,null,null,null,"DELUXE 2 HINGES 2040x820 LH WC","DELUXE 2 HINGES 2040x820 LH WC"]
[null,null,null,null,null,null,null,null,null,null,null,null,null,null,null,null,null,null,null,null,null,null,null,null,null,null,null,null,null,null,"175-110-100800","DELUXE 2 HINGES 2040x820 RH WC","WC-2 hinges","Double Brick",null,null,null,null,null,"DELUXE 2 HINGES 2040x820 RH WC","DELUXE 2 HINGES 2040x820 RH WC"]
[null,null,null,null,null,null,null,null,null,null,null,null,null,null,null,null,null,null,null,null,null,null,null,null,null,null,null,null,null,null,"175-110-100900","DELUXE 2 HINGES 2040x870 LH WC","WC-2 hinges","Double Brick",null,null,null,null,null,"DELUXE 2 HINGES 2040x870 LH WC","DELUXE 2 HINGES 2040x920 LH WC"]
[null,null,null,null,null,null,null,null,null,null,null,null,null,null,null,null,null,null,null,null,null,null,null,null,null,null,null,null,null,null,"175-110-100950","DELUXE 2 HINGES 2040x870 RH WC","WC-2 hinges","Double Brick",null,null,null,null,null,"DELUXE 2 HINGES 2040x870 RH WC","DELUXE 2 HINGES 2040x920 RH WC"]
[null,null,null,null,null,null,null,null,null,null,null,null,null,null,null,null,null,null,null,null,null,null,null,null,null,null,null,null,null,null,"175-110-200100","DELUXE 3 HINGES 2340x920 LH WC","WC-3 hinges","Double Brick",null,null,null,null,null,"DELUXE 3 HINGES 2340x920 LH WC","DELUXE 3 HINGES 2340x620 LH WC"]
[null,null,null,null,null,null,null,null,null,null,null,null,null,null,null,null,null,null,null,null,null,null,null,null,null,null,null,null,null,null,"175-110-200200","DELUXE 3 HINGES 2340x920 RH WC","WC-3 hinges","Double Brick",null,null,null,null,null,"DELUXE 3 HINGES 2340x920 RH WC","DELUXE 3 HINGES 2340x620 RH WC"]
[null,null,null,null,null,null,null,null,null,null,null,null,null,null,null,null,null,null,null,null,null,null,null,null,null,null,null,null,null,null,"175-110-200300","DELUXE 3 HINGES 2340x820 LH WC","WC-3 hinges","Double Brick",null,null,null,null,null,"DELUXE 3 HINGES 2340x820 LH WC","DELUXE 3 HINGES 2340x720 LH WC"]
[null,null,null,null,null,null,null,null,null,null,null,null,null,null,null,null,null,null,null,null,null,null,null,null,null,null,null,null,null,null,"175-110-200400","DELUXE 3 HINGES 2340x820 RH WC","WC-3 hinges","Double Brick",null,null,null,null,null,"DELUXE 3 HINGES 2340x820 RH WC","DELUXE 3 HINGES 2340x720 RH WC"]
[null,null,null,null,null,null,null,null,null,null,null,null,null,null,null,null,null,null,null,null,null,null,null,null,null,null,null,null,null,null,"175-110-200500","DELUXE 3 HINGES 2340x720 LH WC","WC-3 hinges","Double Brick",null,null,null,null,null,"DELUXE 3 HINGES 2340x720 LH WC","DELUXE 3 HINGES 2340x820 LH WC"]
[null,null,null,null,null,null,null,null,null,null,null,null,null,null,null,null,null,null,null,null,null,null,null,null,null,null,null,null,null,null,"175-110-200600","DELUXE 3 HINGES 2340x720 RH WC","WC-3 hinges","Double Brick",null,null,null,null,null,"DELUXE 3 HINGES 2340x720 RH WC","DELUXE 3 HINGES 2340x820 RH WC"]
[null,null,null,null,null,null,null,null,null,null,null,null,null,null,null,null,null,null,null,null,null,null,null,null,null,null,null,null,null,null,"175-110-200700","DELUXE 3 HINGES 2340x620 LH WC","WC-3 hinges","Double Brick",null,null,null,null,null,"DELUXE 3 HINGES 2340x620 LH WC","DELUXE 3 HINGES 2340x920 LH WC"]
[null,null,null,null,null,null,null,null,null,null,null,null,null,null,null,null,null,null,null,null,null,null,null,null,null,null,null,null,null,null,null,null,"Standard","Double Brick",null,null,null,null,null,"DELUXE 3 HINGES 2340x620 RH WC","DELUXE 3 HINGES 2340x920 RH WC"]
[null,null,null,null,null,null,null,null,null,null,null,null,null,null,null,null,null,null,null,null,null,null,null,null,null,null,null,null,null,null,"175-120-100700","DELUXE 3 HINGE 2040x820 LH","SHOPPER 90mm BACK OPENING","Double Brick","440-110-100100"]
[null,null,null,null,null,null,null,null,null,null,null,null,null,null,null,null,null,null,null,null,null,null,null,null,null,null,null,null,null,null,"175-120-100800","DELUXE 3 HINGE 2040x820 RH","SHOPPER 90mm BACK OPENING","Double Brick","440-110-100100",null,null,null,null,"Sliding Doors"]
[null,null,null,null,null,null,null,null,null,null,null,null,null,null,null,null,null,null,null,null,null,null,null,null,null,null,null,null,null,null,"175-120-101300","DELUXE 3 HINGE 2040x870 RH","SHOPPER 90mm BACK OPENING","Double Brick",null,null,null,null,null,"Double Brick","Brick Veneer"]
[null,null,null,null,null,null,null,null,null,null,null,null,null,null,null,null,null,null,null,null,null,null,null,null,null,null,null,null,null,null,"175-120-101400","DELUXE 3 HINGE 2040x870 LH","SHOPPER 90mm BACK OPENING","Double Brick",null,null,null,null,null,"DELUXE SLIDER 2040x620","DELUXE SLIDER 2040x620"]
[null,null,null,null,null,null,null,null,null,null,null,null,null,null,null,null,null,null,null,null,null,null,null,null,null,null,null,null,null,null,"175-120-101450","DELUXE 3 HINGE 2040x920 LH","SHOPPER 90mm BACK OPENING","Double Brick","440-100-100175",null,null,null,null,"DELUXE SLIDER 2040x720","DELUXE SLIDER 2040x720"]
[null,null,null,null,null,null,null,null,null,null,null,null,null,null,null,null,null,null,null,null,null,null,null,null,null,null,null,null,null,null,"175-120-101455","DELUXE 3 HINGE 2040x920 RH","SHOPPER 90mm BACK OPENING","Double Brick","440-100-100175",null,null,null,null,"DELUXE SLIDER 2040x820","DELUXE SLIDER 2040x820"]
[null,null,null,null,null,null,null,null,null,null,null,null,null,null,null,null,null,null,null,null,null,null,null,null,null,null,null,null,null,null,"175-120-300100","DELUXE 3 HINGE 2040x820 RH","SHOPPER 110mm BACK OPENING","Double Brick","440-110-100100",null,null,null,null,"DELUXE SLIDER 2040x870","DELUXE SLIDER 2040x870"]
[null,null,null,null,null,null,null,null,null,null,null,null,null,null,null,null,null,null,null,null,null,null,null,null,null,null,null,null,null,null,"175-120-300700","DELUXE 3 HINGE 2040x820 LH","SHOPPER 110mm BACK OPENING","Double Brick","440-110-100100",null,null,null,null,"DELUXE 2340x620 SLIDER","DELUXE SLIDER 2340x620"]
[null,null,null,null,null,null,null,null,null,null,null,null,null,null,null,null,null,null,null,null,null,null,null,null,null,null,null,null,null,null,"175-130-100800","DELUXE 3 HINGE 2340x920 RH","SHOPPER 90mm BACK OPENING","Double Brick","440-110-100225",null,null,null,null,"DELUXE 2340x720 SLIDER","DELUXE SLIDER 2340x720"]
[null,null,null,null,null,null,null,null,null,null,null,null,null,null,null,null,null,null,null,null,null,null,null,null,null,null,null,null,null,null,"175-130-100900","DELUXE 3 HINGE 2340x920 LH","SHOPPER 90mm BACK OPENING","Double Brick","440-110-100225",null,null,null,null,"DELUXE 2340x820 SLIDER","DELUXE SLIDER 2340x820"]
[null,null,null,null,null,null,null,null,null,null,null,null,null,null,null,null,null,null,null,null,null,null,null,null,null,null,null,null,null,null,"175-130-200800","DELUXE 3 HINGE 2340x920 RH","SHOPPER 110mm BACK OPENING","Double Brick","440-110-100225",null,null,null,null,"DELUXE SLIDER 2040x1240","DELUXE SLIDER 2340x870"]
[null,null,null,null,null,null,null,null,null,null,null,null,null,null,null,null,null,null,null,null,null,null,null,null,null,null,null,null,null,null,"175-130-200900","DELUXE 3 HINGE 2340x920 LH","SHOPPER 110mm BACK OPENING","Double Brick","440-110-100225",null,null,null,null,"DELUXE SLIDER 2040x1440"]
[null,null,null,null,null,null,null,null,null,null,null,null,null,null,null,null,null,null,null,null,null,null,null,null,null,null,null,null,null,null,"175-130-200910","DELUXE 3 HINGE 2340x820 RH","SHOPPER 90mm BACK OPENING","Double Brick","440-110-100200",null,null,null,null,"DELUXE SLIDER 2040x1640"]
[null,null,null,null,null,null,null,null,null,null,null,null,null,null,null,null,null,null,null,null,null,null,null,null,null,null,null,null,null,null,"175-130-200920","DELUXE 3 HINGE 2340x820 LH","SHOPPER 90mm BACK OPENING","Double Brick","440-110-100200"]
[null,null,null,null,null,null,null,null,null,null,null,null,null,null,null,null,null,null,null,null,null,null,null,null,null,null,null,null,null,null,null,null,"Square Bend",null,null,null,null,null,null,"Double Doors"]
[null,null,null,null,null,null,null,null,null,null,null,null,null,null,null,null,null,null,null,null,null,null,null,null,null,null,null,null,null,null,"175-140-100050","SQUARE BEND 3 HINGE","2040x720 LH SHOPPER","Double Brick","440-300-100100",null,null,null,null,"Double Brick","Brick Veneer"]
[null,null,null,null,null,null,null,null,null,null,null,null,null,null,null,null,null,null,null,null,null,null,null,null,null,null,null,null,null,null,"175-140-100100","SQUARE BEND 3 HINGE","2040x720 RH SHOPPER","Double Brick","440-300-100100",null,null,null,null,"DELUXE 2 HINGES 2040x1040","DELUXE 2 HINGES 2040x1040"]
[null,null,null,null,null,null,null,null,null,null,null,null,null,null,null,null,null,null,null,null,null,null,null,null,null,null,null,null,null,null,"175-140-100150","SQUARE BEND 3 HINGE","2040x820 LH SHOPPER","Double Brick","440-300-100200",null,null,null,null,"DELUXE 2 HINGES 2040x1240","DELUXE 2 HINGES 2040x1240"]
[null,null,null,null,null,null,null,null,null,null,null,null,null,null,null,null,null,null,null,null,null,null,null,null,null,null,null,null,null,null,"175-140-100200","SQUARE BEND 3 HINGE","2040x820 RH SHOPPER","Double Brick","440-300-100200",null,null,null,null,"DELUXE 2 HINGES 2040x1440","DELUXE 2 HINGES 2040x1440"]
[null,null,null,null,null,null,null,null,null,null,null,null,null,null,null,null,null,null,null,null,null,null,null,null,null,null,null,null,null,null,null,null,"BAL DOOR",null,null,null,null,null,null,"DELUXE 2 HINGES 2040x1640","DELUXE 2 HINGES 2040x1640"]
[null,null,null,null,null,null,null,null,null,null,null,null,null,null,null,null,null,null,null,null,null,null,null,null,null,null,null,null,null,null,"175-140-100250","SQUARE BEND 3 HINGE","2040x720x42 LH BAL DOOR","Double Brick",null,null,null,null,null,"DELUXE 3 HINGES 2340x1240","DELUXE 2 HINGES 2340x1240"]
[null,null,null,null,null,null,null,null,null,null,null,null,null,null,null,null,null,null,null,null,null,null,null,null,null,null,null,null,null,null,"175-140-100300","SQUARE BEND 3 HINGE","2040x720x42 RH BAL DOOR","Double Brick",null,null,null,null,null,"DELUXE 3 HINGES 2340x1640","DELUXE 2 HINGES 2340x1440"]
[null,null,null,null,null,null,null,null,null,null,null,null,null,null,null,null,null,null,null,null,null,null,null,null,null,null,null,null,null,null,"175-140-100350","SQUARE BEND 3 HINGE","2040x820x42 LH BAL DOOR","Double Brick",null,null,null,null,null,"DELUXE 3 HINGES 2340x1040","DELUXE 2 HINGES 2340x1640"]
[null,null,null,null,null,null,null,null,null,null,null,null,null,null,null,null,null,null,null,null,null,null,null,null,null,null,null,null,null,null,"175-140-100400","SQUARE BEND 3 HINGE","2040x820x42 RH BAL DOOR",null,null,null,null,null,null,"DELUXE 3 HINGES 2340x1440"]
[null,null,null,null,null,null,null,null,null,null,null,null,null,null,null,null,null,null,null,null,null,null,null,null,null,null,null,null,null,null,null,null,"BAL RATED DOOR","Double Brick"]
[null,null,null,null,null,null,null,null,null,null,null,null,null,null,null,null,null,null,null,null,null,null,null,null,null,null,null,null,null,null,"175-100-701100","DELUXE 3 HINGES 2040x820x42 RH","BAL DOOR","Double Brick"]
[null,null,null,null,null,null,null,null,null,null,null,null,null,null,null,null,null,null,null,null,null,null,null,null,null,null,null,null,null,null,"175-100-701200","DELUXE 3 HINGES 2040x820x42 LH","BAL DOOR"]
[]
[]
[]
[]
[]
[]
[null,null,null,null,null,null,null,null,null,null,null,null,null,null,null,null,null,null,null,null,null,null,null,null,null,null,null,null,null,null,null,null,null,"Double Brick"]
[null,null,null,null,null,null,null,null,null,null,null,null,null,null,null,null,null,null,null,null,null,null,null,null,null,null,null,null,null,null,"175-200-100200","DELUXE 2 HINGES 2040x1040","TO SUIT 2 x 520 DOORS","Double Brick"]
[null,null,null,null,null,null,null,null,null,null,null,null,null,null,null,null,null,null,null,null,null,null,null,null,null,null,null,null,null,null,"175-200-100400","DELUXE 2 HINGES 2040x1240","TO SUIT 2 x 620 DOORS","Double Brick"]
[null,null,null,null,null,null,null,null,null,null,null,null,null,null,null,null,null,null,null,null,null,null,null,null,null,null,null,null,null,null,"175-200-100600","DELUXE 2 HINGES 2040x1440","TO SUIT 2 x 720 DOORS","Double Brick"]
[null,null,null,null,null,null,null,null,null,null,null,null,null,null,null,null,null,null,null,null,null,null,null,null,null,null,null,null,null,null,"175-200-100800","DELUXE 2 HINGES 2040x1640","TO SUIT 2 x 820 DOORS","Double Brick"]
[null,null,null,null,null,null,null,null,null,null,null,null,null,null,null,null,null,null,null,null,null,null,null,null,null,null,null,null,null,null,"175-200-200400","DELUXE 3 HINGES 2340x1240","TO SUIT 2 x 620 DOORS","Double Brick"]
[null,null,null,null,null,null,null,null,null,null,null,null,null,null,null,null,null,null,null,null,null,null,null,null,null,null,null,null,null,null,"175-200-200800","DELUXE 3 HINGES 2340x1640","TO SUIT 2 x 820 DOORS","Double Brick"]
[null,null,null,null,null,null,null,null,null,null,null,null,null,null,null,null,null,null,null,null,null,null,null,null,null,null,null,null,null,null,"175-200-201300","DELUXE 3 HINGES 2340x1440","TO SUIT 2 x 720 DOORS","Double Brick"]
[null,null,null,null,null,null,null,null,null,null,null,null,null,null,null,null,null,null,null,null,null,null,null,null,null,null,null,null,null,null,"175-200-300100","DELUXE 2040x1240 SLIDER","TO SUIT 2 x 670 DOORS","Double Brick"]
[null,null,null,null,null,null,null,null,null,null,null,null,null,null,null,null,null,null,null,null,null,null,null,null,null,null,null,null,null,null,"175-200-300200","DELUXE 2040x1440 SLIDER","TO SUIT 2 x 770 DOORS","Double Brick"]
[null,null,null,null,null,null,null,null,null,null,null,null,null,null,null,null,null,null,null,null,null,null,null,null,null,null,null,null,null,null,"175-200-300300","DELUXE 2040x1640 SLIDER","TO SUIT 2 x 870 DOORS","Brick Veneer"]
[null,null,null,null,null,null,null,null,null,null,null,null,null,null,null,null,null,null,null,null,null,null,null,null,null,null,null,null,null,null,"175-460-100110","DELUXE FRAMED - 2040x620 LH",null,"Brick Veneer"]
[null,null,null,null,null,null,null,null,null,null,null,null,null,null,null,null,null,null,null,null,null,null,null,null,null,null,null,null,null,null,"175-460-100115","DELUXE FRAMED - 2040x620 RH",null,"Brick Veneer"]
[null,null,null,null,null,null,null,null,null,null,null,null,null,null,null,null,null,null,null,null,null,null,null,null,null,null,null,null,null,null,"175-460-100120","DELUXE FRAMED - 2040x720 LH",null,"Brick Veneer"]
[null,null,null,null,null,null,null,null,null,null,null,null,null,null,null,null,null,null,null,null,null,null,null,null,null,null,null,null,null,null,"175-460-100125","DELUXE FRAMED - 2040x720 RH",null,"Brick Veneer"]
[null,null,null,null,null,null,null,null,null,null,null,null,null,null,null,null,null,null,null,null,null,null,null,null,null,null,null,null,null,null,"175-460-100130","DELUXE FRAMED - 2040x820 LH",null,"Brick Veneer"]
[null,null,null,null,null,null,null,null,null,null,null,null,null,null,null,null,null,null,null,null,null,null,null,null,null,null,null,null,null,null,"175-460-100135","DELUXE FRAMED - 2040x820 RH",null,"Brick Veneer"]
[null,null,null,null,null,null,null,null,null,null,null,null,null,null,null,null,null,null,null,null,null,null,null,null,null,null,null,null,null,null,"175-460-100150","DELUXE FRAMED - 2040x920 LH",null,"Brick Veneer"]
[null,null,null,null,null,null,null,null,null,null,null,null,null,null,null,null,null,null,null,null,null,null,null,null,null,null,null,null,null,null,"175-460-100155","DELUXE FRAMED - 2040x920 RH",null,"Brick Veneer"]
[null,null,null,null,null,null,null,null,null,null,null,null,null,null,null,null,null,null,null,null,null,null,null,null,null,null,null,null,null,null,"175-460-100310","DELUXE FRAMED - 2340x620 LH",null,"Brick Veneer"]
[null,null,null,null,null,null,null,null,null,null,null,null,null,null,null,null,null,null,null,null,null,null,null,null,null,null,null,null,null,null,"175-460-100315","DELUXE FRAMED - 2340x620 RH",null,"Brick Veneer"]
[null,null,null,null,null,null,null,null,null,null,null,null,null,null,null,null,null,null,null,null,null,null,null,null,null,null,null,null,null,null,"175-460-100320","DELUXE FRAMED - 2340x720 LH",null,"Brick Veneer"]
[null,null,null,null,null,null,null,null,null,null,null,null,null,null,null,null,null,null,null,null,null,null,null,null,null,null,null,null,null,null,"175-460-100325","DELUXE FRAMED - 2340x720 RH",null,"Brick Veneer"]
[null,null,null,null,null,null,null,null,null,null,null,null,null,null,null,null,null,null,null,null,null,null,null,null,null,null,null,null,null,null,"175-460-100330","DELUXE FRAMED - 2340x820 LH",null,"Brick Veneer"]
[null,null,null,null,null,null,null,null,null,null,null,null,null,null,null,null,null,null,null,null,null,null,null,null,null,null,null,null,null,null,"175-460-100335","DELUXE FRAMED - 2340x820 RH",null,"Brick Veneer"]
[null,null,null,null,null,null,null,null,null,null,null,null,null,null,null,null,null,null,null,null,null,null,null,null,null,null,null,null,null,null,"175-460-100350","DELUXE FRAMED - 2340x920 LH",null,"Brick Veneer"]
[null,null,null,null,null,null,null,null,null,null,null,null,null,null,null,null,null,null,null,null,null,null,null,null,null,null,null,null,null,null,"175-460-100355","DELUXE FRAMED - 2340x920 RH",null,"Brick Veneer"]
[null,null,null,null,null,null,null,null,null,null,null,null,null,null,null,null,null,null,null,null,null,null,null,null,null,null,null,null,null,null,"175-460-100500","DELUXE FRAMED - 2040x620 LH","WC-2 hinges","Brick Veneer"]
[null,null,null,null,null,null,null,null,null,null,null,null,null,null,null,null,null,null,null,null,null,null,null,null,null,null,null,null,null,null,"175-460-100505","DELUXE FRAMED - 2040x620 RH","WC-2 hinges","Brick Veneer"]
[null,null,null,null,null,null,null,null,null,null,null,null,null,null,null,null,null,null,null,null,null,null,null,null,null,null,null,null,null,null,"175-460-100510","DELUXE FRAMED - 2040x720 LH","WC-2 hinges","Brick Veneer"]
[null,null,null,null,null,null,null,null,null,null,null,null,null,null,null,null,null,null,null,null,null,null,null,null,null,null,null,null,null,null,"175-460-100515","DELUXE FRAMED - 2040x720 RH","WC-2 hinges","Brick Veneer"]
[null,null,null,null,null,null,null,null,null,null,null,null,null,null,null,null,null,null,null,null,null,null,null,null,null,null,null,null,null,null,"175-460-100520","DELUXE FRAMED - 2040x820 LH","WC-2 hinges","Brick Veneer"]
[null,null,null,null,null,null,null,null,null,null,null,null,null,null,null,null,null,null,null,null,null,null,null,null,null,null,null,null,null,null,"175-460-100525","DELUXE FRAMED - 2040x820 RH","WC-2 hinges","Brick Veneer"]
[null,null,null,null,null,null,null,null,null,null,null,null,null,null,null,null,null,null,null,null,null,null,null,null,null,null,null,null,null,null,"175-460-100540","DELUXE FRAMED - 2040x920 LH","WC-2 hinges","Brick Veneer"]
[null,null,null,null,null,null,null,null,null,null,null,null,null,null,null,null,null,null,null,null,null,null,null,null,null,null,null,null,null,null,"175-460-100545","DELUXE FRAMED - 2040x920 RH","WC-2 hinges","Brick Veneer"]
[null,null,null,null,null,null,null,null,null,null,null,null,null,null,null,null,null,null,null,null,null,null,null,null,null,null,null,null,null,null,"175-460-100700","DELUXE FRAMED - 2340x620 LH","WC-3 hinges","Brick Veneer"]
[null,null,null,null,null,null,null,null,null,null,null,null,null,null,null,null,null,null,null,null,null,null,null,null,null,null,null,null,null,null,"175-460-100705","DELUXE FRAMED - 2340x620 RH","WC-3 hinges","Brick Veneer"]
[null,null,null,null,null,null,null,null,null,null,null,null,null,null,null,null,null,null,null,null,null,null,null,null,null,null,null,null,null,null,"175-460-100710","DELUXE FRAMED - 2340x720 LH","WC-3 hinges","Brick Veneer"]
[null,null,null,null,null,null,null,null,null,null,null,null,null,null,null,null,null,null,null,null,null,null,null,null,null,null,null,null,null,null,"175-460-100715","DELUXE FRAMED - 2340x720 RH","WC-3 hinges","Brick Veneer"]
[null,null,null,null,null,null,null,null,null,null,null,null,null,null,null,null,null,null,null,null,null,null,null,null,null,null,null,null,null,null,"175-460-100720","DELUXE FRAMED - 2340x820 LH","WC-3 hinges","Brick Veneer"]
[null,null,null,null,null,null,null,null,null,null,null,null,null,null,null,null,null,null,null,null,null,null,null,null,null,null,null,null,null,null,"175-460-100725","DELUXE FRAMED - 2340x820 RH","WC-3 hinges","Brick Veneer"]
[null,null,null,null,null,null,null,null,null,null,null,null,null,null,null,null,null,null,null,null,null,null,null,null,null,null,null,null,null,null,"175-460-100740","DELUXE FRAMED - 2340x920 LH","WC-3 hinges","Brick Veneer"]
[null,null,null,null,null,null,null,null,null,null,null,null,null,null,null,null,null,null,null,null,null,null,null,null,null,null,null,null,null,null,"175-460-100745","DELUXE FRAMED - 2340x920 RH","WC-3 hinges","Brick Veneer"]
[null,null,null,null,null,null,null,null,null,null,null,null,null,null,null,null,null,null,null,null,null,null,null,null,null,null,null,null,null,null,"175-460-100900","DELUXE FRAMED - 2040x820 LH","Shopper 3 hinges","Brick Veneer"]
[null,null,null,null,null,null,null,null,null,null,null,null,null,null,null,null,null,null,null,null,null,null,null,null,null,null,null,null,null,null,"175-460-100905","DELUXE FRAMED - 2040x820 RH","Shopper 3 hinges","Brick Veneer"]
[null,null,null,null,null,null,null,null,null,null,null,null,null,null,null,null,null,null,null,null,null,null,null,null,null,null,null,null,null,null,"175-460-100925","DELUXE FRAMED - 2040x920 RH","Shopper 4 hinges","Brick Veneer"]
[null,null,null,null,null,null,null,null,null,null,null,null,null,null,null,null,null,null,null,null,null,null,null,null,null,null,null,null,null,null,"175-460-101100","DELUXE FRAMED - 2340x820 LH","Shopper 3 hinges","Brick Veneer"]
[null,null,null,null,null,null,null,null,null,null,null,null,null,null,null,null,null,null,null,null,null,null,null,null,null,null,null,null,null,null,"175-460-101105","DELUXE FRAMED - 2340x820 RH","Shopper 3 hinges","Brick Veneer"]
[null,null,null,null,null,null,null,null,null,null,null,null,null,null,null,null,null,null,null,null,null,null,null,null,null,null,null,null,null,null,"175-460-101300","DELUXE 2 HINGES 2040x1040","2 doors","Brick Veneer"]
[null,null,null,null,null,null,null,null,null,null,null,null,null,null,null,null,null,null,null,null,null,null,null,null,null,null,null,null,null,null,"175-460-101305","DELUXE 2 HINGES 2040x1240","2 doors","Brick Veneer"]
[null,null,null,null,null,null,null,null,null,null,null,null,null,null,null,null,null,null,null,null,null,null,null,null,null,null,null,null,null,null,"175-460-101310","DELUXE 2 HINGES 2040x1440","2 doors","Brick Veneer"]
[null,null,null,null,null,null,null,null,null,null,null,null,null,null,null,null,null,null,null,null,null,null,null,null,null,null,null,null,null,null,"175-460-101315","DELUXE 2 HINGES 2040x1640","2 doors","Brick Veneer"]
[null,null,null,null,null,null,null,null,null,null,null,null,null,null,null,null,null,null,null,null,null,null,null,null,null,null,null,null,null,null,"175-460-101500","DELUXE 2 HINGES 2340x1240","2 doors","Brick Veneer"]
[null,null,null,null,null,null,null,null,null,null,null,null,null,null,null,null,null,null,null,null,null,null,null,null,null,null,null,null,null,null,"175-460-101505","DELUXE 2 HINGES 2340x1440","2 doors","Brick Veneer"]
[null,null,null,null,null,null,null,null,null,null,null,null,null,null,null,null,null,null,null,null,null,null,null,null,null,null,null,null,null,null,"175-460-101510","DELUXE 2 HINGES 2340x1640","2 doors","Brick Veneer"]
[null,null,null,null,null,null,null,null,null,null,null,null,null,null,null,null,null,null,null,null,null,null,null,null,null,null,null,null,null,null,"175-460-101700","DELUXE FRAMED 2040x620 SLIDER",null,"Brick Veneer"]
[null,null,null,null,null,null,null,null,null,null,null,null,null,null,null,null,null,null,null,null,null,null,null,null,null,null,null,null,null,null,"175-460-101705","DELUXE FRAMED 2040x720 SLIDER",null,"Brick Veneer"]
[null,null,null,null,null,null,null,null,null,null,null,null,null,null,null,null,null,null,null,null,null,null,null,null,null,null,null,null,null,null,"175-460-101710","DELUXE FRAMED 2040x820 SLIDER",null,"Brick Veneer"]
[null,null,null,null,null,null,null,null,null,null,null,null,null,null,null,null,null,null,null,null,null,null,null,null,null,null,null,null,null,null,"175-460-101715","DELUXE FRAMED 2040x870 SLIDER",null,"Brick Veneer"]
[null,null,null,null,null,null,null,null,null,null,null,null,null,null,null,null,null,null,null,null,null,null,null,null,null,null,null,null,null,null,"175-460-101900","DELUXE FRAMED 2340x620 SLIDER",null,"Brick Veneer"]
[null,null,null,null,null,null,null,null,null,null,null,null,null,null,null,null,null,null,null,null,null,null,null,null,null,null,null,null,null,null,"175-460-101905","DELUXE FRAMED 2340x720 SLIDER",null,"Brick Veneer"]
[null,null,null,null,null,null,null,null,null,null,null,null,null,null,null,null,null,null,null,null,null,null,null,null,null,null,null,null,null,null,"175-460-101910","DELUXE FRAMED 2340x820 SLIDER",null,"Brick Veneer"]
[null,null,null,null,null,null,null,null,null,null,null,null,null,null,null,null,null,null,null,null,null,null,null,null,null,null,null,null,null,null,"175-460-101915","DELUXE FRAMED 2340x870 SLIDER"]

{"sheet":"Lintels.windows ","index":17,"n_rows":128,"n_cols":48,"rows_kept":128,"cut":false,"hidden":false,"merged":[[53,19,53,23],[43,6,43,8],[47,12,47,13],[44,30,44,31],[44,14,44,19],[44,23,44,29],[45,23,45,29],[46,23,46,29],[47,23,47,29],[46,6,46,10],[46,12,46,13],[52,2,52,3],[52,19,52,23],[3,37,4,38],[5,3,7,3],[5,4,7,4],[5,6,7,8],[5,9,7,9],[5,10,7,10],[5,13,7,13],[5,29,7,29],[5,35,7,35],[6,30,7,30],[6,32,7,32],[42,1,42,7],[5,11,7,11],[42,17,42,21],[42,25,42,33],[3,6,4,15],[45,14,45,19],[46,14,46,19],[47,14,47,19],[43,30,43,32],[47,34,47,36],[6,47,6,50],[43,34,43,38],[45,34,45,36],[44,34,44,36],[46,34,46,36]]}
[]
[null,{"$f":"'Main Details'!B2","v":"QUANTITY SHEET FOR EASY START HOMES"},null,null,null,null,null,null,null,null,null,null,null,null,null,null,null,null,null,null,null,null,null,null,null,null,null,null,null,null,null,null,null,null,null,null,null,null,"PG 4"]
[null,{"$f":"'Main Details'!D6","v":0}]
[null,null,null,null,null,null,"LINTEL TAKEOFF",null,null,null,null,null,null,null,null,null,null,"GALVANISED:",null,null,null,{"$f":"_xlfn.IFNA(VLOOKUP('Main Details'!D33,Lists!Y6:AA9,2,FALSE),\"\")","v":600},null,"mg/m2",null,null,null,null,null,null,null,null,null,null,"GALVANISED:",null,{"$f":"_xlfn.IFNA(VLOOKUP('Main Details'!D33,Lists!Y6:AA9,2,FALSE),\"\")","v":600},"T-BARS (Incl. Lugs)"]
[null,null,null,null,null,null,null,null,null,null,null,null,null,null,null,null,null,"GENERALLY INTERNAL LINTELS:",null,null,null,null,null,null,null,null,null,null,null,null,null,null,null,null,"GENERALLY EXTERNAL"]
[null,null,null,"ext ddt only","Window Nosing?    Yes = \"Y\" ","deduction","WINDOW OR DOOR SIZE",null,null,"Bricks","Width","M2 openings",null,"External Lintel?      Yes = \"Y\"",null,{"$f":"IF('Main Details'!$G$28,\"0.1>1.6\",\"0.1>1.2\")","v":"0.1>1.6"},null,{"$f":"IF('Main Details'!$G$28,\"1.6>1.9\",\"1.2>1.5\")","v":"1.6>1.9"},null,{"$f":"IF('Main Details'!$G$28,\"1.9>2.6\",\"1.5>2.2\")","v":"1.9>2.6"},null,{"$f":"IF('Main Details'!$G$28,\"2.6>3.1\",\"2.2>2.6\")","v":"2.6>3.1"},null,{"$f":"IF('Main Details'!$G$28,\"3.1>3.45\",\"2.6>3.0\")","v":"3.1>3.45"},null,{"$f":"IF('Main Details'!$G$28,\"3.45>3.85\",\"3.0>3.45\")","v":"3.45>3.85"},null,{"$f":"IF('Main Details'!$G$28,\"N/A\",\"N/A\")","v":"N/A"},null,"LUGS- LINTELS & TBARS",{"$f":"IF('Main Details'!$G$28,\"0.1>2.4\",\"0.1>2.1\")","v":"0.1>2.4"},{"$f":"IF('Main Details'!$F$10=\"2C\",IF('Main Details'!$G$28,\"2.35>2.65\",\"2.05>2.25\"),IF('Main Details'!$G$28,\"2.4>2.65\",\"2.1>2.25\"))","v":"2.35>2.65"},{"$f":"IF('Main Details'!$F$10=\"2C\",IF('Main Details'!$G$28,\"2.65>3.45\",\"2.25>3.0\"),\"N/A\")","v":"2.65>3.45"},{"$f":"IF('Main Details'!$F$10=\"2C\",IF('Main Details'!$G$28,\"3.45>3.85\",\"3.0>3.45\"),IF('Main Details'!$G$28,\"2.65>3.85\",\"2.25>3.45\"))","v":"3.45>3.85"},{"$f":"IF('Main Details'!$G$28,\"N/A\",\"N/A\")","v":"N/A"},"TBAR SIZE (to be nominated)","4.0>"]
[null,"LOCATION        ","ddt ext only",null,null,"window",null,null,null,null,null,null,null,null,"75x8 ","75x75",null,"75x75",null,"100x75",null,"125x75",null,"150x90",null,"150x100",null,"N/A",null,null,{"$f":"IF('Main Details'!$F$10=\"2c\",\"90x90 x8\",\"100x100 x6\")","v":"90x90 x8"},"100x100",{"$f":"IF('Main Details'!$F$10=\"2c\",\"150x90 x8\",\"N/A\")","v":"150x90 x8"},"150x100","N/A",null,"TBARS",null,null,null,null,null,null,null,null,null,null,"       PRE-WELDED LUGS FORMULAS"]
[null,null,null,null,null,"cont 1",null,null,null,null,null,null,null,null,"FB","x6",null,"x8",null,"x8",null,"x8",null,"x8",null,"x10",null,null,null,null,null,"x8",null,"x10",null,null,null,null,null,null,null,null,null,null,"RODS UNDER ","Ext Deduction"]
[{"$f":"IF(#REF!>0,I9+#REF!)","v":{"$error":"#REF!"}},null,{"$f":"IF(D9=\"Y\",G9*I9,0)","v":0},"N",null,{"$f":"IF(AND(#REF!>0,G9>0),(#REF!*0.086)*(K9/1000),\" \")","v":{"$error":"#REF!"}},null,"x",{"$f":"(IF(K9=\"\",\" \",(K9-10)/240))","v":" "},{"$f":"IF(G9>0,G9*I9,\" \")","v":" "},null,{"$f":"IF(G9>0,(K9+160)/1000,\" \")","v":" "},null,null,null,{"$f":"IF('[7]Main Details'!$G$28,IF(AND($K9>0,$K9<=1600),($K9/1000)+0.2,\"\"),IF(AND($K9>0,$K9<=1200),($K9/1000)+0.2,\"\"))","v":{"$error":"#REF!"}},null,{"$f":"IF('[7]Main Details'!$G$28,IF(AND($K9>1600,$K9<=1900),($K9/1000)+0.2,\"\"),IF(AND($K9>1200,$K9<=1500),($K9/1000)+0.2,\"\"))","v":{"$error":"#REF!"}},null,{"$f":"IF('[7]Main Details'!$G$28,IF(AND($K9>1900,$K9<=2600),($K9/1000)+0.27,\"\"),IF(AND($K9>1500,$K9<=2200),($K9/1000)+0.27,\"\"))","v":{"$error":"#REF!"}},null,{"$f":"IF('[7]Main Details'!$G$28,IF(AND($K9>2600,$K9<=3100),($K9/1000)+0.3,\"\"),IF(AND($K9>2200,$K9<=2600),($K9/1000)+0.3,\"\"))","v":{"$error":"#REF!"}},null,{"$f":"IF('[7]Main Details'!$G$28,IF(AND($K9>3100,$K9<=3450),($K9/1000)+0.3,\"\"),IF(AND($K9>2600,$K9<=3000),($K9/1000)+0.3,\"\"))","v":{"$error":"#REF!"}},null,{"$f":"IF('[7]Main Details'!$G$28,IF(AND($K9>3450,$K9<=3850),($K9/1000)+0.3,\"\"),IF(AND($K9>3000,$K9<=3450),($K9/1000)+0.3,\"\"))","v":{"$error":"#REF!"}},null,null,null,{"$f":"IF(AM9>=1200,AO9+AP9+AQ9+AR9,\" \")","v":" "},{"$f":"IF($N9=\"Y\",IF('[7]Main Details'!$G$28,\nIF('[7]Main Details'!$F$10=\"2c\",IF(AND($K9>0,$K9<=2350),($K9/1000)+0.24,\"\"),IF(AND($K9>0,$K9<=2400),($K9/1000)+0.27,\"\")),\nIF('[7]Main Details'!$F$10=\"2c\",IF(AND($K9>0,$K9<=2050),($K9/1000)+0.24,\"\"),IF(AND($K9>0,$K9<=2100),($K9/1000)+0.27,\"\"))\n),\"\")","v":""},{"$f":"IF($N9=\"Y\",IF('[7]Main Details'!$G$28,\nIF('[7]Main Details'!$F$10=\"2c\",IF(AND($K9>2350,$K9<=2650),($K9/1000)+0.3,\"\"),IF(AND($K9>2400,$K9<=2650),($K9/1000)+0.3,\"\")),\nIF('[7]Main Details'!$F$10=\"2c\",IF(AND($K9>2050,$K9<=2250),($K9/1000)+0.3,\"\"),IF(AND($K9>2100,$K9<=2250),($K9/1000)+0.3,\"\"))\n),\"\")","v":""},{"$f":"IF($N9=\"Y\",IF('[7]Main Details'!$G$28,\nIF('[7]Main Details'!$F$10=\"2c\",IF(AND($K9>2650,$K9<=3450),($K9/1000)+0.3,\"\"),\"\"),\nIF('[7]Main Details'!$F$10=\"2c\",IF(AND($K9>2250,$K9<=3000),($K9/1000)+0.3,\"\"),\"\")\n),\"\")","v":""},{"$f":"IF($N9=\"Y\",IF('[7]Main Details'!$G$28,\nIF('[7]Main Details'!$F$10=\"2c\",IF(AND($K9>3450,$K9<=3850),($K9/1000)+0.3,\"\"),IF(AND($K9>2650,$K9<=3850),($K9/1000)+0.3,\"\")),\nIF('[7]Main Details'!$F$10=\"2c\",IF(AND($K9>3000,$K9<=3450),($K9/1000)+0.3,\"\"),IF(AND($K9>2250,$K9<=3450),($K9/1000)+0.3,\"\"))\n),\"\")","v":""},{"$f":"IF(AND($K9<=4000,$K9>=3401,N9=\"Y\"),($K9+'[7]BUILDERS SETTINGS'!$C$14)/1000,\" \")","v":" "},null,{"$f":"IF(AND($K9<=7199,$K9>=4001),($K9+'[7]BUILDERS SETTINGS'!$C$15)/1000,\" \")","v":" "},null,{"$f":"K9+200","v":200},null,{"$f":"IF(AND($AM9<=1999,$AM9>=1000),1,\"0\")","v":"0"},{"$f":"IF(AND($AM9<=2999,$AM9>=2000),2,\"0\")","v":"0"},{"$f":"IF(AND($AM9<=3999,$AM9>=3000),3,\"0\")","v":"0"},{"$f":"IF(AND($AM9<=4999,$AM9>=4000),4,\"0\")","v":"0"}]
[{"$f":"IF(#REF!>0,I10+#REF!)","v":{"$error":"#REF!"}},{"$f":"'Summary Sheet'!B69","v":"BATH 2"},{"$f":"IF(D10=\"Y\",G10*I10,0)","v":0},"N",null,{"$f":"IF(AND(#REF!>0,G10>0),(#REF!*0.086)*(K10/1000),\" \")","v":{"$error":"#REF!"}},{"$f":"'Summary Sheet'!G69","v":0.51400000000000001},"x",{"$f":"(IF(K10=\"\",\" \",(K10-10)/240))","v":5.416666666666667},{"$f":"IF(G10>0,G10*I10,\" \")","v":2.7841666666666667},{"$f":"'Summary Sheet'!C69","v":1310},{"$f":"G10*K10/1000","v":0.67334000000000005},{"$f":"IF(G10>0,1,0)","v":1},null,null,{"$f":"IF('Main Details'!$G$28,IF(AND($K10>0,$K10<=1600,$B10<>\"GOB\"),($K10/1000)+0.2,\"\"),IF(AND($K10>0,$K10<=1200),($K10/1000)+0.2,\"\"))","v":1.51},{"$f":"IF(P10>1.2,P10,0)","v":1.51},{"$f":"IF('Main Details'!$G$28,IF(AND($K10>1600,$K10<=1900),($K10/1000)+0.2,\"\"),IF(AND($K10>1200,$K10<=1500),($K10/1000)+0.2,\"\"))","v":""},{"$f":"IF(R10>1.2,R10,0)","v":""},{"$f":"IF('Main Details'!$G$28,IF(AND($K10>1900,$K10<=2600),($K10/1000)+0.27,\"\"),IF(AND($K10>1500,$K10<=2200),($K10/1000)+0.27,\"\"))","v":""},{"$f":"IF(T10>1.2,T10,0)","v":""},{"$f":"IF('Main Details'!$G$28,IF(AND($K10>2600,$K10<=3100),($K10/1000)+0.3,\"\"),IF(AND($K10>2200,$K10<=2600),($K10/1000)+0.3,\"\"))","v":""},{"$f":"IF(V10>1.2,V10,0)","v":""},{"$f":"IF('Main Details'!$G$28,IF(AND($K10>3100,$K10<=3450),($K10/1000)+0.3,\"\"),IF(AND($K10>2600,$K10<=3000),($K10/1000)+0.3,\"\"))","v":""},{"$f":"IF(X10>1.2,X10,0)","v":""},{"$f":"IF('Main Details'!$G$28,IF(AND($K10>3450,$K10<=3850),($K10/1000)+0.3,\"\"),IF(AND($K10>3000,$K10<=3450),($K10/1000)+0.3,\"\"))","v":""},{"$f":"IF(Z10>1.2,Z10,0)","v":""},null,{"$f":"IF(AB10>1.2,AB10,0)","v":0},{"$f":"IF(AV10>=1200,AO10+AP10+AQ10+AR10,\" \")","v":1},{"$f":"IF(OR($N10=\"Y\",$B10=\"GOB\"),IF('Main Details'!$G$28,\nIF('Main Details'!$F$10=\"2c\",IF(AND($K10>0,$K10<=2350),($K10/1000)+0.24,\"\"),IF(AND($K10>0,$K10<=2400),($K10/1000)+0.27,\"\")),\nIF('Main Details'!$F$10=\"2c\",IF(AND($K10>0,$K10<=2050),($K10/1000)+0.24,\"\"),IF(AND($K10>0,$K10<=2100),($K10/1000)+0.27,\"\"))\n),\"\")","v":""},{"$f":"IF($N10=\"Y\",IF('Main Details'!$G$28,\nIF('Main Details'!$F$10=\"2c\",IF(AND($K10>2350,$K10<=2650),($K10/1000)+0.3,\"\"),IF(AND($K10>2400,$K10<=2650),($K10/1000)+0.3,\"\")),\nIF('Main Details'!$F$10=\"2c\",IF(AND($K10>2050,$K10<=2250),($K10/1000)+0.3,\"\"),IF(AND($K10>2100,$K10<=2250),($K10/1000)+0.3,\"\"))\n),\"\")","v":""},{"$f":"IF($N10=\"Y\",IF('Main Details'!$G$28,\nIF('Main Details'!$F$10=\"2c\",IF(AND($K10>2650,$K10<=3450),($K10/1000)+0.3,\"\"),\"\"),\nIF('Main Details'!$F$10=\"2c\",IF(AND($K10>2250,$K10<=3000),($K10/1000)+0.3,\"\"),\"\")\n),\"\")","v":""},{"$f":"IF($N10=\"Y\",IF('Main Details'!$G$28,\nIF('Main Details'!$F$10=\"2c\",IF(AND($K10>3450,$K10<=3850),($K10/1000)+0.3,\"\"),IF(AND($K10>2650,$K10<=3850),($K10/1000)+0.3,\"\")),\nIF('Main Details'!$F$10=\"2c\",IF(AND($K10>3000,$K10<=3450),($K10/1000)+0.3,\"\"),IF(AND($K10>2250,$K10<=3450),($K10/1000)+0.3,\"\"))\n),\"\")","v":""},null,null,{"$f":"IF(AND($K10<=7199,$K10>=4001),($K10+'BUILDERS SETTINGS'!$C$15)/1000,\" \")","v":" "},null,null,{"$f":"IF(N10=\"Y\",K10,0)","v":0},{"$f":"IF(AND($AV10<=1999,$AV10>=1000),1,\"0\")","v":1},{"$f":"IF(AND($AV10<=2999,$AV10>=2000),2,\"0\")","v":"0"},{"$f":"IF(AND($AV10<=3999,$AV10>=3000),3,\"0\")","v":"0"},{"$f":"IF(AND($AV10<=4999,$AV10>=4000),4,\"0\")","v":"0"},{"$f":"IF(AND(G10>0,G10<25),K10/1000+1.5,0)","v":2.81},{"$f":"IF(AND(G10>0,N10=FALSE),K10/1000,0)","v":1.31},null,{"$f":"K10+200","v":1510}]
[{"$f":"IF(#REF!>0,I11+#REF!)","v":{"$error":"#REF!"}},{"$f":"'Summary Sheet'!B70","v":"BED 2"},{"$f":"IF(D11=\"Y\",G11*I11,0)","v":0},"N",null,{"$f":"IF(AND(#REF!>0,G11>0),(#REF!*0.086)*(K11/1000),\" \")","v":{"$error":"#REF!"}},{"$f":"'Summary Sheet'!G70","v":2.3140000000000001},"x",{"$f":"(IF(K11=\"\",\" \",(K11-10)/240))","v":7.083333333333333},{"$f":"IF(G11>0,G11*I11,\" \")","v":16.390833333333333},{"$f":"'Summary Sheet'!C70","v":1710},{"$f":"G11*K11/1000","v":3.9569399999999999},{"$f":"IF(G11>0,1,0)","v":1},null,null,{"$f":"IF('Main Details'!$G$28,IF(AND($K11>0,$K11<=1600,$B11<>\"GOB\"),($K11/1000)+0.2,\"\"),IF(AND($K11>0,$K11<=1200),($K11/1000)+0.2,\"\"))","v":""},{"$f":"IF(P11>1.2,P11,0)","v":""},{"$f":"IF('Main Details'!$G$28,IF(AND($K11>1600,$K11<=1900),($K11/1000)+0.2,\"\"),IF(AND($K11>1200,$K11<=1500),($K11/1000)+0.2,\"\"))","v":1.91},{"$f":"IF(R11>1.2,R11,0)","v":1.91},{"$f":"IF('Main Details'!$G$28,IF(AND($K11>1900,$K11<=2600),($K11/1000)+0.27,\"\"),IF(AND($K11>1500,$K11<=2200),($K11/1000)+0.27,\"\"))","v":""},{"$f":"IF(T11>1.2,T11,0)","v":""},{"$f":"IF('Main Details'!$G$28,IF(AND($K11>2600,$K11<=3100),($K11/1000)+0.3,\"\"),IF(AND($K11>2200,$K11<=2600),($K11/1000)+0.3,\"\"))","v":""},{"$f":"IF(V11>1.2,V11,0)","v":""},{"$f":"IF('Main Details'!$G$28,IF(AND($K11>3100,$K11<=3450),($K11/1000)+0.3,\"\"),IF(AND($K11>2600,$K11<=3000),($K11/1000)+0.3,\"\"))","v":""},{"$f":"IF(X11>1.2,X11,0)","v":""},{"$f":"IF('Main Details'!$G$28,IF(AND($K11>3450,$K11<=3850),($K11/1000)+0.3,\"\"),IF(AND($K11>3000,$K11<=3450),($K11/1000)+0.3,\"\"))","v":""},{"$f":"IF(Z11>1.2,Z11,0)","v":""},null,{"$f":"IF(AB11>1.2,AB11,0)","v":0},1,{"$f":"IF(OR($N11=\"Y\",$B11=\"GOB\"),IF('Main Details'!$G$28,\nIF('Main Details'!$F$10=\"2c\",IF(AND($K11>0,$K11<=2350),($K11/1000)+0.24,\"\"),IF(AND($K11>0,$K11<=2400),($K11/1000)+0.27,\"\")),\nIF('Main Details'!$F$10=\"2c\",IF(AND($K11>0,$K11<=2050),($K11/1000)+0.24,\"\"),IF(AND($K11>0,$K11<=2100),($K11/1000)+0.27,\"\"))\n),\"\")","v":""},{"$f":"IF($N11=\"Y\",IF('Main Details'!$G$28,\nIF('Main Details'!$F$10=\"2c\",IF(AND($K11>2350,$K11<=2650),($K11/1000)+0.3,\"\"),IF(AND($K11>2400,$K11<=2650),($K11/1000)+0.3,\"\")),\nIF('Main Details'!$F$10=\"2c\",IF(AND($K11>2050,$K11<=2250),($K11/1000)+0.3,\"\"),IF(AND($K11>2100,$K11<=2250),($K11/1000)+0.3,\"\"))\n),\"\")","v":""},{"$f":"IF($N11=\"Y\",IF('Main Details'!$G$28,\nIF('Main Details'!$F$10=\"2c\",IF(AND($K11>2650,$K11<=3450),($K11/1000)+0.3,\"\"),\"\"),\nIF('Main Details'!$F$10=\"2c\",IF(AND($K11>2250,$K11<=3000),($K11/1000)+0.3,\"\"),\"\")\n),\"\")","v":""},{"$f":"IF($N11=\"Y\",IF('Main Details'!$G$28,\nIF('Main Details'!$F$10=\"2c\",IF(AND($K11>3450,$K11<=3850),($K11/1000)+0.3,\"\"),IF(AND($K11>2650,$K11<=3850),($K11/1000)+0.3,\"\")),\nIF('Main Details'!$F$10=\"2c\",IF(AND($K11>3000,$K11<=3450),($K11/1000)+0.3,\"\"),IF(AND($K11>2250,$K11<=3450),($K11/1000)+0.3,\"\"))\n),\"\")","v":""},null,null,{"$f":"IF(AND($K11<=7199,$K11>=4001),($K11+'BUILDERS SETTINGS'!$C$15)/1000,\" \")","v":" "},null,null,{"$f":"IF(N11=\"Y\",K11,0)","v":0},1,"0","0","0",3.21,1.71,null,1910]
[{"$f":"IF(#REF!>0,I12+#REF!)","v":{"$error":"#REF!"}},{"$f":"'Summary Sheet'!B71","v":"BED 3"},{"$f":"IF(D12=\"Y\",G12*I12,0)","v":0},"N",null,{"$f":"IF(AND(#REF!>0,G12>0),(#REF!*0.086)*(K12/1000),\" \")","v":{"$error":"#REF!"}},{"$f":"'Summary Sheet'!G71","v":2.3140000000000001},"x",{"$f":"(IF(K12=\"\",\" \",(K12-10)/240))","v":7.083333333333333},{"$f":"IF(G12>0,G12*I12,\" \")","v":16.390833333333333},{"$f":"'Summary Sheet'!C71","v":1710},3.9569399999999999,1,null,null,{"$f":"IF('Main Details'!$G$28,IF(AND($K12>0,$K12<=1600,$B12<>\"GOB\"),($K12/1000)+0.2,\"\"),IF(AND($K12>0,$K12<=1200),($K12/1000)+0.2,\"\"))","v":""},"",{"$f":"IF('Main Details'!$G$28,IF(AND($K12>1600,$K12<=1900),($K12/1000)+0.2,\"\"),IF(AND($K12>1200,$K12<=1500),($K12/1000)+0.2,\"\"))","v":1.91},1.91,{"$f":"IF('Main Details'!$G$28,IF(AND($K12>1900,$K12<=2600),($K12/1000)+0.27,\"\"),IF(AND($K12>1500,$K12<=2200),($K12/1000)+0.27,\"\"))","v":""},"",{"$f":"IF('Main Details'!$G$28,IF(AND($K12>2600,$K12<=3100),($K12/1000)+0.3,\"\"),IF(AND($K12>2200,$K12<=2600),($K12/1000)+0.3,\"\"))","v":""},"",{"$f":"IF('Main Details'!$G$28,IF(AND($K12>3100,$K12<=3450),($K12/1000)+0.3,\"\"),IF(AND($K12>2600,$K12<=3000),($K12/1000)+0.3,\"\"))","v":""},"",{"$f":"IF('Main Details'!$G$28,IF(AND($K12>3450,$K12<=3850),($K12/1000)+0.3,\"\"),IF(AND($K12>3000,$K12<=3450),($K12/1000)+0.3,\"\"))","v":""},"",null,0,1,{"$f":"IF(OR($N12=\"Y\",$B12=\"GOB\"),IF('Main Details'!$G$28,\nIF('Main Details'!$F$10=\"2c\",IF(AND($K12>0,$K12<=2350),($K12/1000)+0.24,\"\"),IF(AND($K12>0,$K12<=2400),($K12/1000)+0.27,\"\")),\nIF('Main Details'!$F$10=\"2c\",IF(AND($K12>0,$K12<=2050),($K12/1000)+0.24,\"\"),IF(AND($K12>0,$K12<=2100),($K12/1000)+0.27,\"\"))\n),\"\")","v":""},{"$f":"IF($N12=\"Y\",IF('Main Details'!$G$28,\nIF('Main Details'!$F$10=\"2c\",IF(AND($K12>2350,$K12<=2650),($K12/1000)+0.3,\"\"),IF(AND($K12>2400,$K12<=2650),($K12/1000)+0.3,\"\")),\nIF('Main Details'!$F$10=\"2c\",IF(AND($K12>2050,$K12<=2250),($K12/1000)+0.3,\"\"),IF(AND($K12>2100,$K12<=2250),($K12/1000)+0.3,\"\"))\n),\"\")","v":""},{"$f":"IF($N12=\"Y\",IF('Main Details'!$G$28,\nIF('Main Details'!$F$10=\"2c\",IF(AND($K12>2650,$K12<=3450),($K12/1000)+0.3,\"\"),\"\"),\nIF('Main Details'!$F$10=\"2c\",IF(AND($K12>2250,$K12<=3000),($K12/1000)+0.3,\"\"),\"\")\n),\"\")","v":""},{"$f":"IF($N12=\"Y\",IF('Main Details'!$G$28,\nIF('Main Details'!$F$10=\"2c\",IF(AND($K12>3450,$K12<=3850),($K12/1000)+0.3,\"\"),IF(AND($K12>2650,$K12<=3850),($K12/1000)+0.3,\"\")),\nIF('Main Details'!$F$10=\"2c\",IF(AND($K12>3000,$K12<=3450),($K12/1000)+0.3,\"\"),IF(AND($K12>2250,$K12<=3450),($K12/1000)+0.3,\"\"))\n),\"\")","v":""},null,null,{"$f":"IF(AND($K12<=7199,$K12>=4001),($K12+'BUILDERS SETTINGS'!$C$15)/1000,\" \")","v":" "},null,null,0,1,"0","0","0",3.21,1.71,null,1910]
[{"$f":"IF(#REF!>0,I13+#REF!)","v":{"$error":"#REF!"}},{"$f":"'Summary Sheet'!B72","v":"BED 4"},{"$f":"IF(D13=\"Y\",G13*I13,0)","v":0},"N",null,{"$f":"IF(AND(#REF!>0,G13>0),(#REF!*0.086)*(K13/1000),\" \")","v":{"$error":"#REF!"}},{"$f":"'Summary Sheet'!G72","v":2.3140000000000001},"x",11.5,26.611000000000001,{"$f":"'Summary Sheet'!C72","v":2770},6.4097799999999996,1,null,null,{"$f":"IF('Main Details'!$G$28,IF(AND($K13>0,$K13<=1600,$B13<>\"GOB\"),($K13/1000)+0.2,\"\"),IF(AND($K13>0,$K13<=1200),($K13/1000)+0.2,\"\"))","v":""},"",{"$f":"IF('Main Details'!$G$28,IF(AND($K13>1600,$K13<=1900),($K13/1000)+0.2,\"\"),IF(AND($K13>1200,$K13<=1500),($K13/1000)+0.2,\"\"))","v":""},"",{"$f":"IF('Main Details'!$G$28,IF(AND($K13>1900,$K13<=2600),($K13/1000)+0.27,\"\"),IF(AND($K13>1500,$K13<=2200),($K13/1000)+0.27,\"\"))","v":""},"",{"$f":"IF('Main Details'!$G$28,IF(AND($K13>2600,$K13<=3100),($K13/1000)+0.3,\"\"),IF(AND($K13>2200,$K13<=2600),($K13/1000)+0.3,\"\"))","v":3.07},3.07,{"$f":"IF('Main Details'!$G$28,IF(AND($K13>3100,$K13<=3450),($K13/1000)+0.3,\"\"),IF(AND($K13>2600,$K13<=3000),($K13/1000)+0.3,\"\"))","v":""},"",{"$f":"IF('Main Details'!$G$28,IF(AND($K13>3450,$K13<=3850),($K13/1000)+0.3,\"\"),IF(AND($K13>3000,$K13<=3450),($K13/1000)+0.3,\"\"))","v":""},"",null,0,2,{"$f":"IF(OR($N13=\"Y\",$B13=\"GOB\"),IF('Main Details'!$G$28,\nIF('Main Details'!$F$10=\"2c\",IF(AND($K13>0,$K13<=2350),($K13/1000)+0.24,\"\"),IF(AND($K13>0,$K13<=2400),($K13/1000)+0.27,\"\")),\nIF('Main Details'!$F$10=\"2c\",IF(AND($K13>0,$K13<=2050),($K13/1000)+0.24,\"\"),IF(AND($K13>0,$K13<=2100),($K13/1000)+0.27,\"\"))\n),\"\")","v":""},{"$f":"IF($N13=\"Y\",IF('Main Details'!$G$28,\nIF('Main Details'!$F$10=\"2c\",IF(AND($K13>2350,$K13<=2650),($K13/1000)+0.3,\"\"),IF(AND($K13>2400,$K13<=2650),($K13/1000)+0.3,\"\")),\nIF('Main Details'!$F$10=\"2c\",IF(AND($K13>2050,$K13<=2250),($K13/1000)+0.3,\"\"),IF(AND($K13>2100,$K13<=2250),($K13/1000)+0.3,\"\"))\n),\"\")","v":""},{"$f":"IF($N13=\"Y\",IF('Main Details'!$G$28,\nIF('Main Details'!$F$10=\"2c\",IF(AND($K13>2650,$K13<=3450),($K13/1000)+0.3,\"\"),\"\"),\nIF('Main Details'!$F$10=\"2c\",IF(AND($K13>2250,$K13<=3000),($K13/1000)+0.3,\"\"),\"\")\n),\"\")","v":""},{"$f":"IF($N13=\"Y\",IF('Main Details'!$G$28,\nIF('Main Details'!$F$10=\"2c\",IF(AND($K13>3450,$K13<=3850),($K13/1000)+0.3,\"\"),IF(AND($K13>2650,$K13<=3850),($K13/1000)+0.3,\"\")),\nIF('Main Details'!$F$10=\"2c\",IF(AND($K13>3000,$K13<=3450),($K13/1000)+0.3,\"\"),IF(AND($K13>2250,$K13<=3450),($K13/1000)+0.3,\"\"))\n),\"\")","v":""},null,null,{"$f":"IF(AND($K13<=7199,$K13>=4001),($K13+'BUILDERS SETTINGS'!$C$15)/1000,\" \")","v":" "},null,null,0,"0",2,"0","0",4.2699999999999996,2.77,null,2970]
[{"$f":"IF(#REF!>0,I14+#REF!)","v":{"$error":"#REF!"}},{"$f":"'Summary Sheet'!B73","v":"BED 5"},0,"N",null,{"$f":"IF(AND(#REF!>0,G14>0),(#REF!*0.086)*(K14/1000),\" \")","v":{"$error":"#REF!"}},{"$f":"'Summary Sheet'!G73","v":2.3140000000000001},"x",7.5,17.355,{"$f":"'Summary Sheet'!C73","v":1810},4.1883400000000002,1,null,null,{"$f":"IF('Main Details'!$G$28,IF(AND($K14>0,$K14<=1600,$B14<>\"GOB\"),($K14/1000)+0.2,\"\"),IF(AND($K14>0,$K14<=1200),($K14/1000)+0.2,\"\"))","v":""},"",{"$f":"IF('Main Details'!$G$28,IF(AND($K14>1600,$K14<=1900),($K14/1000)+0.2,\"\"),IF(AND($K14>1200,$K14<=1500),($K14/1000)+0.2,\"\"))","v":2.0100000000000002},2.0100000000000002,{"$f":"IF('Main Details'!$G$28,IF(AND($K14>1900,$K14<=2600),($K14/1000)+0.27,\"\"),IF(AND($K14>1500,$K14<=2200),($K14/1000)+0.27,\"\"))","v":""},"",{"$f":"IF('Main Details'!$G$28,IF(AND($K14>2600,$K14<=3100),($K14/1000)+0.3,\"\"),IF(AND($K14>2200,$K14<=2600),($K14/1000)+0.3,\"\"))","v":""},"",{"$f":"IF('Main Details'!$G$28,IF(AND($K14>3100,$K14<=3450),($K14/1000)+0.3,\"\"),IF(AND($K14>2600,$K14<=3000),($K14/1000)+0.3,\"\"))","v":""},"",{"$f":"IF('Main Details'!$G$28,IF(AND($K14>3450,$K14<=3850),($K14/1000)+0.3,\"\"),IF(AND($K14>3000,$K14<=3450),($K14/1000)+0.3,\"\"))","v":""},"",null,0,2,{"$f":"IF(OR($N14=\"Y\",$B14=\"GOB\"),IF('Main Details'!$G$28,\nIF('Main Details'!$F$10=\"2c\",IF(AND($K14>0,$K14<=2350),($K14/1000)+0.24,\"\"),IF(AND($K14>0,$K14<=2400),($K14/1000)+0.27,\"\")),\nIF('Main Details'!$F$10=\"2c\",IF(AND($K14>0,$K14<=2050),($K14/1000)+0.24,\"\"),IF(AND($K14>0,$K14<=2100),($K14/1000)+0.27,\"\"))\n),\"\")","v":""},{"$f":"IF($N14=\"Y\",IF('Main Details'!$G$28,\nIF('Main Details'!$F$10=\"2c\",IF(AND($K14>2350,$K14<=2650),($K14/1000)+0.3,\"\"),IF(AND($K14>2400,$K14<=2650),($K14/1000)+0.3,\"\")),\nIF('Main Details'!$F$10=\"2c\",IF(AND($K14>2050,$K14<=2250),($K14/1000)+0.3,\"\"),IF(AND($K14>2100,$K14<=2250),($K14/1000)+0.3,\"\"))\n),\"\")","v":""},{"$f":"IF($N14=\"Y\",IF('Main Details'!$G$28,\nIF('Main Details'!$F$10=\"2c\",IF(AND($K14>2650,$K14<=3450),($K14/1000)+0.3,\"\"),\"\"),\nIF('Main Details'!$F$10=\"2c\",IF(AND($K14>2250,$K14<=3000),($K14/1000)+0.3,\"\"),\"\")\n),\"\")","v":""},{"$f":"IF($N14=\"Y\",IF('Main Details'!$G$28,\nIF('Main Details'!$F$10=\"2c\",IF(AND($K14>3450,$K14<=3850),($K14/1000)+0.3,\"\"),IF(AND($K14>2650,$K14<=3850),($K14/1000)+0.3,\"\")),\nIF('Main Details'!$F$10=\"2c\",IF(AND($K14>3000,$K14<=3450),($K14/1000)+0.3,\"\"),IF(AND($K14>2250,$K14<=3450),($K14/1000)+0.3,\"\"))\n),\"\")","v":""},null,null,{"$f":"IF(AND($K14<=7199,$K14>=4001),($K14+'BUILDERS SETTINGS'!$C$15)/1000,\" \")","v":" "},null,null,0,"0",2,"0","0",3.31,1.81,null,2010]
[{"$f":"IF(#REF!>0,I15+#REF!)","v":{"$error":"#REF!"}},{"$f":"'Summary Sheet'!B74","v":"BED 6"},0,"N",null,{"$f":"IF(AND(#REF!>0,G15>0),(#REF!*0.086)*(K15/1000),\" \")","v":{"$error":"#REF!"}},{"$f":"'Summary Sheet'!G74","v":2.3140000000000001},"x",7.5,17.355,{"$f":"'Summary Sheet'!C74","v":1810},4.1883400000000002,1,null,null,{"$f":"IF('Main Details'!$G$28,IF(AND($K15>0,$K15<=1600,$B15<>\"GOB\"),($K15/1000)+0.2,\"\"),IF(AND($K15>0,$K15<=1200),($K15/1000)+0.2,\"\"))","v":""},"",{"$f":"IF('Main Details'!$G$28,IF(AND($K15>1600,$K15<=1900),($K15/1000)+0.2,\"\"),IF(AND($K15>1200,$K15<=1500),($K15/1000)+0.2,\"\"))","v":2.0100000000000002},2.0100000000000002,{"$f":"IF('Main Details'!$G$28,IF(AND($K15>1900,$K15<=2600),($K15/1000)+0.27,\"\"),IF(AND($K15>1500,$K15<=2200),($K15/1000)+0.27,\"\"))","v":""},"",{"$f":"IF('Main Details'!$G$28,IF(AND($K15>2600,$K15<=3100),($K15/1000)+0.3,\"\"),IF(AND($K15>2200,$K15<=2600),($K15/1000)+0.3,\"\"))","v":""},"",{"$f":"IF('Main Details'!$G$28,IF(AND($K15>3100,$K15<=3450),($K15/1000)+0.3,\"\"),IF(AND($K15>2600,$K15<=3000),($K15/1000)+0.3,\"\"))","v":""},"",{"$f":"IF('Main Details'!$G$28,IF(AND($K15>3450,$K15<=3850),($K15/1000)+0.3,\"\"),IF(AND($K15>3000,$K15<=3450),($K15/1000)+0.3,\"\"))","v":""},"",null,0,2,{"$f":"IF(OR($N15=\"Y\",$B15=\"GOB\"),IF('Main Details'!$G$28,\nIF('Main Details'!$F$10=\"2c\",IF(AND($K15>0,$K15<=2350),($K15/1000)+0.24,\"\"),IF(AND($K15>0,$K15<=2400),($K15/1000)+0.27,\"\")),\nIF('Main Details'!$F$10=\"2c\",IF(AND($K15>0,$K15<=2050),($K15/1000)+0.24,\"\"),IF(AND($K15>0,$K15<=2100),($K15/1000)+0.27,\"\"))\n),\"\")","v":""},{"$f":"IF($N15=\"Y\",IF('Main Details'!$G$28,\nIF('Main Details'!$F$10=\"2c\",IF(AND($K15>2350,$K15<=2650),($K15/1000)+0.3,\"\"),IF(AND($K15>2400,$K15<=2650),($K15/1000)+0.3,\"\")),\nIF('Main Details'!$F$10=\"2c\",IF(AND($K15>2050,$K15<=2250),($K15/1000)+0.3,\"\"),IF(AND($K15>2100,$K15<=2250),($K15/1000)+0.3,\"\"))\n),\"\")","v":""},{"$f":"IF($N15=\"Y\",IF('Main Details'!$G$28,\nIF('Main Details'!$F$10=\"2c\",IF(AND($K15>2650,$K15<=3450),($K15/1000)+0.3,\"\"),\"\"),\nIF('Main Details'!$F$10=\"2c\",IF(AND($K15>2250,$K15<=3000),($K15/1000)+0.3,\"\"),\"\")\n),\"\")","v":""},{"$f":"IF($N15=\"Y\",IF('Main Details'!$G$28,\nIF('Main Details'!$F$10=\"2c\",IF(AND($K15>3450,$K15<=3850),($K15/1000)+0.3,\"\"),IF(AND($K15>2650,$K15<=3850),($K15/1000)+0.3,\"\")),\nIF('Main Details'!$F$10=\"2c\",IF(AND($K15>3000,$K15<=3450),($K15/1000)+0.3,\"\"),IF(AND($K15>2250,$K15<=3450),($K15/1000)+0.3,\"\"))\n),\"\")","v":""},null,null,{"$f":"IF(AND($K15<=7199,$K15>=4001),($K15+'BUILDERS SETTINGS'!$C$15)/1000,\" \")","v":" "},null,null,0,"0",2,"0","0",3.31,1.81,null,2010]
[{"$f":"IF(#REF!>0,I16+#REF!)","v":{"$error":"#REF!"}},{"$f":"'Summary Sheet'!B75","v":"ENS 1"},0,"N",null,{"$f":"IF(AND(#REF!>0,G16>0),(#REF!*0.086)*(K16/1000),\" \")","v":{"$error":"#REF!"}},{"$f":"'Summary Sheet'!G75","v":1.4570000000000001},"x",5.416666666666667,7.8920833333333338,{"$f":"'Summary Sheet'!C75","v":1310},1.9086700000000001,1,null,null,{"$f":"IF('Main Details'!$G$28,IF(AND($K16>0,$K16<=1600,$B16<>\"GOB\"),($K16/1000)+0.2,\"\"),IF(AND($K16>0,$K16<=1200),($K16/1000)+0.2,\"\"))","v":1.51},1.51,{"$f":"IF('Main Details'!$G$28,IF(AND($K16>1600,$K16<=1900),($K16/1000)+0.2,\"\"),IF(AND($K16>1200,$K16<=1500),($K16/1000)+0.2,\"\"))","v":""},"",{"$f":"IF('Main Details'!$G$28,IF(AND($K16>1900,$K16<=2600),($K16/1000)+0.27,\"\"),IF(AND($K16>1500,$K16<=2200),($K16/1000)+0.27,\"\"))","v":""},"",{"$f":"IF('Main Details'!$G$28,IF(AND($K16>2600,$K16<=3100),($K16/1000)+0.3,\"\"),IF(AND($K16>2200,$K16<=2600),($K16/1000)+0.3,\"\"))","v":""},"",{"$f":"IF('Main Details'!$G$28,IF(AND($K16>3100,$K16<=3450),($K16/1000)+0.3,\"\"),IF(AND($K16>2600,$K16<=3000),($K16/1000)+0.3,\"\"))","v":""},"",{"$f":"IF('Main Details'!$G$28,IF(AND($K16>3450,$K16<=3850),($K16/1000)+0.3,\"\"),IF(AND($K16>3000,$K16<=3450),($K16/1000)+0.3,\"\"))","v":""},"",null,0,1,{"$f":"IF(OR($N16=\"Y\",$B16=\"GOB\"),IF('Main Details'!$G$28,\nIF('Main Details'!$F$10=\"2c\",IF(AND($K16>0,$K16<=2350),($K16/1000)+0.24,\"\"),IF(AND($K16>0,$K16<=2400),($K16/1000)+0.27,\"\")),\nIF('Main Details'!$F$10=\"2c\",IF(AND($K16>0,$K16<=2050),($K16/1000)+0.24,\"\"),IF(AND($K16>0,$K16<=2100),($K16/1000)+0.27,\"\"))\n),\"\")","v":""},{"$f":"IF($N16=\"Y\",IF('Main Details'!$G$28,\nIF('Main Details'!$F$10=\"2c\",IF(AND($K16>2350,$K16<=2650),($K16/1000)+0.3,\"\"),IF(AND($K16>2400,$K16<=2650),($K16/1000)+0.3,\"\")),\nIF('Main Details'!$F$10=\"2c\",IF(AND($K16>2050,$K16<=2250),($K16/1000)+0.3,\"\"),IF(AND($K16>2100,$K16<=2250),($K16/1000)+0.3,\"\"))\n),\"\")","v":""},{"$f":"IF($N16=\"Y\",IF('Main Details'!$G$28,\nIF('Main Details'!$F$10=\"2c\",IF(AND($K16>2650,$K16<=3450),($K16/1000)+0.3,\"\"),\"\"),\nIF('Main Details'!$F$10=\"2c\",IF(AND($K16>2250,$K16<=3000),($K16/1000)+0.3,\"\"),\"\")\n),\"\")","v":""},{"$f":"IF($N16=\"Y\",IF('Main Details'!$G$28,\nIF('Main Details'!$F$10=\"2c\",IF(AND($K16>3450,$K16<=3850),($K16/1000)+0.3,\"\"),IF(AND($K16>2650,$K16<=3850),($K16/1000)+0.3,\"\")),\nIF('Main Details'!$F$10=\"2c\",IF(AND($K16>3000,$K16<=3450),($K16/1000)+0.3,\"\"),IF(AND($K16>2250,$K16<=3450),($K16/1000)+0.3,\"\"))\n),\"\")","v":""},null,null,{"$f":"IF(AND($K16<=7199,$K16>=4001),($K16+'BUILDERS SETTINGS'!$C$15)/1000,\" \")","v":" "},null,null,0,1,"0","0","0",2.81,1.31,null,1510]
[{"$f":"IF(#REF!>0,I17+#REF!)","v":{"$error":"#REF!"}},{"$f":"'Summary Sheet'!B76","v":"ENS 2"},0,"N",null,{"$f":"IF(AND(#REF!>0,G17>0),(#REF!*0.086)*(K17/1000),\" \")","v":{"$error":"#REF!"}},{"$f":"'Summary Sheet'!G76","v":2.3140000000000001},"x",3.75,8.6775000000000002,{"$f":"'Summary Sheet'!C76","v":910},2.1057400000000004,1,null,null,{"$f":"IF('Main Details'!$G$28,IF(AND($K17>0,$K17<=1600,$B17<>\"GOB\"),($K17/1000)+0.2,\"\"),IF(AND($K17>0,$K17<=1200),($K17/1000)+0.2,\"\"))","v":1.1100000000000001},0,{"$f":"IF('Main Details'!$G$28,IF(AND($K17>1600,$K17<=1900),($K17/1000)+0.2,\"\"),IF(AND($K17>1200,$K17<=1500),($K17/1000)+0.2,\"\"))","v":""},"",{"$f":"IF('Main Details'!$G$28,IF(AND($K17>1900,$K17<=2600),($K17/1000)+0.27,\"\"),IF(AND($K17>1500,$K17<=2200),($K17/1000)+0.27,\"\"))","v":""},"",{"$f":"IF('Main Details'!$G$28,IF(AND($K17>2600,$K17<=3100),($K17/1000)+0.3,\"\"),IF(AND($K17>2200,$K17<=2600),($K17/1000)+0.3,\"\"))","v":""},"",{"$f":"IF('Main Details'!$G$28,IF(AND($K17>3100,$K17<=3450),($K17/1000)+0.3,\"\"),IF(AND($K17>2600,$K17<=3000),($K17/1000)+0.3,\"\"))","v":""},"",{"$f":"IF('Main Details'!$G$28,IF(AND($K17>3450,$K17<=3850),($K17/1000)+0.3,\"\"),IF(AND($K17>3000,$K17<=3450),($K17/1000)+0.3,\"\"))","v":""},"",null,0," ",{"$f":"IF(OR($N17=\"Y\",$B17=\"GOB\"),IF('Main Details'!$G$28,\nIF('Main Details'!$F$10=\"2c\",IF(AND($K17>0,$K17<=2350),($K17/1000)+0.24,\"\"),IF(AND($K17>0,$K17<=2400),($K17/1000)+0.27,\"\")),\nIF('Main Details'!$F$10=\"2c\",IF(AND($K17>0,$K17<=2050),($K17/1000)+0.24,\"\"),IF(AND($K17>0,$K17<=2100),($K17/1000)+0.27,\"\"))\n),\"\")","v":""},{"$f":"IF($N17=\"Y\",IF('Main Details'!$G$28,\nIF('Main Details'!$F$10=\"2c\",IF(AND($K17>2350,$K17<=2650),($K17/1000)+0.3,\"\"),IF(AND($K17>2400,$K17<=2650),($K17/1000)+0.3,\"\")),\nIF('Main Details'!$F$10=\"2c\",IF(AND($K17>2050,$K17<=2250),($K17/1000)+0.3,\"\"),IF(AND($K17>2100,$K17<=2250),($K17/1000)+0.3,\"\"))\n),\"\")","v":""},{"$f":"IF($N17=\"Y\",IF('Main Details'!$G$28,\nIF('Main Details'!$F$10=\"2c\",IF(AND($K17>2650,$K17<=3450),($K17/1000)+0.3,\"\"),\"\"),\nIF('Main Details'!$F$10=\"2c\",IF(AND($K17>2250,$K17<=3000),($K17/1000)+0.3,\"\"),\"\")\n),\"\")","v":""},{"$f":"IF($N17=\"Y\",IF('Main Details'!$G$28,\nIF('Main Details'!$F$10=\"2c\",IF(AND($K17>3450,$K17<=3850),($K17/1000)+0.3,\"\"),IF(AND($K17>2650,$K17<=3850),($K17/1000)+0.3,\"\")),\nIF('Main Details'!$F$10=\"2c\",IF(AND($K17>3000,$K17<=3450),($K17/1000)+0.3,\"\"),IF(AND($K17>2250,$K17<=3450),($K17/1000)+0.3,\"\"))\n),\"\")","v":""},null,null,null,null,null,0,1,"0","0","0",2.41,0.91,null,1110]
[{"$f":"IF(#REF!>0,I18+#REF!)","v":{"$error":"#REF!"}},{"$f":"'Summary Sheet'!B77","v":"KITCHEN 1"},0,"N",null,{"$f":"IF(AND(#REF!>0,G18>0),(#REF!*0.086)*(K18/1000),\" \")","v":{"$error":"#REF!"}},{"$f":"'Summary Sheet'!G77","v":2.1429999999999998},"x",12.5,26.787499999999998,{"$f":"'Summary Sheet'!C77","v":3010},6.450429999999999,1,null,null,{"$f":"IF('Main Details'!$G$28,IF(AND($K18>0,$K18<=1600,$B18<>\"GOB\"),($K18/1000)+0.2,\"\"),IF(AND($K18>0,$K18<=1200),($K18/1000)+0.2,\"\"))","v":""},"",{"$f":"IF('Main Details'!$G$28,IF(AND($K18>1600,$K18<=1900),($K18/1000)+0.2,\"\"),IF(AND($K18>1200,$K18<=1500),($K18/1000)+0.2,\"\"))","v":""},"",{"$f":"IF('Main Details'!$G$28,IF(AND($K18>1900,$K18<=2600),($K18/1000)+0.27,\"\"),IF(AND($K18>1500,$K18<=2200),($K18/1000)+0.27,\"\"))","v":""},"",{"$f":"IF('Main Details'!$G$28,IF(AND($K18>2600,$K18<=3100),($K18/1000)+0.3,\"\"),IF(AND($K18>2200,$K18<=2600),($K18/1000)+0.3,\"\"))","v":3.3099999999999996},3.3099999999999996,{"$f":"IF('Main Details'!$G$28,IF(AND($K18>3100,$K18<=3450),($K18/1000)+0.3,\"\"),IF(AND($K18>2600,$K18<=3000),($K18/1000)+0.3,\"\"))","v":""},"",{"$f":"IF('Main Details'!$G$28,IF(AND($K18>3450,$K18<=3850),($K18/1000)+0.3,\"\"),IF(AND($K18>3000,$K18<=3450),($K18/1000)+0.3,\"\"))","v":""},"",null,0,3,{"$f":"IF(OR($N18=\"Y\",$B18=\"GOB\"),IF('Main Details'!$G$28,\nIF('Main Details'!$F$10=\"2c\",IF(AND($K18>0,$K18<=2350),($K18/1000)+0.24,\"\"),IF(AND($K18>0,$K18<=2400),($K18/1000)+0.27,\"\")),\nIF('Main Details'!$F$10=\"2c\",IF(AND($K18>0,$K18<=2050),($K18/1000)+0.24,\"\"),IF(AND($K18>0,$K18<=2100),($K18/1000)+0.27,\"\"))\n),\"\")","v":""},{"$f":"IF($N18=\"Y\",IF('Main Details'!$G$28,\nIF('Main Details'!$F$10=\"2c\",IF(AND($K18>2350,$K18<=2650),($K18/1000)+0.3,\"\"),IF(AND($K18>2400,$K18<=2650),($K18/1000)+0.3,\"\")),\nIF('Main Details'!$F$10=\"2c\",IF(AND($K18>2050,$K18<=2250),($K18/1000)+0.3,\"\"),IF(AND($K18>2100,$K18<=2250),($K18/1000)+0.3,\"\"))\n),\"\")","v":""},{"$f":"IF($N18=\"Y\",IF('Main Details'!$G$28,\nIF('Main Details'!$F$10=\"2c\",IF(AND($K18>2650,$K18<=3450),($K18/1000)+0.3,\"\"),\"\"),\nIF('Main Details'!$F$10=\"2c\",IF(AND($K18>2250,$K18<=3000),($K18/1000)+0.3,\"\"),\"\")\n),\"\")","v":""},{"$f":"IF($N18=\"Y\",IF('Main Details'!$G$28,\nIF('Main Details'!$F$10=\"2c\",IF(AND($K18>3450,$K18<=3850),($K18/1000)+0.3,\"\"),IF(AND($K18>2650,$K18<=3850),($K18/1000)+0.3,\"\")),\nIF('Main Details'!$F$10=\"2c\",IF(AND($K18>3000,$K18<=3450),($K18/1000)+0.3,\"\"),IF(AND($K18>2250,$K18<=3450),($K18/1000)+0.3,\"\"))\n),\"\")","v":""},null,null,{"$f":"IF(AND($K18<=7199,$K18>=4001),($K18+'BUILDERS SETTINGS'!$C$15)/1000,\" \")","v":" "},null,null,0,"0","0",3,"0",4.51,3.01,null,3210]
[{"$f":"IF(#REF!>0,I19+#REF!)","v":{"$error":"#REF!"}},{"$f":"'Summary Sheet'!B78","v":"L'DRY 1"},0,"N",null,{"$f":"IF(AND(#REF!>0,G19>0),(#REF!*0.086)*(K19/1000),\" \")","v":{"$error":"#REF!"}},{"$f":"'Summary Sheet'!G78","v":2.3140000000000001},"x",6.25,14.4625,{"$f":"'Summary Sheet'!C78","v":1510},3.4941399999999998,1,null,null,{"$f":"IF('Main Details'!$G$28,IF(AND($K19>0,$K19<=1600,$B19<>\"GOB\"),($K19/1000)+0.2,\"\"),IF(AND($K19>0,$K19<=1200),($K19/1000)+0.2,\"\"))","v":1.71},1.71,{"$f":"IF('Main Details'!$G$28,IF(AND($K19>1600,$K19<=1900),($K19/1000)+0.2,\"\"),IF(AND($K19>1200,$K19<=1500),($K19/1000)+0.2,\"\"))","v":""},"",{"$f":"IF('Main Details'!$G$28,IF(AND($K19>1900,$K19<=2600),($K19/1000)+0.27,\"\"),IF(AND($K19>1500,$K19<=2200),($K19/1000)+0.27,\"\"))","v":""},"",{"$f":"IF('Main Details'!$G$28,IF(AND($K19>2600,$K19<=3100),($K19/1000)+0.3,\"\"),IF(AND($K19>2200,$K19<=2600),($K19/1000)+0.3,\"\"))","v":""},"",{"$f":"IF('Main Details'!$G$28,IF(AND($K19>3100,$K19<=3450),($K19/1000)+0.3,\"\"),IF(AND($K19>2600,$K19<=3000),($K19/1000)+0.3,\"\"))","v":""},"",{"$f":"IF('Main Details'!$G$28,IF(AND($K19>3450,$K19<=3850),($K19/1000)+0.3,\"\"),IF(AND($K19>3000,$K19<=3450),($K19/1000)+0.3,\"\"))","v":""},"",null,0,1,{"$f":"IF(OR($N19=\"Y\",$B19=\"GOB\"),IF('Main Details'!$G$28,\nIF('Main Details'!$F$10=\"2c\",IF(AND($K19>0,$K19<=2350),($K19/1000)+0.24,\"\"),IF(AND($K19>0,$K19<=2400),($K19/1000)+0.27,\"\")),\nIF('Main Details'!$F$10=\"2c\",IF(AND($K19>0,$K19<=2050),($K19/1000)+0.24,\"\"),IF(AND($K19>0,$K19<=2100),($K19/1000)+0.27,\"\"))\n),\"\")","v":""},{"$f":"IF($N19=\"Y\",IF('Main Details'!$G$28,\nIF('Main Details'!$F$10=\"2c\",IF(AND($K19>2350,$K19<=2650),($K19/1000)+0.3,\"\"),IF(AND($K19>2400,$K19<=2650),($K19/1000)+0.3,\"\")),\nIF('Main Details'!$F$10=\"2c\",IF(AND($K19>2050,$K19<=2250),($K19/1000)+0.3,\"\"),IF(AND($K19>2100,$K19<=2250),($K19/1000)+0.3,\"\"))\n),\"\")","v":""},{"$f":"IF($N19=\"Y\",IF('Main Details'!$G$28,\nIF('Main Details'!$F$10=\"2c\",IF(AND($K19>2650,$K19<=3450),($K19/1000)+0.3,\"\"),\"\"),\nIF('Main Details'!$F$10=\"2c\",IF(AND($K19>2250,$K19<=3000),($K19/1000)+0.3,\"\"),\"\")\n),\"\")","v":""},{"$f":"IF($N19=\"Y\",IF('Main Details'!$G$28,\nIF('Main Details'!$F$10=\"2c\",IF(AND($K19>3450,$K19<=3850),($K19/1000)+0.3,\"\"),IF(AND($K19>2650,$K19<=3850),($K19/1000)+0.3,\"\")),\nIF('Main Details'!$F$10=\"2c\",IF(AND($K19>3000,$K19<=3450),($K19/1000)+0.3,\"\"),IF(AND($K19>2250,$K19<=3450),($K19/1000)+0.3,\"\"))\n),\"\")","v":""},null,null,{"$f":"IF(AND($K19<=7199,$K19>=4001),($K19+'BUILDERS SETTINGS'!$C$15)/1000,\" \")","v":" "},null,null,0,1,"0","0","0",3.01,1.51,null,1710]
[{"$f":"IF(#REF!>0,I20+#REF!)","v":{"$error":"#REF!"}},{"$f":"'Summary Sheet'!B79","v":"LIVING / DINING 1"},0,"N",null,{"$f":"IF(AND(#REF!>0,G20>0),(#REF!*0.086)*(K20/1000),\" \")","v":{"$error":"#REF!"}},{"$f":"'Summary Sheet'!G79","v":2.1429999999999998},"x",12.5,26.787499999999998,{"$f":"'Summary Sheet'!C79","v":3010},6.450429999999999,1,null,null,{"$f":"IF('Main Details'!$G$28,IF(AND($K20>0,$K20<=1600,$B20<>\"GOB\"),($K20/1000)+0.2,\"\"),IF(AND($K20>0,$K20<=1200),($K20/1000)+0.2,\"\"))","v":""},"",{"$f":"IF('Main Details'!$G$28,IF(AND($K20>1600,$K20<=1900),($K20/1000)+0.2,\"\"),IF(AND($K20>1200,$K20<=1500),($K20/1000)+0.2,\"\"))","v":""},"",{"$f":"IF('Main Details'!$G$28,IF(AND($K20>1900,$K20<=2600),($K20/1000)+0.27,\"\"),IF(AND($K20>1500,$K20<=2200),($K20/1000)+0.27,\"\"))","v":""},"",{"$f":"IF('Main Details'!$G$28,IF(AND($K20>2600,$K20<=3100),($K20/1000)+0.3,\"\"),IF(AND($K20>2200,$K20<=2600),($K20/1000)+0.3,\"\"))","v":3.3099999999999996},3.3099999999999996,{"$f":"IF('Main Details'!$G$28,IF(AND($K20>3100,$K20<=3450),($K20/1000)+0.3,\"\"),IF(AND($K20>2600,$K20<=3000),($K20/1000)+0.3,\"\"))","v":""},"",{"$f":"IF('Main Details'!$G$28,IF(AND($K20>3450,$K20<=3850),($K20/1000)+0.3,\"\"),IF(AND($K20>3000,$K20<=3450),($K20/1000)+0.3,\"\"))","v":""},"",null,0,3,{"$f":"IF(OR($N20=\"Y\",$B20=\"GOB\"),IF('Main Details'!$G$28,\nIF('Main Details'!$F$10=\"2c\",IF(AND($K20>0,$K20<=2350),($K20/1000)+0.24,\"\"),IF(AND($K20>0,$K20<=2400),($K20/1000)+0.27,\"\")),\nIF('Main Details'!$F$10=\"2c\",IF(AND($K20>0,$K20<=2050),($K20/1000)+0.24,\"\"),IF(AND($K20>0,$K20<=2100),($K20/1000)+0.27,\"\"))\n),\"\")","v":""},{"$f":"IF($N20=\"Y\",IF('Main Details'!$G$28,\nIF('Main Details'!$F$10=\"2c\",IF(AND($K20>2350,$K20<=2650),($K20/1000)+0.3,\"\"),IF(AND($K20>2400,$K20<=2650),($K20/1000)+0.3,\"\")),\nIF('Main Details'!$F$10=\"2c\",IF(AND($K20>2050,$K20<=2250),($K20/1000)+0.3,\"\"),IF(AND($K20>2100,$K20<=2250),($K20/1000)+0.3,\"\"))\n),\"\")","v":""},{"$f":"IF($N20=\"Y\",IF('Main Details'!$G$28,\nIF('Main Details'!$F$10=\"2c\",IF(AND($K20>2650,$K20<=3450),($K20/1000)+0.3,\"\"),\"\"),\nIF('Main Details'!$F$10=\"2c\",IF(AND($K20>2250,$K20<=3000),($K20/1000)+0.3,\"\"),\"\")\n),\"\")","v":""},{"$f":"IF($N20=\"Y\",IF('Main Details'!$G$28,\nIF('Main Details'!$F$10=\"2c\",IF(AND($K20>3450,$K20<=3850),($K20/1000)+0.3,\"\"),IF(AND($K20>2650,$K20<=3850),($K20/1000)+0.3,\"\")),\nIF('Main Details'!$F$10=\"2c\",IF(AND($K20>3000,$K20<=3450),($K20/1000)+0.3,\"\"),IF(AND($K20>2250,$K20<=3450),($K20/1000)+0.3,\"\"))\n),\"\")","v":""},null,null,{"$f":"IF(AND($K20<=7199,$K20>=4001),($K20+'BUILDERS SETTINGS'!$C$15)/1000,\" \")","v":" "},null,null,0,"0","0",3,"0",4.51,3.01,null,3210]
[{"$f":"IF(#REF!>0,I21+#REF!)","v":{"$error":"#REF!"}},{"$f":"'Summary Sheet'!B80","v":"LIVING / DINING 1"},0,"N",null,{"$f":"IF(AND(#REF!>0,G21>0),(#REF!*0.086)*(K21/1000),\" \")","v":{"$error":"#REF!"}},{"$f":"'Summary Sheet'!G80","v":2.1429999999999998},"x",12.916666666666666,27.680416666666662,{"$f":"'Summary Sheet'!C80","v":3110},6.6647299999999996,1,null,null,{"$f":"IF('Main Details'!$G$28,IF(AND($K21>0,$K21<=1600,$B21<>\"GOB\"),($K21/1000)+0.2,\"\"),IF(AND($K21>0,$K21<=1200),($K21/1000)+0.2,\"\"))","v":""},"",{"$f":"IF('Main Details'!$G$28,IF(AND($K21>1600,$K21<=1900),($K21/1000)+0.2,\"\"),IF(AND($K21>1200,$K21<=1500),($K21/1000)+0.2,\"\"))","v":""},"",{"$f":"IF('Main Details'!$G$28,IF(AND($K21>1900,$K21<=2600),($K21/1000)+0.27,\"\"),IF(AND($K21>1500,$K21<=2200),($K21/1000)+0.27,\"\"))","v":""},"",{"$f":"IF('Main Details'!$G$28,IF(AND($K21>2600,$K21<=3100),($K21/1000)+0.3,\"\"),IF(AND($K21>2200,$K21<=2600),($K21/1000)+0.3,\"\"))","v":""},"",{"$f":"IF('Main Details'!$G$28,IF(AND($K21>3100,$K21<=3450),($K21/1000)+0.3,\"\"),IF(AND($K21>2600,$K21<=3000),($K21/1000)+0.3,\"\"))","v":3.4099999999999997},3.4099999999999997,{"$f":"IF('Main Details'!$G$28,IF(AND($K21>3450,$K21<=3850),($K21/1000)+0.3,\"\"),IF(AND($K21>3000,$K21<=3450),($K21/1000)+0.3,\"\"))","v":""},"",null,0,3,{"$f":"IF(OR($N21=\"Y\",$B21=\"GOB\"),IF('Main Details'!$G$28,\nIF('Main Details'!$F$10=\"2c\",IF(AND($K21>0,$K21<=2350),($K21/1000)+0.24,\"\"),IF(AND($K21>0,$K21<=2400),($K21/1000)+0.27,\"\")),\nIF('Main Details'!$F$10=\"2c\",IF(AND($K21>0,$K21<=2050),($K21/1000)+0.24,\"\"),IF(AND($K21>0,$K21<=2100),($K21/1000)+0.27,\"\"))\n),\"\")","v":""},{"$f":"IF($N21=\"Y\",IF('Main Details'!$G$28,\nIF('Main Details'!$F$10=\"2c\",IF(AND($K21>2350,$K21<=2650),($K21/1000)+0.3,\"\"),IF(AND($K21>2400,$K21<=2650),($K21/1000)+0.3,\"\")),\nIF('Main Details'!$F$10=\"2c\",IF(AND($K21>2050,$K21<=2250),($K21/1000)+0.3,\"\"),IF(AND($K21>2100,$K21<=2250),($K21/1000)+0.3,\"\"))\n),\"\")","v":""},{"$f":"IF($N21=\"Y\",IF('Main Details'!$G$28,\nIF('Main Details'!$F$10=\"2c\",IF(AND($K21>2650,$K21<=3450),($K21/1000)+0.3,\"\"),\"\"),\nIF('Main Details'!$F$10=\"2c\",IF(AND($K21>2250,$K21<=3000),($K21/1000)+0.3,\"\"),\"\")\n),\"\")","v":""},{"$f":"IF($N21=\"Y\",IF('Main Details'!$G$28,\nIF('Main Details'!$F$10=\"2c\",IF(AND($K21>3450,$K21<=3850),($K21/1000)+0.3,\"\"),IF(AND($K21>2650,$K21<=3850),($K21/1000)+0.3,\"\")),\nIF('Main Details'!$F$10=\"2c\",IF(AND($K21>3000,$K21<=3450),($K21/1000)+0.3,\"\"),IF(AND($K21>2250,$K21<=3450),($K21/1000)+0.3,\"\"))\n),\"\")","v":""},null,null,{"$f":"IF(AND($K21<=7199,$K21>=4001),($K21+'BUILDERS SETTINGS'!$C$15)/1000,\" \")","v":" "},null,null,0,"0","0",3,"0",4.6099999999999994,3.11,null,3310]
[{"$f":"IF(#REF!>0,I22+#REF!)","v":{"$error":"#REF!"}},{"$f":"'Summary Sheet'!B81","v":"LIVING / DINING 1"},0,"N",null,{"$f":"IF(AND(#REF!>0,G22>0),(#REF!*0.086)*(K22/1000),\" \")","v":{"$error":"#REF!"}},{"$f":"'Summary Sheet'!G81","v":2.1429999999999998},"x",12.916666666666666,27.680416666666662,{"$f":"'Summary Sheet'!C81","v":3110},6.6647299999999996,1,null,null,{"$f":"IF('Main Details'!$G$28,IF(AND($K22>0,$K22<=1600,$B22<>\"GOB\"),($K22/1000)+0.2,\"\"),IF(AND($K22>0,$K22<=1200),($K22/1000)+0.2,\"\"))","v":""},"",{"$f":"IF('Main Details'!$G$28,IF(AND($K22>1600,$K22<=1900),($K22/1000)+0.2,\"\"),IF(AND($K22>1200,$K22<=1500),($K22/1000)+0.2,\"\"))","v":""},"",{"$f":"IF('Main Details'!$G$28,IF(AND($K22>1900,$K22<=2600),($K22/1000)+0.27,\"\"),IF(AND($K22>1500,$K22<=2200),($K22/1000)+0.27,\"\"))","v":""},"",{"$f":"IF('Main Details'!$G$28,IF(AND($K22>2600,$K22<=3100),($K22/1000)+0.3,\"\"),IF(AND($K22>2200,$K22<=2600),($K22/1000)+0.3,\"\"))","v":""},"",{"$f":"IF('Main Details'!$G$28,IF(AND($K22>3100,$K22<=3450),($K22/1000)+0.3,\"\"),IF(AND($K22>2600,$K22<=3000),($K22/1000)+0.3,\"\"))","v":3.4099999999999997},3.4099999999999997,{"$f":"IF('Main Details'!$G$28,IF(AND($K22>3450,$K22<=3850),($K22/1000)+0.3,\"\"),IF(AND($K22>3000,$K22<=3450),($K22/1000)+0.3,\"\"))","v":""},"",null,0,3,{"$f":"IF(OR($N22=\"Y\",$B22=\"GOB\"),IF('Main Details'!$G$28,\nIF('Main Details'!$F$10=\"2c\",IF(AND($K22>0,$K22<=2350),($K22/1000)+0.24,\"\"),IF(AND($K22>0,$K22<=2400),($K22/1000)+0.27,\"\")),\nIF('Main Details'!$F$10=\"2c\",IF(AND($K22>0,$K22<=2050),($K22/1000)+0.24,\"\"),IF(AND($K22>0,$K22<=2100),($K22/1000)+0.27,\"\"))\n),\"\")","v":""},{"$f":"IF($N22=\"Y\",IF('Main Details'!$G$28,\nIF('Main Details'!$F$10=\"2c\",IF(AND($K22>2350,$K22<=2650),($K22/1000)+0.3,\"\"),IF(AND($K22>2400,$K22<=2650),($K22/1000)+0.3,\"\")),\nIF('Main Details'!$F$10=\"2c\",IF(AND($K22>2050,$K22<=2250),($K22/1000)+0.3,\"\"),IF(AND($K22>2100,$K22<=2250),($K22/1000)+0.3,\"\"))\n),\"\")","v":""},{"$f":"IF($N22=\"Y\",IF('Main Details'!$G$28,\nIF('Main Details'!$F$10=\"2c\",IF(AND($K22>2650,$K22<=3450),($K22/1000)+0.3,\"\"),\"\"),\nIF('Main Details'!$F$10=\"2c\",IF(AND($K22>2250,$K22<=3000),($K22/1000)+0.3,\"\"),\"\")\n),\"\")","v":""},{"$f":"IF($N22=\"Y\",IF('Main Details'!$G$28,\nIF('Main Details'!$F$10=\"2c\",IF(AND($K22>3450,$K22<=3850),($K22/1000)+0.3,\"\"),IF(AND($K22>2650,$K22<=3850),($K22/1000)+0.3,\"\")),\nIF('Main Details'!$F$10=\"2c\",IF(AND($K22>3000,$K22<=3450),($K22/1000)+0.3,\"\"),IF(AND($K22>2250,$K22<=3450),($K22/1000)+0.3,\"\"))\n),\"\")","v":""},null,null,{"$f":"IF(AND($K22<=7199,$K22>=4001),($K22+'BUILDERS SETTINGS'!$C$15)/1000,\" \")","v":" "},null,null,0,"0","0",3,"0",4.6099999999999994,3.11,null,3310]
[{"$f":"IF(#REF!>0,I23+#REF!)","v":{"$error":"#REF!"}},{"$f":"'Summary Sheet'!B82","v":"LIVING 2"},0,"N",null,{"$f":"IF(AND(#REF!>0,G23>0),(#REF!*0.086)*(K23/1000),\" \")","v":{"$error":"#REF!"}},{"$f":"'Summary Sheet'!G82","v":2.3140000000000001},"x",12.5,28.925000000000001,{"$f":"'Summary Sheet'!C82","v":3010},6.9651399999999999,1,null,null,{"$f":"IF('Main Details'!$G$28,IF(AND($K23>0,$K23<=1600,$B23<>\"GOB\"),($K23/1000)+0.2,\"\"),IF(AND($K23>0,$K23<=1200),($K23/1000)+0.2,\"\"))","v":""},"",{"$f":"IF('Main Details'!$G$28,IF(AND($K23>1600,$K23<=1900),($K23/1000)+0.2,\"\"),IF(AND($K23>1200,$K23<=1500),($K23/1000)+0.2,\"\"))","v":""},"",{"$f":"IF('Main Details'!$G$28,IF(AND($K23>1900,$K23<=2600),($K23/1000)+0.27,\"\"),IF(AND($K23>1500,$K23<=2200),($K23/1000)+0.27,\"\"))","v":""},"",{"$f":"IF('Main Details'!$G$28,IF(AND($K23>2600,$K23<=3100),($K23/1000)+0.3,\"\"),IF(AND($K23>2200,$K23<=2600),($K23/1000)+0.3,\"\"))","v":3.3099999999999996},3.3099999999999996,{"$f":"IF('Main Details'!$G$28,IF(AND($K23>3100,$K23<=3450),($K23/1000)+0.3,\"\"),IF(AND($K23>2600,$K23<=3000),($K23/1000)+0.3,\"\"))","v":""},"",{"$f":"IF('Main Details'!$G$28,IF(AND($K23>3450,$K23<=3850),($K23/1000)+0.3,\"\"),IF(AND($K23>3000,$K23<=3450),($K23/1000)+0.3,\"\"))","v":""},"",null,0,3,{"$f":"IF(OR($N23=\"Y\",$B23=\"GOB\"),IF('Main Details'!$G$28,\nIF('Main Details'!$F$10=\"2c\",IF(AND($K23>0,$K23<=2350),($K23/1000)+0.24,\"\"),IF(AND($K23>0,$K23<=2400),($K23/1000)+0.27,\"\")),\nIF('Main Details'!$F$10=\"2c\",IF(AND($K23>0,$K23<=2050),($K23/1000)+0.24,\"\"),IF(AND($K23>0,$K23<=2100),($K23/1000)+0.27,\"\"))\n),\"\")","v":""},{"$f":"IF($N23=\"Y\",IF('Main Details'!$G$28,\nIF('Main Details'!$F$10=\"2c\",IF(AND($K23>2350,$K23<=2650),($K23/1000)+0.3,\"\"),IF(AND($K23>2400,$K23<=2650),($K23/1000)+0.3,\"\")),\nIF('Main Details'!$F$10=\"2c\",IF(AND($K23>2050,$K23<=2250),($K23/1000)+0.3,\"\"),IF(AND($K23>2100,$K23<=2250),($K23/1000)+0.3,\"\"))\n),\"\")","v":""},{"$f":"IF($N23=\"Y\",IF('Main Details'!$G$28,\nIF('Main Details'!$F$10=\"2c\",IF(AND($K23>2650,$K23<=3450),($K23/1000)+0.3,\"\"),\"\"),\nIF('Main Details'!$F$10=\"2c\",IF(AND($K23>2250,$K23<=3000),($K23/1000)+0.3,\"\"),\"\")\n),\"\")","v":""},{"$f":"IF($N23=\"Y\",IF('Main Details'!$G$28,\nIF('Main Details'!$F$10=\"2c\",IF(AND($K23>3450,$K23<=3850),($K23/1000)+0.3,\"\"),IF(AND($K23>2650,$K23<=3850),($K23/1000)+0.3,\"\")),\nIF('Main Details'!$F$10=\"2c\",IF(AND($K23>3000,$K23<=3450),($K23/1000)+0.3,\"\"),IF(AND($K23>2250,$K23<=3450),($K23/1000)+0.3,\"\"))\n),\"\")","v":""},null,null,{"$f":"IF(AND($K23<=7199,$K23>=4001),($K23+'BUILDERS SETTINGS'!$C$15)/1000,\" \")","v":" "},null,null,0,"0","0",3,"0",4.51,3.01,null,3210]
[{"$f":"IF(#REF!>0,I24+#REF!)","v":{"$error":"#REF!"}},{"$f":"'Summary Sheet'!B83","v":"MAIN BED"},0,"N",null,{"$f":"IF(AND(#REF!>0,G24>0),(#REF!*0.086)*(K24/1000),\" \")","v":{"$error":"#REF!"}},{"$f":"'Summary Sheet'!G83","v":2.3140000000000001},"x",10,23.14,{"$f":"'Summary Sheet'!C83","v":2410},5.57674,1,null,null,{"$f":"IF('Main Details'!$G$28,IF(AND($K24>0,$K24<=1600,$B24<>\"GOB\"),($K24/1000)+0.2,\"\"),IF(AND($K24>0,$K24<=1200),($K24/1000)+0.2,\"\"))","v":""},"",{"$f":"IF('Main Details'!$G$28,IF(AND($K24>1600,$K24<=1900),($K24/1000)+0.2,\"\"),IF(AND($K24>1200,$K24<=1500),($K24/1000)+0.2,\"\"))","v":""},"",{"$f":"IF('Main Details'!$G$28,IF(AND($K24>1900,$K24<=2600),($K24/1000)+0.27,\"\"),IF(AND($K24>1500,$K24<=2200),($K24/1000)+0.27,\"\"))","v":2.68},2.68,{"$f":"IF('Main Details'!$G$28,IF(AND($K24>2600,$K24<=3100),($K24/1000)+0.3,\"\"),IF(AND($K24>2200,$K24<=2600),($K24/1000)+0.3,\"\"))","v":""},"",{"$f":"IF('Main Details'!$G$28,IF(AND($K24>3100,$K24<=3450),($K24/1000)+0.3,\"\"),IF(AND($K24>2600,$K24<=3000),($K24/1000)+0.3,\"\"))","v":""},"",{"$f":"IF('Main Details'!$G$28,IF(AND($K24>3450,$K24<=3850),($K24/1000)+0.3,\"\"),IF(AND($K24>3000,$K24<=3450),($K24/1000)+0.3,\"\"))","v":""},"",null,0,2,{"$f":"IF(OR($N24=\"Y\",$B24=\"GOB\"),IF('Main Details'!$G$28,\nIF('Main Details'!$F$10=\"2c\",IF(AND($K24>0,$K24<=2350),($K24/1000)+0.24,\"\"),IF(AND($K24>0,$K24<=2400),($K24/1000)+0.27,\"\")),\nIF('Main Details'!$F$10=\"2c\",IF(AND($K24>0,$K24<=2050),($K24/1000)+0.24,\"\"),IF(AND($K24>0,$K24<=2100),($K24/1000)+0.27,\"\"))\n),\"\")","v":""},{"$f":"IF($N24=\"Y\",IF('Main Details'!$G$28,\nIF('Main Details'!$F$10=\"2c\",IF(AND($K24>2350,$K24<=2650),($K24/1000)+0.3,\"\"),IF(AND($K24>2400,$K24<=2650),($K24/1000)+0.3,\"\")),\nIF('Main Details'!$F$10=\"2c\",IF(AND($K24>2050,$K24<=2250),($K24/1000)+0.3,\"\"),IF(AND($K24>2100,$K24<=2250),($K24/1000)+0.3,\"\"))\n),\"\")","v":""},{"$f":"IF($N24=\"Y\",IF('Main Details'!$G$28,\nIF('Main Details'!$F$10=\"2c\",IF(AND($K24>2650,$K24<=3450),($K24/1000)+0.3,\"\"),\"\"),\nIF('Main Details'!$F$10=\"2c\",IF(AND($K24>2250,$K24<=3000),($K24/1000)+0.3,\"\"),\"\")\n),\"\")","v":""},{"$f":"IF($N24=\"Y\",IF('Main Details'!$G$28,\nIF('Main Details'!$F$10=\"2c\",IF(AND($K24>3450,$K24<=3850),($K24/1000)+0.3,\"\"),IF(AND($K24>2650,$K24<=3850),($K24/1000)+0.3,\"\")),\nIF('Main Details'!$F$10=\"2c\",IF(AND($K24>3000,$K24<=3450),($K24/1000)+0.3,\"\"),IF(AND($K24>2250,$K24<=3450),($K24/1000)+0.3,\"\"))\n),\"\")","v":""},null,null,{"$f":"IF(AND($K24<=7199,$K24>=4001),($K24+'BUILDERS SETTINGS'!$C$15)/1000,\" \")","v":" "},null,null,0,"0",2,"0","0",3.91,2.41,null,2610]
[{"$f":"IF(#REF!>0,I25+#REF!)","v":{"$error":"#REF!"}},{"$f":"'Summary Sheet'!B84","v":"PORCH"},0,"N",null,{"$f":"IF(AND(#REF!>0,G25>0),(#REF!*0.086)*(K25/1000),\" \")","v":{"$error":"#REF!"}},{"$f":"'Summary Sheet'!G84","v":2.3140000000000001},"x",5.25,12.1485,{"$f":"'Summary Sheet'!C84","v":1270},2.9387800000000004,1,null,null,{"$f":"IF('Main Details'!$G$28,IF(AND($K25>0,$K25<=1600,$B25<>\"GOB\"),($K25/1000)+0.2,\"\"),IF(AND($K25>0,$K25<=1200),($K25/1000)+0.2,\"\"))","v":1.47},1.47,{"$f":"IF('Main Details'!$G$28,IF(AND($K25>1600,$K25<=1900),($K25/1000)+0.2,\"\"),IF(AND($K25>1200,$K25<=1500),($K25/1000)+0.2,\"\"))","v":""},"",{"$f":"IF('Main Details'!$G$28,IF(AND($K25>1900,$K25<=2600),($K25/1000)+0.27,\"\"),IF(AND($K25>1500,$K25<=2200),($K25/1000)+0.27,\"\"))","v":""},"",{"$f":"IF('Main Details'!$G$28,IF(AND($K25>2600,$K25<=3100),($K25/1000)+0.3,\"\"),IF(AND($K25>2200,$K25<=2600),($K25/1000)+0.3,\"\"))","v":""},"",{"$f":"IF('Main Details'!$G$28,IF(AND($K25>3100,$K25<=3450),($K25/1000)+0.3,\"\"),IF(AND($K25>2600,$K25<=3000),($K25/1000)+0.3,\"\"))","v":""},"",{"$f":"IF('Main Details'!$G$28,IF(AND($K25>3450,$K25<=3850),($K25/1000)+0.3,\"\"),IF(AND($K25>3000,$K25<=3450),($K25/1000)+0.3,\"\"))","v":""},"",null,0,1,{"$f":"IF(OR($N25=\"Y\",$B25=\"GOB\"),IF('Main Details'!$G$28,\nIF('Main Details'!$F$10=\"2c\",IF(AND($K25>0,$K25<=2350),($K25/1000)+0.24,\"\"),IF(AND($K25>0,$K25<=2400),($K25/1000)+0.27,\"\")),\nIF('Main Details'!$F$10=\"2c\",IF(AND($K25>0,$K25<=2050),($K25/1000)+0.24,\"\"),IF(AND($K25>0,$K25<=2100),($K25/1000)+0.27,\"\"))\n),\"\")","v":""},{"$f":"IF($N25=\"Y\",IF('Main Details'!$G$28,\nIF('Main Details'!$F$10=\"2c\",IF(AND($K25>2350,$K25<=2650),($K25/1000)+0.3,\"\"),IF(AND($K25>2400,$K25<=2650),($K25/1000)+0.3,\"\")),\nIF('Main Details'!$F$10=\"2c\",IF(AND($K25>2050,$K25<=2250),($K25/1000)+0.3,\"\"),IF(AND($K25>2100,$K25<=2250),($K25/1000)+0.3,\"\"))\n),\"\")","v":""},{"$f":"IF($N25=\"Y\",IF('Main Details'!$G$28,\nIF('Main Details'!$F$10=\"2c\",IF(AND($K25>2650,$K25<=3450),($K25/1000)+0.3,\"\"),\"\"),\nIF('Main Details'!$F$10=\"2c\",IF(AND($K25>2250,$K25<=3000),($K25/1000)+0.3,\"\"),\"\")\n),\"\")","v":""},{"$f":"IF($N25=\"Y\",IF('Main Details'!$G$28,\nIF('Main Details'!$F$10=\"2c\",IF(AND($K25>3450,$K25<=3850),($K25/1000)+0.3,\"\"),IF(AND($K25>2650,$K25<=3850),($K25/1000)+0.3,\"\")),\nIF('Main Details'!$F$10=\"2c\",IF(AND($K25>3000,$K25<=3450),($K25/1000)+0.3,\"\"),IF(AND($K25>2250,$K25<=3450),($K25/1000)+0.3,\"\"))\n),\"\")","v":""},null,null,{"$f":"IF(AND($K25<=7199,$K25>=4001),($K25+'BUILDERS SETTINGS'!$C$15)/1000,\" \")","v":" "},null,null,0,1,"0","0","0",2.77,1.27,null,1470]
[{"$f":"IF(#REF!>0,I26+#REF!)","v":{"$error":"#REF!"}},{"$f":"'Summary Sheet'!B85","v":"THEATRE"},0,"N",null,{"$f":"IF(AND(#REF!>0,G26>0),(#REF!*0.086)*(K26/1000),\" \")","v":{"$error":"#REF!"}},{"$f":"'Summary Sheet'!G85","v":2.3140000000000001},"x",12.5,28.925000000000001,{"$f":"'Summary Sheet'!C85","v":3010},6.9651399999999999,1,null,null,{"$f":"IF('Main Details'!$G$28,IF(AND($K26>0,$K26<=1600,$B26<>\"GOB\"),($K26/1000)+0.2,\"\"),IF(AND($K26>0,$K26<=1200),($K26/1000)+0.2,\"\"))","v":""},"",{"$f":"IF('Main Details'!$G$28,IF(AND($K26>1600,$K26<=1900),($K26/1000)+0.2,\"\"),IF(AND($K26>1200,$K26<=1500),($K26/1000)+0.2,\"\"))","v":""},"",{"$f":"IF('Main Details'!$G$28,IF(AND($K26>1900,$K26<=2600),($K26/1000)+0.27,\"\"),IF(AND($K26>1500,$K26<=2200),($K26/1000)+0.27,\"\"))","v":""},"",{"$f":"IF('Main Details'!$G$28,IF(AND($K26>2600,$K26<=3100),($K26/1000)+0.3,\"\"),IF(AND($K26>2200,$K26<=2600),($K26/1000)+0.3,\"\"))","v":3.3099999999999996},3.3099999999999996,{"$f":"IF('Main Details'!$G$28,IF(AND($K26>3100,$K26<=3450),($K26/1000)+0.3,\"\"),IF(AND($K26>2600,$K26<=3000),($K26/1000)+0.3,\"\"))","v":""},"",{"$f":"IF('Main Details'!$G$28,IF(AND($K26>3450,$K26<=3850),($K26/1000)+0.3,\"\"),IF(AND($K26>3000,$K26<=3450),($K26/1000)+0.3,\"\"))","v":""},"",null,0,3,{"$f":"IF(OR($N26=\"Y\",$B26=\"GOB\"),IF('Main Details'!$G$28,\nIF('Main Details'!$F$10=\"2c\",IF(AND($K26>0,$K26<=2350),($K26/1000)+0.24,\"\"),IF(AND($K26>0,$K26<=2400),($K26/1000)+0.27,\"\")),\nIF('Main Details'!$F$10=\"2c\",IF(AND($K26>0,$K26<=2050),($K26/1000)+0.24,\"\"),IF(AND($K26>0,$K26<=2100),($K26/1000)+0.27,\"\"))\n),\"\")","v":""},{"$f":"IF($N26=\"Y\",IF('Main Details'!$G$28,\nIF('Main Details'!$F$10=\"2c\",IF(AND($K26>2350,$K26<=2650),($K26/1000)+0.3,\"\"),IF(AND($K26>2400,$K26<=2650),($K26/1000)+0.3,\"\")),\nIF('Main Details'!$F$10=\"2c\",IF(AND($K26>2050,$K26<=2250),($K26/1000)+0.3,\"\"),IF(AND($K26>2100,$K26<=2250),($K26/1000)+0.3,\"\"))\n),\"\")","v":""},{"$f":"IF($N26=\"Y\",IF('Main Details'!$G$28,\nIF('Main Details'!$F$10=\"2c\",IF(AND($K26>2650,$K26<=3450),($K26/1000)+0.3,\"\"),\"\"),\nIF('Main Details'!$F$10=\"2c\",IF(AND($K26>2250,$K26<=3000),($K26/1000)+0.3,\"\"),\"\")\n),\"\")","v":""},{"$f":"IF($N26=\"Y\",IF('Main Details'!$G$28,\nIF('Main Details'!$F$10=\"2c\",IF(AND($K26>3450,$K26<=3850),($K26/1000)+0.3,\"\"),IF(AND($K26>2650,$K26<=3850),($K26/1000)+0.3,\"\")),\nIF('Main Details'!$F$10=\"2c\",IF(AND($K26>3000,$K26<=3450),($K26/1000)+0.3,\"\"),IF(AND($K26>2250,$K26<=3450),($K26/1000)+0.3,\"\"))\n),\"\")","v":""},null,null,{"$f":"IF(AND($K26<=7199,$K26>=4001),($K26+'BUILDERS SETTINGS'!$C$15)/1000,\" \")","v":" "},null,null,0,"0","0",3,"0",4.51,3.01,null,3210]
[{"$f":"IF(#REF!>0,I27+#REF!)","v":{"$error":"#REF!"}},{"$f":"'Summary Sheet'!B86","v":0},0,"N",null,{"$f":"IF(AND(#REF!>0,G27>0),(#REF!*0.086)*(K27/1000),\" \")","v":{"$error":"#REF!"}},{"$f":"'Summary Sheet'!G86","v":0},"x",-4.1666666666666664E-2," ",{"$f":"'Summary Sheet'!C86","v":0},0,0,null,null,{"$f":"IF('Main Details'!$G$28,IF(AND($K27>0,$K27<=1600,$B27<>\"GOB\"),($K27/1000)+0.2,\"\"),IF(AND($K27>0,$K27<=1200),($K27/1000)+0.2,\"\"))","v":""},"",{"$f":"IF('Main Details'!$G$28,IF(AND($K27>1600,$K27<=1900),($K27/1000)+0.2,\"\"),IF(AND($K27>1200,$K27<=1500),($K27/1000)+0.2,\"\"))","v":""},"",{"$f":"IF('Main Details'!$G$28,IF(AND($K27>1900,$K27<=2600),($K27/1000)+0.27,\"\"),IF(AND($K27>1500,$K27<=2200),($K27/1000)+0.27,\"\"))","v":""},"",{"$f":"IF('Main Details'!$G$28,IF(AND($K27>2600,$K27<=3100),($K27/1000)+0.3,\"\"),IF(AND($K27>2200,$K27<=2600),($K27/1000)+0.3,\"\"))","v":""},"",{"$f":"IF('Main Details'!$G$28,IF(AND($K27>3100,$K27<=3450),($K27/1000)+0.3,\"\"),IF(AND($K27>2600,$K27<=3000),($K27/1000)+0.3,\"\"))","v":""},"",{"$f":"IF('Main Details'!$G$28,IF(AND($K27>3450,$K27<=3850),($K27/1000)+0.3,\"\"),IF(AND($K27>3000,$K27<=3450),($K27/1000)+0.3,\"\"))","v":""},"",null,0," ",{"$f":"IF(OR($N27=\"Y\",$B27=\"GOB\"),IF('Main Details'!$G$28,\nIF('Main Details'!$F$10=\"2c\",IF(AND($K27>0,$K27<=2350),($K27/1000)+0.24,\"\"),IF(AND($K27>0,$K27<=2400),($K27/1000)+0.27,\"\")),\nIF('Main Details'!$F$10=\"2c\",IF(AND($K27>0,$K27<=2050),($K27/1000)+0.24,\"\"),IF(AND($K27>0,$K27<=2100),($K27/1000)+0.27,\"\"))\n),\"\")","v":""},{"$f":"IF($N27=\"Y\",IF('Main Details'!$G$28,\nIF('Main Details'!$F$10=\"2c\",IF(AND($K27>2350,$K27<=2650),($K27/1000)+0.3,\"\"),IF(AND($K27>2400,$K27<=2650),($K27/1000)+0.3,\"\")),\nIF('Main Details'!$F$10=\"2c\",IF(AND($K27>2050,$K27<=2250),($K27/1000)+0.3,\"\"),IF(AND($K27>2100,$K27<=2250),($K27/1000)+0.3,\"\"))\n),\"\")","v":""},{"$f":"IF($N27=\"Y\",IF('Main Details'!$G$28,\nIF('Main Details'!$F$10=\"2c\",IF(AND($K27>2650,$K27<=3450),($K27/1000)+0.3,\"\"),\"\"),\nIF('Main Details'!$F$10=\"2c\",IF(AND($K27>2250,$K27<=3000),($K27/1000)+0.3,\"\"),\"\")\n),\"\")","v":""},{"$f":"IF($N27=\"Y\",IF('Main Details'!$G$28,\nIF('Main Details'!$F$10=\"2c\",IF(AND($K27>3450,$K27<=3850),($K27/1000)+0.3,\"\"),IF(AND($K27>2650,$K27<=3850),($K27/1000)+0.3,\"\")),\nIF('Main Details'!$F$10=\"2c\",IF(AND($K27>3000,$K27<=3450),($K27/1000)+0.3,\"\"),IF(AND($K27>2250,$K27<=3450),($K27/1000)+0.3,\"\"))\n),\"\")","v":""},null,null,{"$f":"IF(AND($K27<=7199,$K27>=4001),($K27+'BUILDERS SETTINGS'!$C$15)/1000,\" \")","v":" "},null,null,0,"0","0","0","0",0,0,null,200]
[{"$f":"IF(#REF!>0,I28+#REF!)","v":{"$error":"#REF!"}},{"$f":"'Summary Sheet'!B87","v":0},0,"N",null,{"$f":"IF(AND(#REF!>0,G28>0),(#REF!*0.086)*(K28/1000),\" \")","v":{"$error":"#REF!"}},{"$f":"'Summary Sheet'!G87","v":0},"x",-4.1666666666666664E-2," ",{"$f":"'Summary Sheet'!C87","v":0},0,0,null,null,{"$f":"IF('Main Details'!$G$28,IF(AND($K28>0,$K28<=1600,$B28<>\"GOB\"),($K28/1000)+0.2,\"\"),IF(AND($K28>0,$K28<=1200),($K28/1000)+0.2,\"\"))","v":""},"",{"$f":"IF('Main Details'!$G$28,IF(AND($K28>1600,$K28<=1900),($K28/1000)+0.2,\"\"),IF(AND($K28>1200,$K28<=1500),($K28/1000)+0.2,\"\"))","v":""},"",{"$f":"IF('Main Details'!$G$28,IF(AND($K28>1900,$K28<=2600),($K28/1000)+0.27,\"\"),IF(AND($K28>1500,$K28<=2200),($K28/1000)+0.27,\"\"))","v":""},"",{"$f":"IF('Main Details'!$G$28,IF(AND($K28>2600,$K28<=3100),($K28/1000)+0.3,\"\"),IF(AND($K28>2200,$K28<=2600),($K28/1000)+0.3,\"\"))","v":""},"",{"$f":"IF('Main Details'!$G$28,IF(AND($K28>3100,$K28<=3450),($K28/1000)+0.3,\"\"),IF(AND($K28>2600,$K28<=3000),($K28/1000)+0.3,\"\"))","v":""},"",{"$f":"IF('Main Details'!$G$28,IF(AND($K28>3450,$K28<=3850),($K28/1000)+0.3,\"\"),IF(AND($K28>3000,$K28<=3450),($K28/1000)+0.3,\"\"))","v":""},"",null,0," ",{"$f":"IF(OR($N28=\"Y\",$B28=\"GOB\"),IF('Main Details'!$G$28,\nIF('Main Details'!$F$10=\"2c\",IF(AND($K28>0,$K28<=2350),($K28/1000)+0.24,\"\"),IF(AND($K28>0,$K28<=2400),($K28/1000)+0.27,\"\")),\nIF('Main Details'!$F$10=\"2c\",IF(AND($K28>0,$K28<=2050),($K28/1000)+0.24,\"\"),IF(AND($K28>0,$K28<=2100),($K28/1000)+0.27,\"\"))\n),\"\")","v":""},{"$f":"IF($N28=\"Y\",IF('Main Details'!$G$28,\nIF('Main Details'!$F$10=\"2c\",IF(AND($K28>2350,$K28<=2650),($K28/1000)+0.3,\"\"),IF(AND($K28>2400,$K28<=2650),($K28/1000)+0.3,\"\")),\nIF('Main Details'!$F$10=\"2c\",IF(AND($K28>2050,$K28<=2250),($K28/1000)+0.3,\"\"),IF(AND($K28>2100,$K28<=2250),($K28/1000)+0.3,\"\"))\n),\"\")","v":""},{"$f":"IF($N28=\"Y\",IF('Main Details'!$G$28,\nIF('Main Details'!$F$10=\"2c\",IF(AND($K28>2650,$K28<=3450),($K28/1000)+0.3,\"\"),\"\"),\nIF('Main Details'!$F$10=\"2c\",IF(AND($K28>2250,$K28<=3000),($K28/1000)+0.3,\"\"),\"\")\n),\"\")","v":""},{"$f":"IF($N28=\"Y\",IF('Main Details'!$G$28,\nIF('Main Details'!$F$10=\"2c\",IF(AND($K28>3450,$K28<=3850),($K28/1000)+0.3,\"\"),IF(AND($K28>2650,$K28<=3850),($K28/1000)+0.3,\"\")),\nIF('Main Details'!$F$10=\"2c\",IF(AND($K28>3000,$K28<=3450),($K28/1000)+0.3,\"\"),IF(AND($K28>2250,$K28<=3450),($K28/1000)+0.3,\"\"))\n),\"\")","v":""},null,null,{"$f":"IF(AND($K28<=7199,$K28>=4001),($K28+'BUILDERS SETTINGS'!$C$15)/1000,\" \")","v":" "},null,null,0,"0","0","0","0",0,0,null,200]
[{"$f":"IF(#REF!>0,I29+#REF!)","v":{"$error":"#REF!"}},{"$f":"'Summary Sheet'!B88","v":0},0,"N",null,{"$f":"IF(AND(#REF!>0,G29>0),(#REF!*0.086)*(K29/1000),\" \")","v":{"$error":"#REF!"}},{"$f":"'Summary Sheet'!G88","v":0},"x",-4.1666666666666664E-2," ",{"$f":"'Summary Sheet'!C88","v":0},0,0,null,null,{"$f":"IF('Main Details'!$G$28,IF(AND($K29>0,$K29<=1600,$B29<>\"GOB\"),($K29/1000)+0.2,\"\"),IF(AND($K29>0,$K29<=1200),($K29/1000)+0.2,\"\"))","v":""},"",{"$f":"IF('Main Details'!$G$28,IF(AND($K29>1600,$K29<=1900),($K29/1000)+0.2,\"\"),IF(AND($K29>1200,$K29<=1500),($K29/1000)+0.2,\"\"))","v":""},"",{"$f":"IF('Main Details'!$G$28,IF(AND($K29>1900,$K29<=2600),($K29/1000)+0.27,\"\"),IF(AND($K29>1500,$K29<=2200),($K29/1000)+0.27,\"\"))","v":""},"",{"$f":"IF('Main Details'!$G$28,IF(AND($K29>2600,$K29<=3100),($K29/1000)+0.3,\"\"),IF(AND($K29>2200,$K29<=2600),($K29/1000)+0.3,\"\"))","v":""},"",{"$f":"IF('Main Details'!$G$28,IF(AND($K29>3100,$K29<=3450),($K29/1000)+0.3,\"\"),IF(AND($K29>2600,$K29<=3000),($K29/1000)+0.3,\"\"))","v":""},"",{"$f":"IF('Main Details'!$G$28,IF(AND($K29>3450,$K29<=3850),($K29/1000)+0.3,\"\"),IF(AND($K29>3000,$K29<=3450),($K29/1000)+0.3,\"\"))","v":""},"",null,0," ",{"$f":"IF(OR($N29=\"Y\",$B29=\"GOB\"),IF('Main Details'!$G$28,\nIF('Main Details'!$F$10=\"2c\",IF(AND($K29>0,$K29<=2350),($K29/1000)+0.24,\"\"),IF(AND($K29>0,$K29<=2400),($K29/1000)+0.27,\"\")),\nIF('Main Details'!$F$10=\"2c\",IF(AND($K29>0,$K29<=2050),($K29/1000)+0.24,\"\"),IF(AND($K29>0,$K29<=2100),($K29/1000)+0.27,\"\"))\n),\"\")","v":""},{"$f":"IF($N29=\"Y\",IF('Main Details'!$G$28,\nIF('Main Details'!$F$10=\"2c\",IF(AND($K29>2350,$K29<=2650),($K29/1000)+0.3,\"\"),IF(AND($K29>2400,$K29<=2650),($K29/1000)+0.3,\"\")),\nIF('Main Details'!$F$10=\"2c\",IF(AND($K29>2050,$K29<=2250),($K29/1000)+0.3,\"\"),IF(AND($K29>2100,$K29<=2250),($K29/1000)+0.3,\"\"))\n),\"\")","v":""},{"$f":"IF($N29=\"Y\",IF('Main Details'!$G$28,\nIF('Main Details'!$F$10=\"2c\",IF(AND($K29>2650,$K29<=3450),($K29/1000)+0.3,\"\"),\"\"),\nIF('Main Details'!$F$10=\"2c\",IF(AND($K29>2250,$K29<=3000),($K29/1000)+0.3,\"\"),\"\")\n),\"\")","v":""},{"$f":"IF($N29=\"Y\",IF('Main Details'!$G$28,\nIF('Main Details'!$F$10=\"2c\",IF(AND($K29>3450,$K29<=3850),($K29/1000)+0.3,\"\"),IF(AND($K29>2650,$K29<=3850),($K29/1000)+0.3,\"\")),\nIF('Main Details'!$F$10=\"2c\",IF(AND($K29>3000,$K29<=3450),($K29/1000)+0.3,\"\"),IF(AND($K29>2250,$K29<=3450),($K29/1000)+0.3,\"\"))\n),\"\")","v":""},null,null,{"$f":"IF(AND($K29<=7199,$K29>=4001),($K29+'BUILDERS SETTINGS'!$C$15)/1000,\" \")","v":" "},null,null,0,"0","0","0","0",0,0,null,200]
[{"$f":"IF(#REF!>0,I30+#REF!)","v":{"$error":"#REF!"}},{"$f":"'Summary Sheet'!B89","v":0},0,"N",null,{"$f":"IF(AND(#REF!>0,G30>0),(#REF!*0.086)*(K30/1000),\" \")","v":{"$error":"#REF!"}},{"$f":"'Summary Sheet'!G89","v":0},"x",-4.1666666666666664E-2," ",{"$f":"'Summary Sheet'!C89","v":0},0,0,null,null,{"$f":"IF('Main Details'!$G$28,IF(AND($K30>0,$K30<=1600,$B30<>\"GOB\"),($K30/1000)+0.2,\"\"),IF(AND($K30>0,$K30<=1200),($K30/1000)+0.2,\"\"))","v":""},"",{"$f":"IF('Main Details'!$G$28,IF(AND($K30>1600,$K30<=1900),($K30/1000)+0.2,\"\"),IF(AND($K30>1200,$K30<=1500),($K30/1000)+0.2,\"\"))","v":""},"",{"$f":"IF('Main Details'!$G$28,IF(AND($K30>1900,$K30<=2600),($K30/1000)+0.27,\"\"),IF(AND($K30>1500,$K30<=2200),($K30/1000)+0.27,\"\"))","v":""},"",{"$f":"IF('Main Details'!$G$28,IF(AND($K30>2600,$K30<=3100),($K30/1000)+0.3,\"\"),IF(AND($K30>2200,$K30<=2600),($K30/1000)+0.3,\"\"))","v":""},"",{"$f":"IF('Main Details'!$G$28,IF(AND($K30>3100,$K30<=3450),($K30/1000)+0.3,\"\"),IF(AND($K30>2600,$K30<=3000),($K30/1000)+0.3,\"\"))","v":""},"",{"$f":"IF('Main Details'!$G$28,IF(AND($K30>3450,$K30<=3850),($K30/1000)+0.3,\"\"),IF(AND($K30>3000,$K30<=3450),($K30/1000)+0.3,\"\"))","v":""},"",null,0," ",{"$f":"IF(OR($N30=\"Y\",$B30=\"GOB\"),IF('Main Details'!$G$28,\nIF('Main Details'!$F$10=\"2c\",IF(AND($K30>0,$K30<=2350),($K30/1000)+0.24,\"\"),IF(AND($K30>0,$K30<=2400),($K30/1000)+0.27,\"\")),\nIF('Main Details'!$F$10=\"2c\",IF(AND($K30>0,$K30<=2050),($K30/1000)+0.24,\"\"),IF(AND($K30>0,$K30<=2100),($K30/1000)+0.27,\"\"))\n),\"\")","v":""},{"$f":"IF($N30=\"Y\",IF('Main Details'!$G$28,\nIF('Main Details'!$F$10=\"2c\",IF(AND($K30>2350,$K30<=2650),($K30/1000)+0.3,\"\"),IF(AND($K30>2400,$K30<=2650),($K30/1000)+0.3,\"\")),\nIF('Main Details'!$F$10=\"2c\",IF(AND($K30>2050,$K30<=2250),($K30/1000)+0.3,\"\"),IF(AND($K30>2100,$K30<=2250),($K30/1000)+0.3,\"\"))\n),\"\")","v":""},{"$f":"IF($N30=\"Y\",IF('Main Details'!$G$28,\nIF('Main Details'!$F$10=\"2c\",IF(AND($K30>2650,$K30<=3450),($K30/1000)+0.3,\"\"),\"\"),\nIF('Main Details'!$F$10=\"2c\",IF(AND($K30>2250,$K30<=3000),($K30/1000)+0.3,\"\"),\"\")\n),\"\")","v":""},{"$f":"IF($N30=\"Y\",IF('Main Details'!$G$28,\nIF('Main Details'!$F$10=\"2c\",IF(AND($K30>3450,$K30<=3850),($K30/1000)+0.3,\"\"),IF(AND($K30>2650,$K30<=3850),($K30/1000)+0.3,\"\")),\nIF('Main Details'!$F$10=\"2c\",IF(AND($K30>3000,$K30<=3450),($K30/1000)+0.3,\"\"),IF(AND($K30>2250,$K30<=3450),($K30/1000)+0.3,\"\"))\n),\"\")","v":""},null,null,{"$f":"IF(AND($K30<=7199,$K30>=4001),($K30+'BUILDERS SETTINGS'!$C$15)/1000,\" \")","v":" "},null,null,0,"0","0","0","0",0,0,null,200]
[{"$f":"IF(#REF!>0,I31+#REF!)","v":{"$error":"#REF!"}},{"$f":"'Summary Sheet'!B90","v":0},0,"N",null,{"$f":"IF(AND(#REF!>0,G31>0),(#REF!*0.086)*(K31/1000),\" \")","v":{"$error":"#REF!"}},{"$f":"'Summary Sheet'!G90","v":0},"x",-4.1666666666666664E-2," ",{"$f":"'Summary Sheet'!C90","v":0},0,0,null,null,{"$f":"IF('Main Details'!$G$28,IF(AND($K31>0,$K31<=1600,$B31<>\"GOB\"),($K31/1000)+0.2,\"\"),IF(AND($K31>0,$K31<=1200),($K31/1000)+0.2,\"\"))","v":""},"",{"$f":"IF('Main Details'!$G$28,IF(AND($K31>1600,$K31<=1900),($K31/1000)+0.2,\"\"),IF(AND($K31>1200,$K31<=1500),($K31/1000)+0.2,\"\"))","v":""},"",{"$f":"IF('Main Details'!$G$28,IF(AND($K31>1900,$K31<=2600),($K31/1000)+0.27,\"\"),IF(AND($K31>1500,$K31<=2200),($K31/1000)+0.27,\"\"))","v":""},"",{"$f":"IF('Main Details'!$G$28,IF(AND($K31>2600,$K31<=3100),($K31/1000)+0.3,\"\"),IF(AND($K31>2200,$K31<=2600),($K31/1000)+0.3,\"\"))","v":""},"",{"$f":"IF('Main Details'!$G$28,IF(AND($K31>3100,$K31<=3450),($K31/1000)+0.3,\"\"),IF(AND($K31>2600,$K31<=3000),($K31/1000)+0.3,\"\"))","v":""},"",{"$f":"IF('Main Details'!$G$28,IF(AND($K31>3450,$K31<=3850),($K31/1000)+0.3,\"\"),IF(AND($K31>3000,$K31<=3450),($K31/1000)+0.3,\"\"))","v":""},"",null,0," ",{"$f":"IF(OR($N31=\"Y\",$B31=\"GOB\"),IF('Main Details'!$G$28,\nIF('Main Details'!$F$10=\"2c\",IF(AND($K31>0,$K31<=2350),($K31/1000)+0.24,\"\"),IF(AND($K31>0,$K31<=2400),($K31/1000)+0.27,\"\")),\nIF('Main Details'!$F$10=\"2c\",IF(AND($K31>0,$K31<=2050),($K31/1000)+0.24,\"\"),IF(AND($K31>0,$K31<=2100),($K31/1000)+0.27,\"\"))\n),\"\")","v":""},{"$f":"IF($N31=\"Y\",IF('Main Details'!$G$28,\nIF('Main Details'!$F$10=\"2c\",IF(AND($K31>2350,$K31<=2650),($K31/1000)+0.3,\"\"),IF(AND($K31>2400,$K31<=2650),($K31/1000)+0.3,\"\")),\nIF('Main Details'!$F$10=\"2c\",IF(AND($K31>2050,$K31<=2250),($K31/1000)+0.3,\"\"),IF(AND($K31>2100,$K31<=2250),($K31/1000)+0.3,\"\"))\n),\"\")","v":""},{"$f":"IF($N31=\"Y\",IF('Main Details'!$G$28,\nIF('Main Details'!$F$10=\"2c\",IF(AND($K31>2650,$K31<=3450),($K31/1000)+0.3,\"\"),\"\"),\nIF('Main Details'!$F$10=\"2c\",IF(AND($K31>2250,$K31<=3000),($K31/1000)+0.3,\"\"),\"\")\n),\"\")","v":""},{"$f":"IF($N31=\"Y\",IF('Main Details'!$G$28,\nIF('Main Details'!$F$10=\"2c\",IF(AND($K31>3450,$K31<=3850),($K31/1000)+0.3,\"\"),IF(AND($K31>2650,$K31<=3850),($K31/1000)+0.3,\"\")),\nIF('Main Details'!$F$10=\"2c\",IF(AND($K31>3000,$K31<=3450),($K31/1000)+0.3,\"\"),IF(AND($K31>2250,$K31<=3450),($K31/1000)+0.3,\"\"))\n),\"\")","v":""},null,null,{"$f":"IF(AND($K31<=7199,$K31>=4001),($K31+'BUILDERS SETTINGS'!$C$15)/1000,\" \")","v":" "},null,null,0,"0","0","0","0",0,0,null,200]
[{"$f":"IF(#REF!>0,I32+#REF!)","v":{"$error":"#REF!"}},{"$f":"'Summary Sheet'!B91","v":0},0,"N",null,{"$f":"IF(AND(#REF!>0,G32>0),(#REF!*0.086)*(K32/1000),\" \")","v":{"$error":"#REF!"}},{"$f":"'Summary Sheet'!G91","v":0},"x",-4.1666666666666664E-2," ",{"$f":"'Summary Sheet'!C91","v":0},0,0,null,null,{"$f":"IF('Main Details'!$G$28,IF(AND($K32>0,$K32<=1600,$B32<>\"GOB\"),($K32/1000)+0.2,\"\"),IF(AND($K32>0,$K32<=1200),($K32/1000)+0.2,\"\"))","v":""},"",{"$f":"IF('Main Details'!$G$28,IF(AND($K32>1600,$K32<=1900),($K32/1000)+0.2,\"\"),IF(AND($K32>1200,$K32<=1500),($K32/1000)+0.2,\"\"))","v":""},"",{"$f":"IF('Main Details'!$G$28,IF(AND($K32>1900,$K32<=2600),($K32/1000)+0.27,\"\"),IF(AND($K32>1500,$K32<=2200),($K32/1000)+0.27,\"\"))","v":""},"",{"$f":"IF('Main Details'!$G$28,IF(AND($K32>2600,$K32<=3100),($K32/1000)+0.3,\"\"),IF(AND($K32>2200,$K32<=2600),($K32/1000)+0.3,\"\"))","v":""},"",{"$f":"IF('Main Details'!$G$28,IF(AND($K32>3100,$K32<=3450),($K32/1000)+0.3,\"\"),IF(AND($K32>2600,$K32<=3000),($K32/1000)+0.3,\"\"))","v":""},"",{"$f":"IF('Main Details'!$G$28,IF(AND($K32>3450,$K32<=3850),($K32/1000)+0.3,\"\"),IF(AND($K32>3000,$K32<=3450),($K32/1000)+0.3,\"\"))","v":""},"",null,0," ",{"$f":"IF(OR($N32=\"Y\",$B32=\"GOB\"),IF('Main Details'!$G$28,\nIF('Main Details'!$F$10=\"2c\",IF(AND($K32>0,$K32<=2350),($K32/1000)+0.24,\"\"),IF(AND($K32>0,$K32<=2400),($K32/1000)+0.27,\"\")),\nIF('Main Details'!$F$10=\"2c\",IF(AND($K32>0,$K32<=2050),($K32/1000)+0.24,\"\"),IF(AND($K32>0,$K32<=2100),($K32/1000)+0.27,\"\"))\n),\"\")","v":""},{"$f":"IF($N32=\"Y\",IF('Main Details'!$G$28,\nIF('Main Details'!$F$10=\"2c\",IF(AND($K32>2350,$K32<=2650),($K32/1000)+0.3,\"\"),IF(AND($K32>2400,$K32<=2650),($K32/1000)+0.3,\"\")),\nIF('Main Details'!$F$10=\"2c\",IF(AND($K32>2050,$K32<=2250),($K32/1000)+0.3,\"\"),IF(AND($K32>2100,$K32<=2250),($K32/1000)+0.3,\"\"))\n),\"\")","v":""},{"$f":"IF($N32=\"Y\",IF('Main Details'!$G$28,\nIF('Main Details'!$F$10=\"2c\",IF(AND($K32>2650,$K32<=3450),($K32/1000)+0.3,\"\"),\"\"),\nIF('Main Details'!$F$10=\"2c\",IF(AND($K32>2250,$K32<=3000),($K32/1000)+0.3,\"\"),\"\")\n),\"\")","v":""},{"$f":"IF($N32=\"Y\",IF('Main Details'!$G$28,\nIF('Main Details'!$F$10=\"2c\",IF(AND($K32>3450,$K32<=3850),($K32/1000)+0.3,\"\"),IF(AND($K32>2650,$K32<=3850),($K32/1000)+0.3,\"\")),\nIF('Main Details'!$F$10=\"2c\",IF(AND($K32>3000,$K32<=3450),($K32/1000)+0.3,\"\"),IF(AND($K32>2250,$K32<=3450),($K32/1000)+0.3,\"\"))\n),\"\")","v":""},null,null,{"$f":"IF(AND($K32<=7199,$K32>=4001),($K32+'BUILDERS SETTINGS'!$C$15)/1000,\" \")","v":" "},null,null,0,"0","0","0","0",0,0,null,200]
[{"$f":"IF(#REF!>0,I33+#REF!)","v":{"$error":"#REF!"}},null,0,"N",null,{"$f":"IF(AND(#REF!>0,G33>0),(#REF!*0.086)*(K33/1000),\" \")","v":{"$error":"#REF!"}},null,"x"," "," ",null,0,0,null,null,{"$f":"IF('Main Details'!$G$28,IF(AND($K33>0,$K33<=1600,$B33<>\"GOB\"),($K33/1000)+0.2,\"\"),IF(AND($K33>0,$K33<=1200),($K33/1000)+0.2,\"\"))","v":""},"",{"$f":"IF('Main Details'!$G$28,IF(AND($K33>1600,$K33<=1900),($K33/1000)+0.2,\"\"),IF(AND($K33>1200,$K33<=1500),($K33/1000)+0.2,\"\"))","v":""},"",{"$f":"IF('Main Details'!$G$28,IF(AND($K33>1900,$K33<=2600),($K33/1000)+0.27,\"\"),IF(AND($K33>1500,$K33<=2200),($K33/1000)+0.27,\"\"))","v":""},"",{"$f":"IF('Main Details'!$G$28,IF(AND($K33>2600,$K33<=3100),($K33/1000)+0.3,\"\"),IF(AND($K33>2200,$K33<=2600),($K33/1000)+0.3,\"\"))","v":""},"",{"$f":"IF('Main Details'!$G$28,IF(AND($K33>3100,$K33<=3450),($K33/1000)+0.3,\"\"),IF(AND($K33>2600,$K33<=3000),($K33/1000)+0.3,\"\"))","v":""},"",{"$f":"IF('Main Details'!$G$28,IF(AND($K33>3450,$K33<=3850),($K33/1000)+0.3,\"\"),IF(AND($K33>3000,$K33<=3450),($K33/1000)+0.3,\"\"))","v":""},"",null,0," ",{"$f":"IF(OR($N33=\"Y\",$B33=\"GOB\"),IF('Main Details'!$G$28,\nIF('Main Details'!$F$10=\"2c\",IF(AND($K33>0,$K33<=2350),($K33/1000)+0.24,\"\"),IF(AND($K33>0,$K33<=2400),($K33/1000)+0.27,\"\")),\nIF('Main Details'!$F$10=\"2c\",IF(AND($K33>0,$K33<=2050),($K33/1000)+0.24,\"\"),IF(AND($K33>0,$K33<=2100),($K33/1000)+0.27,\"\"))\n),\"\")","v":""},{"$f":"IF($N33=\"Y\",IF('Main Details'!$G$28,\nIF('Main Details'!$F$10=\"2c\",IF(AND($K33>2350,$K33<=2650),($K33/1000)+0.3,\"\"),IF(AND($K33>2400,$K33<=2650),($K33/1000)+0.3,\"\")),\nIF('Main Details'!$F$10=\"2c\",IF(AND($K33>2050,$K33<=2250),($K33/1000)+0.3,\"\"),IF(AND($K33>2100,$K33<=2250),($K33/1000)+0.3,\"\"))\n),\"\")","v":""},{"$f":"IF($N33=\"Y\",IF('Main Details'!$G$28,\nIF('Main Details'!$F$10=\"2c\",IF(AND($K33>2650,$K33<=3450),($K33/1000)+0.3,\"\"),\"\"),\nIF('Main Details'!$F$10=\"2c\",IF(AND($K33>2250,$K33<=3000),($K33/1000)+0.3,\"\"),\"\")\n),\"\")","v":""},{"$f":"IF($N33=\"Y\",IF('Main Details'!$G$28,\nIF('Main Details'!$F$10=\"2c\",IF(AND($K33>3450,$K33<=3850),($K33/1000)+0.3,\"\"),IF(AND($K33>2650,$K33<=3850),($K33/1000)+0.3,\"\")),\nIF('Main Details'!$F$10=\"2c\",IF(AND($K33>3000,$K33<=3450),($K33/1000)+0.3,\"\"),IF(AND($K33>2250,$K33<=3450),($K33/1000)+0.3,\"\"))\n),\"\")","v":""},null,null,{"$f":"IF(AND($K33<=7199,$K33>=4001),($K33+'BUILDERS SETTINGS'!$C$15)/1000,\" \")","v":" "},null,null,0,"0","0","0","0",0,0,null,200]
[{"$f":"IF(#REF!>0,I34+#REF!)","v":{"$error":"#REF!"}},null,0,"N",null,{"$f":"IF(AND(#REF!>0,G34>0),(#REF!*0.086)*(K34/1000),\" \")","v":{"$error":"#REF!"}},{"$f":"'Summary Sheet'!G93","v":0},"x",-4.1666666666666664E-2," ",{"$f":"'Summary Sheet'!C93","v":0},0,0,null,null,{"$f":"IF('Main Details'!$G$28,IF(AND($K34>0,$K34<=1600,$B34<>\"GOB\"),($K34/1000)+0.2,\"\"),IF(AND($K34>0,$K34<=1200),($K34/1000)+0.2,\"\"))","v":""},"",{"$f":"IF('Main Details'!$G$28,IF(AND($K34>1600,$K34<=1900),($K34/1000)+0.2,\"\"),IF(AND($K34>1200,$K34<=1500),($K34/1000)+0.2,\"\"))","v":""},"",{"$f":"IF('Main Details'!$G$28,IF(AND($K34>1900,$K34<=2600),($K34/1000)+0.27,\"\"),IF(AND($K34>1500,$K34<=2200),($K34/1000)+0.27,\"\"))","v":""},"",{"$f":"IF('Main Details'!$G$28,IF(AND($K34>2600,$K34<=3100),($K34/1000)+0.3,\"\"),IF(AND($K34>2200,$K34<=2600),($K34/1000)+0.3,\"\"))","v":""},"",{"$f":"IF('Main Details'!$G$28,IF(AND($K34>3100,$K34<=3450),($K34/1000)+0.3,\"\"),IF(AND($K34>2600,$K34<=3000),($K34/1000)+0.3,\"\"))","v":""},"",{"$f":"IF('Main Details'!$G$28,IF(AND($K34>3450,$K34<=3850),($K34/1000)+0.3,\"\"),IF(AND($K34>3000,$K34<=3450),($K34/1000)+0.3,\"\"))","v":""},"",null,0," ",{"$f":"IF(OR($N34=\"Y\",$B34=\"GOB\"),IF('Main Details'!$G$28,\nIF('Main Details'!$F$10=\"2c\",IF(AND($K34>0,$K34<=2350),($K34/1000)+0.24,\"\"),IF(AND($K34>0,$K34<=2400),($K34/1000)+0.27,\"\")),\nIF('Main Details'!$F$10=\"2c\",IF(AND($K34>0,$K34<=2050),($K34/1000)+0.24,\"\"),IF(AND($K34>0,$K34<=2100),($K34/1000)+0.27,\"\"))\n),\"\")","v":""},{"$f":"IF($N34=\"Y\",IF('Main Details'!$G$28,\nIF('Main Details'!$F$10=\"2c\",IF(AND($K34>2350,$K34<=2650),($K34/1000)+0.3,\"\"),IF(AND($K34>2400,$K34<=2650),($K34/1000)+0.3,\"\")),\nIF('Main Details'!$F$10=\"2c\",IF(AND($K34>2050,$K34<=2250),($K34/1000)+0.3,\"\"),IF(AND($K34>2100,$K34<=2250),($K34/1000)+0.3,\"\"))\n),\"\")","v":""},{"$f":"IF($N34=\"Y\",IF('Main Details'!$G$28,\nIF('Main Details'!$F$10=\"2c\",IF(AND($K34>2650,$K34<=3450),($K34/1000)+0.3,\"\"),\"\"),\nIF('Main Details'!$F$10=\"2c\",IF(AND($K34>2250,$K34<=3000),($K34/1000)+0.3,\"\"),\"\")\n),\"\")","v":""},{"$f":"IF($N34=\"Y\",IF('Main Details'!$G$28,\nIF('Main Details'!$F$10=\"2c\",IF(AND($K34>3450,$K34<=3850),($K34/1000)+0.3,\"\"),IF(AND($K34>2650,$K34<=3850),($K34/1000)+0.3,\"\")),\nIF('Main Details'!$F$10=\"2c\",IF(AND($K34>3000,$K34<=3450),($K34/1000)+0.3,\"\"),IF(AND($K34>2250,$K34<=3450),($K34/1000)+0.3,\"\"))\n),\"\")","v":""},null,null,{"$f":"IF(AND($K34<=7199,$K34>=4001),($K34+'BUILDERS SETTINGS'!$C$15)/1000,\" \")","v":" "},null,null,0,"0","0","0","0",0,0,null,200]
[{"$f":"IF(#REF!>0,I35+#REF!)","v":{"$error":"#REF!"}},{"$f":"'Summary Sheet'!B94","v":0},0,"N",null,{"$f":"IF(AND(#REF!>0,G35>0),(#REF!*0.086)*(K35/1000),\" \")","v":{"$error":"#REF!"}},{"$f":"'Summary Sheet'!G94","v":0},"x",-4.1666666666666664E-2," ",{"$f":"'Summary Sheet'!C94","v":0},0,0,null,null,{"$f":"IF('Main Details'!$G$28,IF(AND($K35>0,$K35<=1600,$B35<>\"GOB\"),($K35/1000)+0.2,\"\"),IF(AND($K35>0,$K35<=1200),($K35/1000)+0.2,\"\"))","v":""},"",{"$f":"IF('Main Details'!$G$28,IF(AND($K35>1600,$K35<=1900),($K35/1000)+0.2,\"\"),IF(AND($K35>1200,$K35<=1500),($K35/1000)+0.2,\"\"))","v":""},"",{"$f":"IF('Main Details'!$G$28,IF(AND($K35>1900,$K35<=2600),($K35/1000)+0.27,\"\"),IF(AND($K35>1500,$K35<=2200),($K35/1000)+0.27,\"\"))","v":""},"",{"$f":"IF('Main Details'!$G$28,IF(AND($K35>2600,$K35<=3100),($K35/1000)+0.3,\"\"),IF(AND($K35>2200,$K35<=2600),($K35/1000)+0.3,\"\"))","v":""},"",{"$f":"IF('Main Details'!$G$28,IF(AND($K35>3100,$K35<=3450),($K35/1000)+0.3,\"\"),IF(AND($K35>2600,$K35<=3000),($K35/1000)+0.3,\"\"))","v":""},"",{"$f":"IF('Main Details'!$G$28,IF(AND($K35>3450,$K35<=3850),($K35/1000)+0.3,\"\"),IF(AND($K35>3000,$K35<=3450),($K35/1000)+0.3,\"\"))","v":""},"",null,0," ",{"$f":"IF(OR($N35=\"Y\",$B35=\"GOB\"),IF('Main Details'!$G$28,\nIF('Main Details'!$F$10=\"2c\",IF(AND($K35>0,$K35<=2350),($K35/1000)+0.24,\"\"),IF(AND($K35>0,$K35<=2400),($K35/1000)+0.27,\"\")),\nIF('Main Details'!$F$10=\"2c\",IF(AND($K35>0,$K35<=2050),($K35/1000)+0.24,\"\"),IF(AND($K35>0,$K35<=2100),($K35/1000)+0.27,\"\"))\n),\"\")","v":""},{"$f":"IF($N35=\"Y\",IF('Main Details'!$G$28,\nIF('Main Details'!$F$10=\"2c\",IF(AND($K35>2350,$K35<=2650),($K35/1000)+0.3,\"\"),IF(AND($K35>2400,$K35<=2650),($K35/1000)+0.3,\"\")),\nIF('Main Details'!$F$10=\"2c\",IF(AND($K35>2050,$K35<=2250),($K35/1000)+0.3,\"\"),IF(AND($K35>2100,$K35<=2250),($K35/1000)+0.3,\"\"))\n),\"\")","v":""},{"$f":"IF($N35=\"Y\",IF('Main Details'!$G$28,\nIF('Main Details'!$F$10=\"2c\",IF(AND($K35>2650,$K35<=3450),($K35/1000)+0.3,\"\"),\"\"),\nIF('Main Details'!$F$10=\"2c\",IF(AND($K35>2250,$K35<=3000),($K35/1000)+0.3,\"\"),\"\")\n),\"\")","v":""},{"$f":"IF($N35=\"Y\",IF('Main Details'!$G$28,\nIF('Main Details'!$F$10=\"2c\",IF(AND($K35>3450,$K35<=3850),($K35/1000)+0.3,\"\"),IF(AND($K35>2650,$K35<=3850),($K35/1000)+0.3,\"\")),\nIF('Main Details'!$F$10=\"2c\",IF(AND($K35>3000,$K35<=3450),($K35/1000)+0.3,\"\"),IF(AND($K35>2250,$K35<=3450),($K35/1000)+0.3,\"\"))\n),\"\")","v":""},null,null,{"$f":"IF(AND($K35<=7199,$K35>=4001),($K35+'BUILDERS SETTINGS'!$C$15)/1000,\" \")","v":" "},null,null,0,"0","0","0","0",0,0,null,200]
[{"$f":"IF(#REF!>0,I36+#REF!)","v":{"$error":"#REF!"}},{"$f":"'Summary Sheet'!B95","v":0},0,"N",null,{"$f":"IF(AND(#REF!>0,G36>0),(#REF!*0.086)*(K36/1000),\" \")","v":{"$error":"#REF!"}},{"$f":"'Summary Sheet'!G95","v":0},"x",-4.1666666666666664E-2," ",{"$f":"'Summary Sheet'!C95","v":0},0,0,null,null,{"$f":"IF('Main Details'!$G$28,IF(AND($K36>0,$K36<=1600,$B36<>\"GOB\"),($K36/1000)+0.2,\"\"),IF(AND($K36>0,$K36<=1200),($K36/1000)+0.2,\"\"))","v":""},"",{"$f":"IF('Main Details'!$G$28,IF(AND($K36>1600,$K36<=1900),($K36/1000)+0.2,\"\"),IF(AND($K36>1200,$K36<=1500),($K36/1000)+0.2,\"\"))","v":""},"",{"$f":"IF('Main Details'!$G$28,IF(AND($K36>1900,$K36<=2600),($K36/1000)+0.27,\"\"),IF(AND($K36>1500,$K36<=2200),($K36/1000)+0.27,\"\"))","v":""},"",{"$f":"IF('Main Details'!$G$28,IF(AND($K36>2600,$K36<=3100),($K36/1000)+0.3,\"\"),IF(AND($K36>2200,$K36<=2600),($K36/1000)+0.3,\"\"))","v":""},"",{"$f":"IF('Main Details'!$G$28,IF(AND($K36>3100,$K36<=3450),($K36/1000)+0.3,\"\"),IF(AND($K36>2600,$K36<=3000),($K36/1000)+0.3,\"\"))","v":""},"",{"$f":"IF('Main Details'!$G$28,IF(AND($K36>3450,$K36<=3850),($K36/1000)+0.3,\"\"),IF(AND($K36>3000,$K36<=3450),($K36/1000)+0.3,\"\"))","v":""},"",null,0," ",{"$f":"IF(OR($N36=\"Y\",$B36=\"GOB\"),IF('Main Details'!$G$28,\nIF('Main Details'!$F$10=\"2c\",IF(AND($K36>0,$K36<=2350),($K36/1000)+0.24,\"\"),IF(AND($K36>0,$K36<=2400),($K36/1000)+0.27,\"\")),\nIF('Main Details'!$F$10=\"2c\",IF(AND($K36>0,$K36<=2050),($K36/1000)+0.24,\"\"),IF(AND($K36>0,$K36<=2100),($K36/1000)+0.27,\"\"))\n),\"\")","v":""},{"$f":"IF($N36=\"Y\",IF('Main Details'!$G$28,\nIF('Main Details'!$F$10=\"2c\",IF(AND($K36>2350,$K36<=2650),($K36/1000)+0.3,\"\"),IF(AND($K36>2400,$K36<=2650),($K36/1000)+0.3,\"\")),\nIF('Main Details'!$F$10=\"2c\",IF(AND($K36>2050,$K36<=2250),($K36/1000)+0.3,\"\"),IF(AND($K36>2100,$K36<=2250),($K36/1000)+0.3,\"\"))\n),\"\")","v":""},{"$f":"IF($N36=\"Y\",IF('Main Details'!$G$28,\nIF('Main Details'!$F$10=\"2c\",IF(AND($K36>2650,$K36<=3450),($K36/1000)+0.3,\"\"),\"\"),\nIF('Main Details'!$F$10=\"2c\",IF(AND($K36>2250,$K36<=3000),($K36/1000)+0.3,\"\"),\"\")\n),\"\")","v":""},{"$f":"IF($N36=\"Y\",IF('Main Details'!$G$28,\nIF('Main Details'!$F$10=\"2c\",IF(AND($K36>3450,$K36<=3850),($K36/1000)+0.3,\"\"),IF(AND($K36>2650,$K36<=3850),($K36/1000)+0.3,\"\")),\nIF('Main Details'!$F$10=\"2c\",IF(AND($K36>3000,$K36<=3450),($K36/1000)+0.3,\"\"),IF(AND($K36>2250,$K36<=3450),($K36/1000)+0.3,\"\"))\n),\"\")","v":""},null,null,{"$f":"IF(AND($K36<=7199,$K36>=4001),($K36+'BUILDERS SETTINGS'!$C$15)/1000,\" \")","v":" "},null,null,0,"0","0","0","0",0,0,null,200]
[{"$f":"IF(#REF!>0,I37+#REF!)","v":{"$error":"#REF!"}},{"$f":"'Summary Sheet'!B96","v":0},0,"N",null,{"$f":"IF(AND(#REF!>0,G37>0),(#REF!*0.086)*(K37/1000),\" \")","v":{"$error":"#REF!"}},{"$f":"'Summary Sheet'!G96","v":0},"x",-4.1666666666666664E-2," ",{"$f":"'Summary Sheet'!C96","v":0},0,0,null,null,{"$f":"IF('Main Details'!$G$28,IF(AND($K37>0,$K37<=1600,$B37<>\"GOB\"),($K37/1000)+0.2,\"\"),IF(AND($K37>0,$K37<=1200),($K37/1000)+0.2,\"\"))","v":""},"",{"$f":"IF('Main Details'!$G$28,IF(AND($K37>1600,$K37<=1900),($K37/1000)+0.2,\"\"),IF(AND($K37>1200,$K37<=1500),($K37/1000)+0.2,\"\"))","v":""},"",{"$f":"IF('Main Details'!$G$28,IF(AND($K37>1900,$K37<=2600),($K37/1000)+0.27,\"\"),IF(AND($K37>1500,$K37<=2200),($K37/1000)+0.27,\"\"))","v":""},"",{"$f":"IF('Main Details'!$G$28,IF(AND($K37>2600,$K37<=3100),($K37/1000)+0.3,\"\"),IF(AND($K37>2200,$K37<=2600),($K37/1000)+0.3,\"\"))","v":""},"",{"$f":"IF('Main Details'!$G$28,IF(AND($K37>3100,$K37<=3450),($K37/1000)+0.3,\"\"),IF(AND($K37>2600,$K37<=3000),($K37/1000)+0.3,\"\"))","v":""},"",{"$f":"IF('Main Details'!$G$28,IF(AND($K37>3450,$K37<=3850),($K37/1000)+0.3,\"\"),IF(AND($K37>3000,$K37<=3450),($K37/1000)+0.3,\"\"))","v":""},"",null,0," ",{"$f":"IF(OR($N37=\"Y\",$B37=\"GOB\"),IF('Main Details'!$G$28,\nIF('Main Details'!$F$10=\"2c\",IF(AND($K37>0,$K37<=2350),($K37/1000)+0.24,\"\"),IF(AND($K37>0,$K37<=2400),($K37/1000)+0.27,\"\")),\nIF('Main Details'!$F$10=\"2c\",IF(AND($K37>0,$K37<=2050),($K37/1000)+0.24,\"\"),IF(AND($K37>0,$K37<=2100),($K37/1000)+0.27,\"\"))\n),\"\")","v":""},{"$f":"IF($N37=\"Y\",IF('Main Details'!$G$28,\nIF('Main Details'!$F$10=\"2c\",IF(AND($K37>2350,$K37<=2650),($K37/1000)+0.3,\"\"),IF(AND($K37>2400,$K37<=2650),($K37/1000)+0.3,\"\")),\nIF('Main Details'!$F$10=\"2c\",IF(AND($K37>2050,$K37<=2250),($K37/1000)+0.3,\"\"),IF(AND($K37>2100,$K37<=2250),($K37/1000)+0.3,\"\"))\n),\"\")","v":""},{"$f":"IF($N37=\"Y\",IF('Main Details'!$G$28,\nIF('Main Details'!$F$10=\"2c\",IF(AND($K37>2650,$K37<=3450),($K37/1000)+0.3,\"\"),\"\"),\nIF('Main Details'!$F$10=\"2c\",IF(AND($K37>2250,$K37<=3000),($K37/1000)+0.3,\"\"),\"\")\n),\"\")","v":""},{"$f":"IF($N37=\"Y\",IF('Main Details'!$G$28,\nIF('Main Details'!$F$10=\"2c\",IF(AND($K37>3450,$K37<=3850),($K37/1000)+0.3,\"\"),IF(AND($K37>2650,$K37<=3850),($K37/1000)+0.3,\"\")),\nIF('Main Details'!$F$10=\"2c\",IF(AND($K37>3000,$K37<=3450),($K37/1000)+0.3,\"\"),IF(AND($K37>2250,$K37<=3450),($K37/1000)+0.3,\"\"))\n),\"\")","v":""},null,null,{"$f":"IF(AND($K37<=7199,$K37>=4001),($K37+'BUILDERS SETTINGS'!$C$15)/1000,\" \")","v":" "},null,null,0,"0","0","0","0",0,0,null,200]
[{"$f":"IF(#REF!>0,I38+#REF!)","v":{"$error":"#REF!"}},{"$f":"'Summary Sheet'!B97","v":0},0,"N",null,{"$f":"IF(AND(#REF!>0,G38>0),(#REF!*0.086)*(K38/1000),\" \")","v":{"$error":"#REF!"}},{"$f":"'Summary Sheet'!G97","v":0},"x",-4.1666666666666664E-2," ",{"$f":"'Summary Sheet'!C97","v":0},0,0,null,null,{"$f":"IF('Main Details'!$G$28,IF(AND($K38>0,$K38<=1600,$B38<>\"GOB\"),($K38/1000)+0.2,\"\"),IF(AND($K38>0,$K38<=1200),($K38/1000)+0.2,\"\"))","v":""},"",{"$f":"IF('Main Details'!$G$28,IF(AND($K38>1600,$K38<=1900),($K38/1000)+0.2,\"\"),IF(AND($K38>1200,$K38<=1500),($K38/1000)+0.2,\"\"))","v":""},"",{"$f":"IF('Main Details'!$G$28,IF(AND($K38>1900,$K38<=2600),($K38/1000)+0.27,\"\"),IF(AND($K38>1500,$K38<=2200),($K38/1000)+0.27,\"\"))","v":""},"",{"$f":"IF('Main Details'!$G$28,IF(AND($K38>2600,$K38<=3100),($K38/1000)+0.3,\"\"),IF(AND($K38>2200,$K38<=2600),($K38/1000)+0.3,\"\"))","v":""},"",{"$f":"IF('Main Details'!$G$28,IF(AND($K38>3100,$K38<=3450),($K38/1000)+0.3,\"\"),IF(AND($K38>2600,$K38<=3000),($K38/1000)+0.3,\"\"))","v":""},"",{"$f":"IF('Main Details'!$G$28,IF(AND($K38>3450,$K38<=3850),($K38/1000)+0.3,\"\"),IF(AND($K38>3000,$K38<=3450),($K38/1000)+0.3,\"\"))","v":""},"",null,0," ",{"$f":"IF(OR($N38=\"Y\",$B38=\"GOB\"),IF('Main Details'!$G$28,\nIF('Main Details'!$F$10=\"2c\",IF(AND($K38>0,$K38<=2350),($K38/1000)+0.24,\"\"),IF(AND($K38>0,$K38<=2400),($K38/1000)+0.27,\"\")),\nIF('Main Details'!$F$10=\"2c\",IF(AND($K38>0,$K38<=2050),($K38/1000)+0.24,\"\"),IF(AND($K38>0,$K38<=2100),($K38/1000)+0.27,\"\"))\n),\"\")","v":""},{"$f":"IF($N38=\"Y\",IF('Main Details'!$G$28,\nIF('Main Details'!$F$10=\"2c\",IF(AND($K38>2350,$K38<=2650),($K38/1000)+0.3,\"\"),IF(AND($K38>2400,$K38<=2650),($K38/1000)+0.3,\"\")),\nIF('Main Details'!$F$10=\"2c\",IF(AND($K38>2050,$K38<=2250),($K38/1000)+0.3,\"\"),IF(AND($K38>2100,$K38<=2250),($K38/1000)+0.3,\"\"))\n),\"\")","v":""},{"$f":"IF($N38=\"Y\",IF('Main Details'!$G$28,\nIF('Main Details'!$F$10=\"2c\",IF(AND($K38>2650,$K38<=3450),($K38/1000)+0.3,\"\"),\"\"),\nIF('Main Details'!$F$10=\"2c\",IF(AND($K38>2250,$K38<=3000),($K38/1000)+0.3,\"\"),\"\")\n),\"\")","v":""},{"$f":"IF($N38=\"Y\",IF('Main Details'!$G$28,\nIF('Main Details'!$F$10=\"2c\",IF(AND($K38>3450,$K38<=3850),($K38/1000)+0.3,\"\"),IF(AND($K38>2650,$K38<=3850),($K38/1000)+0.3,\"\")),\nIF('Main Details'!$F$10=\"2c\",IF(AND($K38>3000,$K38<=3450),($K38/1000)+0.3,\"\"),IF(AND($K38>2250,$K38<=3450),($K38/1000)+0.3,\"\"))\n),\"\")","v":""},null,null,{"$f":"IF(AND($K38<=7199,$K38>=4001),($K38+'BUILDERS SETTINGS'!$C$15)/1000,\" \")","v":" "},null,null,0,"0","0","0","0",0,0,null,200]
[{"$f":"IF(#REF!>0,I39+#REF!)","v":{"$error":"#REF!"}},{"$f":"'Summary Sheet'!B98","v":0},0,"N",null,{"$f":"IF(AND(#REF!>0,G39>0),(#REF!*0.086)*(K39/1000),\" \")","v":{"$error":"#REF!"}},{"$f":"'Summary Sheet'!G98","v":0},"x",-4.1666666666666664E-2," ",{"$f":"'Summary Sheet'!C98","v":0},0,0,null,null,{"$f":"IF('Main Details'!$G$28,IF(AND($K39>0,$K39<=1600,$B39<>\"GOB\"),($K39/1000)+0.2,\"\"),IF(AND($K39>0,$K39<=1200),($K39/1000)+0.2,\"\"))","v":""},"",{"$f":"IF('Main Details'!$G$28,IF(AND($K39>1600,$K39<=1900),($K39/1000)+0.2,\"\"),IF(AND($K39>1200,$K39<=1500),($K39/1000)+0.2,\"\"))","v":""},"",{"$f":"IF('Main Details'!$G$28,IF(AND($K39>1900,$K39<=2600),($K39/1000)+0.27,\"\"),IF(AND($K39>1500,$K39<=2200),($K39/1000)+0.27,\"\"))","v":""},"",{"$f":"IF('Main Details'!$G$28,IF(AND($K39>2600,$K39<=3100),($K39/1000)+0.3,\"\"),IF(AND($K39>2200,$K39<=2600),($K39/1000)+0.3,\"\"))","v":""},"",{"$f":"IF('Main Details'!$G$28,IF(AND($K39>3100,$K39<=3450),($K39/1000)+0.3,\"\"),IF(AND($K39>2600,$K39<=3000),($K39/1000)+0.3,\"\"))","v":""},"",{"$f":"IF('Main Details'!$G$28,IF(AND($K39>3450,$K39<=3850),($K39/1000)+0.3,\"\"),IF(AND($K39>3000,$K39<=3450),($K39/1000)+0.3,\"\"))","v":""},"",null,0," ",{"$f":"IF(OR($N39=\"Y\",$B39=\"GOB\"),IF('Main Details'!$G$28,\nIF('Main Details'!$F$10=\"2c\",IF(AND($K39>0,$K39<=2350),($K39/1000)+0.24,\"\"),IF(AND($K39>0,$K39<=2400),($K39/1000)+0.27,\"\")),\nIF('Main Details'!$F$10=\"2c\",IF(AND($K39>0,$K39<=2050),($K39/1000)+0.24,\"\"),IF(AND($K39>0,$K39<=2100),($K39/1000)+0.27,\"\"))\n),\"\")","v":""},{"$f":"IF($N39=\"Y\",IF('Main Details'!$G$28,\nIF('Main Details'!$F$10=\"2c\",IF(AND($K39>2350,$K39<=2650),($K39/1000)+0.3,\"\"),IF(AND($K39>2400,$K39<=2650),($K39/1000)+0.3,\"\")),\nIF('Main Details'!$F$10=\"2c\",IF(AND($K39>2050,$K39<=2250),($K39/1000)+0.3,\"\"),IF(AND($K39>2100,$K39<=2250),($K39/1000)+0.3,\"\"))\n),\"\")","v":""},{"$f":"IF($N39=\"Y\",IF('Main Details'!$G$28,\nIF('Main Details'!$F$10=\"2c\",IF(AND($K39>2650,$K39<=3450),($K39/1000)+0.3,\"\"),\"\"),\nIF('Main Details'!$F$10=\"2c\",IF(AND($K39>2250,$K39<=3000),($K39/1000)+0.3,\"\"),\"\")\n),\"\")","v":""},{"$f":"IF($N39=\"Y\",IF('Main Details'!$G$28,\nIF('Main Details'!$F$10=\"2c\",IF(AND($K39>3450,$K39<=3850),($K39/1000)+0.3,\"\"),IF(AND($K39>2650,$K39<=3850),($K39/1000)+0.3,\"\")),\nIF('Main Details'!$F$10=\"2c\",IF(AND($K39>3000,$K39<=3450),($K39/1000)+0.3,\"\"),IF(AND($K39>2250,$K39<=3450),($K39/1000)+0.3,\"\"))\n),\"\")","v":""},null,null,{"$f":"IF(AND($K39<=7199,$K39>=4001),($K39+'BUILDERS SETTINGS'!$C$15)/1000,\" \")","v":" "},null,null,0,"0","0","0","0",0,0,null,200]
[{"$f":"IF(#REF!>0,I40+#REF!)","v":{"$error":"#REF!"}},{"$f":"'Summary Sheet'!B99","v":0},0,"N",null,{"$f":"IF(AND(#REF!>0,G40>0),(#REF!*0.086)*(K40/1000),\" \")","v":{"$error":"#REF!"}},null,"x",-4.1666666666666664E-2," ",{"$f":"'Summary Sheet'!C99","v":0},0,0,null,null,{"$f":"IF('Main Details'!$G$28,IF(AND($K40>0,$K40<=1600,$B40<>\"GOB\"),($K40/1000)+0.2,\"\"),IF(AND($K40>0,$K40<=1200),($K40/1000)+0.2,\"\"))","v":""},"",{"$f":"IF('Main Details'!$G$28,IF(AND($K40>1600,$K40<=1900),($K40/1000)+0.2,\"\"),IF(AND($K40>1200,$K40<=1500),($K40/1000)+0.2,\"\"))","v":""},"",{"$f":"IF('Main Details'!$G$28,IF(AND($K40>1900,$K40<=2600),($K40/1000)+0.27,\"\"),IF(AND($K40>1500,$K40<=2200),($K40/1000)+0.27,\"\"))","v":""},"",{"$f":"IF('Main Details'!$G$28,IF(AND($K40>2600,$K40<=3100),($K40/1000)+0.3,\"\"),IF(AND($K40>2200,$K40<=2600),($K40/1000)+0.3,\"\"))","v":""},"",{"$f":"IF('Main Details'!$G$28,IF(AND($K40>3100,$K40<=3450),($K40/1000)+0.3,\"\"),IF(AND($K40>2600,$K40<=3000),($K40/1000)+0.3,\"\"))","v":""},"",{"$f":"IF('Main Details'!$G$28,IF(AND($K40>3450,$K40<=3850),($K40/1000)+0.3,\"\"),IF(AND($K40>3000,$K40<=3450),($K40/1000)+0.3,\"\"))","v":""},"",null,0," ",{"$f":"IF(OR($N40=\"Y\",$B40=\"GOB\"),IF('Main Details'!$G$28,\nIF('Main Details'!$F$10=\"2c\",IF(AND($K40>0,$K40<=2350),($K40/1000)+0.24,\"\"),IF(AND($K40>0,$K40<=2400),($K40/1000)+0.27,\"\")),\nIF('Main Details'!$F$10=\"2c\",IF(AND($K40>0,$K40<=2050),($K40/1000)+0.24,\"\"),IF(AND($K40>0,$K40<=2100),($K40/1000)+0.27,\"\"))\n),\"\")","v":""},{"$f":"IF($N40=\"Y\",IF('Main Details'!$G$28,\nIF('Main Details'!$F$10=\"2c\",IF(AND($K40>2350,$K40<=2650),($K40/1000)+0.3,\"\"),IF(AND($K40>2400,$K40<=2650),($K40/1000)+0.3,\"\")),\nIF('Main Details'!$F$10=\"2c\",IF(AND($K40>2050,$K40<=2250),($K40/1000)+0.3,\"\"),IF(AND($K40>2100,$K40<=2250),($K40/1000)+0.3,\"\"))\n),\"\")","v":""},{"$f":"IF($N40=\"Y\",IF('Main Details'!$G$28,\nIF('Main Details'!$F$10=\"2c\",IF(AND($K40>2650,$K40<=3450),($K40/1000)+0.3,\"\"),\"\"),\nIF('Main Details'!$F$10=\"2c\",IF(AND($K40>2250,$K40<=3000),($K40/1000)+0.3,\"\"),\"\")\n),\"\")","v":""},{"$f":"IF($N40=\"Y\",IF('Main Details'!$G$28,\nIF('Main Details'!$F$10=\"2c\",IF(AND($K40>3450,$K40<=3850),($K40/1000)+0.3,\"\"),IF(AND($K40>2650,$K40<=3850),($K40/1000)+0.3,\"\")),\nIF('Main Details'!$F$10=\"2c\",IF(AND($K40>3000,$K40<=3450),($K40/1000)+0.3,\"\"),IF(AND($K40>2250,$K40<=3450),($K40/1000)+0.3,\"\"))\n),\"\")","v":""},null,null,{"$f":"IF(AND($K40<=7199,$K40>=4001),($K40+'BUILDERS SETTINGS'!$C$15)/1000,\" \")","v":" "},null,null,0,"0","0","0","0",0,0,null,200]
[null,null,{"$f":"SUM(C9:C40)","v":0},null,null,{"$f":"SUM(F9:F40)","v":{"$error":"#REF!"}},null,null,null,{"$f":"SUM(J10:J40)","v":329.99325000000005},null,0,null,null,{"$f":"SUM(O9:O40)","v":0},{"$f":"SUM(P10:P40)","v":7.31},null,{"$f":"SUM(R10:R40)","v":7.84},null,{"$f":"SUM(T10:T40)","v":2.68},null,{"$f":"SUM(V10:V40)","v":16.309999999999995},null,6.8199999999999994,null,0,null,0,null,32,{"$f":"SUM(AE10:AE40)","v":0},{"$f":"SUM(AF10:AF40)","v":0},0,0,0,null,{"$f":"SUM(AK9:AK40)","v":0},{"$f":"AE41+AF41+AG41+AH41+AI41+AK41","v":0},"Total",{"$f":"SUM(AN10:AN40)/1000","v":0},null,null,null,null,{"$f":"SUM(AS10:AS40)","v":62.289999999999992},{"$f":"SUM(AT10:AT40)","v":36.790000000000006}]
[null,null,null,null,null,null,null,null,null,null,null,null,null,null,null,null,{"$f":"SUM(Q10:Q40)","v":6.2},null,{"$f":"SUM(S10:S40)","v":7.84},null,{"$f":"SUM(U10:U40)","v":2.68},null,{"$f":"SUM(W10:W40)","v":16.309999999999995},null,{"$f":"SUM(Y10:Y40)","v":6.8199999999999994},null,{"$f":"SUM(AA10:AA40)","v":0},null,{"$f":"SUM(AC10:AC40)","v":0}]
[{"$f":"SUM(A9:A40)","v":{"$error":"#REF!"}},"Window Openings m2",null,null,null,null,null,null,null,null,{"$f":"SUM(L10:L41)","v":79.558350000000004},null,{"$f":"SUM(K9:K40)/1000","v":36.79},null,null,null,null,"L/M TOTAL OPENINGS=",null,null,null,null,null,{"$f":"SUM(K9:K40)/1000","v":36.79},null,"TOTAL LENGTH ALL LINTELS OF THE SAME DIMENSIONS=",null,null,null,null,null,null,null,null,{"$f":"X41+AG41","v":6.8199999999999994},{"$f":"Z41+AH41","v":0},{"$f":"AB41+AI41","v":0},"EXTERNAL LINTELS"]
[null,null,null,null,null,null,null,null,null,null,null,null,null,null,null,null,null,null,null,null,null,"qty",null,"Extras",null,null,null,null,null,null,"Column Base Plates = ",null,null,{"$f":"SUM(AG46,AG47,AG48)","v":0},{"$f":"_xlfn.IFNA(VLOOKUP('Main Details'!D33,Lists!Y6:AA9,3,FALSE),\"\")","v":"600g/m2"}]
[null,"TOTAL LENGTH OF OPENINGS=",null,null,null,null,null,null,null,null,null,null,null,{"$f":"SUM(K9:K40)/1000","v":36.79},"Lintel Mitre Factory Cut & Weld",null,null,null,null,null,null,null,null,null,null,null,null,null,null,null,"L/M OF SLOTS & LUGS",null,"Columns","length","H/D RODS (off centre)"]
[null,null,null,null,null,null,null,null,null,null,null,null,null,{"$f":"AE41+AF41+AG41+AH41+AI41","v":0},"Lintel Mitre Factory Cut Only",null,null,null,null,null,null,null,null,null,null,null,null,null,null,null,"INT LINTELS",{"$f":"SUM(P42:AC42)","v":39.849999999999994},null,null,"PWC 100x50x3 - 1.5m"]
[null,null,null,null,null,null,"no of windows",null,null,null,null,null,{"$f":"SUM(M10:M40)-1","v":16},null,"T-Bar Mitre Factory Cut & Weld",null,null,null,null,null,null,null,null,null,null,null,null,null,null,null,"TBARS",{"$f":"AK41","v":0},null,null,"COLUMN 50x50x3mm UP TO 3m"]
[null,null,null,null,null,null,null,null,null,null,"no of openings",null,{"$f":"SUM(M10:M41)","v":17},null,"T-Bar Mitre Factory Cut Only",null,null,null,null,null,null,null,null,null,null,null,null,null,null,null,"TOTAL",{"$f":"SUM(AF46:AF47)","v":39.849999999999994},null,null,"COLUMN 89x89x3.5mm UP TO 3m"]
[]
[]
[]
[]
[]
[]
[]
[]
[]
[]
[]
[]
[]
[]
[]
[]
[]
[]
[]
[]
[]
[]
[]
[]
[]
[]
[]
[]
[]
[]
[]
[]
[]
[]
[]
[]
[]
[]
[]
[]
[]
[]
[]
[]
[]
[]
[]
[]
[]
[]
[]
[]
[]
[]
[]
[]
[]
[]
[]
[]
[]
[]
[]
[]
[]
[]
[]
[]
[]
[]
[]
[]
[]
[]
[]
[]
[]
[]
[]
[null,null,{"$f":"IF(D128=\"Y\",G128*I128,0)","v":0},"N",null,{"$f":"IF(AND(#REF!>0,G128>0),(#REF!*0.086)*(K128/1000),\" \")","v":{"$error":"#REF!"}},null,"x",{"$f":"(IF(K128=\"\",\" \",(K128-10)/240))","v":" "},{"$f":"IF(G128>0,G128*I128,\" \")","v":" "},null,{"$f":"IF(G128>0,(K128+160)/1000,\" \")","v":" "},null,null,null,null,null,{"$f":"IF(#REF!=TRUE,K128/1000,\"\")","v":{"$error":"#REF!"}},null,{"$f":"(OR(G128=21,G128=19,G128=17,G128=15,G128=13,G128=11,G128=9,G128=7,G128=5,G128=3,G128=1))","v":false},null,{"$f":"IF(T128=TRUE,K128/1000,\" \")","v":" "},null,null,null,{"$f":"IF(AND(X128>0,G128>0),(X128*0.086)*(K128/1000),\" \")","v":" "},null,null,null,{"$f":"IF(AND(AB128>0,I128>0),(AB128*0.086)*(K128/1000),\" \")","v":" "},{"$f":"ROUNDUP(G128/2,0)+1","v":1},{"$f":"ROUNDUP(G128/2,0)+2","v":2},{"$f":"ROUNDUP(G128/2,0)+1","v":1},null,null,null,{"$f":"IF(AND($K128<=1499,$K128>=0.1),($K128+'[7]BUILDERS SETTINGS'!$C$8)/1000,\" \")","v":" "},{"$f":"IF(AND($K128<=1799,$K128>=1500),($K128+'[7]BUILDERS SETTINGS'!$C$9)/1000,\" \")","v":" "},{"$f":"IF(AND($K128<=2399,$K128>=1800),($K128+'[7]BUILDERS SETTINGS'!$C$11)/1000,\" \")","v":" "},null,{"$f":"IF(AND($K128<=3299,$K128>=3000),($K128+'[7]BUILDERS SETTINGS'!$C$14)/1000,\" \")","v":" "},{"$f":"IF(AND($K128<=3599,$K128>=3300),($K128+'[7]BUILDERS SETTINGS'!$C$15)/1000,\" \")","v":" "},{"$f":"IF(AND($K128<=3999,$K128>=3600),($K128+'[7]BUILDERS SETTINGS'!$C$16)/1000,\" \")","v":" "},{"$f":"IF(AND($K128<=4400,$K128>=4000),($K128+'[7]BUILDERS SETTINGS'!$C$17)/1000,\" \")","v":" "},{"$f":"IF(AND($K128<=2199,$K128>=0.1,P128=\"Y\"),($K128+'[7]BUILDERS SETTINGS'!$C$10)/1000,\" \")","v":" "},{"$f":"IF(AND($K128<=2699,$K128>=2200,P128=\"y\"),($K128+'[7]BUILDERS SETTINGS'!$C$12)/1000,\" \")","v":" "}]

{"sheet":"BRICKWORK","index":18,"n_rows":60,"n_cols":20,"rows_kept":60,"cut":false,"hidden":false,"merged":[[59,17,59,18],[59,0,59,2],[59,3,59,4],[59,7,59,9],[59,10,59,11],[59,14,59,16],[57,0,57,2],[57,7,57,9],[57,14,57,16],[58,0,58,2],[58,7,58,9],[58,14,58,16],[55,0,55,2],[55,7,55,9],[55,14,55,16],[56,0,56,2],[56,7,56,9],[56,14,56,16],[53,0,53,3],[53,7,53,10],[54,0,54,2],[54,7,54,9],[54,14,54,16],[51,17,51,18],[40,0,40,2],[41,0,41,2],[42,0,42,2],[50,0,50,2],[50,7,50,9],[50,14,50,16],[51,0,51,2],[51,3,51,4],[51,7,51,9],[51,10,51,11],[51,14,51,16],[48,0,48,2],[48,7,48,9],[48,14,48,16],[49,0,49,2],[49,7,49,9],[49,14,49,16],[46,0,46,2],[46,7,46,9],[46,14,46,16],[47,0,47,2],[47,7,47,9],[47,14,47,16],[44,0,44,2],[44,3,44,4],[44,7,44,9],[44,14,44,16],[45,0,45,2],[45,7,45,9],[45,14,45,16],[33,0,33,2],[33,3,33,4],[33,7,33,9],[33,10,33,11],[37,0,39,20],[30,0,30,2],[30,7,30,9],[31,0,31,2],[31,7,31,9],[32,0,32,2],[32,7,32,9],[28,0,28,2],[28,7,28,9],[29,0,29,2],[29,7,29,9],[24,14,24,16],[25,14,25,16],[27,0,27,3],[27,7,27,10],[25,0,25,2],[25,3,25,4],[25,7,25,9],[25,10,25,11],[19,14,19,17],[20,14,20,16],[21,14,21,16],[22,14,22,16],[23,14,23,16],[25,17,25,18],[22,0,22,2],[22,7,22,9],[23,0,23,2],[23,7,23,9],[24,0,24,2],[24,7,24,9],[19,0,19,3],[19,7,19,10],[20,0,20,2],[20,7,20,9],[9,17,9,18],[11,0,11,2],[11,7,11,10],[11,14,11,16],[12,0,12,2],[12,7,12,9],[12,14,12,16],[21,0,21,2],[21,7,21,9],[17,17,17,18],[15,0,15,2],[15,7,15,9],[15,14,15,16],[16,0,16,2],[16,7,16,9],[16,14,16,16],[17,0,17,2],[17,3,17,4],[17,7,17,9],[17,10,17,11],[17,14,17,16],[6,7,6,9],[6,14,6,16],[7,0,7,2],[7,7,7,9],[7,14,7,16],[13,0,13,2],[13,7,13,9],[13,14,13,16],[14,0,14,2],[14,7,14,9],[14,14,14,16],[56,17,56,18],[0,0,1,19],[2,0,2,2],[2,3,2,4],[2,7,2,9],[2,14,2,16],[4,0,4,2],[4,7,4,9],[4,14,4,16],[5,0,5,2],[5,7,5,9],[5,14,5,16],[3,0,3,2],[3,7,3,9],[3,14,3,16],[8,0,8,2],[8,7,8,9],[8,14,8,16],[9,0,9,2],[9,3,9,4],[9,7,9,9],[9,10,9,11],[9,14,9,16],[6,0,6,2]]}
["External Brick Extras"]
[]
["2c Face Bricks 290x90x162",null,null,null,null,null,null,"1c Face Bricks 290x90x76",null,null,null,null,null,null,"1c Face Solids 290x90x76"]
["Location",null,null,"Length","Height","Area",null,"Location",null,null,"Length","Height","Area",null,"Location",null,null,"Length","Height","Area"]
[null,null,null,null,null,{"$f":"D5*E5","v":0},null,null,null,null,null,null,{"$f":"K5*L5","v":0},null,null,null,null,null,null,{"$f":"R5*S5","v":0}]
[null,null,null,null,null,{"$f":"D6*E6","v":0},null,null,null,null,null,null,{"$f":"K6*L6","v":0},null,null,null,null,null,null,{"$f":"R6*S6","v":0}]
[null,null,null,null,null,0,null,null,null,null,null,null,0,null,null,null,null,null,null,0]
[null,null,null,null,null,0,null,null,null,null,null,null,0,null,null,null,null,null,null,0]
[null,null,null,null,null,0,null,null,null,null,null,null,0,null,null,null,null,null,null,0]
[null,null,null,"2c Face Total",null,{"$f":"'Summary Sheet'!C5+'Summary Sheet'!C11+('Summary Sheet'!C7/2)+SUM(F5:F9)","v":150.11499999999995},null,null,null,null,"1c face Total",null,{"$f":"+('Summary Sheet'!C8/2)+'Summary Sheet'!C6+'Summary Sheet'!C15+'Summary Sheet'!C9+'Summary Sheet'!C12+SUM(M5:M9)","v":11.2575},null,null,null,null,"1c Face Solid Total",null,{"$f":"('Summary Sheet'!C8/2)+'Summary Sheet'!C13+'Summary Sheet'!C16+('Summary Sheet'!C17/2)+SUM(T5:T9)","v":4.051499999999999}]
[]
["2c Render Brick External",null,null,null,null,null,null,"1c Rendered Longreach Cored",null,null,null,null,null,null,"1c Rendered Longreach Solid"]
["Location",null,null,"Length","Height","Area",null,"Location",null,null,"Length","Height","Area",null,"Location",null,null,"Length","Height","Area"]
[null,null,null,null,null,{"$f":"D14*E14","v":0},null,null,null,null,null,null,{"$f":"K14*L14","v":0},null,null,null,null,null,null,{"$f":"R14*S14","v":0}]
[null,null,null,null,null,{"$f":"D15*E15","v":0},null,null,null,null,null,null,{"$f":"K15*L15","v":0},null,null,null,null,null,null,{"$f":"R15*S15","v":0}]
[null,null,null,null,null,0,null,null,null,null,null,null,0,null,null,null,null,null,null,0]
[null,null,null,null,null,0,null,null,null,null,null,null,0,null,null,null,null,null,null,0]
[null,null,null,"2c Render Total",null,{"$f":"'Summary Sheet'!C28+SUM(F14:F17)-SUM(T14:T17)","v":32.055999999999997},null,null,null,null,"1c Render Cored",null,{"$f":"'Summary Sheet'!C29+'Summary Sheet'!C30+SUM(M14:M17)","v":3.0790000000000006},null,null,null,null,"1c Render Solid Total",null,{"$f":"SUM(T14:T17)+'Summary Sheet'!C31","v":3.3289999999999993}]
[]
["1c Feature Face 230x110x76 Cored",null,null,null,null,null,null,"1c Feature Face  230x110x76 Solid",null,null,null,null,null,null,"2c Face Snaps"]
["Location",null,null,"Length","Height","Area",null,"Location",null,null,"Length","Height","Area",null,"Location",null,null,"Length","Height","Area"]
[null,null,null,null,null,{"$f":"D22*E22","v":0},null,null,null,null,null,null,{"$f":"K22*L22","v":0},null,null,null,null,null,null,{"$f":"R22*S22","v":0}]
[null,null,null,null,null,{"$f":"D23*E23","v":0},null,null,null,null,null,null,{"$f":"K23*L23","v":0},null,null,null,null,null,null,{"$f":"R23*S23","v":0}]
[null,null,null,null,null,0,null,null,null,null,null,null,0,null,null,null,null,null,null,0]
[null,null,null,null,null,0,null,null,null,null,null,null,0,null,null,null,null,null,null,0]
[null,null,null,"1c Face Cored Total",null,{"$f":"'Summary Sheet'!C20+SUM(F22:F25)-BRICKWORK!M26","v":6.7119999999999997},null,null,null,null,"1c Face Total",null,{"$f":"SUM(M22:M25)","v":0},null,null,null,null,"1c Face Total",null,{"$f":"'Summary Sheet'!C23+'Summary Sheet'!C24+'Summary Sheet'!C25+SUM(T22:T25)","v":10.750349999999999}]
[]
["1c Rendered Commons",null,null,null,null,null,null,"1c Rendered Solid Commons"]
["Location",null,null,"Length","Height","Area",null,"Location",null,null,"Length","Height","Area"]
[null,null,null,null,null,{"$f":"D30*E30","v":0},null,null,null,null,null,null,{"$f":"K30*L30","v":0}]
[null,null,null,null,null,{"$f":"D31*E31","v":0},null,null,null,null,null,null,{"$f":"K31*L31","v":0}]
[null,null,null,null,null,0,null,null,null,null,null,null,0]
[null,null,null,null,null,0,null,null,null,null,null,null,0]
[null,null,null,"1c Face Cored Total",null,{"$f":"SUM(F30:F33)","v":0},null,null,null,null,"1c Face Total",null,{"$f":"SUM(M30:M33)","v":0}]
[]
[]
[]
["Internal Brick Extras"]
[]
[]
["Allowed Over all Windows",null,null,{"$f":"VLOOKUP('Main Details'!H32,'Main Details'!H33:J35,3,0)","v":0},0.25700000000000001,{"$f":"D41*E41","v":0}]
["Between Windows (manual)",null,null,null,0.25700000000000001,{"$f":"D42*E42","v":0}]
[null,null,null,null,0.17199999999999999,{"$f":"D43*E43","v":0}]
[]
["2c Render Bricks 290x90x162",null,null,null,null,null,null,"1c Render Bricks 290x90x76",null,null,null,null,null,null,"1c Render Solids 290x90x76"]
["Location",null,null,"Length","Height","Area",null,"Location",null,null,"Length","Height","Area",null,"Location",null,null,"Length","Height","Area"]
[null,null,null,null,null,{"$f":"D47*E47","v":0},null,null,null,null,null,null,{"$f":"K47*L47","v":0},null,null,null,null,null,null,{"$f":"R47*S47","v":0}]
[null,null,null,null,null,{"$f":"D48*E48","v":0},null,null,null,null,null,null,{"$f":"K48*L48","v":0},null,null,null,null,null,null,{"$f":"R48*S48","v":0}]
[null,null,null,null,null,0,null,null,null,null,null,null,0,null,null,null,null,null,null,0]
[null,null,null,null,null,0,null,null,null,null,null,null,0,null,null,null,null,null,null,0]
[null,null,null,null,null,0,null,null,null,null,null,null,0,null,null,null,null,null,null,0]
[null,null,null,"2c Face Total",null,{"$f":"'Summary Sheet'!C38+'Summary Sheet'!C39+SUM(F47:F51)-F41-F42-F43","v":348.63700000000006},null,null,null,null,"1c face Total",null,{"$f":"'Summary Sheet'!C40+'Summary Sheet'!C41+'Summary Sheet'!C42+'Summary Sheet'!C43+SUM(M47:M51)+F41+F42+F43","v":30.815999999999999},null,null,null,null,"1c Face Solid Total",null,{"$f":"SUM(T47:T51)","v":0}]
[]
["1c Feature Face 290x90x76 Cored",null,null,null,null,null,null,"1c Feature Face Solid",null,null,null,null,null,null,"1c Common Bricks",null,null,"Length","Height","Area"]
["Location",null,null,"Length","Height","Area",null,"Location",null,null,"Length","Height","Area",null,"Cored",null,null,null,null,{"$f":"R55*S55","v":0}]
[null,null,null,null,null,{"$f":"D56*E56","v":0},null,null,null,null,null,null,{"$f":"K56*L56","v":0},null,null,null,null,null,null,{"$f":"R56*S56","v":0}]
[null,null,null,null,null,{"$f":"D57*E57","v":0},null,null,null,null,null,null,{"$f":"K57*L57","v":0},null,null,null,null,"Cored Total",null,{"$f":"SUM(T55:T56)","v":0}]
[null,null,null,null,null,0,null,null,null,null,null,null,0,null,"Solid",null,null,null,null,{"$f":"R58*S58","v":0}]
[null,null,null,null,null,0,null,null,null,null,null,null,0,null,null,null,null,null,null,{"$f":"R59*S59","v":0}]
[null,null,null,"1c Face Cored Total",null,{"$f":"SUM(F56:F59)","v":0},null,null,null,null,"1c Face Total",null,{"$f":"SUM(M56:M59)","v":0},null,null,null,null,"Solid Total",null,{"$f":"SUM(T58:T59)","v":0}]

{"sheet":"Brick Final Sheet ","index":19,"n_rows":155,"n_cols":31,"rows_kept":155,"cut":false,"hidden":false,"merged":[[70,16,70,18],[57,7,57,8],[58,7,58,8],[69,16,69,18],[59,7,59,8],[65,16,65,20],[66,16,66,17],[36,1,36,13],[31,1,31,2],[31,3,31,4],[68,16,68,17],[55,7,55,8],[51,3,51,6],[56,1,58,1],[56,2,58,2],[53,7,53,9],[56,16,56,18],[54,1,55,2],[40,1,40,2],[40,3,40,4],[49,3,49,6],[50,3,50,5],[51,7,51,8],[49,1,49,2],[47,7,47,8],[44,3,44,4],[42,1,42,2],[6,3,6,4],[39,3,39,4],[39,10,39,12],[38,3,38,4],[28,1,28,2],[28,3,28,4],[28,10,28,12],[32,3,32,4],[32,10,32,12],[33,1,33,2],[46,1,47,3],[46,4,47,4],[33,3,33,4],[33,11,33,12],[29,3,29,4],[29,10,29,12],[30,1,30,2],[30,3,30,4],[30,10,30,12],[38,10,38,12],[38,1,38,2],[2,1,3,12],[2,13,3,13],[4,1,4,2],[4,3,4,4],[4,10,4,12],[9,1,9,2],[9,3,9,4],[9,11,9,12],[7,3,7,4],[8,3,8,4],[5,10,5,11],[6,10,6,11],[7,10,7,11],[8,10,8,11],[5,1,5,2],[5,3,5,4],[6,1,6,2],[69,23,69,26],[70,23,70,26],[71,23,71,26],[12,1,12,13],[18,1,18,13],[22,3,22,4],[20,1,20,2],[20,3,20,4],[20,10,20,12],[21,3,21,4],[16,3,16,4],[17,1,17,2],[17,3,17,4],[17,10,17,12],[14,1,14,2],[15,10,15,11],[16,10,16,11],[21,10,21,11],[22,10,22,11],[14,3,14,4],[14,10,14,12],[15,3,15,4],[26,1,26,2],[26,3,26,4],[60,7,60,9],[62,11,62,13],[38,16,38,17],[48,11,48,13],[49,7,49,10],[63,11,63,12],[68,23,68,26],[26,10,26,12],[32,16,32,17],[56,23,56,24],[57,23,57,27],[56,7,56,8],[54,16,54,17],[50,7,50,8],[44,23,44,30],[53,16,53,20],[37,16,37,19],[31,10,31,12],[47,16,47,17],[45,10,45,12],[54,7,54,8],[45,16,45,21],[40,10,40,12],[52,7,52,10],[27,24,27,27],[17,23,17,27],[24,24,24,27],[25,24,25,27],[26,24,26,27],[28,24,28,27],[29,24,29,27],[33,16,33,17],[34,16,34,17],[46,7,46,8],[35,16,35,17],[30,16,30,20],[31,16,31,17],[23,1,23,2],[23,3,23,4],[23,10,23,12],[24,1,24,13],[27,1,27,2],[27,3,27,4],[27,10,27,12],[44,10,44,12],[43,1,43,2],[43,3,43,4],[43,10,43,12],[39,1,39,2],[45,1,45,2],[45,3,45,4],[41,3,41,4],[41,10,41,12]]}
[]
[null,null,null,null,null,null,null,null,null,null,null,null,null,"PG 7"]
[null,"TOTALS FOR EXTERNAL FACE BLOCKWORK",null,null,null,null,null,null,null,null,null,null,null,"Labour / Thousand"]
[]
[null,"EXTERNAL FACE BRICKWORK",null,"Per m2",null,"No Bricks","Pk size","No Pks","Order Pks","Total Brks","TYPE OF BRICK"]
[null,"EXTERNAL FACE 2C",null,{"$f":"'Main Details'!$H$18","v":18.5},null,{"$f":"BRICKWORK!F10*'Brick Final Sheet '!D6","v":2777.1274999999991},{"$f":"'Main Details'!I18","v":132},{"$f":"IF(K6=\"Midland - Shale\",(F6/G6)+1,(F6/G6))","v":21.03884469696969},{"$f":"(ROUNDUP(((SUM(H6:H6))*3),0))/3+1","v":22.333333333333332},{"$f":"SUM(I6*G6)/1000","v":2.948},{"$f":"'Main Details'!$C$18","v":"NO SELECTION MADE"},null,"MIDLAND 2c FACE",{"$f":"F6/1000","v":2.7771274999999993}]
[null,"EXTERNAL FACE 1C",null,{"$f":"'Main Details'!L18","v":38.799999999999997},null,{"$f":"BRICKWORK!M10*D7","v":436.791},{"$f":"'Main Details'!L19","v":264},{"$f":"IF(F7>0,F7/G7,\"0\")","v":1.6545113636363635},{"$f":"(ROUNDUP(((SUM(H7:H7))*3),0))/3","v":1.6666666666666667},{"$f":"(I7*G7)/1000","v":0.44},{"$f":"'Main Details'!$C$18","v":"NO SELECTION MADE"},null,"MIDLAND FACE LONGREACH CORED",{"$f":"F7/1000","v":0.43679099999999998}]
[null,"EXTERNAL FACE 1C","SOLID",{"$f":"'Main Details'!L18","v":38.799999999999997},null,{"$f":"BRICKWORK!T10*D8","v":157.19819999999996},{"$f":"'Main Details'!L19","v":264},{"$f":"IF(F8>0,F8/G8,\"0\")","v":0.5954477272727271},{"$f":"(ROUNDUP(SUM(H8*3),0)/3)","v":0.66666666666666663},{"$f":"(I8*G8)/1000","v":0.17599999999999999},{"$f":"'Main Details'!$C$18","v":"NO SELECTION MADE"},null,"MIDLAND FACE LONGREACH SOLID",{"$f":"F8/1000","v":0.15719819999999995}]
[null,"EXTERNAL FACE 2C","SNAPS",{"$f":"'Main Details'!H18","v":18.5},null,{"$f":"BRICKWORK!T26*D9","v":198.88147499999999},{"$f":"'Main Details'!I18","v":132},{"$f":"IF(F9>0,F9/G9,\" \")","v":1.5066778409090908},{"$f":"(ROUNDUP(SUM(H9*3),0)/3)","v":1.6666666666666667},{"$f":"(I9*G9)/1000","v":0.22},{"$f":"'Main Details'!$C$18","v":"NO SELECTION MADE"},null,"MIDLAND 2c 190mm FRACTION SNAP",{"$f":"F9/1000","v":0.198881475}]
[null,null,null,null,null,null,null,null,"TOTAL ORDER:",{"$f":"SUM(J6:J9)","v":3.7840000000000003},null,"TOTAL LABOUR:",null,{"$f":"SUM(N6:N9)","v":3.5699981749999989}]
[null,null,null,null,null,null,null,null,null,null,"1c Total",{"$f":"N7+N8","v":0.59398919999999999}]
[null,null,null,null,null,null,null,null,null,null,"2c Total",{"$f":"N6+N9","v":2.9760089749999992}]
[null,"1c FEATURE FACE BRICKWORK"]
[]
[null,"MAIN EXT BRICKS",null,"Per m2",null,"No Bricks","Pk size","No Pks","Order Pks","Total Brks","TYPE OF BRICK",null,null,"Labour"]
[null,"EXTERNAL FACE 1C","CORED",{"$f":"'Main Details'!$H$12","v":48.5},null,{"$f":"BRICKWORK!F26*'Brick Final Sheet '!D16","v":325.53199999999998},{"$f":"'Main Details'!$I$12","v":264},{"$f":"IF(F16>0,F16/G16,\"0\")","v":1.2330757575757576},{"$f":"(ROUNDUP(((SUM(H16))*4),0))/4","v":1.25},{"$f":"(I16*G16)/1000","v":0.33},{"$f":"'Main Details'!$C$12","v":"NO SELECTION MADE"},null,{"$f":"_xlfn.XLOOKUP(K16,'BUILDERS BRICK SELECTION'!B:B,'BUILDERS BRICK SELECTION'!H:H,0)","v":0},{"$f":"F16/1000","v":0.32553199999999999}]
[null,"EXTERNAL FACE 1C","SOLID",{"$f":"'Main Details'!$H$12","v":48.5},null,{"$f":"BRICKWORK!M26*'Brick Final Sheet '!D17","v":0},{"$f":"'Main Details'!$I$12","v":264},{"$f":"IF(F17>0,F17/G17,\"0\")","v":"0"},{"$f":"(ROUNDUP(((SUM(H17))*4),0))/4","v":0},{"$f":"(I17*G17)/1000","v":0},{"$f":"'Main Details'!$C$12","v":"NO SELECTION MADE"},null,{"$f":"_xlfn.XLOOKUP(K17,'BUILDERS BRICK SELECTION'!B:B,'BUILDERS BRICK SELECTION'!I:I,0)","v":0},{"$f":"F17/1000","v":0}]
[null,null,null,null,null,null,null,null,"TOTAL ORDER:",{"$f":"SUM(J16:J17)","v":0.33},"TOTAL LABOUR:",null,null,{"$f":"SUM(N16:N17)","v":0.32553199999999999},null,null,null,null,null,null,null,"129-100-100100",null,"SITE WELDING BRICKLAYER"]
[null,"INTERNAL FACE BRICKWORK"]
[]
[null,"INT FACE BRICKS",null,"Per m2",null,"No Bricks","Pk size","No Pks","Order Pks","Total Brks","TYPE OF BRICK",null,null,"Labour"]
[null,"INTERNAL FACE 1C","CORED",{"$f":"'Main Details'!$H$20","v":48.5},null,{"$f":"BRICKWORK!F60*D22","v":0},{"$f":"'Main Details'!$I$20","v":264},{"$f":"IF(F22>0,F22/G22,\" \")","v":" "},{"$f":"(ROUNDUP(((SUM(H22))*4),0))/4","v":0},{"$f":"(I22*G22)/1000","v":0},{"$f":"'Main Details'!$C$20","v":"NO SELECTION MADE"},null,{"$f":"_xlfn.XLOOKUP(K22,'BUILDERS BRICK SELECTION'!B:B,'BUILDERS BRICK SELECTION'!H:H,0)","v":0},{"$f":"F22/100","v":0}]
[null,"INTERNAL FACE 1C","SOLID",{"$f":"'Main Details'!$H$20","v":48.5},null,{"$f":"BRICKWORK!M60*D23","v":0},{"$f":"'Main Details'!$I$20","v":264},{"$f":"IF(F23>0,F23/G23,\" \")","v":" "},{"$f":"(ROUNDUP(((SUM(H23))*4),0))/4","v":0},{"$f":"(I23*G23)/1000","v":0},{"$f":"'Main Details'!$C$20","v":"NO SELECTION MADE"},null,{"$f":"_xlfn.XLOOKUP(K23,'BUILDERS BRICK SELECTION'!B:B,'BUILDERS BRICK SELECTION'!I:I,0)","v":0},{"$f":"F23/1000","v":0}]
[null,null,null,null,null,null,null,null,"TOTAL ORDER:",{"$f":"SUM(J22:J23)","v":0},"TOTAL LABOUR:",null,null,{"$f":"SUM(N22:N23)","v":0},null,null,null,null,null,null,null,null,null,"SITE WELDING ALLOWANCE"]
[null,"INTERNAL  BLOCKWORK",null,null,null,null,null,null,null,null,null,null,null,null,null,null,null,null,null,null,null,null,{"$f":"X25*25","v":0},null,"PER HD ROD (DYNABOLT OR EPOXY)"]
[null,null,null,null,null,null,null,null,null,null,null,null,null,null,null,null,null,null,null,null,null,null,{"$f":"X26*50","v":0},null,"PER STRUCTURAL COLUMN"]
[null,"INTERNAL BRICKWORK",null,"Per m2",null,"No Bricks","Pk size","No Pks","Order Pks","Total Brks","TYPE OF BRICK",null,null,"Labour",null,null,{"$f":"IF(Q47=\"Brick veneer\",1,0)","v":1},"INSTALL BRICK VENEER WALL TIES",null,null,null,null,{"$f":"X27*50","v":0},null,"PER LINTEL/TBAR INTO COLUMN"]
[null,"INTERNAL ROUGH 2C",null,{"$f":"'Main Details'!H21","v":18.5},null,{"$f":"(BRICKWORK!F52)*D28","v":6449.7845000000007},{"$f":"'Main Details'!I21","v":138},{"$f":"IF(F28>0,F28/G28,\"0\")","v":46.737568840579712},{"$f":"(ROUNDUP(((SUM(H28))*3),0))/3","v":47},{"$f":"SUM(I28*G28)/1000","v":6.4859999999999998},{"$f":"'Main Details'!C21","v":"MIDLAND MAXIBRICK"},null,null,{"$f":"F28/1000","v":6.4497845000000007},null,null,null,"RAMSET DYNABOLT PLUS HEX NUT","BOLT 10x100mm GALVANISED",null,null,null,0,null,"PER CORNER LINTEL (FACTORY WELD)"]
[null,"INTERNAL ROUGH 1C",null,{"$f":"'Main Details'!H22","v":37},null,{"$f":"BRICKWORK!M52*D29","v":1140.192},{"$f":"'Main Details'!I22","v":252},{"$f":"IF(F29>0,F29/G29,\"0\")","v":4.5245714285714289},{"$f":"(ROUNDUP(((SUM(H29))*3),0))/3","v":4.666666666666667},{"$f":"SUM(I29*G29)/1000","v":1.1759999999999999},{"$f":"'Main Details'!C22","v":"MIDLAND LONGREACH CORED"},null,null,{"$f":"F29/1000","v":1.1401920000000001},null,null,null,"RAMSET DYNABOLT PLUS HEX NUT","BOLT 12x100mm GALVANISED",null,null,null,{"$f":"X29*100","v":0},null,"PER CORNER LINTEL (ONSITE WELD)"]
[null,"INTERNAL ROUGH 1C","SOLID",{"$f":"'Main Details'!H22","v":37},null,{"$f":"BRICKWORK!T52*D30","v":0},{"$f":"'Main Details'!I22","v":252},{"$f":"IF(F30>0,F30/G30,\"0\")","v":"0"},{"$f":"(ROUNDUP(((SUM(H30))*3),0))/3","v":0},{"$f":"I30*G30/1000","v":0},{"$f":"IF(K29=\"MIDLAND LONGREACH CORED\",(\"MIDLAND LONGREACH SOLID\"),(\"NO SELECTION MADE\"))","v":"MIDLAND LONGREACH SOLID"},null,null,{"$f":"F30/1000","v":0},null,null,null,null,null,null,null,null,{"$f":"X30*250","v":250},1,"MINIMUM CALL OUT"]
[null,null,null,null,null,null,null,null,null,null,null,null,null,{"$f":"F31","v":0},null,null,"Cement Calc"]
[null,"INTERNAL ROUGH 1C",null,{"$f":"'Main Details'!H23","v":18.5},null,{"$f":"BRICKWORK!T57*D32","v":0},{"$f":"'Main Details'!$I$23","v":132},{"$f":"IF(F32>0,F32/G32,\"0\")","v":"0"},{"$f":"(ROUNDUP(((SUM(H32))*3),0))/3","v":0},{"$f":"SUM(I32*G32)/1000","v":0},{"$f":"'Main Details'!$C$23","v":"NO SELECTION MADE"},null,null,{"$f":"F32/1000","v":0},null,null,"internal grey",null,{"$f":"J28+J29+J30+J32+J33","v":7.6619999999999999},{"$f":"S32*1.1","v":8.4282000000000004},{"$f":"T32*10.8","v":91.024560000000008},"Totals",null,{"$f":"SUM(W25:W30)","v":250},"TOTAL"]
[null,"INTERNAL ROUGH 1C","SOLID",{"$f":"'Main Details'!H23","v":18.5},null,{"$f":"BRICKWORK!T60*D33","v":0},{"$f":"'Main Details'!$I$23","v":132},{"$f":"IF(F33>0,F33/G33,\"0\")","v":"0"},{"$f":"(ROUNDUP(((SUM(H33:H33))*3),0))/3","v":0},{"$f":"SUM(I33*G33)/1000","v":0},{"$f":"IF(K32=\"MIDLAND COMMON CORED\",(\"MIDLAND COMMON SOLID\"),(\"NO SELECTION MADE\"))","v":"NO SELECTION MADE"},null,null,{"$f":"F33/1000","v":0},null,null,"external grey",null,{"$f":"J40+J41+J42+J44+J45","v":0.93400000000000005},{"$f":"S33*1.2","v":1.1208},{"$f":"T33*10.8","v":12.104640000000002},{"$f":"U32+U33","v":103.12920000000001}]
[null,null,null,null,null,null,null,null,"TOTAL ORDER:",{"$f":"SUM(J28:J33)","v":7.6619999999999999},null,"TOTAL LABOUR:",null,{"$f":"SUM(N28:N33)","v":7.5899765000000006},null,null,null,null,null,{"$f":"S34/1000*1.2","v":0},{"$f":"T34*10.8","v":0}]
[null,null,null,null,null,null,null,null,null,null,"1c Total",{"$f":"N29+N32+N30+N33","v":1.1401920000000001},null,null,null,null,"Brickies Lite 1c",null,{"$f":"J7+J16+J17+J22+J23+J8","v":0.94599999999999995},{"$f":"S35*1.1","v":1.0406},{"$f":"T35*11.2","v":11.654719999999999},"Totals"]
[null,null,null,null,null,null,null,null,null,null,"2c Total",{"$f":"N28","v":6.4497845000000007},null,null,null,null,"Brickies lite 2c",null,{"$f":"J6+J9","v":3.1680000000000001},{"$f":"S36*1.2","v":3.8016000000000001},{"$f":"T36*11.2","v":42.577919999999999},{"$f":"U35+U36","v":54.232639999999996}]
[null,"EXTERNAL  BLOCKWORK"]
[null,null,null,null,null,null,null,null,null,null,null,null,null,null,null,null,"Sand Calculations",null,null,null,null,"Brickies Sand Yellow 12m3"]
[null,"EXTERNAL BLOCKWORK",null,"Per m2",null,"No Bricks","Pk size","No Pks","Order Pks","Total Brks","TYPE OF BRICK",null,null,"Labour",null,null,"Total Bricks",null,{"$f":"ROUNDUP(J10+J18+J24+J34+J46,0)+1","v":14},"m3"]
[null,"EXTERNAL ROUGH 2C",null,{"$f":"'Main Details'!H18","v":18.5},null,{"$f":"BRICKWORK!F18*D40","v":593.03599999999994},{"$f":"'Main Details'!I14","v":138},{"$f":"IF(F40>0,F40/G40,\"0\")","v":4.2973623188405794},{"$f":"(ROUNDUP(((SUM(H40:H40))*3),0))/3","v":4.333333333333333},{"$f":"SUM(I40*G40)/1000","v":0.59799999999999998},{"$f":"'Main Details'!C14","v":"MIDLAND MAXIBRICK"},null,null,{"$f":"F40/1000","v":0.5930359999999999},null,null,null,null,{"$f":"ROUNDUP(S39,0)+1","v":15},{"$f":"IF(S39>1,1,0)","v":1}]
[null,"EXTERNAL ROUGH 1C",null,{"$f":"'Main Details'!$H$15","v":37},null,{"$f":"BRICKWORK!M18*D41","v":113.92300000000003},{"$f":"'Main Details'!I15","v":252},{"$f":"IF(F41>0,F41/G41,\"0\")","v":0.45207539682539694},{"$f":"(ROUNDUP(((SUM(H41))*3),0))/3","v":0.66666666666666663},{"$f":"SUM(I41*G41)/1000","v":0.16800000000000001},{"$f":"'Main Details'!C15","v":"MIDLAND LONGREACH CORED"},null,null,{"$f":"F41/1000","v":0.11392300000000002},null,null,"CARTAGE ZONE 1"]
[null,"EXTERNAL ROUGH 1C","SOLID",{"$f":"'Main Details'!$H$15","v":37},null,{"$f":"BRICKWORK!T18*D42","v":123.17299999999997},{"$f":"'Main Details'!I15","v":252},{"$f":"IF(F42>0,F42/G42,\"0\")","v":0.4887817460317459},0.66666666666666663,{"$f":"SUM(I42*G42)/1000","v":0.16800000000000001},{"$f":"IF(K41=\"MIDLAND LONGREACH CORED\",(\"MIDLAND LONGREACH SOLID\"),(\"NO SELECTION MADE\"))","v":"MIDLAND LONGREACH SOLID"},null,null,{"$f":"F42/1000","v":0.12317299999999998},null,null,"CARTAGE ZONE 2"]
[null,null,null,null,null,null,null,null,null,null,null,null,null,null,null,null,"CARTAGE ZONE 3"]
[null,"INTERNAL ROUGH 1C",null,{"$f":"'Main Details'!$H$16","v":18.5},null,{"$f":"BRICKWORK!F34*D44","v":0},{"$f":"'Main Details'!I16","v":132},{"$f":"IF(F44>0,F44/G44,\"0\")","v":"0"},0,{"$f":"SUM(I44*G44)/1000","v":0},{"$f":"'Main Details'!C16","v":"NO SELECTION MADE"},null,null,{"$f":"F44/1000","v":0},null,null,"CARTAGE ZONE 4"]
[null,"INTERNAL ROUGH 1C","SOLID",{"$f":"'Main Details'!$H$16","v":18.5},null,{"$f":"BRICKWORK!M34*D45","v":0},{"$f":"'Main Details'!I16","v":132},{"$f":"IF(F45>0,F45/G45,\"0\")","v":"0"},0,{"$f":"SUM(I45*G45)/1000","v":0},{"$f":"IF(K44=\"MIDLAND COMMON CORED\",(\"MIDLAND COMMON SOLID\"),(\"NO SELECTION MADE\"))","v":"NO SELECTION MADE"},null,null,{"$f":"F45/1000","v":0},null,null,"CARTAGE ZONE 5","155-300-100450",null,null,null,null,null,"REINFORCEMENT ROD CALCULATION"]
[null,null,null,null,null,null,null,null,"TOTAL ORDER:",{"$f":"SUM(J40:J45)","v":0.93400000000000005},"TOTAL LABOUR:",null,null,{"$f":"SUM(N40:N45)","v":0.83013199999999987},null,null,null,null,null,null,null,null,null,null,null,"Length ","x","Rows",null,"Total"]
[null,{"$f":"_xlfn.XLOOKUP('Main Details'!D34,'Brick Final Sheet '!Q103:Q107,'Brick Final Sheet '!R103:R107,\"\")","v":"WEEPA STANDARD WEEP HOLE"},null,null,{"$f":"(ROUNDUP((SUM('Main Details'!D42-'Main Details'!D50)/0.9/25),0))","v":3},null,null,"ABBTF FUND 1C",null,{"$f":"J7+J8+J29+J30+J32+J33+J41+J42+J44+J45+J17+J16+J22+J23","v":2.4579999999999997},"1c Total",{"$f":"N41+N42+N44+N45","v":0.237096},null,null,null,null,{"$f":"'Main Details'!D32","v":"Brick veneer"},null,{"$f":"'Main Details'!D33","v":"R1"},null,"Perimeter M2","Gge/House",null,"Internal Perimeter",null,{"$f":"'Main Details'!D42","v":56},"x",2,null,{"$f":"Z47*AB47","v":112},"lm"]
[null,null,null,null,null,null,null,"ABBTF FUND 2C",null,{"$f":"J9+J6+J28+J40","v":10.252000000000001},"2c Total",{"$f":"N40","v":0.5930359999999999},null,null,null,null,"Brick veneer",null,"each",{"$f":"(U48-V48)*5","v":513.0632499999997},{"$f":"BRICKWORK!F10+BRICKWORK!F18-'Lintels.windows '!K43","v":102.61264999999993},{"$f":"'Main Details'!F54","v":0},null,null,null,null,null,2]
[null,null,null,null,null,null,null,null,null,null,null,"BRICK HARDWARE",null,null,null,null,{"$f":"IF('Main Details'!D32=\"Brick Veneer\",'Brick Final Sheet '!M52,\" \")","v":513.0632499999997},"155-300-100450","pks",{"$f":"ROUNDUP(U49-V49,0)*4.5/50","v":0},{"$f":"'Main Details'!K56","v":0},null,null,"Garage Perimeter",null,{"$f":"'Main Details'!D54","v":0},"x",2,null,{"$f":"Z49*AB49","v":0},"lm"]
[null,"ALCOR FLASHINGS",null,"Mortar Filled Piers",null,null,null,{"$f":"'Main Details'!F33","v":"Moderate"},null,null,null,"METRO AREA",{"$f":"S40-M51","v":15},"m3",null,null,{"$f":"IF('Main Details'!D32=\"Double Brick\",'Brick Final Sheet '!T51,0)","v":0},"155-300-100100",null,null,"Perimeter M2","Gge/House",null,"Under Openings",null,{"$f":"'Lintels.windows '!N45","v":36.79},"x",4,null,147.16,"lm"]
[null,"Alcor Total",{"$f":"ROUNDUP((C52*3/10)+(C53*3/10)+(C54*1/10)+('Lintels.windows '!N46*1/10),\"0\")","v":0},"EACH",null,null,null,{"$f":"IF(H50=\"Severe Marine\",(Q91),(Q89))","v":"CEMENT BRICKIES GREY COCKBURN"},null,{"$f":"IF(H50=\"Severe Marine\",(V33*17.8/20),(V33))+(G51*3)","v":103.12920000000001},"bags","Split Sand Loads",null,"m3",null,null,"Double brick",null,"pks",{"$f":"ROUNDUP(U51-V51,0)*4.5/50+1","v":12.52},{"$f":"BRICKWORK!F10+BRICKWORK!M10+BRICKWORK!F18+BRICKWORK!M18+BRICKWORK!T26-'Lintels.windows '!K43","v":127.69949999999993},{"$f":"'Main Details'!D50*'Main Details'!D53","v":0},null,"Over Openings",null,{"$f":"'Lintels.windows '!N45","v":36.79},"x",4,null,147.16,"lm"]
[null,"Cavity Closers no",null,"BRICK LINTELS",null,null,null,{"$f":"IF(H50=\"Severe Marine\",(Q90),(Q88))","v":"CEMENT BRICKIES LITE COCKBURN"},null,{"$f":"IF(H50=\"Severe Marine\",(V36*17.8/20),(V36))","v":54.232639999999996},"bags","Wire Ties",{"$f":"_xlfn.IFNA(VLOOKUP(Q47,Q48:T52,4,FALSE),\"\")","v":513.0632499999997},{"$f":"_xlfn.IFNA(VLOOKUP(Q47,Q48:T52,3,FALSE),\"\")","v":"each"},null,null,"Fully Framed",null,"none",0,null,null,null,"Internal Partition Walls",null,{"$f":"'Main Details'!D43","v":0},"x",2,null,0,"lm"]
[null,"Structural Col's no",null,null,null,null,null,"Cartage Totals",null,null,null,"DBL BOUNDARY BV",{"$f":"IF(Q47=\"Brick veneer\",T49,\" \")","v":0},"pack",null,null,null,null,null,null,null,{"$f":"IF('Main Details'!D32=\"Brick Veneer\",3,0)","v":3},null,"Ext B/work over 25c",null,null,"x",2,null,0,"lm"]
[null,"O/window no Eaves lm",null,null,"at",null,null,{"$f":"'Main Details'!AC14","v":0},null,null,null,"3.0m Hoop Iron",null,"no",null,null,"Hoop Iron Conversion",null,null,null,null,null,null,"T-bars ",null,null,"x",null,null,0,"lm"]
[null,"BRICKWORK REINFORCEMENT",null,null,"at",null,null,"1c FACE CORED",null,{"$f":"J22+J16","v":0.33},"1C","Hoop Iron Strap 30m",{"$f":"VLOOKUP(Q55,Q56:V57,6,FALSE)","v":0},"rolls",null,null,{"$f":"'Main Details'!D32","v":"Brick veneer"},null,null,null,null,null,null,"Corner Windows ",null,null,"x",null,null,0,"lm"]
[null,null,null,null,"at",null,null,"1c FACE SOLID",null,{"$f":"J23+J17","v":0},"1C","10mm Dyna Bolts",null,"no",null,null,"Double Brick",null,null,{"$f":"('Main Details'!D42-'Main Details'!D50)/1.2*3","v":140},null,{"$f":"ROUNDUP(T58/30,0)","v":5},null,"Brick Bulkhead ",null,null,"x",4,null,0,"lm"]
[null,null,"= Enter nett l/m of Reo to pay Brickie",null,"at",null,null,"LONGREACH CORED",null,{"$f":"J7+J29+J41+J44+J32","v":1.7839999999999998},"1C","12mm Dyna Bolts",null,"no",null,null,"Brick Veneer",null,null,{"$f":"(M54*3)","v":0},{"$f":"M54*3+R58*3","v":0},{"$f":"ROUNDUP(U58/30,0)","v":0},null,"*Spare*",null,0,"x",null,null,0,"lm"]
[null,null,null,null,"at",null,null,"LONGREACH SOLID",null,{"$f":"J8+J30+J42+J33+J45","v":0.34399999999999997},"1C","Brick Clean 1c",{"$f":"U69","v":0.32553199999999999},"no",null,null,"DBL bound",{"$f":"ROUNDUP('Main Details'!D55/1.2,0)","v":0},null,{"$f":"T56+T57","v":140},{"$f":"U56+U57","v":0},null,null,null,null,null,null,null,"Total :",{"$f":"SUM(AD47:AD57)","v":406.31999999999994},"lm"]
[null,null,null,null,"at",null,null,"FASTWALL / MAXIBRICK",null,{"$f":"J28+J40","v":7.0839999999999996},"2C","Brick Clean 2c",{"$f":"U68","v":3.5699981749999989},"no",null,null,"WES FAB HOOP IRON TRUECORE",null,null,null,{"$f":"M55","v":0}]
[null,{"$f":"P155","v":0},"BRICKWORK REINFORCEMENT",null,"at",null,null,"2c FACE",null,{"$f":"J6+J9","v":3.1680000000000001},"2C","Render on Face ",null,"Deduction m2",null,null,"DYNABOLT 110mm x 10mm",null,null,{"$f":"M56","v":0}]
[null,null,null,null,"at",null,null,null,null,null,null,"E/O Red Bricks",{"$f":"IF('Main Details'!K18=TRUE,\"REQUIRED\",\" \")","v":" "},null,null,null,"DYNABOLT 100mm x 12mm",null,null,{"$f":"M57","v":0}]
[]
[null,null,null,null,null,null,null,null,null,null,null,"BRICKLAYING EXTRAS"]
[null,null,null,null,null,null,null,null,null,null,null,"PIERS ISOLATED",null,null,null,null,"125-100-102300",null,"Piers Isolated"]
[]
[null,null,null,null,null,null,null,null,null,null,null,null,null,null,null,null,"Brick Clean Calculator"]
[null,null,null,null,null,null,null,null,null,null,null,null,null,null,null,null,"2c Bricks",null,{"$f":"N10","v":3.5699981749999989},{"$f":"('Main Details'!F54*18.5)/1000","v":0},{"$f":"S67+T67-(M60*18.5/1000)","v":3.5699981749999989}]
[null,null,null,null,null,null,null,null,null,null,null,null,null,null,null,null,null,null,null,{"$f":"(M60*18.5)/1000","v":0},{"$f":"U67-T68","v":3.5699981749999989}]
[null,null,null,null,null,null,null,null,null,null,null,null,null,null,null,null,"1c Face Brick",null,{"$f":"N18+N24","v":0.32553199999999999},null,{"$f":"S69+T69","v":0.32553199999999999}]
[]
[]
[null,null,null,null,null,null,null,null,null,null,null,null,null,null,null,null,"(select)",null,null,null,0]
[null,null,null,null,null,null,null,null,null,null,null,null,null,null,null,null,"BRICKWORK REINFORCEMENT",null,null,null,1]
[null,null,null,null,null,null,null,null,null,null,null,null,null,null,null,null,"BRM50 STEEL MESH 3000mm",null,null,null,2]
[null,null,null,null,null,null,null,null,null,null,null,null,null,null,null,null,{"$f":"C60","v":"BRICKWORK REINFORCEMENT"},null,null,{"$f":"B60","v":0},3]
[null,null,null,null,null,null,null,null,null,null,null,null,null,null,null,null,null,null,null,null,4]
[null,null,null,null,null,null,null,null,null,null,null,null,null,null,null,null,"MIDLAND FASTWALL 940mm",null,null,{"$f":"SUM(D54:D61)","v":0},5]
[null,null,null,null,null,null,null,null,null,null,null,null,null,null,null,null,"MIDLAND FASTWALL 1250mm",null,null,null,6]
[null,null,null,null,null,null,null,null,null,null,null,null,null,null,null,null,"MIDLAND FASTWALL 1570mm",null,null,null,7]
[null,null,null,null,null,null,null,null,null,null,null,null,null,null,null,null,"MIDLAND FASTWALL 1890mm",null,null,null,8]
[null,null,null,null,null,null,null,null,null,null,null,null,null,null,null,null,"MIDLAND FASTWALL 2200mm",null,null,null,9]
[null,null,null,null,null,null,null,null,null,null,null,null,null,null,null,null,"MIDLAND FASTWALL 2500mm",null,null,null,10]
[null,null,null,null,null,null,null,null,null,null,null,null,null,null,null,null,"MIDLAND FASTWALL 2830mm"]
[null,null,null,null,null,null,null,null,null,null,null,null,null,null,null,null,"MIDLAND FASTWALL 3140mm"]
[null,null,null,null,null,null,null,null,null,null,null,null,null,null,null,null,"MIDLAND FASTWALL 3460mm"]
[null,null,null,null,null,null,null,null,null,null,null,null,null,null,null,null,"FASTWALL LINTEL"]
[]
[null,null,null,null,null,null,null,null,null,null,null,null,null,null,null,null,"CEMENT BRICKIES LITE COCKBURN"]
[null,null,null,null,null,null,null,null,null,null,null,null,null,null,null,null,"CEMENT BRICKIES GREY COCKBURN"]
[null,null,null,null,null,null,null,null,null,null,null,null,null,null,null,null,"CEMENT BRICKIES COASTAL (LITE)"]
[null,null,null,null,null,null,null,null,null,null,null,null,null,null,null,null,"CEMENT BRICKIES COASTAL (GREY)"]
[]
[null,null,null,null,null,null,null,null,null,null,null,null,null,null,null,null,"MIDLAND ABBTF TRAINING FUND 1c",null,null,null,{"$f":"J47","v":2.4579999999999997}]
[null,null,null,null,null,null,null,null,null,null,null,null,null,null,null,null,"MIDLAND ABBTF TRAINING FUND 2c",null,null,null,{"$f":"J48","v":10.252000000000001}]
[]
[]
[null,null,null,null,null,null,null,null,null,null,null,null,null,null,null,null,"CAgroup ALDAMP 300x0.3mm x 10m",null,null,null,{"$f":"C51","v":0}]
[]
[null,null,null,null,null,null,null,null,null,null,null,null,null,null,null,null,"WIRE TIES 3.00mm x 170mm","155-300-100100",{"$f":"IF(S100>0,0,Q50)","v":0},"GALVANIZED MEDIUM DUTY",null,{"$f":"IF(V100>0,0,V53)","v":3}]
[null,null,null,null,null,null,null,null,null,null,null,null,null,null,null,null,"WIRE TIES 3.00mm x 170mm","155-300-100400",{"$f":"IF('Main Details'!D33=\"R4\",Q50,0)","v":0},"STAINLESS STEEL MEDIUM DUTY",null,{"$f":"IF('Main Details'!D33=\"R4\",V53,0)","v":0}]
[null,null,null,null,null,null,null,null,null,null,null,null,null,null,null,null,null,null,null,{"$f":"IF(H50=\"Severe Marine\",(T100),(T99))","v":"GALVANIZED MEDIUM DUTY"}]
[]
[null,null,null,null,null,null,null,null,null,null,null,null,null,null,null,null,"NO BAL","WEEPA STANDARD WEEP HOLE",null,null,"155-450-100650"]
[null,null,null,null,null,null,null,null,null,null,null,null,null,null,null,null,"BAL 12.5","WEEPA HIGH PERFORMANCE",null,null,"155-450-100700"]
[null,null,null,null,null,null,null,null,null,null,null,null,null,null,null,null,"BAL 19","WEEPA HIGH PERFORMANCE",null,null,"155-450-100700"]
[null,null,null,null,null,null,null,null,null,null,null,null,null,null,null,null,"BAL 29","WEEPA NEW GENERATION",null,null,"155-450-101100"]
[null,null,null,null,null,null,null,null,null,null,null,null,null,null,null,null,"BAL 40","WEEPA NEW GENERATION",null,null,"155-450-101100"]
[]
[null,null,null,null,null,null,null,null,null,null,null,null,null,null,null,null,"STEEL HANDYMAN ROD 6.3mm"]
[]
[null,null,null,null,null,null,null,null,null,null,null,null,null,null,null,null,{"$f":"IF('Main Details'!D32=\"Double Brick\",2,1)","v":1},"JACK BRICK MESH"]
[null,null,null,null,null,null,null,null,null,null,null,null,null,null,null,null,null,null,{"$f":"IF($Q$47=\"Double Brick\",\"\",Lists!AW552)","v":"VENEER TIES SUIT SINGLE STOREY"}]
[null,null,null,null,null,null,null,null,null,null,null,null,null,null,null,null,"R1",null,"MAX N2 WIND/MAX R2 CORROSION"]
[null,null,null,null,null,null,null,null,null,null,null,null,null,null,null,null,"R2",{"$f":"IF('Main Details'!D33=\"R2\",('Brick Final Sheet '!Q49),(0))","v":0},"MAX N2 WIND/MAX R2 CORROSION"]
[null,null,null,null,null,null,null,null,null,null,null,null,null,null,null,null,"R3",{"$f":"IF('Main Details'!D33=\"R3\",('Brick Final Sheet '!Q49),(0))","v":0},"MAX N2 WIND/MAX R3 CORROSION"]
[null,null,null,null,null,null,null,null,null,null,null,null,null,null,null,null,"R4",{"$f":"IF('Main Details'!D33=\"R4\",('Brick Final Sheet '!Q49),(0))","v":0},"MAX N3 WIND/MAX R4 CORROSION"]
[]
[]
[null,null,null,null,null,null,null,null,null,null,null,null,null,null,null,null,{"$f":"IF('Main Details'!D32=\"Brick Veneer\",'Main Details'!D33,\"\")","v":"R1"},{"$f":"IF('Main Details'!D32=\"Brick Veneer\",Q49,0)","v":513.0632499999997},{"$f":"VLOOKUP(Q119,Q113:S116,3,TRUE)","v":"MAX N2 WIND/MAX R2 CORROSION"}]
[]
[null,null,null,null,null,null,null,null,null,null,null,null,null,null,null,null,"REO RODS NETT"]
[null,null,null,null,null,null,null,null,null,null,null,null,null,null,null,null,"REO RODS ROUNDUP EVEN"]
[null,null,null,null,null,null,null,null,null,null,null,null,null,null,null,null,{"$f":"IF(R123>0,1,0)","v":0},{"$f":"M51","v":0},{"$f":"_xlfn.XLOOKUP(Q124,S125:S141,Q125:Q141,0)","v":0}]
[null,null,null,null,null,null,null,null,null,null,null,null,null,null,null,null,1,{"$f":"S40-M51","v":15},{"$f":"_xlfn.XLOOKUP(Q124,R125:R141,Q125:Q141,0)","v":0}]
[null,null,null,null,null,null,null,null,null,null,null,null,null,null,null,null,"BRICKIES SAND YELLOW 1m3",{"$f":"IF($R$124=1,1,0)","v":0},{"$f":"IF($R$123=1,1,0)","v":0},{"$f":"IF(R125=1,$L$50,0)","v":0}]
[null,null,null,null,null,null,null,null,null,null,null,null,null,null,null,null,"BRICKIES SAND YELLOW 2m3",{"$f":"IF($R$124=2,1,0)","v":0},{"$f":"IF($R$123=2,1,0)","v":0},0]
[null,null,null,null,null,null,null,null,null,null,null,null,null,null,null,null,"BRICKIES SAND YELLOW 3m3",{"$f":"IF($R$124=3,1,0)","v":0},{"$f":"IF($R$123=3,1,0)","v":0},0]
[null,null,null,null,null,null,null,null,null,null,null,null,null,null,null,null,"BRICKIES SAND YELLOW 4m3",{"$f":"IF($R$124=4,1,0)","v":0},{"$f":"IF($R$123=4,1,0)","v":0},0]
[null,null,null,null,null,null,null,null,null,null,null,null,null,null,null,null,"BRICKIES SAND YELLOW 5m3",{"$f":"IF($R$124=5,1,0)","v":0},{"$f":"IF($R$123=5,1,0)","v":0},0]
[null,null,null,null,null,null,null,null,null,null,null,null,null,null,null,null,"BRICKIES SAND YELLOW 6m3",{"$f":"IF($R$124=6,1,0)","v":0},{"$f":"IF($R$123=6,1,0)","v":0},0]
[null,null,null,null,null,null,null,null,null,null,null,null,null,null,null,null,"BRICKIES SAND YELLOW 7m3",{"$f":"IF($R$124=7,1,0)","v":0},{"$f":"IF($R$123=7,1,0)","v":0},0]
[null,null,null,null,null,null,null,null,null,null,null,null,null,null,null,null,"BRICKIES SAND YELLOW 8m3",{"$f":"IF($R$124=8,1,0)","v":0},{"$f":"IF($R$123=8,1,0)","v":0},0]
[null,null,null,null,null,null,null,null,null,null,null,null,null,null,null,null,"BRICKIES SAND YELLOW 9m3",{"$f":"IF($R$123=7,1,0)","v":0},0,0]
[null,null,null,null,null,null,null,null,null,null,null,null,null,null,null,null,"BRICKIES SAND YELLOW 10m3",0,0,0]
[null,null,null,null,null,null,null,null,null,null,null,null,null,null,null,null,"BRICKIES SAND YELLOW 11m3",0,0,0]
[null,null,null,null,null,null,null,null,null,null,null,null,null,null,null,null,"BRICKIES SAND YELLOW 12m3",0,0,0]
[null,null,null,null,null,null,null,null,null,null,null,null,null,null,null,null,null,0,0,0]
[null,null,null,null,null,null,null,null,null,null,null,null,null,null,null,null,"BRICKIES SAND YELLOW 9m3",{"$f":"IF($R$124=9,1,0)","v":0},{"$f":"IF($R$123=9,1,0)","v":0},0]
[null,null,null,null,null,null,null,null,null,null,null,null,null,null,null,null,"BRICKIES SAND YELLOW 10m3",{"$f":"IF($R$124=10,1,0)","v":0},{"$f":"IF($R$123=10,1,0)","v":0},0]
[null,null,null,null,null,null,null,null,null,null,null,null,null,null,null,null,"BRICKIES SAND YELLOW 11m3",{"$f":"IF($R$124=11,1,0)","v":0},{"$f":"IF($R$123=11,1,0)","v":0},0]
[null,null,null,null,null,null,null,null,null,null,null,null,null,null,null,null,"BRICKIES SAND YELLOW 12m3",{"$f":"IF($R$124=12,1,0)","v":0},{"$f":"IF($R$124=12,1,0)","v":0},0]
[]
[]
[]
[]
[]
[]
[]
[]
[]
[]
[]
[]
[null,null,null,null,null,null,null,null,null,null,null,null,null,null,null,{"$f":"IF(C60=Q72,\"0\",IF(C60=Q73,B57/5.5,IF(C60=Q74,B57/2.5+2)))","v":0}]
[null,null,null,null,null,null,null,null,null,null,null,null,null,null,null,{"$f":"CEILING(P154,1)","v":0}]

{"sheet":"BUILDERS BRICK SELECTION","index":20,"n_rows":383,"n_cols":38,"rows_kept":383,"cut":false,"hidden":true,"merged":[[3,23,3,25]]}
[]
["AUSTRAL/MIDLAND FACE BRICK STANDARD LISTING",null,null,null,null,null,null,null,null,null,null,null,null,null,null,null,null,null,null,null,null,null,null,null,null,null,null,null,null,null,null,null,null,null,null,null,"ALEXANDER HEIGHTS",1]
[null,"LAST UPDATED 23 NOVEMBER 2017",null,null,null,null,null,null,null,null,"INT BLOCK SELECTION",null,null,null,null,null,null,null,null,null,"LAST UPDATED 23 NOVEMBER 2017",null,null,null,null,null,null,null,null,null,null,null,null,null,null,null,"ALFRED COVE",2]
["Line","Brick Type Description","Pk size","Lfs/pk","no/m2","brick size",null,null,null,"Line","Brick Type Selection","Pk Size","LEAFS","No/m2","Brick Size","1c pk size",null,null,null,null,"Brick Type Selection","Pk Size","No/m2","Brick Size",null,null,"INNER","OUTER","LEAFS","PICK UP","M2 PER PACK",null,null,null,null,null,"ALKIMOS",3]
[null,"NO SELECTION MADE",264,4,48.5,"230x110x76",null,null,null,1,"NO SELECTION MADE",132,3,18.5,"305x90x162",null,null,null,null,null,"NO SELECTION MADE",0,0,null,"x",null,"x",null,null,null,null,null,null,null,null,null,"ANKETELL",2]
[null,null,null,null,null,null,null,null,null,3,"MIDLAND MAXIBRICK",138,3,18.5,"305x90x162",null,null,"INTERNAL ROUGH 2C",null,null,null,null,null,null,null,null,null,null,null,null,null,null,null,null,null,null,"APPLECROSS",2]
[null,null,null,null,null,null,null,null,null,null,"MIDLAND TIEDOWN MAXI",132,2,18.5,"305x90x162",null,null,null,null,null,null,null,null,null,null,null,null,null,null,null,null,null,null,null,null,null,"ARDROSS",2]
[null,"MIDLAND 1C BRICK - REDS",null,null,null,null,null,null,null,null,null,null,null,null,null,null,null,null,null,null,"MIDLAND RANGE PAVERS 60mm:-",null,null,null,null,null,null,null,null,null,null,null,"MIDLAND MASTERPAVE CLASSIC",null,null,null,"ARMADALE",2]
[null,"MIDLAND- Burnished Red",264,4,48.5,"230x110x76",true,"MIDLAND 1c FACE CORED","MIDLAND 1c FACE SOLID",null,"EXT BLOCK SELECTION",null,null,null,null,null,null,null,null,null,null,null,null,null,null,null,null,null,null,null,null,null,null,null,null,null,"ASCOT",1]
[null,null,null,null,null,null,null,null,null,"Line","Brick Type Selection","Pk Size","LEAFS","No/m2","Brick Size","1c pk size",null,null,null,null,"MIDLAND PAVESTONE ORIGINAL",330,{"$f":"1/AD10","v":38.138825324180011},230,"x",114,10,60,5,{"$f":"(X10/1000)*(Z10/1000)","v":2.6220000000000004E-2},8.66,null,{"$f":"IF(OR(AG8=\"MIDLAND PAVESTONE ORIGINAL\",AG8=\"MIDLAND MASTERPAVE CLASSIC\",AG8=\"MIDLAND PROMENADE\",AG8=\"MIDLAND MASTERPAVE GRANITE\",AG8=\"MIDLAND FLAGSTONE GRANITE\",AG8=\"MIDLAND MASTERPAVE GEO\",AG8=\"MIDLAND FLAGSTONE GEO\"),TRUE,FALSE)","v":true},null,null,null,"ASHBY",2]
[null,null,null,null,null,null,null,null,null,1,"NO SELECTION MADE",132,3,18.5,"305x90x162",null,null,null,null,null,null,null,null,null,null,null,null,null,null,null,null,null,null,null,null,null,"ASHENDON",3]
[null,"MIDLAND- Red Smooth",264,4,48.5,"230x110x76",true,"MIDLAND 1c FACE CORED","MIDLAND 1c FACE SOLID",3,"MIDLAND MAXIBRICK",138,3,18.5,"305x90x162",null,null,"EXTERNAL ROUGH 2C",null,null,"MIDLAND MASTERPAVE CLASSIC",230,25,200,"x",200,10,60,5,{"$f":"(X12/1000)*(Z12/1000)","v":4.0000000000000008E-2},9.1999999999999993,null,null,null,null,null,"ASHFIELD",1]
[null,"MIDLAND- Restoration Red",264,4,48.5,"230x110x76",true,"MIDLAND 1c FACE CORED","MIDLAND 1c FACE SOLID",null,null,null,null,null,null,null,null,null,null,null,null,null,null,null,null,null,null,null,null,null,null,null,null,null,null,null,"ATTADALE",2]
[null,null,null,null,null,null,null,null,null,null,"INTERNAL LONGREACH ",null,null,null,null,null,null,null,null,null,"MIDLAND PROMENADE CLASSIC",160,{"$f":"1/AD14","v":11.111111111111111},300,"x",300,15,60,10,0.09,14.41,null,null,null,null,null,"ATWELL",2]
[null,"MIDLAND- Subiaco Red",264,4,48.5,"230x110x76",true,"MIDLAND 1c FACE CORED","MIDLAND 1c FACE SOLID","Line","Brick Type Selection","Pk Size",null,"No/m2","Brick Size",null,null,null,null,null,null,null,null,null,null,null,null,null,null,null,null,null,null,null,null,null,"AUBIN GROVE",3]
[null,null,null,null,null,null,null,null,null,1,"NO SELECTION MADE",252,3,37,"305x90x76",null,null,null,null,null,"MIDLAND MASTERPAVE GRANITE",228,25,200,"x",200,10,60,4,4.0000000000000008E-2,9.1199999999999992,null,null,null,null,null,"AVELEY",1]
[null,"MIDLAND- Restoration Red Coach ",264,4,48.5,"230x110x76",true,"MIDLAND 1c FACE CORED","MIDLAND 1c FACE SOLID",2,"MIDLAND LONGREACH CORED",252,3,37,"305x90x76",null,null,"INTERNAL ROUGH 1C",null,null,null,null,null,null,null,null,null,null,null,null,null,null,null,null,null,null,"BAILUP",2]
[null,"MIDLAND- Nouveau Grey",264,4,48.5,"230x110x76",null,"MIDLAND 1c FACE CORED","MIDLAND 1c FACE SOLID",3,"MIDLAND LONGREACH SOLID",252,3,37,"305x90x76",null,null,"INTERNAL ROUGH 1C",null,null,"MIDLAND FLAGSTONE GRANITE",135,{"$f":"1/AD18","v":18.365472910927455},330,"x",165,15,60,10,5.4450000000000005E-2,7.5,null,null,null,null,null,"BAKERS HILL",3]
[null,"MIDLAND- Limestone Hue",264,4,48.5,"230x110x76",null,"MIDLAND 1c FACE CORED","MIDLAND 1c FACE SOLID",null,null,null,null,null,null,null,null,null,null,null,null,null,null,null,null,null,null,null,null,null,null,null,null,null,null,null,"BALCATTA",1]
[null,"MIDLAND 1C REVIVAL RANGE",null,null,null,null,null,null,null,null,"EXTERNAL LONGREACH ",null,null,null,null,null,null,null,null,null,"MIDLAND MASTERPAVE GEO",228,25,200,"x",200,10,60,4,4.0000000000000008E-2,9.1199999999999992,null,null,null,null,null,"BALDIVIS",3]
[null,"MIDLAND - Bishops House",264,4,48.5,"230x110x76",null,"MIDLAND 1c FACE CORED.","MIDLAND 1c FACE SOLID.","Line","Brick Type Selection","Pk Size",null,"No/m2","Brick Size",null,null,null,null,null,null,null,null,null,null,null,null,null,null,null,null,null,null,null,null,null,"BALGA",1]
[null,"MIDLAND - Laneway Vibe",264,4,48.5,"230x110x76",null,"MIDLAND 1c FACE CORED.","MIDLAND 1c FACE SOLID.",1,"NO SELECTION MADE",252,3,37,"305x90x76",null,null,null,null,null,"MIDLAND FLAGSTONE GEO",135,{"$f":"1/AD22","v":18.365472910927455},330,"X",165,15,60,3,5.4450000000000005E-2,7.5,null,null,null,null,null,"BALLAJURA",1]
[null,"MIDLAND - Treasury Red",264,4,48.5,"230x110x76",true,"MIDLAND 1c FACE CORED.","MIDLAND 1c FACE SOLID.",2,"MIDLAND LONGREACH CORED",252,3,37,"305x90x76",null,null,"EXTERNAL ROUGH 1C",null,null,null,null,null,null,null,null,null,null,null,null,null,null,null,null,null,null,"BANJUP",2]
[null,null,null,null,null,null,null,null,null,3,"MIDLAND LONGREACH SOLID",252,3,37,"305x90x76",null,null,"EXTERNAL ROUGH 1C",null,null,"NOUVO PAVE 60",230,27.7,190,"x",190,10,60,5,3.61E-2,8.3030000000000008,null,null,null,null,null,"BANKSIA GROVE",2]
[13,"MIDLAND- Traditional",264,4,48.5,"230x110x76",true,null,null,null,null,null,null,null,null,null,null,null,null,null,null,null,null,null,null,null,null,null,null,null,null,null,null,null,null,null,"BARRAGUP",4]
[15,"MIDLAND- Subiaco Red Coach",264,4,48.5,"230x110x76",true,null,null,null,"INTERNAL COMMON SELECTION",null,null,null,null,null,null,null,null,null,"NOUVO PAVE 60 RIVERWASH",230,{"$f":"1/(0.19*0.19)","v":27.700831024930746},190,"x",190,10,60,5,3.61E-2,8.3030000000000008,null,null,null,null,null,"BASKERVILLE",1]
[16,"MIDLAND- Traditional Coach",264,4,48.5,"230x110x76",true,null,null,"Line","Brick Type Selection","Pk Size",null,"No/m2","Brick Size",null,null,null,null,null,null,null,null,null,null,null,null,null,null,null,null,null,null,null,null,null,"BASSENDEAN",1]
[null,"MIDLAND- Kalbarri",264,4,48.5,"230x110x76",true,null,null,1,"NO SELECTION MADE",264,4,48.5,"230x110x76",null,null,null,null,null,"EASI PAVE 60",330,37.799999999999997,230,null,115,10,60,5,2.6450000000000001E-2,8.7279999999999998,null,null,null,null,null,"BATEMAN",2]
[18,"MIDLAND 1C BRICK - CREAMS ",null,null,null,null,null,null,null,2,"MIDLAND COMMON CORED",264,4,48.5,"230x110x76",null,null,"INTERNAL ROUGH 1C",null,null,null,null,null,null,null,null,null,null,null,null,null,null,null,null,null,null,"BAYSWATER",1]
[19,"MIDLAND- Cream Maxi",264,4,48.5,"230x110x76",null,null,null,3,"MIDLAND COMMON SOLID",264,4,48.5,"230x110x76",null,null,"INTERNAL ROUGH 1C",null,null,"MIDLAND ORIGINAL COLLECTION 60:-",null,null,null,null,null,null,null,null,null,null,null,null,null,null,null,"BEACONSFIELD",2]
[null,"MIDLAND- Salmon Gum",264,4,48.5,"230x110x76",true,null,null,null,null,null,null,null,null,null,null,null,null,null,"PAVESTONE 60 Autumn Blend",{"$f":"$U$10","v":"MIDLAND PAVESTONE ORIGINAL"},{"$f":"$V$10","v":330},{"$f":"$W$10","v":38.138825324180011},"x",{"$f":"$Y$10","v":"x"},{"$f":"$Z$10","v":114},{"$f":"$AA$10","v":10},{"$f":"$AB$10","v":60},{"$f":"$AC$10","v":5},{"$f":"$AD$10","v":2.6220000000000004E-2},null,null,null,null,null,"BECKENHAM",1]
[24,"MIDLAND- Milano",264,4,48.5,"230x110x76",null,null,null,null,"EXTERNAL COMMON SELECTION",null,null,null,null,null,null,null,null,null,"PAVESTONE 60 Heritage Red","MIDLAND PAVESTONE ORIGINAL",330,38.138825324180011,"x","x",114,10,60,5,2.6220000000000004E-2,null,null,null,null,null,"BEDFORD",1]
[25,"MIDLAND- Seville",264,4,48.5,"230x110x76",null,null,null,"Line","Brick Type Selection","Pk Size",null,"No/m2","Brick Size",null,null,null,null,null,"PAVESTONE 60 Limestone","MIDLAND PAVESTONE ORIGINAL",330,38.138825324180011,"x","x",114,10,60,5,2.6220000000000004E-2,null,null,null,null,null,"BEDFORDALE",2]
[27,"MIDLAND- Tuscan",264,4,48.5,"230x110x76",null,null,null,1,"NO SELECTION MADE",264,4,48.5,"230x110x76",null,null,null,null,null,"PAVESTONE 60 Charcoal","MIDLAND PAVESTONE ORIGINAL",330,38.138825324180011,"x","x",114,10,60,5,2.6220000000000004E-2,null,null,null,null,null,"BEECHBORO",1]
[28,null,null,null,null,null,null,null,null,2,"MIDLAND COMMON CORED",264,4,48.5,"230x110x76",null,null,"EXTERNAL ROUGH 1C",null,null,"PAVESTONE 60 Pewter","MIDLAND PAVESTONE ORIGINAL",330,38.138825324180011,"x","x",114,10,60,5,2.6220000000000004E-2,null,null,null,null,null,"BEECHINA",2]
[29,"MIDLAND 1C BRICK - PEARL ",null,null,null,null,null,null,null,3,"MIDLAND COMMON SOLID",264,4,48.5,"230x110x76",null,null,"EXTERNAL ROUGH 1C",null,null,null,null,null,null,null,null,null,null,null,null,null,null,null,null,null,null,"BEELIAR",2]
[30,"MIDLAND- Amber",264,4,48.5,"230x110x76",true,null,null,null,null,null,null,null,null,null,null,null,null,null,"MIDLAND CLASSIC COLLECTION 60:-",null,null,null,null,null,null,null,null,null,null,null,null,null,null,null,"BELDON",2]
[31,"MIDLAND- Black",264,4,48.5,"230x110x76",true,null,null,null,"2C FACE BLOCKS",null,null,null,null,null,null,null,null,null,"MASTERPAVE 60 Charcoal",{"$f":"$U$12","v":"MIDLAND MASTERPAVE CLASSIC"},{"$f":"$V$12","v":230},{"$f":"$W$12","v":25},"x",{"$f":"$Y$12","v":"x"},{"$f":"$Z$12","v":200},{"$f":"$AA$12","v":10},{"$f":"$AB$12","v":60},{"$f":"$AC$12","v":5},{"$f":"$AD$12","v":4.0000000000000008E-2},null,null,null,null,null,"BELHUS",1]
[32,"MIDLAND- Copper",264,4,48.5,"230x110x76",true,null,null,null,null,null,null,null,null,null,null,null,null,null,"MASTERPAVE 60  Golden Sand",{"$f":"$U$12","v":"MIDLAND MASTERPAVE CLASSIC"},{"$f":"$V$12","v":230},{"$f":"$W$12","v":25},"x",{"$f":"$Y$12","v":"x"},{"$f":"$Z$12","v":200},{"$f":"$AA$12","v":10},{"$f":"$AB$12","v":60},{"$f":"$AC$12","v":5},{"$f":"$AD$12","v":4.0000000000000008E-2},null,null,null,null,null,"BELLEVUE",1]
[33,"MIDLAND- Grey",264,4,48.5,"230x110x76",true,null,null,"Line","Brick Type Selection","Pk Size","leafs","No/m2","Brick Size",null,null,null,null,null,"MASTERPAVE 60 Heritage Red","MIDLAND MASTERPAVE CLASSIC",230,25,"x","x",200,10,60,5,4.0000000000000008E-2,null,null,null,null,null,"BELMONT",1]
[34,null,null,null,null,null,null,null,null,1,"NO SELECTION MADE",138,3,19.399999999999999,"290x90x162",264,38.75,null,null,null,"MASTERPAVE 60 Limestone","MIDLAND MASTERPAVE CLASSIC",230,25,"x","x",200,10,60,5,4.0000000000000008E-2,null,null,null,null,null,"BENNETT SPRINGS",1]
[35,null,null,null,null,null,null,null,null,5,null,null,null,null,null,null,null,null,null,null,"MASTERPAVE 60  Pewter","MIDLAND MASTERPAVE CLASSIC",230,25,"x","x",200,10,60,5,4.0000000000000008E-2,null,null,null,null,null,"BENTLEY",2]
[36,"MIDLAND 1C BRICK - CODA ",null,null,null,null,null,null,null,6,"MIDLAND 2C BRICKS",null,null,null,null,null,null,null,null,null,"MASTERPAVE 60 Steel Grey","MIDLAND MASTERPAVE CLASSIC",230,25,"x","x",200,10,60,5,4.0000000000000008E-2,null,null,null,null,null,"BERTRAM",3]
[37,"MIDLAND- Grey",264,4,48.5,"230x110x76",null,null,null,7,"MIDLAND - Bremer Bay",138,3,19.399999999999999,"290x90x162",264,38.75,"MIDLAND 2c FACE",null,null,"MASTERPAVE 60 Silver","MIDLAND MASTERPAVE CLASSIC",230,25,"x","x",200,10,60,5,4.0000000000000008E-2,null,null,null,null,null,"BIBRA LAKE",2]
[38,"MIDLAND- Red",264,4,48.5,"230x110x76",null,null,null,8,"MIDLAND - Bullara",138,3,19.399999999999999,"290x90x162",264,38.75,"MIDLAND 2c FACE",null,null,null,null,null,null,null,null,null,null,null,null,null,null,null,null,null,null,"BICKLEY",1]
[39,null,null,null,null,null,null,null,null,9,"MIDLAND - Kennedy",138,3,19.399999999999999,"290x90x162",264,38.75,"MIDLAND 2c FACE",true,null,"MIDLAND CLASSIC COLLECTION 60:-",null,null,null,null,null,null,null,null,null,null,null,null,null,null,null,"BICTON",2]
[40,"MIDLAND 1C BRICK - HANDMADE ",null,null,null,null,null,null,null,10,"MIDLAND - Loongana Limestone",138,3,19.399999999999999,"290x90x162",264,38.75,"MIDLAND 2c FACE",null,null,"PROMENADE  60 Limestone",160,{"$f":"1/AD47","v":11.111111111111111},300,"x",300,15,60,10,{"$f":"(X47/1000)*(Z47/1000)","v":0.09},14.41,null,null,null,null,null,"BINDOON",3]
[41,"MIDLAND- Caversham",264,4,48.5,"230x110x76",null,null,null,11,"MIDLAND - Roebuck",138,3,19.399999999999999,"290x90x162",264,38.75,"MIDLAND 2c FACE",true,null,"PROMENADE  60 Autum Blend",160,{"$f":"1/AD48","v":11.111111111111111},300,"x",300,15,60,10,0.09,14.41,null,null,null,null,null,"BOORAGOON",2]
[42,"MIDLAND- Helena vale",264,4,48.5,"230x110x76",true,null,null,12,"MIDLAND - Shale",138,3,19.399999999999999,"290x90x162",252,38.75,"MIDLAND 2c FACE",true,null,"PROMENADE  60 Golden Sand",160,11.111111111111111,300,"x",300,15,60,10,0.09,14.41,null,null,null,null,null,"BOUVARD",5]
[43,"MIDLAND- Sandalford",264,4,48.5,"230x110x76",true,null,null,13,"MIDLAND - Trealla Limestone",138,3,19.399999999999999,"290x90x162",264,38.75,"MIDLAND 2c FACE",null,null,"PROMENADE  60 Pewter",160,11.111111111111111,300,"x",300,15,60,10,0.09,14.41,null,null,null,null,null,"BOYA",1]
[44,"MIDLAND- Woodbridge",264,4,48.5,"230x110x76",null,null,null,14,"MIDLAND - Mandu",138,3,19.399999999999999,"290x90x162",252,38.75,"MIDLAND 2c FACE",null,null,"PROMENADE  60 Charcoal",160,11.111111111111111,300,"x",300,15,60,10,0.09,14.41,null,null,null,null,null,"BRABHAM",1]
[null,null,null,null,null,null,null,null,null,null,null,null,null,null,null,null,null,null,null,null,"PROMENADE  60 Steel Grey",160,11.111111111111111,300,"x",300,15,60,10,0.09,14.41,null,null,null,null,null,"BRENTWOOD",2]
[null,null,null,null,null,null,null,null,null,null,null,null,null,null,null,null,null,null,null,null,null,null,null,null,null,null,null,null,null,null,null,null,null,null,null,null,"BRIGADOON",1]
[null,null,null,null,null,null,null,null,null,null,"MIDLAND 2c 190mm FRACTION SNAP",null,null,null,null,null,null,"MIDLAND 2c 190mm FRACTION SNAP",null,null,"MIDLAND CLASSIC COLLECTION 60:-",null,null,null,null,null,null,null,null,null,null,null,null,null,null,null,"BROOKDALE",2]
[null,null,null,null,null,null,null,null,null,null,null,null,null,null,null,null,null,null,50,null,"FLAGSTONE 60 Charcoal",135,{"$f":"1/AD55","v":18.365472910927455},330,"x",165,15,60,10,{"$f":"(X55/1000)*(Z55/1000)","v":5.4450000000000005E-2},7.5,null,null,null,null,null,"BULLCREEK",2]
[null,null,null,null,null,null,null,null,null,null,null,null,null,null,null,null,null,null,51,null,"FLAGSTONE 60 Pewter",135,{"$f":"1/AD56","v":18.365472910927455},330,"x",165,15,60,10,5.4450000000000005E-2,7.5,null,null,null,null,null,"BULLSBROOK",1]
[null,null,null,null,null,null,null,null,null,null,null,null,null,null,null,null,null,null,52,null,"FLAGSTONE 60 Silver",135,18.365472910927455,330,"x",165,15,60,10,5.4450000000000005E-2,7.5,null,null,null,null,null,"BULLSBROOK EAST",2]
[null,null,null,null,null,null,null,null,null,null,null,null,null,null,null,null,null,null,53,null,null,null,null,null,null,null,null,null,null,null,null,null,null,null,null,null,"BURNS BEACH",2]
[null,null,null,null,null,null,null,null,null,null,null,null,null,null,null,null,null,null,54,null,"MIDLAND GRANITE COLLECTION 60 -",null,null,null,null,null,null,null,null,null,null,null,null,null,null,null,"BURSWOOD",1]
[null,null,null,null,null,null,null,null,null,null,null,null,null,null,null,null,null,null,55,null,"FLAGSTONE 60 Artic",135,{"$f":"1/AD60","v":18.365472910927455},330,"x",165,15,60,10,{"$f":"(X60/1000)*(Z60/1000)","v":5.4450000000000005E-2},7.5,null,null,null,null,null,"BUSHMEAD",1]
[null,null,null,null,null,null,null,null,null,null,null,null,null,null,null,null,null,null,56,null,"FLAGSTONE 60 Sea Mist",135,18.365472910927455,330,"x",165,15,60,10,5.4450000000000005E-2,7.5,null,null,null,null,null,"BUTLER",3]
[null,null,null,null,null,null,null,null,null,null,null,null,null,null,null,null,null,null,57,null,"FLAGSTONE 60 Storm Cloud",135,18.365472910927455,330,"x",165,15,60,10,5.4450000000000005E-2,7.5,null,null,null,null,null,"BYFORD",3]
[null,null,null,null,null,null,null,null,null,null,null,null,null,null,null,null,null,null,58,null,"FLAGSTONE 60 Tundra",135,18.365472910927455,330,"x",165,15,60,10,5.4450000000000005E-2,7.5,null,null,null,null,null,"CALISTA",3]
[null,null,null,null,null,null,null,null,null,null,null,null,null,null,null,null,null,null,59,null,null,null,null,null,null,null,null,null,null,null,null,null,null,null,null,null,"CAMILLO",2]
[null,null,null,null,null,null,null,null,null,null,null,null,null,null,null,null,null,null,60,null,"MIDLAND GRANITE COLLECTION 60 -",null,null,null,null,null,null,null,null,null,null,null,null,null,null,null,"CANNING VALE",2]
[null,null,null,null,null,null,null,null,null,null,null,null,null,null,null,null,null,null,61,null,"MASTERPAVE 60 Artic",228,{"$f":"1/AD66","v":24.999999999999996},200,"x",200,10,60,4,{"$f":"(X66/1000)*(Z66/1000)","v":4.0000000000000008E-2},9.1199999999999992,null,null,null,null,null,"CANNINGTON",2]
[null,null,null,null,null,null,null,null,null,null,null,null,null,null,null,null,null,null,62,null,"MASTERPAVE 60 Sea Mist",228,24.999999999999996,200,"x",200,10,60,4,4.0000000000000008E-2,9.1199999999999992,null,null,null,null,null,"CARABOODA",3]
[null,null,null,null,null,null,null,null,null,null,null,null,null,null,null,null,null,null,63,null,"MASTERPAVE 60 Storm Cloud",228,24.999999999999996,200,"x",200,10,60,4,4.0000000000000008E-2,9.1199999999999992,null,null,null,null,null,"CARDUP",3]
[null,null,null,null,null,null,null,null,null,null,null,null,null,null,null,null,null,null,64,null,"MASTERPAVE 60 Tundra",228,24.999999999999996,200,"x",200,10,60,4,4.0000000000000008E-2,9.1199999999999992,null,null,null,null,null,"CARILLA",2]
[null,null,null,null,null,null,null,null,null,null,null,null,null,null,null,null,null,null,65,null,null,null,null,null,null,null,null,null,null,null,null,null,null,null,null,null,"CARINE",2]
[null,null,null,null,null,null,null,null,null,null,null,null,null,null,null,null,null,null,66,null,"MIDLAND STONEWASH COLLECTION",null,null,null,null,null,null,null,null,null,null,null,null,null,null,null,"CARLISLE",1]
[null,null,null,null,null,null,null,null,null,null,null,null,null,null,null,null,null,null,67,null,"FLAGSTONE 60 Charcoal",135,{"$f":"1/AD72","v":18.365472910927455},330,"x",165,15,60,3,{"$f":"(X72/1000)*(Z72/1000)","v":5.4450000000000005E-2},7.5,null,null,null,null,null,"CARMEL",1]
[null,null,null,null,null,null,null,null,null,null,null,null,null,null,null,null,null,null,68,null,"FLAGSTONE 60 Grey",135,{"$f":"1/AD73","v":18.365472910927455},330,"x",165,15,60,3,5.4450000000000005E-2,7.5,null,null,null,null,null,"CARRAMAR",2]
[null,null,null,null,null,null,null,null,null,null,null,null,null,null,null,null,null,null,69,null,"FLAGSTONE 60 Silver",135,18.365472910927455,330,"x",165,15,60,3,5.4450000000000005E-2,7.5,null,null,null,null,null,"CASUARINA",3]
[null,null,null,null,null,null,null,null,null,null,null,null,null,null,null,null,null,null,70,null,null,null,null,null,null,null,null,null,null,null,null,null,null,null,null,null,"CAVERSHAM",1]
[null,null,null,null,null,null,null,null,null,null,null,null,null,null,null,null,null,null,71,null,"MIDLAND STONEWASH COLLECTION",null,null,null,null,null,null,null,null,null,null,null,null,null,null,null,"CHAMPION LAKES",2]
[null,null,null,null,null,null,null,null,null,null,null,null,null,null,null,null,null,null,72,null,"MASTERPAVE 60 Charcoal",228,{"$f":"1/AD77","v":24.999999999999996},200,"x",200,10,60,3,{"$f":"(X77/1000)*(Z77/1000)","v":4.0000000000000008E-2},9.1199999999999992,null,null,null,null,null,"CHIDLOW",2]
[null,null,null,null,null,null,null,null,null,null,null,null,null,null,null,null,null,null,73,null,"MASTERPAVE 60 Grey",228,24.999999999999996,200,"x",200,10,60,3,4.0000000000000008E-2,9.1199999999999992,null,null,null,null,null,"CHITTERING",3]
[null,null,null,null,null,null,null,null,null,null,null,null,null,null,null,null,null,null,74,null,"MASTERPAVE 60 Silver",228,24.999999999999996,200,"x",200,10,60,3,4.0000000000000008E-2,9.1199999999999992,null,null,null,null,null,"CHURCHLANDS",2]
[null,null,null,null,null,null,null,null,null,null,null,null,null,null,null,null,null,null,75,null,null,null,null,null,null,null,null,null,null,null,null,null,null,null,null,null,"CITY BEACH",2]
[null,null,null,null,null,null,null,null,null,null,null,null,null,null,null,null,null,null,76,null,"MIDLAND GEO COLLECTION",null,null,null,null,null,null,null,null,null,null,null,null,null,null,null,"CLACKLINE",3]
[null,null,null,null,null,null,null,null,null,null,null,null,null,null,null,null,null,null,77,null,"FLAGSTONE 60 Dew",135,{"$f":"1/AD82","v":18.365472910927455},330,"X",165,15,60,3,{"$f":"(X82/1000)*(Z82/1000)","v":5.4450000000000005E-2},7.5,null,null,null,null,null,"CLAREMONT",2]
[null,null,null,null,null,null,null,null,null,null,null,null,null,null,null,null,null,null,78,null,"FLAGSTONE 60 Kao",135,18.365472910927455,330,"X",165,15,60,3,5.4450000000000005E-2,7.5,null,null,null,null,null,"CLARKSON",2]
[null,null,null,null,null,null,null,null,null,null,null,null,null,null,null,null,null,null,79,null,"FLAGSTONE 60 Sky",135,18.365472910927455,330,"X",165,15,60,3,5.4450000000000005E-2,7.5,null,null,null,null,null,"CLOVERDALE",1]
[null,null,null,null,null,null,null,null,null,null,null,null,null,null,null,null,null,null,80,null,null,null,null,null,null,null,null,null,null,null,null,null,null,null,null,null,"COCKBURN CENTRAL",2]
[null,null,null,null,null,null,null,null,null,null,null,null,null,null,null,null,null,null,81,null,"MIDLAND GEO COLLECTION",null,null,null,null,null,null,null,null,null,null,null,null,null,null,null,"COMO",2]
[null,null,null,null,null,null,null,null,null,null,null,null,null,null,null,null,null,null,82,null,"MASTERPAVE 60 Dew",228,{"$f":"1/AD87","v":24.999999999999996},200,"X",200,10,60,3,{"$f":"(X87/1000)*(Z87/1000)","v":4.0000000000000008E-2},9.1199999999999992,null,null,null,null,null,"CONNOLLY",2]
[null,null,null,null,null,null,null,null,null,null,null,null,null,null,null,null,null,null,83,null,"MASTERPAVE 60 Kao",228,24.999999999999996,200,"X",200,10,60,3,4.0000000000000008E-2,9.1199999999999992,null,null,null,null,null,"COODANUP",4]
[null,null,null,null,null,null,null,null,null,null,null,null,null,null,null,null,null,null,84,null,"MASTERPAVE 60 Sky",228,24.999999999999996,200,"X",200,10,60,3,4.0000000000000008E-2,9.1199999999999992,null,null,null,null,null,"COOGEE",2]
[null,null,null,null,null,null,null,null,null,null,null,null,null,null,null,null,null,null,85,null,null,null,null,null,null,null,null,null,null,null,null,null,null,null,null,null,"COOLBELLUP",2]
[null,null,null,null,null,null,null,null,null,null,null,null,null,null,null,null,null,null,86,null,"MIDLAND  HONED COLLECTION",null,null,null,null,null,null,null,null,null,null,null,null,null,null,null,"COOLBINIA",2]
[null,null,null,null,null,null,null,null,null,null,null,null,null,null,null,null,null,null,87,null,"PROMENADE 60 Blanc",160,{"$f":"1/AD92","v":11.111111111111111},300,"x",300,15,60,10,{"$f":"(X92/1000)*(Z92/1000)","v":0.09},14.41,null,null,null,null,null,"COOLOONGUP",3]
[null,null,null,null,null,null,null,null,null,null,null,null,null,null,null,null,null,null,88,null,"PROMENADE  60 Grigio",160,11.111111111111111,300,"x",300,15,60,10,0.09,14.41,null,null,null,null,null,"COTTESLOE",2]
[null,null,null,null,null,null,null,null,null,null,null,null,null,null,null,null,null,null,89,null,"PROMENADE  60 Noire",160,11.111111111111111,300,"x",300,15,60,10,0.09,14.41,null,null,null,null,null,"CRAIGIE",2]
[null,null,null,null,null,null,null,null,null,null,null,null,null,null,null,null,null,null,90,null,null,null,null,null,null,null,null,null,null,null,null,null,null,null,null,null,"CRAWLEY",2]
[null,null,null,null,null,null,null,null,null,null,null,null,null,null,null,null,null,null,91,null,null,null,null,null,null,null,null,null,null,null,null,null,null,null,null,null,"CULLACABARDEE",1]
[null,null,null,null,null,null,null,null,null,null,null,null,null,null,null,null,null,null,92,null,null,null,null,null,null,null,null,null,null,null,null,null,null,null,null,null,"CURRAMBINE",2]
[null,null,null,null,null,null,null,null,null,null,null,null,null,null,null,null,null,null,null,null,null,null,null,null,null,null,null,null,null,null,null,null,null,null,null,null,"DAGLISH",1]
[null,null,null,null,null,null,null,null,null,null,null,null,null,null,null,null,null,null,null,null,null,null,null,null,null,null,null,null,null,null,null,null,null,null,null,null,"DALKEITH",2]
[null,null,null,null,null,null,null,null,null,null,null,null,null,null,null,null,null,null,null,null,null,null,null,null,null,null,null,null,null,null,null,null,null,null,null,null,"DARCH",1]
[null,null,null,null,null,null,null,null,null,null,null,null,null,null,null,null,null,null,null,null,null,null,null,null,null,null,null,null,null,null,null,null,null,null,null,null,"DARLING DOWNS",2]
[null,null,null,null,null,null,null,null,null,null,null,null,null,null,null,null,null,null,null,null,null,null,null,null,null,null,null,null,null,null,null,null,null,null,null,null,"DARLINGTON",1]
[null,null,null,null,null,null,null,null,null,null,null,null,null,null,null,null,null,null,null,null,null,null,null,null,null,null,null,null,null,null,null,null,null,null,null,null,"DAWESVILLE",5]
[null,null,null,null,null,null,null,null,null,null,null,null,null,null,null,null,null,null,null,null,null,null,null,null,null,null,null,null,null,null,null,null,null,null,null,null,"DAYTON",1]
[null,null,null,null,null,null,null,null,null,null,null,null,null,null,null,null,null,null,null,null,null,null,null,null,null,null,null,null,null,null,null,null,null,null,null,null,"DIANELLA",1]
[null,null,null,null,null,null,null,null,null,null,null,null,null,null,null,null,null,null,null,null,null,null,null,null,null,null,null,null,null,null,null,null,null,null,null,null,"DOUBLEVIEW",2]
[null,null,null,null,null,null,null,null,null,null,null,null,null,null,null,null,null,null,null,null,null,null,null,null,null,null,null,null,null,null,null,null,null,null,null,null,"DUDLEY PARK",4]
[null,null,null,null,null,null,null,null,null,null,null,null,null,null,null,null,null,null,null,null,null,null,null,null,null,null,null,null,null,null,null,null,null,null,null,null,"DUNCRAIG",2]
[null,null,null,null,null,null,null,null,null,null,null,null,null,null,null,null,null,null,null,null,null,null,null,null,null,null,null,null,null,null,null,null,null,null,null,null,"EAST CANNINGTON",1]
[null,null,null,null,null,null,null,null,null,null,null,null,null,null,null,null,null,null,null,null,null,null,null,null,null,null,null,null,null,null,null,null,null,null,null,null,"EAST FREMANTLE",3]
[null,null,null,null,null,null,null,null,null,null,null,null,null,null,null,null,null,null,null,null,null,null,null,null,null,null,null,null,null,null,null,null,null,null,null,null,"EAST PERTH",1]
[null,null,null,null,null,null,null,null,null,null,null,null,null,null,null,null,null,null,null,null,null,null,null,null,null,null,null,null,null,null,null,null,null,null,null,null,"EAST ROCKINGHAM",3]
[null,null,null,null,null,null,null,null,null,null,null,null,null,null,null,null,null,null,null,null,null,null,null,null,null,null,null,null,null,null,null,null,null,null,null,null,"EAST VICTORIA PK",2]
[null,null,null,null,null,null,null,null,null,null,null,null,null,null,null,null,null,null,null,null,null,null,null,null,null,null,null,null,null,null,null,null,null,null,null,null,"EDEN HILL",1]
[null,null,null,null,null,null,null,null,null,null,null,null,null,null,null,null,null,null,null,null,null,null,null,null,null,null,null,null,null,null,null,null,null,null,null,null,"EDGEWATER",2]
[null,null,null,null,null,null,null,null,null,null,null,null,null,null,null,null,null,null,null,null,null,null,null,null,null,null,null,null,null,null,null,null,null,null,null,null,"EGLINTON",3]
[null,null,null,null,null,null,null,null,null,null,null,null,null,null,null,null,null,null,null,null,null,null,null,null,null,null,null,null,null,null,null,null,null,null,null,null,"ELLENBROOK",1]
[null,null,null,null,null,null,null,null,null,null,null,null,null,null,null,null,null,null,null,null,null,null,null,null,null,null,null,null,null,null,null,null,null,null,null,null,"EMBLETON",1]
[null,null,null,null,null,null,null,null,null,null,null,null,null,null,null,null,null,null,null,null,null,null,null,null,null,null,null,null,null,null,null,null,null,null,null,null,"ERSKINE",4]
[null,null,null,null,null,null,null,null,null,null,null,null,null,null,null,null,null,null,null,null,null,null,null,null,null,null,null,null,null,null,null,null,null,null,null,null,"FALCON",4]
[null,null,null,null,null,null,null,null,null,null,null,null,null,null,null,null,null,null,null,null,null,null,null,null,null,null,null,null,null,null,null,null,null,null,null,null,"FERNDALE",2]
[null,null,null,null,null,null,null,null,null,null,null,null,null,null,null,null,null,null,null,null,null,null,null,null,null,null,null,null,null,null,null,null,null,null,null,null,"FLOREAT",2]
[null,null,null,null,null,null,null,null,null,null,null,null,null,null,null,null,null,null,null,null,null,null,null,null,null,null,null,null,null,null,null,null,null,null,null,null,"FORRESTDALE",2]
[null,null,null,null,null,null,null,null,null,null,null,null,null,null,null,null,null,null,null,null,null,null,null,null,null,null,null,null,null,null,null,null,null,null,null,null,"FORRESTFIELD",1]
[null,null,null,null,null,null,null,null,null,null,null,null,null,null,null,null,null,null,null,null,null,null,null,null,null,null,null,null,null,null,null,null,null,null,null,null,"FREMANTLE",2]
[null,null,null,null,null,null,null,null,null,null,null,null,null,null,null,null,null,null,null,null,null,null,null,null,null,null,null,null,null,null,null,null,null,null,null,null,"FURNISSDALE",4]
[null,null,null,null,null,null,null,null,null,null,null,null,null,null,null,null,null,null,null,null,null,null,null,null,null,null,null,null,null,null,null,null,null,null,null,null,"GARDEN ISLAND",3]
[null,null,null,null,null,null,null,null,null,null,null,null,null,null,null,null,null,null,null,null,null,null,null,null,null,null,null,null,null,null,null,null,null,null,null,null,"GIDGEGANNUP",1]
[null,null,null,null,null,null,null,null,null,null,null,null,null,null,null,null,null,null,null,null,null,null,null,null,null,null,null,null,null,null,null,null,null,null,null,null,"GIN GIN",3]
[null,null,null,null,null,null,null,null,null,null,null,null,null,null,null,null,null,null,null,null,null,null,null,null,null,null,null,null,null,null,null,null,null,null,null,null,"GIN GIN WEST",5]
[null,null,null,null,null,null,null,null,null,null,null,null,null,null,null,null,null,null,null,null,null,null,null,null,null,null,null,null,null,null,null,null,null,null,null,null,"GIRRAWHEEN",1]
[null,null,null,null,null,null,null,null,null,null,null,null,null,null,null,null,null,null,null,null,null,null,null,null,null,null,null,null,null,null,null,null,null,null,null,null,"GLEN FORREST",1]
[null,null,null,null,null,null,null,null,null,null,null,null,null,null,null,null,null,null,null,null,null,null,null,null,null,null,null,null,null,null,null,null,null,null,null,null,"GLENDALOUGH",2]
[null,null,null,null,null,null,null,null,null,null,null,null,null,null,null,null,null,null,null,null,null,null,null,null,null,null,null,null,null,null,null,null,null,null,null,null,"GNANGARA",2]
[null,null,null,null,null,null,null,null,null,null,null,null,null,null,null,null,null,null,null,null,null,null,null,null,null,null,null,null,null,null,null,null,null,null,null,null,"GOLDEN BAY",4]
[null,null,null,null,null,null,null,null,null,null,null,null,null,null,null,null,null,null,null,null,null,null,null,null,null,null,null,null,null,null,null,null,null,null,null,null,"GOOSEBERRY HILL",1]
[null,null,null,null,null,null,null,null,null,null,null,null,null,null,null,null,null,null,null,null,null,null,null,null,null,null,null,null,null,null,null,null,null,null,null,null,"GOSNELLS",2]
[null,null,null,null,null,null,null,null,null,null,null,null,null,null,null,null,null,null,null,null,null,null,null,null,null,null,null,null,null,null,null,null,null,null,null,null,"GREENFIELDS",4]
[null,null,null,null,null,null,null,null,null,null,null,null,null,null,null,null,null,null,null,null,null,null,null,null,null,null,null,null,null,null,null,null,null,null,null,null,"GREENMOUNT",1]
[null,null,null,null,null,null,null,null,null,null,null,null,null,null,null,null,null,null,null,null,null,null,null,null,null,null,null,null,null,null,null,null,null,null,null,null,"GREENWOOD",2]
[null,null,null,null,null,null,null,null,null,null,null,null,null,null,null,null,null,null,null,null,null,null,null,null,null,null,null,null,null,null,null,null,null,null,null,null,"GUILDERTON",5]
[null,null,null,null,null,null,null,null,null,null,null,null,null,null,null,null,null,null,null,null,null,null,null,null,null,null,null,null,null,null,null,null,null,null,null,null,"GUILDFORD",1]
[null,null,null,null,null,null,null,null,null,null,null,null,null,null,null,null,null,null,null,null,null,null,null,null,null,null,null,null,null,null,null,null,null,null,null,null,"GWELUP",2]
[null,null,null,null,null,null,null,null,null,null,null,null,null,null,null,null,null,null,null,null,null,null,null,null,null,null,null,null,null,null,null,null,null,null,null,null,"HACKETTS GULLY",2]
[null,null,null,null,null,null,null,null,null,null,null,null,null,null,null,null,null,null,null,null,null,null,null,null,null,null,null,null,null,null,null,null,null,null,null,null,"HALLS HEAD",4]
[null,null,null,null,null,null,null,null,null,null,null,null,null,null,null,null,null,null,null,null,null,null,null,null,null,null,null,null,null,null,null,null,null,null,null,null,"HAMERSLEY",1]
[null,null,null,null,null,null,null,null,null,null,null,null,null,null,null,null,null,null,null,null,null,null,null,null,null,null,null,null,null,null,null,null,null,null,null,null,"HAMILTON HILL",2]
[null,null,null,null,null,null,null,null,null,null,null,null,null,null,null,null,null,null,null,null,null,null,null,null,null,null,null,null,null,null,null,null,null,null,null,null,"HAMMOND PARK",2]
[null,null,null,null,null,null,null,null,null,null,null,null,null,null,null,null,null,null,null,null,null,null,null,null,null,null,null,null,null,null,null,null,null,null,null,null,"HARRISDALE",2]
[null,null,null,null,null,null,null,null,null,null,null,null,null,null,null,null,null,null,null,null,null,null,null,null,null,null,null,null,null,null,null,null,null,null,null,null,"HAYNES",2]
[null,null,null,null,null,null,null,null,null,null,null,null,null,null,null,null,null,null,null,null,null,null,null,null,null,null,null,null,null,null,null,null,null,null,null,null,"HAZELMERE",1]
[null,null,null,null,null,null,null,null,null,null,null,null,null,null,null,null,null,null,null,null,null,null,null,null,null,null,null,null,null,null,null,null,null,null,null,null,"HEATHRIDGE",2]
[null,null,null,null,null,null,null,null,null,null,null,null,null,null,null,null,null,null,null,null,null,null,null,null,null,null,null,null,null,null,null,null,null,null,null,null,"HELENA VALLEY",1]
[null,null,null,null,null,null,null,null,null,null,null,null,null,null,null,null,null,null,null,null,null,null,null,null,null,null,null,null,null,null,null,null,null,null,null,null,"HENDERSON",3]
[null,null,null,null,null,null,null,null,null,null,null,null,null,null,null,null,null,null,null,null,null,null,null,null,null,null,null,null,null,null,null,null,null,null,null,null,"HENLEY BROOK",1]
[null,null,null,null,null,null,null,null,null,null,null,null,null,null,null,null,null,null,null,null,null,null,null,null,null,null,null,null,null,null,null,null,null,null,null,null,"HERNE HILL",1]
[null,null,null,null,null,null,null,null,null,null,null,null,null,null,null,null,null,null,null,null,null,null,null,null,null,null,null,null,null,null,null,null,null,null,null,null,"HIGH WYCOMBE",1]
[null,null,null,null,null,null,null,null,null,null,null,null,null,null,null,null,null,null,null,null,null,null,null,null,null,null,null,null,null,null,null,null,null,null,null,null,"HIGHGATE",2]
[null,null,null,null,null,null,null,null,null,null,null,null,null,null,null,null,null,null,null,null,null,null,null,null,null,null,null,null,null,null,null,null,null,null,null,null,"HILBERT",2]
[null,null,null,null,null,null,null,null,null,null,null,null,null,null,null,null,null,null,null,null,null,null,null,null,null,null,null,null,null,null,null,null,null,null,null,null,"HILLARYS",2]
[null,null,null,null,null,null,null,null,null,null,null,null,null,null,null,null,null,null,null,null,null,null,null,null,null,null,null,null,null,null,null,null,null,null,null,null,"HILLMAN",3]
[null,null,null,null,null,null,null,null,null,null,null,null,null,null,null,null,null,null,null,null,null,null,null,null,null,null,null,null,null,null,null,null,null,null,null,null,"HILTON",2]
[null,null,null,null,null,null,null,null,null,null,null,null,null,null,null,null,null,null,null,null,null,null,null,null,null,null,null,null,null,null,null,null,null,null,null,null,"HOCKING",2]
[null,null,null,null,null,null,null,null,null,null,null,null,null,null,null,null,null,null,null,null,null,null,null,null,null,null,null,null,null,null,null,null,null,null,null,null,"HOPE VALLEY",3]
[null,null,null,null,null,null,null,null,null,null,null,null,null,null,null,null,null,null,null,null,null,null,null,null,null,null,null,null,null,null,null,null,null,null,null,null,"HOVEA",1]
[null,null,null,null,null,null,null,null,null,null,null,null,null,null,null,null,null,null,null,null,null,null,null,null,null,null,null,null,null,null,null,null,null,null,null,null,"HUNTINGDALE",2]
[null,null,null,null,null,null,null,null,null,null,null,null,null,null,null,null,null,null,null,null,null,null,null,null,null,null,null,null,null,null,null,null,null,null,null,null,"ILUKA",2]
[null,null,null,null,null,null,null,null,null,null,null,null,null,null,null,null,null,null,null,null,null,null,null,null,null,null,null,null,null,null,null,null,null,null,null,null,"INGLEWOOD",1]
[null,null,null,null,null,null,null,null,null,null,null,null,null,null,null,null,null,null,null,null,null,null,null,null,null,null,null,null,null,null,null,null,null,null,null,null,"INNALOO",2]
[null,null,null,null,null,null,null,null,null,null,null,null,null,null,null,null,null,null,null,null,null,null,null,null,null,null,null,null,null,null,null,null,null,null,null,null,"JANDABUP",2]
[null,null,null,null,null,null,null,null,null,null,null,null,null,null,null,null,null,null,null,null,null,null,null,null,null,null,null,null,null,null,null,null,null,null,null,null,"JANDAKOT",2]
[null,null,null,null,null,null,null,null,null,null,null,null,null,null,null,null,null,null,null,null,null,null,null,null,null,null,null,null,null,null,null,null,null,null,null,null,"JANE BROOK",1]
[null,null,null,null,null,null,null,null,null,null,null,null,null,null,null,null,null,null,169,null,null,null,null,null,null,null,null,null,null,null,null,null,null,null,null,null,"JARRAHDALE",3]
[null,null,null,null,null,null,null,null,null,null,null,null,null,null,null,null,null,null,170,null,null,null,null,null,null,null,null,null,null,null,null,null,null,null,null,null,"JINDALEE",3]
[null,null,null,null,null,null,null,null,null,null,null,null,null,null,null,null,null,null,null,null,null,null,null,null,null,null,null,null,null,null,null,null,null,null,null,null,"JOLIMONT",2]
[null,null,null,null,null,null,null,null,null,null,null,null,null,null,null,null,null,null,null,null,null,null,null,null,null,null,null,null,null,null,null,null,null,null,null,null,"JOONDALUP",2]
[null,null,null,null,null,null,null,null,null,null,null,null,null,null,null,null,null,null,null,null,null,null,null,null,null,null,null,null,null,null,null,null,null,null,null,null,"JOONDANNA",2]
[null,null,null,null,null,null,null,null,null,null,null,null,null,null,null,null,null,null,null,null,null,null,null,null,null,null,null,null,null,null,null,null,null,null,null,null,"KALAMUNDA",1]
[null,null,null,null,null,null,null,null,null,null,null,null,null,null,null,null,null,null,null,null,null,null,null,null,null,null,null,null,null,null,null,null,null,null,null,null,"KALLAROO",2]
[null,null,null,null,null,null,null,null,null,null,null,null,null,null,null,null,null,null,null,null,null,null,null,null,null,null,null,null,null,null,null,null,null,null,null,null,"KARAWARA",2]
[null,null,null,null,null,null,null,null,null,null,null,null,null,null,null,null,null,null,null,null,null,null,null,null,null,null,null,null,null,null,null,null,null,null,null,null,"KARDINYA",2]
[null,null,null,null,null,null,null,null,null,null,null,null,null,null,null,null,null,null,null,null,null,null,null,null,null,null,null,null,null,null,null,null,null,null,null,null,"KARNUP",3]
[null,null,null,null,null,null,null,null,null,null,null,null,null,null,null,null,null,null,null,null,null,null,null,null,null,null,null,null,null,null,null,null,null,null,null,null,"KARRAGULLEN",2]
[null,null,null,null,null,null,null,null,null,null,null,null,null,null,null,null,null,null,null,null,null,null,null,null,null,null,null,null,null,null,null,null,null,null,null,null,"KARRAKATTA",2]
[null,null,null,null,null,null,null,null,null,null,null,null,null,null,null,null,null,null,null,null,null,null,null,null,null,null,null,null,null,null,null,null,null,null,null,null,"KARRINYUP",2]
[null,null,null,null,null,null,null,null,null,null,null,null,null,null,null,null,null,null,null,null,null,null,null,null,null,null,null,null,null,null,null,null,null,null,null,null,"KELMSCOTT",2]
[null,null,null,null,null,null,null,null,null,null,null,null,null,null,null,null,null,null,null,null,null,null,null,null,null,null,null,null,null,null,null,null,null,null,null,null,"KENSINGTON",1]
[null,null,null,null,null,null,null,null,null,null,null,null,null,null,null,null,null,null,null,null,null,null,null,null,null,null,null,null,null,null,null,null,null,null,null,null,"KENWICK",2]
[null,null,null,null,null,null,null,null,null,null,null,null,null,null,null,null,null,null,null,null,null,null,null,null,null,null,null,null,null,null,null,null,null,null,null,null,"KEWDALE",1]
[null,null,null,null,null,null,null,null,null,null,null,null,null,null,null,null,null,null,null,null,null,null,null,null,null,null,null,null,null,null,null,null,null,null,null,null,"KEYSBROOK",3]
[null,null,null,null,null,null,null,null,null,null,null,null,null,null,null,null,null,null,null,null,null,null,null,null,null,null,null,null,null,null,null,null,null,null,null,null,"KIARA",1]
[null,null,null,null,null,null,null,null,null,null,null,null,null,null,null,null,null,null,null,null,null,null,null,null,null,null,null,null,null,null,null,null,null,null,null,null,"KINGSLEY",2]
[null,null,null,null,null,null,null,null,null,null,null,null,null,null,null,null,null,null,null,null,null,null,null,null,null,null,null,null,null,null,null,null,null,null,null,null,"KINROSS",2]
[null,null,null,null,null,null,null,null,null,null,null,null,null,null,null,null,null,null,null,null,null,null,null,null,null,null,null,null,null,null,null,null,null,null,null,null,"KOONDOOLA",1]
[null,null,null,null,null,null,null,null,null,null,null,null,null,null,null,null,null,null,null,null,null,null,null,null,null,null,null,null,null,null,null,null,null,null,null,null,"KOONGAMIA",1]
[null,null,null,null,null,null,null,null,null,null,null,null,null,null,null,null,null,null,null,null,null,null,null,null,null,null,null,null,null,null,null,null,null,null,null,null,"KWINANA",3]
[null,null,null,null,null,null,null,null,null,null,null,null,null,null,null,null,null,null,null,null,null,null,null,null,null,null,null,null,null,null,null,null,null,null,null,null,"LAKE COOGEE",2]
[null,null,null,null,null,null,null,null,null,null,null,null,null,null,null,null,null,null,null,null,null,null,null,null,null,null,null,null,null,null,null,null,null,null,null,null,"LAKELANDS",4]
[null,null,null,null,null,null,null,null,null,null,null,null,null,null,null,null,null,null,null,null,null,null,null,null,null,null,null,null,null,null,null,null,null,null,null,null,"LANDSDALE",1]
[null,null,null,null,null,null,null,null,null,null,null,null,null,null,null,null,null,null,null,null,null,null,null,null,null,null,null,null,null,null,null,null,null,null,null,null,"LANGFORD",2]
[null,null,null,null,null,null,null,null,null,null,null,null,null,null,null,null,null,null,null,null,null,null,null,null,null,null,null,null,null,null,null,null,null,null,null,null,"LATHLAIN",1]
[null,null,null,null,null,null,null,null,null,null,null,null,null,null,null,null,null,null,null,null,null,null,null,null,null,null,null,null,null,null,null,null,null,null,null,null,"LEDA",3]
[null,null,null,null,null,null,null,null,null,null,null,null,null,null,null,null,null,null,null,null,null,null,null,null,null,null,null,null,null,null,null,null,null,null,null,null,"LEEDERVILLE",1]
[null,null,null,null,null,null,null,null,null,null,null,null,null,null,null,null,null,null,null,null,null,null,null,null,null,null,null,null,null,null,null,null,null,null,null,null,"LEEMING",2]
[null,null,null,null,null,null,null,null,null,null,null,null,null,null,null,null,null,null,null,null,null,null,null,null,null,null,null,null,null,null,null,null,null,null,null,null,"LESMURDIE",1]
[null,null,null,null,null,null,null,null,null,null,null,null,null,null,null,null,null,null,null,null,null,null,null,null,null,null,null,null,null,null,null,null,null,null,null,null,"LOCKRIDGE",1]
[null,null,null,null,null,null,null,null,null,null,null,null,null,null,null,null,null,null,null,null,null,null,null,null,null,null,null,null,null,null,null,null,null,null,null,null,"LOWER CHITTERING",2]
[null,null,null,null,null,null,null,null,null,null,null,null,null,null,null,null,null,null,null,null,null,null,null,null,null,null,null,null,null,null,null,null,null,null,null,null,"LYNWOOD",2]
[null,null,null,null,null,null,null,null,null,null,null,null,null,null,null,null,null,null,null,null,null,null,null,null,null,null,null,null,null,null,null,null,null,null,null,null,"MADDINGTON",2]
[null,null,null,null,null,null,null,null,null,null,null,null,null,null,null,null,null,null,null,null,null,null,null,null,null,null,null,null,null,null,null,null,null,null,null,null,"MADELEY",2]
[null,null,null,null,null,null,null,null,null,null,null,null,null,null,null,null,null,null,null,null,null,null,null,null,null,null,null,null,null,null,null,null,null,null,null,null,"MADORA BAY",4]
[null,null,null,null,null,null,null,null,null,null,null,null,null,null,null,null,null,null,null,null,null,null,null,null,null,null,null,null,null,null,null,null,null,null,null,null,"MAHOGANY CREEK",1]
[null,null,null,null,null,null,null,null,null,null,null,null,null,null,null,null,null,null,null,null,null,null,null,null,null,null,null,null,null,null,null,null,null,null,null,null,"MAIDA VALE",1]
[null,null,null,null,null,null,null,null,null,null,null,null,null,null,null,null,null,null,null,null,null,null,null,null,null,null,null,null,null,null,null,null,null,null,null,null,"MALAGA",1]
[null,null,null,null,null,null,null,null,null,null,null,null,null,null,null,null,null,null,null,null,null,null,null,null,null,null,null,null,null,null,null,null,null,null,null,null,"MANDOGALUP",3]
[null,null,null,null,null,null,null,null,null,null,null,null,null,null,null,null,null,null,null,null,null,null,null,null,null,null,null,null,null,null,null,null,null,null,null,null,"MANDURAH",4]
[null,null,null,null,null,null,null,null,null,null,null,null,null,null,null,null,null,null,null,null,null,null,null,null,null,null,null,null,null,null,null,null,null,null,null,null,"MANNING",2]
[null,null,null,null,null,null,null,null,null,null,null,null,null,null,null,null,null,null,null,null,null,null,null,null,null,null,null,null,null,null,null,null,null,null,null,null,"MARANGAROO",1]
[null,null,null,null,null,null,null,null,null,null,null,null,null,null,null,null,null,null,null,null,null,null,null,null,null,null,null,null,null,null,null,null,null,null,null,null,"MARDELLA",3]
[null,null,null,null,null,null,null,null,null,null,null,null,null,null,null,null,null,null,null,null,null,null,null,null,null,null,null,null,null,null,null,null,null,null,null,null,"MARIGINIUP",2]
[null,null,null,null,null,null,null,null,null,null,null,null,null,null,null,null,null,null,null,null,null,null,null,null,null,null,null,null,null,null,null,null,null,null,null,null,"MARMION",2]
[null,null,null,null,null,null,null,null,null,null,null,null,null,null,null,null,null,null,null,null,null,null,null,null,null,null,null,null,null,null,null,null,null,null,null,null,"MARTIN",2]
[null,null,null,null,null,null,null,null,null,null,null,null,null,null,null,null,null,null,null,null,null,null,null,null,null,null,null,null,null,null,null,null,null,null,null,null,"MAYLANDS",1]
[null,null,null,null,null,null,null,null,null,null,null,null,null,null,null,null,null,null,null,null,null,null,null,null,null,null,null,null,null,null,null,null,null,null,null,null,"MEADOW SPRINGS",4]
[null,null,null,null,null,null,null,null,null,null,null,null,null,null,null,null,null,null,null,null,null,null,null,null,null,null,null,null,null,null,null,null,null,null,null,null,"MEDINA",3]
[null,null,null,null,null,null,null,null,null,null,null,null,null,null,null,null,null,null,null,null,null,null,null,null,null,null,null,null,null,null,null,null,null,null,null,null,"MELVILLE",2]
[null,null,null,null,null,null,null,null,null,null,null,null,null,null,null,null,null,null,null,null,null,null,null,null,null,null,null,null,null,null,null,null,null,null,null,null,"MENORA",2]
[null,null,null,null,null,null,null,null,null,null,null,null,null,null,null,null,null,null,null,null,null,null,null,null,null,null,null,null,null,null,null,null,null,null,null,null,"MERRIWA",2]
[null,null,null,null,null,null,null,null,null,null,null,null,null,null,null,null,null,null,null,null,null,null,null,null,null,null,null,null,null,null,null,null,null,null,null,null,"MIDDLE SWAN",1]
[null,null,null,null,null,null,null,null,null,null,null,null,null,null,null,null,null,null,null,null,null,null,null,null,null,null,null,null,null,null,null,null,null,null,null,null,"MIDLAND",1]
[null,null,null,null,null,null,null,null,null,null,null,null,null,null,null,null,null,null,null,null,null,null,null,null,null,null,null,null,null,null,null,null,null,null,null,null,"MIDVALE",1]
[null,null,null,null,null,null,null,null,null,null,null,null,null,null,null,null,null,null,null,null,null,null,null,null,null,null,null,null,null,null,null,null,null,null,null,null,"MILLENDON",1]
[null,null,null,null,null,null,null,null,null,null,null,null,null,null,null,null,null,null,null,null,null,null,null,null,null,null,null,null,null,null,null,null,null,null,null,null,"MINDARIE",3]
[null,null,null,null,null,null,null,null,null,null,null,null,null,null,null,null,null,null,null,null,null,null,null,null,null,null,null,null,null,null,null,null,null,null,null,null,"MIRRABOOKA",1]
[null,null,null,null,null,null,null,null,null,null,null,null,null,null,null,null,null,null,null,null,null,null,null,null,null,null,null,null,null,null,null,null,null,null,null,null,"MORLEY",1]
[null,null,null,null,null,null,null,null,null,null,null,null,null,null,null,null,null,null,null,null,null,null,null,null,null,null,null,null,null,null,null,null,null,null,null,null,"MOSMAN PARK",2]
[null,null,null,null,null,null,null,null,null,null,null,null,null,null,null,null,null,null,null,null,null,null,null,null,null,null,null,null,null,null,null,null,null,null,null,null,"MT CLAREMONT",2]
[null,null,null,null,null,null,null,null,null,null,null,null,null,null,null,null,null,null,null,null,null,null,null,null,null,null,null,null,null,null,null,null,null,null,null,null,"MT HAWTHORN",2]
[null,null,null,null,null,null,null,null,null,null,null,null,null,null,null,null,null,null,null,null,null,null,null,null,null,null,null,null,null,null,null,null,null,null,null,null,"MT HELENA",2]
[null,null,null,null,null,null,null,null,null,null,null,null,null,null,null,null,null,null,null,null,null,null,null,null,null,null,null,null,null,null,null,null,null,null,null,null,"MT LAWLEY",1]
[null,null,null,null,null,null,null,null,null,null,null,null,null,null,null,null,null,null,null,null,null,null,null,null,null,null,null,null,null,null,null,null,null,null,null,null,"MT NASURA",2]
[null,null,null,null,null,null,null,null,null,null,null,null,null,null,null,null,null,null,null,null,null,null,null,null,null,null,null,null,null,null,null,null,null,null,null,null,"MT PLEASANT",2]
[null,null,null,null,null,null,null,null,null,null,null,null,null,null,null,null,null,null,null,null,null,null,null,null,null,null,null,null,null,null,null,null,null,null,null,null,"MT RICHON",3]
[null,null,null,null,null,null,null,null,null,null,null,null,null,null,null,null,null,null,null,null,null,null,null,null,null,null,null,null,null,null,null,null,null,null,null,null,"MUCHEA",2]
[null,null,null,null,null,null,null,null,null,null,null,null,null,null,null,null,null,null,null,null,null,null,null,null,null,null,null,null,null,null,null,null,null,null,null,null,"MULLALOO",2]
[null,null,null,null,null,null,null,null,null,null,null,null,null,null,null,null,null,null,null,null,null,null,null,null,null,null,null,null,null,null,null,null,null,null,null,null,"MUNDARING",1]
[null,null,null,null,null,null,null,null,null,null,null,null,null,null,null,null,null,null,null,null,null,null,null,null,null,null,null,null,null,null,null,null,null,null,null,null,"MUNDIJONG",3]
[null,null,null,null,null,null,null,null,null,null,null,null,null,null,null,null,null,null,null,null,null,null,null,null,null,null,null,null,null,null,null,null,null,null,null,null,"MUNSTER",2]
[null,null,null,null,null,null,null,null,null,null,null,null,null,null,null,null,null,null,null,null,null,null,null,null,null,null,null,null,null,null,null,null,null,null,null,null,"MURDOCH",2]
[null,null,null,null,null,null,null,null,null,null,null,null,null,null,null,null,null,null,null,null,null,null,null,null,null,null,null,null,null,null,null,null,null,null,null,null,"MYAREE",2]
[null,null,null,null,null,null,null,null,null,null,null,null,null,null,null,null,null,null,null,null,null,null,null,null,null,null,null,null,null,null,null,null,null,null,null,null,"NAVAL BASE",3]
[null,null,null,null,null,null,null,null,null,null,null,null,null,null,null,null,null,null,null,null,null,null,null,null,null,null,null,null,null,null,null,null,null,null,null,null,"NEDLANDS",2]
[null,null,null,null,null,null,null,null,null,null,null,null,null,null,null,null,null,null,null,null,null,null,null,null,null,null,null,null,null,null,null,null,null,null,null,null,"NEERABUP",2]
[null,null,null,null,null,null,null,null,null,null,null,null,null,null,null,null,null,null,null,null,null,null,null,null,null,null,null,null,null,null,null,null,null,null,null,null,"NOLLAMARA",1]
[null,null,null,null,null,null,null,null,null,null,null,null,null,null,null,null,null,null,null,null,null,null,null,null,null,null,null,null,null,null,null,null,null,null,null,null,"NORANDA",1]
[null,null,null,null,null,null,null,null,null,null,null,null,null,null,null,null,null,null,null,null,null,null,null,null,null,null,null,null,null,null,null,null,null,null,null,null,"NORTH BEACH",2]
[null,null,null,null,null,null,null,null,null,null,null,null,null,null,null,null,null,null,null,null,null,null,null,null,null,null,null,null,null,null,null,null,null,null,null,null,"NORTH COOGEE",3]
[null,null,null,null,null,null,null,null,null,null,null,null,null,null,null,null,null,null,null,null,null,null,null,null,null,null,null,null,null,null,null,null,null,null,null,null,"NORTH DANDALUP",4]
[null,null,null,null,null,null,null,null,null,null,null,null,null,null,null,null,null,null,null,null,null,null,null,null,null,null,null,null,null,null,null,null,null,null,null,null,"NORTH FREMANTLE",3]
[null,null,null,null,null,null,null,null,null,null,null,null,null,null,null,null,null,null,null,null,null,null,null,null,null,null,null,null,null,null,null,null,null,null,null,null,"NORTH LAKES",2]
[null,null,null,null,null,null,null,null,null,null,null,null,null,null,null,null,null,null,null,null,null,null,null,null,null,null,null,null,null,null,null,null,null,null,null,null,"NORTH PERTH",1]
[null,null,null,null,null,null,null,null,null,null,null,null,null,null,null,null,null,null,null,null,null,null,null,null,null,null,null,null,null,null,null,null,null,null,null,null,"NORTH YUNDERUP",4]
[null,null,null,null,null,null,null,null,null,null,null,null,null,null,null,null,null,null,null,null,null,null,null,null,null,null,null,null,null,null,null,null,null,null,null,null,"NORTHAM",4]
[null,null,null,null,null,null,null,null,null,null,null,null,null,null,null,null,null,null,null,null,null,null,null,null,null,null,null,null,null,null,null,null,null,null,null,null,"NORTHBRIDGE",1]
[null,null,null,null,null,null,null,null,null,null,null,null,null,null,null,null,null,null,null,null,null,null,null,null,null,null,null,null,null,null,null,null,null,null,null,null,"NOWERGUP",3]
[null,null,null,null,null,null,null,null,null,null,null,null,null,null,null,null,null,null,null,null,null,null,null,null,null,null,null,null,null,null,null,null,null,null,null,null,"OAKFORD",2]
[null,null,null,null,null,null,null,null,null,null,null,null,null,null,null,null,null,null,null,null,null,null,null,null,null,null,null,null,null,null,null,null,null,null,null,null,"OCEAN REEF",2]
[null,null,null,null,null,null,null,null,null,null,null,null,null,null,null,null,null,null,null,null,null,null,null,null,null,null,null,null,null,null,null,null,null,null,null,null,"O'CONNOR",2]
[null,null,null,null,null,null,null,null,null,null,null,null,null,null,null,null,null,null,null,null,null,null,null,null,null,null,null,null,null,null,null,null,null,null,null,null,"ORANGE GROVE",1]
[null,null,null,null,null,null,null,null,null,null,null,null,null,null,null,null,null,null,null,null,null,null,null,null,null,null,null,null,null,null,null,null,null,null,null,null,"ORELIA",3]
[null,null,null,null,null,null,null,null,null,null,null,null,null,null,null,null,null,null,null,null,null,null,null,null,null,null,null,null,null,null,null,null,null,null,null,null,"OSBORNE PARK",2]
[null,null,null,null,null,null,null,null,null,null,null,null,null,null,null,null,null,null,null,null,null,null,null,null,null,null,null,null,null,null,null,null,null,null,null,null,"PADBURY",2]
[null,null,null,null,null,null,null,null,null,null,null,null,null,null,null,null,null,null,null,null,null,null,null,null,null,null,null,null,null,null,null,null,null,null,null,null,"PALMYRA",2]
[null,null,null,null,null,null,null,null,null,null,null,null,null,null,null,null,null,null,null,null,null,null,null,null,null,null,null,null,null,null,null,null,null,null,null,null,"PARKERVILLE",1]
[null,null,null,null,null,null,null,null,null,null,null,null,null,null,null,null,null,null,null,null,null,null,null,null,null,null,null,null,null,null,null,null,null,null,null,null,"PARKLANDS",4]
[null,null,null,null,null,null,null,null,null,null,null,null,null,null,null,null,null,null,null,null,null,null,null,null,null,null,null,null,null,null,null,null,null,null,null,null,"PARKWOOD",2]
[null,null,null,null,null,null,null,null,null,null,null,null,null,null,null,null,null,null,null,null,null,null,null,null,null,null,null,null,null,null,null,null,null,null,null,null,"PARMELIA",3]
[null,null,null,null,null,null,null,null,null,null,null,null,null,null,null,null,null,null,null,null,null,null,null,null,null,null,null,null,null,null,null,null,null,null,null,null,"PAULLS VALLEY",2]
[null,null,null,null,null,null,null,null,null,null,null,null,null,null,null,null,null,null,null,null,null,null,null,null,null,null,null,null,null,null,null,null,null,null,null,null,"PEARSALL",2]
[null,null,null,null,null,null,null,null,null,null,null,null,null,null,null,null,null,null,null,null,null,null,null,null,null,null,null,null,null,null,null,null,null,null,null,null,"PEPPERMINT GROVE",3]
[null,null,null,null,null,null,null,null,null,null,null,null,null,null,null,null,null,null,null,null,null,null,null,null,null,null,null,null,null,null,null,null,null,null,null,null,"PERON",3]
[null,null,null,null,null,null,null,null,null,null,null,null,null,null,null,null,null,null,null,null,null,null,null,null,null,null,null,null,null,null,null,null,null,null,null,null,"PERTH",1]
[null,null,null,null,null,null,null,null,null,null,null,null,null,null,null,null,null,null,null,null,null,null,null,null,null,null,null,null,null,null,null,null,null,null,null,null,"PIARA WATERS",2]
[null,null,null,null,null,null,null,null,null,null,null,null,null,null,null,null,null,null,null,null,null,null,null,null,null,null,null,null,null,null,null,null,null,null,null,null,"PICKERING BROOK",2]
[null,null,null,null,null,null,null,null,null,null,null,null,null,null,null,null,null,null,null,null,null,null,null,null,null,null,null,null,null,null,null,null,null,null,null,null,"PIESSE BROOK",1]
[null,null,null,null,null,null,null,null,null,null,null,null,null,null,null,null,null,null,null,null,null,null,null,null,null,null,null,null,null,null,null,null,null,null,null,null,"PINJAR",2]
[null,null,null,null,null,null,null,null,null,null,null,null,null,null,null,null,null,null,null,null,null,null,null,null,null,null,null,null,null,null,null,null,null,null,null,null,"PINJARRA",5]
[null,null,null,null,null,null,null,null,null,null,null,null,null,null,null,null,null,null,null,null,null,null,null,null,null,null,null,null,null,null,null,null,null,null,null,null,"PORT KENNEDY",4]
[null,null,null,null,null,null,null,null,null,null,null,null,null,null,null,null,null,null,null,null,null,null,null,null,null,null,null,null,null,null,null,null,null,null,null,null,"POSTANS",3]
[null,null,null,null,null,null,null,null,null,null,null,null,null,null,null,null,null,null,null,null,null,null,null,null,null,null,null,null,null,null,null,null,null,null,null,null,"QUEENS PARK",1]
[null,null,null,null,null,null,null,null,null,null,null,null,null,null,null,null,null,null,null,null,null,null,null,null,null,null,null,null,null,null,null,null,null,null,null,null,"QUINNS ROCK",2]
[null,null,null,null,null,null,null,null,null,null,null,null,null,null,null,null,null,null,null,null,null,null,null,null,null,null,null,null,null,null,null,null,null,null,null,null,"RAVENSWOOD",4]
[null,null,null,null,null,null,null,null,null,null,null,null,null,null,null,null,null,null,null,null,null,null,null,null,null,null,null,null,null,null,null,null,null,null,null,null,"RED HILL",1]
[null,null,null,null,null,null,null,null,null,null,null,null,null,null,null,null,null,null,null,null,null,null,null,null,null,null,null,null,null,null,null,null,null,null,null,null,"REDCLIFFE",1]
[null,null,null,null,null,null,null,null,null,null,null,null,null,null,null,null,null,null,null,null,null,null,null,null,null,null,null,null,null,null,null,null,null,null,null,null,"RIDGEWOOD",2]
[null,null,null,null,null,null,null,null,null,null,null,null,null,null,null,null,null,null,null,null,null,null,null,null,null,null,null,null,null,null,null,null,null,null,null,null,"RIVERTON",2]
[null,null,null,null,null,null,null,null,null,null,null,null,null,null,null,null,null,null,null,null,null,null,null,null,null,null,null,null,null,null,null,null,null,null,null,null,"RIVERVALE",1]
[null,null,null,null,null,null,null,null,null,null,null,null,null,null,null,null,null,null,null,null,null,null,null,null,null,null,null,null,null,null,null,null,null,null,null,null,"ROCKINGHAM",3]
[null,null,null,null,null,null,null,null,null,null,null,null,null,null,null,null,null,null,null,null,null,null,null,null,null,null,null,null,null,null,null,null,null,null,null,null,"ROLEYSTONE",2]
[null,null,null,null,null,null,null,null,null,null,null,null,null,null,null,null,null,null,null,null,null,null,null,null,null,null,null,null,null,null,null,null,null,null,null,null,"ROSSMOYNE",2]
[null,null,null,null,null,null,null,null,null,null,null,null,null,null,null,null,null,null,null,null,null,null,null,null,null,null,null,null,null,null,null,null,null,null,null,null,"SAFETY BAY",3]
[null,null,null,null,null,null,null,null,null,null,null,null,null,null,null,null,null,null,null,null,null,null,null,null,null,null,null,null,null,null,null,null,null,null,null,null,"SALTERS POINT",2]
[null,null,null,null,null,null,null,null,null,null,null,null,null,null,null,null,null,null,null,null,null,null,null,null,null,null,null,null,null,null,null,null,null,null,null,null,"SAMSON",2]
[null,null,null,null,null,null,null,null,null,null,null,null,null,null,null,null,null,null,null,null,null,null,null,null,null,null,null,null,null,null,null,null,null,null,null,null,"SAWYERS VALLEY",1]
[null,null,null,null,null,null,null,null,null,null,null,null,null,null,null,null,null,null,null,null,null,null,null,null,null,null,null,null,null,null,null,null,null,null,null,null,"SCARBOROUGH",2]
[null,null,null,null,null,null,null,null,null,null,null,null,null,null,null,null,null,null,null,null,null,null,null,null,null,null,null,null,null,null,null,null,null,null,null,null,"SECRET HARBOUR",4]
[null,null,null,null,null,null,null,null,null,null,null,null,null,null,null,null,null,null,null,null,null,null,null,null,null,null,null,null,null,null,null,null,null,null,null,null,"SERPENTINE",3]
[null,null,null,null,null,null,null,null,null,null,null,null,null,null,null,null,null,null,null,null,null,null,null,null,null,null,null,null,null,null,null,null,null,null,null,null,"SEVILLE GROVE",2]
[null,null,null,null,null,null,null,null,null,null,null,null,null,null,null,null,null,null,null,null,null,null,null,null,null,null,null,null,null,null,null,null,null,null,null,null,"SHELLEY",2]
[null,null,null,null,null,null,null,null,null,null,null,null,null,null,null,null,null,null,null,null,null,null,null,null,null,null,null,null,null,null,null,null,null,null,null,null,"SHENTON PARK",1]
[null,null,null,null,null,null,null,null,null,null,null,null,null,null,null,null,null,null,null,null,null,null,null,null,null,null,null,null,null,null,null,null,null,null,null,null,"SHOALWATER",3]
[null,null,null,null,null,null,null,null,null,null,null,null,null,null,null,null,null,null,null,null,null,null,null,null,null,null,null,null,null,null,null,null,null,null,null,null,"SILVER SANDS",4]
[null,null,null,null,null,null,null,null,null,null,null,null,null,null,null,null,null,null,null,null,null,null,null,null,null,null,null,null,null,null,null,null,null,null,null,null,"SINAGRA",2]
[null,null,null,null,null,null,null,null,null,null,null,null,null,null,null,null,null,null,null,null,null,null,null,null,null,null,null,null,null,null,null,null,null,null,null,null,"SINGLETON",4]
[null,null,null,null,null,null,null,null,null,null,null,null,null,null,null,null,null,null,null,null,null,null,null,null,null,null,null,null,null,null,null,null,null,null,null,null,"SORRENTO",2]
[null,null,null,null,null,null,null,null,null,null,null,null,null,null,null,null,null,null,null,null,null,null,null,null,null,null,null,null,null,null,null,null,null,null,null,null,"SOUTH FREMANTLE",2]
[null,null,null,null,null,null,null,null,null,null,null,null,null,null,null,null,null,null,null,null,null,null,null,null,null,null,null,null,null,null,null,null,null,null,null,null,"SOUTH GUILDFORD",1]
[null,null,null,null,null,null,null,null,null,null,null,null,null,null,null,null,null,null,null,null,null,null,null,null,null,null,null,null,null,null,null,null,null,null,null,null,"SOUTH LAKES",2]
[null,null,null,null,null,null,null,null,null,null,null,null,null,null,null,null,null,null,null,null,null,null,null,null,null,null,null,null,null,null,null,null,null,null,null,null,"SOUTH PERTH",2]
[null,null,null,null,null,null,null,null,null,null,null,null,null,null,null,null,null,null,null,null,null,null,null,null,null,null,null,null,null,null,null,null,null,null,null,null,"SOUTH YUNDERUP",5]
[null,null,null,null,null,null,null,null,null,null,null,null,null,null,null,null,null,null,null,null,null,null,null,null,null,null,null,null,null,null,null,null,null,null,null,null,"SOUTHERN RIVER",2]
[null,null,null,null,null,null,null,null,null,null,null,null,null,null,null,null,null,null,null,null,null,null,null,null,null,null,null,null,null,null,null,null,null,null,null,null,"SPEARWOOD",2]
[null,null,null,null,null,null,null,null,null,null,null,null,null,null,null,null,null,null,null,null,null,null,null,null,null,null,null,null,null,null,null,null,null,null,null,null,"ST JAMES",2]
[null,null,null,null,null,null,null,null,null,null,null,null,null,null,null,null,null,null,null,null,null,null,null,null,null,null,null,null,null,null,null,null,null,null,null,null,"STIRLING",1]
[null,null,null,null,null,null,null,null,null,null,null,null,null,null,null,null,null,null,null,null,null,null,null,null,null,null,null,null,null,null,null,null,null,null,null,null,"STONEVILLE",2]
[null,null,null,null,null,null,null,null,null,null,null,null,null,null,null,null,null,null,null,null,null,null,null,null,null,null,null,null,null,null,null,null,null,null,null,null,"STRATTON",1]
[null,null,null,null,null,null,null,null,null,null,null,null,null,null,null,null,null,null,null,null,null,null,null,null,null,null,null,null,null,null,null,null,null,null,null,null,"SUBIACO",1]
[null,null,null,null,null,null,null,null,null,null,null,null,null,null,null,null,null,null,null,null,null,null,null,null,null,null,null,null,null,null,null,null,null,null,null,null,"SUCCESS",2]
[null,null,null,null,null,null,null,null,null,null,null,null,null,null,null,null,null,null,null,null,null,null,null,null,null,null,null,null,null,null,null,null,null,null,null,null,"SWAN VIEW",1]
[null,null,null,null,null,null,null,null,null,null,null,null,null,null,null,null,null,null,null,null,null,null,null,null,null,null,null,null,null,null,null,null,null,null,null,null,"SWANBOURNE",2]
[null,null,null,null,null,null,null,null,null,null,null,null,null,null,null,null,null,null,null,null,null,null,null,null,null,null,null,null,null,null,null,null,null,null,null,null,"TAMALA PARK",2]
[null,null,null,null,null,null,null,null,null,null,null,null,null,null,null,null,null,null,null,null,null,null,null,null,null,null,null,null,null,null,null,null,null,null,null,null,"TAPPING",2]
[null,null,null,null,null,null,null,null,null,null,null,null,null,null,null,null,null,null,null,null,null,null,null,null,null,null,null,null,null,null,null,null,null,null,null,null,"THE SPECTACLES",3]
[null,null,null,null,null,null,null,null,null,null,null,null,null,null,null,null,null,null,null,null,null,null,null,null,null,null,null,null,null,null,null,null,null,null,null,null,"THE VINES",1]
[null,null,null,null,null,null,null,null,null,null,null,null,null,null,null,null,null,null,null,null,null,null,null,null,null,null,null,null,null,null,null,null,null,null,null,null,"THORNLIE",2]
[null,null,null,null,null,null,null,null,null,null,null,null,null,null,null,null,null,null,null,null,null,null,null,null,null,null,null,null,null,null,null,null,null,null,null,null,"TOODYAY",3]
[null,null,null,null,null,null,null,null,null,null,null,null,null,null,null,null,null,null,null,null,null,null,null,null,null,null,null,null,null,null,null,null,null,null,null,null,"TREEBY",2]
[null,null,null,null,null,null,null,null,null,null,null,null,null,null,null,null,null,null,null,null,null,null,null,null,null,null,null,null,null,null,null,null,null,null,null,null,"TUART HILL",2]
[null,null,null,null,null,null,null,null,null,null,null,null,null,null,null,null,null,null,null,null,null,null,null,null,null,null,null,null,null,null,null,null,null,null,null,null,"TWO ROCKS",3]
[null,null,null,null,null,null,null,null,null,null,null,null,null,null,null,null,null,null,null,null,null,null,null,null,null,null,null,null,null,null,null,null,null,null,null,null,"UPPER SWAN",1]
[null,null,null,null,null,null,null,null,null,null,null,null,null,null,null,null,null,null,null,null,null,null,null,null,null,null,null,null,null,null,null,null,null,null,null,null,"VICTORIA PARK",1]
[null,null,null,null,null,null,null,null,null,null,null,null,null,null,null,null,null,null,null,null,null,null,null,null,null,null,null,null,null,null,null,null,null,null,null,null,"VICTORIA PK EAST",1]
[null,null,null,null,null,null,null,null,null,null,null,null,null,null,null,null,null,null,null,null,null,null,null,null,null,null,null,null,null,null,null,null,null,null,null,null,"VIVEASH",1]
[null,null,null,null,null,null,null,null,null,null,null,null,null,null,null,null,null,null,null,null,null,null,null,null,null,null,null,null,null,null,null,null,null,null,null,null,"WAIKIKI",3]
[null,null,null,null,null,null,null,null,null,null,null,null,null,null,null,null,null,null,null,null,null,null,null,null,null,null,null,null,null,null,null,null,null,null,null,null,"WALLISTON",1]
[null,null,null,null,null,null,null,null,null,null,null,null,null,null,null,null,null,null,null,null,null,null,null,null,null,null,null,null,null,null,null,null,null,null,null,null,"WANDI",3]
[null,null,null,null,null,null,null,null,null,null,null,null,null,null,null,null,null,null,null,null,null,null,null,null,null,null,null,null,null,null,null,null,null,null,null,null,"WANGARA",2]
[null,null,null,null,null,null,null,null,null,null,null,null,null,null,null,null,null,null,null,null,null,null,null,null,null,null,null,null,null,null,null,null,null,null,null,null,"WANNANUP",5]
[null,null,null,null,null,null,null,null,null,null,null,null,null,null,null,null,null,null,null,null,null,null,null,null,null,null,null,null,null,null,null,null,null,null,null,null,"WANNEROO",2]
[null,null,null,null,null,null,null,null,null,null,null,null,null,null,null,null,null,null,null,null,null,null,null,null,null,null,null,null,null,null,null,null,null,null,null,null,"WARNBRO",3]
[null,null,null,null,null,null,null,null,null,null,null,null,null,null,null,null,null,null,null,null,null,null,null,null,null,null,null,null,null,null,null,null,null,null,null,null,"WARWICK",1]
[null,null,null,null,null,null,null,null,null,null,null,null,null,null,null,null,null,null,null,null,null,null,null,null,null,null,null,null,null,null,null,null,null,null,null,null,"WATERFORD",2]
[null,null,null,null,null,null,null,null,null,null,null,null,null,null,null,null,null,null,null,null,null,null,null,null,null,null,null,null,null,null,null,null,null,null,null,null,"WATERMANS BAY",2]
[null,null,null,null,null,null,null,null,null,null,null,null,null,null,null,null,null,null,null,null,null,null,null,null,null,null,null,null,null,null,null,null,null,null,null,null,"WATTLE GROVE",1]
[null,null,null,null,null,null,null,null,null,null,null,null,null,null,null,null,null,null,null,null,null,null,null,null,null,null,null,null,null,null,null,null,null,null,null,null,"WATTLEUP",3]
[null,null,null,null,null,null,null,null,null,null,null,null,null,null,null,null,null,null,null,null,null,null,null,null,null,null,null,null,null,null,null,null,null,null,null,null,"WELLARD",3]
[null,null,null,null,null,null,null,null,null,null,null,null,null,null,null,null,null,null,null,null,null,null,null,null,null,null,null,null,null,null,null,null,null,null,null,null,"WELSHPOOL",2]
[null,null,null,null,null,null,null,null,null,null,null,null,null,null,null,null,null,null,null,null,null,null,null,null,null,null,null,null,null,null,null,null,null,null,null,null,"WEMBLEY",1]
[null,null,null,null,null,null,null,null,null,null,null,null,null,null,null,null,null,null,null,null,null,null,null,null,null,null,null,null,null,null,null,null,null,null,null,null,"WEMBLEY DOWNS",2]
[null,null,null,null,null,null,null,null,null,null,null,null,null,null,null,null,null,null,null,null,null,null,null,null,null,null,null,null,null,null,null,null,null,null,null,null,"WEST LEEDERVILLE",1]
[null,null,null,null,null,null,null,null,null,null,null,null,null,null,null,null,null,null,null,null,null,null,null,null,null,null,null,null,null,null,null,null,null,null,null,null,"WEST PERTH",1]
[null,null,null,null,null,null,null,null,null,null,null,null,null,null,null,null,null,null,null,null,null,null,null,null,null,null,null,null,null,null,null,null,null,null,null,null,"WEST PINJARRA",5]
[null,null,null,null,null,null,null,null,null,null,null,null,null,null,null,null,null,null,null,null,null,null,null,null,null,null,null,null,null,null,null,null,null,null,null,null,"WEST SWAN",1]
[null,null,null,null,null,null,null,null,null,null,null,null,null,null,null,null,null,null,null,null,null,null,null,null,null,null,null,null,null,null,null,null,null,null,null,null,"WESTFIELD",2]
[null,null,null,null,null,null,null,null,null,null,null,null,null,null,null,null,null,null,null,null,null,null,null,null,null,null,null,null,null,null,null,null,null,null,null,null,"WESTMINSTER",1]
[null,null,null,null,null,null,null,null,null,null,null,null,null,null,null,null,null,null,null,null,null,null,null,null,null,null,null,null,null,null,null,null,null,null,null,null,"WHITBY",3]
[null,null,null,null,null,null,null,null,null,null,null,null,null,null,null,null,null,null,null,null,null,null,null,null,null,null,null,null,null,null,null,null,null,null,null,null,"WHITE GUM VALLEY",2]
[null,null,null,null,null,null,null,null,null,null,null,null,null,null,null,null,null,null,null,null,null,null,null,null,null,null,null,null,null,null,null,null,null,null,null,null,"WHITEMAN",1]
[null,null,null,null,null,null,null,null,null,null,null,null,null,null,null,null,null,null,null,null,null,null,null,null,null,null,null,null,null,null,null,null,null,null,null,null,"WILLAGEE",2]
[null,null,null,null,null,null,null,null,null,null,null,null,null,null,null,null,null,null,null,null,null,null,null,null,null,null,null,null,null,null,null,null,null,null,null,null,"WILLETON",2]
[null,null,null,null,null,null,null,null,null,null,null,null,null,null,null,null,null,null,null,null,null,null,null,null,null,null,null,null,null,null,null,null,null,null,null,null,"WILSON",2]
[null,null,null,null,null,null,null,null,null,null,null,null,null,null,null,null,null,null,null,null,null,null,null,null,null,null,null,null,null,null,null,null,null,null,null,null,"WINTHROP",2]
[null,null,null,null,null,null,null,null,null,null,null,null,null,null,null,null,null,null,null,null,null,null,null,null,null,null,null,null,null,null,null,null,null,null,null,null,"WOODLANDS",2]
[null,null,null,null,null,null,null,null,null,null,null,null,null,null,null,null,null,null,null,null,null,null,null,null,null,null,null,null,null,null,null,null,null,null,null,null,"WOODRIDGE",4]
[null,null,null,null,null,null,null,null,null,null,null,null,null,null,null,null,null,null,null,null,null,null,null,null,null,null,null,null,null,null,null,null,null,null,null,null,"WOODVALE",2]
[null,null,null,null,null,null,null,null,null,null,null,null,null,null,null,null,null,null,null,null,null,null,null,null,null,null,null,null,null,null,null,null,null,null,null,null,"WOOROLOO",2]
[null,null,null,null,null,null,null,null,null,null,null,null,null,null,null,null,null,null,null,null,null,null,null,null,null,null,null,null,null,null,null,null,null,null,null,null,"WUNDOWIE",3]
[null,null,null,null,null,null,null,null,null,null,null,null,null,null,null,null,null,null,null,null,null,null,null,null,null,null,null,null,null,null,null,null,null,null,null,null,"WUNGONG",2]
[null,null,null,null,null,null,null,null,null,null,null,null,null,null,null,null,null,null,null,null,null,null,null,null,null,null,null,null,null,null,null,null,null,null,null,null,"YANCHEP",3]
[null,null,null,null,null,null,null,null,null,null,null,null,null,null,null,null,null,null,null,null,null,null,null,null,null,null,null,null,null,null,null,null,null,null,null,null,"YANGEBUP",2]
[null,null,null,null,null,null,null,null,null,null,null,null,null,null,null,null,null,null,null,null,null,null,null,null,null,null,null,null,null,null,null,null,null,null,null,null,"YOKINE",1]
[null,null,null,null,null,null,null,null,null,null,null,null,null,null,null,null,null,null,null,null,null,null,null,null,null,null,null,null,null,null,null,null,null,null,null,null,"YORK",4]
[null,null,null,null,null,null,null,null,null,null,null,null,null,null,null,null,null,null,null,null,null,null,null,null,null,null,null,null,null,null,null,null,null,null,null,null,"YUNDERUP",4]

{"sheet":"Fascia-Roof Hardware","index":21,"n_rows":69,"n_cols":52,"rows_kept":69,"cut":false,"hidden":false,"merged":[[13,50,13,54],[14,51,14,54],[15,51,15,54],[16,51,16,54],[17,51,17,54],[18,51,18,54],[7,10,7,17],[32,24,32,26],[24,10,24,17],[14,10,14,17],[20,10,20,17],[15,24,16,28],[31,24,31,26],[28,37,28,40],[29,37,29,40],[17,10,17,17],[30,37,30,40],[17,30,17,32],[14,24,14,34],[15,30,15,34],[16,30,16,32],[26,10,26,22],[27,21,27,22],[28,21,28,22],[4,1,4,5],[1,1,3,34],[54,37,54,40],[52,37,52,40],[8,10,8,17],[9,10,9,17],[53,37,53,40],[37,10,37,17],[36,10,36,17],[36,37,36,40],[24,30,24,32],[25,30,25,32],[37,37,37,40],[38,37,38,40],[39,37,39,40],[16,10,16,17],[10,10,10,22],[27,1,27,2],[35,8,35,9],[32,37,32,40],[31,37,31,40],[33,37,33,40],[34,37,34,40],[25,10,25,17],[27,10,27,16],[28,10,28,16],[17,24,17,28],[22,24,22,26],[23,24,23,28],[21,24,21,26],[4,10,4,22],[6,10,6,17],[4,24,4,34],[6,24,6,29],[7,24,7,29],[8,24,8,34],[9,24,9,29],[10,24,10,29],[11,10,11,17],[12,10,12,17],[13,10,13,17],[15,10,15,17],[18,10,18,17],[11,24,11,29],[12,24,12,29],[13,24,13,29],[36,8,36,9],[37,8,37,9],[34,8,34,9],[19,10,19,17],[18,30,18,34],[21,30,21,32],[22,30,22,32],[30,30,30,32],[31,30,31,32],[27,30,27,32],[23,30,23,32],[26,30,26,32],[20,30,20,32],[19,30,19,32],[22,10,22,17],[23,10,23,17],[30,10,30,22],[31,10,31,17],[32,10,32,17],[29,30,29,32],[21,10,21,17],[28,30,28,32],[33,8,33,9],[29,10,29,16],[59,37,59,40],[58,37,58,40],[55,37,55,40],[48,10,48,13],[44,10,44,13],[46,10,46,13],[47,10,47,13],[33,10,33,17],[34,10,34,17],[35,10,35,17],[38,10,38,17],[57,37,57,40],[35,37,35,40],[40,37,40,40]]}
[]
[null,"FASCIA, ROOF LABOUR AND ROOF HARDWARE",null,null,null,null,null,null,null,null,null,null,null,null,null,null,null,null,null,null,null,null,null,null,null,null,null,null,null,null,null,null,null,null,null,null,null,null,null,null,{"$f":"IF(BC16=\"required\",BD9,(\"\"))","v":""}]
[null,null,null,null,null,null,null,null,null,null,null,null,null,null,null,null,null,null,null,null,null,null,null,null,null,null,null,null,null,null,null,null,null,null,null,null,null,null,null,null,{"$f":"IF(BC16=\"required\",BD10,(\"\"))","v":""}]
[null,null,null,null,null,null,null,null,null,null,null,null,null,null,null,null,null,null,null,null,null,null,null,null,null,null,null,null,null,null,null,null,null,null,null,null,null,null,null,null,{"$f":"IF(BC16=\"required\",BD11,(\"\"))","v":""}]
[null,"METAL FASCIA",null,null,null,null,null,null,null,null,"Wall Carpentry",null,null,null,null,null,null,null,null,null,null,null,null,null,"HARDWARE"]
[]
[null,null,null,1,{"$f":"IF($C7*$D7=0,\" \",$C7*$D7)","v":" "},null,null,null,null,null,{"$f":"_xlfn.XLOOKUP(U7,Lists!AV:AV,Lists!AW:AW)","v":"STEEL FRAME WALL OVER 15C"},null,null,null,null,null,null,null,{"$f":"IF('Main Details'!$D$32=\"Brick Veneer\",AP7,0)","v":56},null,"235-150-100200","additional",null,null,"TENSIONER BRACKETS",null,null,null,null,null,{"$f":"$AP$54","v":0},"PACK",null,null,null,null,null,null,null,null,null,{"$f":"IF('Main Details'!D32=\"Brick Veneer\",('Main Details'!$D$42-'Main Details'!$D$50)+T7+'Main Details'!D43,\"\")","v":56},null,"VUESMART HEX DRIVE ANTI SLIP"]
[null,null,null,1.5,{"$f":"IF($C8*$D8=0,\" \",$C8*$D8)","v":" "},null,null,null,null,null,{"$f":"_xlfn.XLOOKUP(U8,Lists!AV:AV,Lists!AW:AW)","v":"INSTALL DOOR FRAMES WITH TABS"},null,null,null,null,null,null,null,{"$f":"IF('Main Details'!$D$32=\"Brick Veneer\",AP8,0)","v":0},null,"235-600-100100",null,null,null,"WPA BOLTS ",null,null,null,null,null,"BBS","No",null,null,null,null,{"$f":"Y19*AA19/1000000","v":2.88},null,null,null,null,{"$f":"IF('Main Details'!D32=\"Brick Veneer\",('INT-EXT DOORS & int walls'!C35+'INT-EXT DOORS & int walls'!Y33),(\"\"))","v":0}]
[null,null,null,2," ",null,null,null,null,null,{"$f":"_xlfn.XLOOKUP(U9,Lists!AV:AV,Lists!AW:AW)","v":"STEEL FRAME WINDOW INSTALL"},null,null,null,null,null,null,null,{"$f":"IF('Main Details'!$D$32=\"Brick Veneer\",AP9,0)","v":16},null,"245-150-100400",null,null,null,"STEEL TRUSS HARDWARE",null,null,null,null,null,null,null,null,null,null,null,{"$f":"Y20*AA20/1000000","v":3.6},null,null,null,null,{"$f":"IF('Main Details'!D32=\"Brick Veneer\",('Lintels.windows '!$M$47),(\"\"))","v":16}]
[null,null,null,2.5," ",null,null,null,null,null,{"$f":"_xlfn.XLOOKUP(U10,Lists!AV:AV,Lists!AW:AW)","v":"INSTALL WALL WRAP TO ENTIRE"},null,null,null,null,null,null,null,"NO",null,"245-700-100750",null,null,null,"CLADDING Screws",null,null,null,null,null,{"$f":"IF('Main Details'!$G$32=TRUE,ROUNDUP((((($AH$17+$AH$25)*4.2/0.45))/50),0),\" \")","v":0},"BOX 50",null,null,null,null,{"$f":"Y21*AA21/1000000","v":4.32},null,null,"NO",null,null,null,"WINGED ZENITH 10g x 45mm"]
[null,null,null,3," ",null,null,null,null,null,"Roof Carpentry",null,null,null,null,null,null,null,null,null,null,null,null,null,"BARGE Screws",null,null,null,null,null,{"$f":"IF('Main Details'!$G$32=TRUE,ROUNDUP((((($S$33)/0.6))/50),0),\" \")","v":0},"BOX 50",null,null,null,null,null,null,null,"YES",1,{"$f":"IF(S10=\"YES\",1,0)","v":0},null,"WINGED ZENITH 10g x 45mm"]
[null,null,null,3.5," ",null,null,null,null,null,"POST STEEL OR TIMBER",null,null,null,null,null,null,null,null,"Ea","245-100-100800",null,null,null,"FLOOR Screws",null,null,null,null,null,null,"BOX 50",null,null,null,null,null,null,null,null,null,null,null,null,null,"WEATHERTEX WEATHERGROOVE PANEL"]
[null,null,null,4," ",null,null,null,null,null,"STEEL FRAME ROOF",null,null,null,null,null,null,null,{"$f":"'Main Details'!D40","v":250},"M2","245-150-100100",null,null,null,"EAVE SHEET SCREW",null,null,null,null,null,{"$f":"IF('Main Details'!$G$32=TRUE,ROUNDUP(((SUM($AK$14*$AB$25,$AK$15*$AB$26,$AK$16*$AB$27,$AK$17*$AB$28,$AK$18*$AB$29,$AK$19*$AB$30,$AK$20*$AB$31)*7)/100),0),\" \")","v":0},"BOX 100",null,null,null,null,null,null,null,"290-100-100100",null,null,"ZENITH WAFER HEAD SCREWS","ZENITH 10g x 22mm","Eave Sheet",null,null,null,null,"249-100-100100"]
[null,null,null,4.5," ",null,null,null,null,null,"E/O RIDGES - 6 OR GREATER",null,null,null,null,null,null,null,null,"M2","245-150-100325",null,null,null,"DURALUX PLUS SCREW",null,null,null,null,null,{"$f":"IF('Main Details'!$G$32=TRUE,ROUNDUP(SUM($AK$8*$AB$19,$AK$9*$AB$20,$AK$10*$AB$21)*7/100,0),\" \")","v":0},"BOX 100",null,null,null,null,{"$f":"Y25*AA25/1000000","v":1.08},"BGC DURASHEET","2400x450x4.5mm","290-200-100075",null,null,null,"ZENITH 8g x 30mm",null,null,null,null,null,null,"SITE WELDING ALLOWANCE"]
[null,null,null,5," ",null,null,null,null,null,"E/O RECESSED CEILING",null,null,null,null,null,null,null,null,"LM","245-150-100525",null,null,null,"Compressed Fibre and Cladding",null,null,null,null,null,null,null,null,null,null,null,1.44,"BGC DURASHEET","2400x600x4.5mm","290-200-100125",null,null,null,null,null,null,null,null,null,{"$f":"AY15*50","v":0},null,"PER ROD "]
[null,null,null,5.5," ",null,null,null,null,null,"STEEL FRAME 30-38 DEGREE PITCH",null,null,null,null,null,null,null,null,"M2","245-150-100600",null,null,null,"CFC SHEETS/BOARDS",null,null,null,null,null,"CLADDING",null,null,null,null,null,1.8,"BGC DURASHEET","2400x750x4.5mm","290-200-100175",null,null,"290-100-200790","ZENITH SELF EMBEDDING HEAD",{"$f":"AE11","v":0},null,null,null,null,{"$f":"AY16*50","v":0},null,"PER COLUMN"]
[null,null,null,6," ",null,null,null,null,null,"STEEL FRAME RAKING CEILING",null,null,null,null,null,null,null,null,"M2","245-150-100650",null,null,null,null,null,null,null,null,null,"BGC STRATUM CONTOUR",null,null,{"$f":"AP44+AH18","v":0},"No",null,2.16,"BGC DURASHEET","1800x1200x4.5mm","290-200-100425",null,null,"290-100-200790","ZENITH SELF EMBEDDING HEAD",{"$f":"IF(AE10<6,AE10,0)","v":0},null,null,null,null,{"$f":"AY17*50","v":0},null,"PER BEAM TO POST CONNECTION"]
[null,null,null,6.5," ",null,null,null,null,null,"STEEL FRAME GABLE/GAMBRILL",null,null,null,null,null,null,null,null,"Ea","245-150-100900",null,null,null,"DURALUX PLUS",null,null,null,null,null,"ADDITIONAL BOARDS",null,null,null,"No",null,2.88,"BGC DURASHEET","2400x1200x4.5mm","290-200-100475",null,null,"290-100-200925","SCREWS WNG CSK SQ",{"$f":"IF(AE10>5,1,0)","v":0},null,null,null,null,{"$f":"AY18*50","v":0},null,"PER BEAM TO BEAM CONNECTION"]
[null,null,null,7," ",null,null,null,null,null,"SINGLE GABLE MINIMUM CHARGE",null,null,null,null,null,null,null,null,"Ea",null,null,null,null,2400,"x",1200,null,"No",null,{"$f":"IF(AE17=\"BGC STRATUM\",(AQ34),IF(AP40=\"BGC STRATUM CONTOUR\",(AR34),IF(AP40=\"BGC STRATUM DUO\",(AS34),IF(AP40=\"BGC STRATUM DUO WOODGRAIN\",(AT34),IF(AP40=\"BGC STRATUM TRIO\",(AU34),IF(AP40=\"BGC STRATUM WOODGRAIN\",(AV34),(0)))))))","v":"WEATHERBOARD 4200x170x10mm"},null,null,null,null,null,3.24,"BGC DURASHEET","2700x1200x4.5mm","290-200-100525",null,null,"290-100-100100","Delivery",null,null,null,null,null,{"$f":"AY19*250","v":250},1,"MINIMUM CALL OUT"]
[null,null,null,7.5," ",null,null,null,null,null,"STEEL FRAME PORTAL BEAMS",null,null,null,null,null,null,null,null,"Ea","245-150-101200",null,null,null,3000,"x",1200,null,"No",null,"Nuline Plus Square 4.2x175mm",null,null,null,"No",null,3.6,"BGC DURASHEET","3000x1200x4.5mm","290-200-100575"]
[null,null,null,8," ",null,null,null,null,null,"CLADDING MINIMUM CHARGE",null,null,null,null,null,null,null,null,"Ea","245-200-100030",null,null,null,3600,"x",1200,null,"No",null,"EXTERNAL CORNER 3000mm",null,null,null,"No",null,null,"SUPA COVER WT",null,"290-100-300100",null,null,null,null,null,null,null,null,null,null,{"$f":"SUM(AX15:AX19)","v":250},"TOTAL"]
[null,null,null,8.5," ",null,null,null,null,null,"CLADDING",null,null,null,null,null,null,null,null,"M2",null,null,null,null,"6mm Negative Joiner 3m",null,null,null,"No",null,"INTERNAL CORNER 3000mm",null,null,null,"No"]
[null,null,null,9,{"$f":"IF($C23*$D23=0,\" \",$C23*$D23)","v":" "},null,null,null,null,null,"E/O METERBOX AND OPENINGS",null,null,null,null,null,null,null,null,"Ea","245-200-400100","M/Box",null,null,"6mm Divisional Mould 3m",null,null,null,"No",null,{"$f":"IF(AP40=\"BGC STRATUM\",(AQ35),IF(AP40=\"BGC STRATUM CONTOUR\",(AR35),IF(AP40=\"BGC STRATUM DUO\",(AS41),IF(AP40=\"BGC STRATUM DUO WOODGRAIN\",(AT41),IF(AP40=\"BGC STRATUM TRIO\",(AU41),IF(AP40=\"BGC STRATUM WOODGRAIN\",(AV41),(0)))))))","v":"TOE MOULD"},null,null,null,"LM",null,2.88,"BGC DURALUX PLUS",null,"290-250-200050"]
[null,"TOTAL:",{"$f":"SUM(E7:E23)","v":0},"l/m",null,null,null,"285-100-200100",null,null,"E/O INTERNAL/EXTERNAL CORNER",null,null,null,null,null,null,null,null,"Ea","245-200-400250",null,null,null,"DURASHEET",null,null,null,null,null,"THERMAL BREAK ",null,null,null,"Rolls",null,3.6,"BGC DURALUX PLUS",null,"290-250-200250"]
[null,null,"Ext corners=",null,null,"No",null,"285-100-200200",null,null,"STEEL FRAME WALL UP TO 15C",null,null,null,null,null,null,null,null,"LM","245-150-100300",null,null,null,2400,"x",450,null,"No",null,{"$f":"IF(AP40=\"BGC STRATUM\",(AQ45),IF(AP40=\"BGC STRATUM CONTOUR\",(AR45),IF(AP40=\"BGC STRATUM DUO\",(AS39),IF(AP40=\"BGC STRATUM DUO WOODGRAIN\",(AT39),IF(AP40=\"BGC STRATUM TRIO\",(AU39),IF(AP40=\"BGC STRATUM WOODGRAIN\",(AV39),(0)))))))","v":0},null,null,null,"No",null,4.32,"BGC DURALUX PLUS",null,"290-250-200350",null,null,"BGC DURAGROOVE SMOOTH","BGC DURAGROOVE SMOOTH","BGC DURAGROOVE SMOOTH","BGC DURAGROOVE SMOOTH"]
[null,null,"Int corners=",null,null,"No",null,"285-100-200300",null,null,"WALL BATTS (REVERSE CAVITY)",null,null,null,null,null,null,null,null,"M2","245-200-400010",null,null,null,2400,"x",600,null,"No",null,{"$f":"IF(AP40=\"BGC STRATUM\",(AQ45),IF(AP40=\"BGC STRATUM CONTOUR\",(AR45),IF(AP40=\"BGC STRATUM DUO\",(AS40),IF(AP40=\"BGC STRATUM DUO WOODGRAIN\",(AT40),IF(AP40=\"BGC STRATUM TRIO\",(AU40),IF(AP40=\"BGC STRATUM WOODGRAIN\",(AV40),(0)))))))","v":0},null,null,null,"No",null,null,"HARDIE 6mm PVC EAVE SOFFIT",null,"290-250-200600",null,null,"NARROW 2450x1200x9mm","NARROW 2750x1200x9mm","NARROW 3000x1200x9mm","EXTRA WIDE 3000x1200x9mm",null,""]
[null,null,"Bracket/clip=",{"$f":"IF('Main Details'!H28=TRUE,(ROUNDUP(C24/0.6,0)),(ROUNDUP(C24/0.9,0)))+5","v":5},null,"No",null,"285-100-100250",null,null,"STEEL BATTENS W/- TIMBER ROOF",null,null,null,null,null,null,null,null,null,null,null,null,null,2400,"x",750,null,"No",null,"BBS Membrane 1350mm",null,null,null,"LM"]
[null,"Straights/joins=",null,null,null,"No",null,"285-100-100800",null,null,"ROOF BATTEN G550 40mm",null,null,null,null,null,null,null,null,6.1,null,"lengths",null,null,1800,"x",1200,null,"No",null,"Wall Wrap Tape 50m",null,null,null,"Rolls"]
[null,null,"135 deg ext =",null,null,"No",null,"285-100-200400",null,null,"BATTEN ZIP SCREW",null,null,null,null,null,null,null,{"$f":"ROUNDUP(SUM(((S28*T28)/0.9)*2)/1000,0.1)","v":0},"BOX",null,1000,null,null,2400,"x",1200,null,"No",null,"Plascourse 150mm x 30m",null,null,null,"Rolls"]
[null,null,"135 deg int =",null,null,"No",null,"285-100-200500",null,null,null,null,null,null,null,null,null,null,null,null,null,null,null,null,2700,"x",1200,null,"No",null,"Cladding E/O Delivery",null,null,{"$f":"IF(AH17>0,1,0)","v":0},"EA"]
[null,null,"Stop end: Lh",null,null,"No",null,"285-100-200700",null,null,"MISC/PAINTING. ITEMS",null,null,null,null,null,null,null,null,null,null,null,null,null,3000,"x",1200,null,"No",null,"BGC DURAGROOVE",null,null,null,null,null,null,"EXTERNAL CORNER 3000mm",null,null,null,null,13,24,13,13,13,13]
[null,null,"Rh",null,null,"No",null,"285-100-200700",null,null,"GABLE BATTENS",null,null,null,null,null,null,null,null,"LM",null,"PAINTED",null,null,"4.5mm Divisional Mould 3m",null,null,null,"No",null,"NARROW 2450x1200x9mm",null,null,null,null,null,null,{"$f":"IF(AP40=\"BGC STRATUM\",(AQ38),IF(AP40=\"BGC STRATUM CONTOUR\",(AR38),IF(AP40=\"BGC STRATUM DUO\",(AS36),IF(AP40=\"BGC STRATUM DUO WOODGRAIN\",(AT36),IF(AP40=\"BGC STRATUM TRIO\",(AU36),IF(AP40=\"BGC STRATUM WOODGRAIN\",(AV36),(0)))))))","v":"290-500-200610"},null,null,null,null,1.159,0.59199999999999997,1.159,1.159,1.159,1.159]
[null,null,"C/B Pop Rvts",{"$f":"ROUNDUP((SUM(D25+D26+D28+D29+D30+D31+D32)*4)/100,0)","v":0},null,"Pkt",null,"285-100-200800",null,null,"TIMBER BARGES",null,null,null,null,null,null,null,null,"LM",null,"PAINTED",null,null,null,null,null,null,null,null,null,null,null,null,null,null,null,null,null,null,null,null,"BGC STRATUM","BGC STRATUM CONTOUR","BGC STRATUM DUO","BGC STRATUM DUO WOODGRAIN","BGC STRATUM TRIO","BGC STRATUM WOODGRAIN"]
[null,null,null,null,null,null,null,null,null,null,"WEATHERTEX CLADDING",null,null,null,null,null,null,null,null,"M2",null,"PAINTED",null,null,null,null,null,null,null,null,null,null,null,null,null,null,null,"INTERNAL CORNER 3000mm",null,null,null,null,"WEATHERBOARD 4200x300x12mm","WEATHERBOARD 4200x170x10mm","4200x300x12mm","4200x300x12mm","4200x300x12mm","4200x300x12mm"]
[null,null,null,null,null,null,null,null,null,null,"TIMBER POST SHOE",null,null,null,null,null,null,null,null,"No",null,null,null,null,null,null,null,null,null,null,null,null,null,null,null,null,null,{"$f":"IF(AP40=\"BGC STRATUM\",(AQ40),IF(AP40=\"BGC STRATUM CONTOUR\",(AR40),IF(AP40=\"BGC STRATUM DUO\",(AS38),IF(AP40=\"BGC STRATUM DUO WOODGRAIN\",(AT38),IF(AP40=\"BGC STRATUM TRIO\",(AU38),IF(AP40=\"BGC STRATUM WOODGRAIN\",(AV38),(0)))))))","v":"290-500-200620"},null,null,null,null,"TOE MOULD","TOE MOULD","EXTERNAL CORNER 3000mm","EXTERNAL CORNER 3000mm","EXTERNAL CORNER 3000mm","EXTERNAL CORNER 3000mm"]
[null,null,null,null,null,null,null,null,null,null,"DOWNPIPES",null,null,null,null,null,null,null,null,"No",null,"PAINTED",null,null,null,null,null,null,null,null,null,null,null,null,null,null,null,null,null,null,null,null,"285-100-400100","285-100-400100","290-500-200660","290-500-200660","290-500-200660","290-500-200660"]
[null,null,null,null,null,null,null,null,null,null,"STEEL POSTS",null,null,null,null,null,null,null,null,"LM",null,"PAINTED",null,null,null,null,null,null,null,null,null,null,null,null,null,null,null,{"$f":"AE23","v":"TOE MOULD"},null,null,null,null,"EXTERNAL CORNER 3000mm","EXTERNAL CORNER 3000mm","INTERNAL CORNER 3000mm","INTERNAL CORNER 3000mm","INTERNAL CORNER 3000mm","INTERNAL CORNER 3000mm"]
[null,null,null,null,null,null,null,null,null,null,"STEEL BEAMS",null,null,null,null,null,null,null,null,"LM",null,"PAINTED",null,null,null,null,null,null,null,null,null,null,null,null,null,null,null,{"$f":"IF(AP40=\"BGC STRATUM\",(AQ36),IF(AP40=\"BGC STRATUM CONTOUR\",(AR36),IF(AP40=\"BGC STRATUM DUO\",(AS42),IF(AP40=\"BGC STRATUM DUO WOODGRAIN\",(AT42),IF(AP40=\"BGC STRATUM TRIO\",(AU42),IF(AP40=\"BGC STRATUM WOODGRAIN\",(AV42),(0)))))))","v":"285-100-400100"},null,null,null,null,"290-500-200610","290-500-200610","290-500-200650","290-500-200650","290-500-200650","290-500-200650"]
[null,null,null,null,null,null,null,null,null,null,"TIMBER BEAMS",null,null,null,null,null,null,null,null,"LM","245-100-100900","PAINTED",null,null,null,null,null,null,null,null,null,null,null,null,null,null,null,null,null,null,null,null,"INTERNAL CORNER 3000mm","INTERNAL CORNER 3000mm","JOINT SEALANT ADHESIVE","JOINT SEALANT ADHESIVE","JOINT SEALANT ADHESIVE","JOINT SEALANT ADHESIVE"]
[null,null,null,null,null,null,null,null,null,null,null,null,null,null,null,null,null,null,null,null,null,null,null,null,null,null,null,null,null,null,null,null,null,null,null,null,null,"BGC THERMAL BREAK TAPE",null,null,null,{"$f":"AE17","v":"BGC STRATUM CONTOUR"},"290-500-200620","290-500-200620","BGC EPDM FOAM GASKET","BGC EPDM FOAM GASKET","BGC EPDM FOAM GASKET","BGC EPDM FOAM GASKET"]
[null,null,null,null,null,null,null,null,null,null,null,null,null,null,null,null,null,null,null,null,null,null,null,null,null,null,null,null,null,null,null,null,null,null,null,null,null,null,null,null,null,{"$f":"IF(AP40=\"BGC STRATUM\",(AQ32),IF(AP40=\"BGC STRATUM CONTOUR\",(AR32),IF(AP40=\"BGC STRATUM DUO\",(AS32),IF(AP40=\"BGC STRATUM DUO WOODGRAIN\",(AT32),IF(AP40=\"BGC STRATUM TRIO\",(AU32),IF(AP40=\"BGC STRATUM WOODGRAIN\",(AV32),(0)))))))","v":0.59199999999999997},"BGC NULINE PLUS SQUARE","BGC NULINE PLUS SQUARE","TOE MOULD","TOE MOULD","TOE MOULD","TOE MOULD"]
[null,null,null,null,null,null,null,null,null,null,null,null,null,null,null,null,null,null,null,null,null,null,null,null,null,null,null,null,null,null,null,null,null,null,null,null,null,"HARDIPLANK LINING",null,null,null,{"$f":"S22+AP35","v":0},"WEATHERBOARD 4200x175x14mm","WEATHERBOARD 4200x175x14mm","285-100-400100","285-100-400100","285-100-400100","285-100-400100"]
[null,null,null,null,null,null,null,null,null,null,null,null,null,null,null,null,null,null,null,null,null,null,null,null,null,null,null,null,null,null,null,null,null,null,null,null,null,"WEATHERBOARD CLADDING",null,null,null,{"$f":"IF(S22>0,AP42/AP41*1.25+2,0)","v":0}]
[null,null,null,null,null,null,null,null,null,null,null,null,null,null,null,null,null,null,null,null,null,null,null,null,null,null,null,null,null,null,null,null,null,null,null,null,null,null,null,null,null,{"$f":"ROUNDUP(AP43,0)","v":0},"THERMAROLL 12500x42x8mm","THERMAROLL 12500x42x8mm"]
[]
[null,null,null,null,null,null,null,null,null,null,null,null,null,null,null,null,null,null,null,null,null,null,null,null,null,null,null,null,null,null,null,null,null,null,null,null,null,{"$f":"IF(AL47<10,\"\",AL47)","v":""}]
[null,null,null,null,null,null,null,null,null,null,null,null,null,null,null,null,null,null,null,null,null,null,null,null,null,null,null,null,null,null,null,null,null,null,null,null,null,{"$f":"IF(S22>0,AP42,0)","v":0},"GABLE CHARGE",null,null,{"$f":"IF(AP42>10,\"245-200-100500\",0)","v":0}]
[null,null,null,null,null,null,null,null,null,null,null,null,null,null,null,null,null,null,null,null,null,null,null,null,null,null,null,null,null,null,null,null,null,null,null,null,{"$f":"IF($K$19=\"SINGLE GABLE MINIMUM CHARGE\",AP48,0)","v":"245-200-100010"},{"$f":"IF(K19=\"single gable minimum charge\",(S19),0)","v":0},"SINGLE GABLE MINIMUM CHARGE",null,null,{"$f":"_xlfn.XLOOKUP(AM48,Lists!AW:AW,Lists!AV:AV)","v":"245-200-100010"}]
[null,null,null,null,null,null,null,null,null,null,null,null,null,null,null,null,null,null,null,null,null,null,null,null,null,null,null,null,null,null,null,null,null,null,null,null,{"$f":"IF($K$19=\"DOUBLE GABLE MINIMUM CHARGE\",AP49,0)","v":0},{"$f":"IF(K19=\"double gable minimum charge\",(S19),0)","v":0},"DOUBLE GABLE MINIMUM CHARGE",null,null,{"$f":"_xlfn.XLOOKUP(AM49,Lists!AW:AW,Lists!AV:AV)","v":"245-200-100020"}]
[null,null,null,null,null,null,null,null,null,null,null,null,null,null,null,null,null,null,null,null,null,null,null,null,null,null,null,null,null,null,null,null,null,null,null,null,null,{"$f":"IF(S22<10,S21,0)","v":0},"CLADDING MINIMUM CHARGE",null,null,"245-200-100030"]
[]
[]
[null,null,null,null,null,null,null,null,null,null,null,null,null,null,null,null,null,null,null,null,null,null,null,null,null,null,null,null,null,null,null,null,null,null,null,null,null,"Tensioner Brackets"]
[null,null,null,null,null,null,null,null,null,null,null,null,null,null,null,null,null,null,null,null,null,null,null,null,null,null,null,null,null,null,null,null,null,null,null,null,null,{"$f":"'Main Details'!D32","v":"Brick veneer"},null,null,null,{"$f":"IF(AL54=AP55,(AL55),(AL56))","v":0}]
[null,null,null,null,null,null,null,null,null,null,null,null,null,null,null,null,null,null,null,null,null,null,null,null,null,null,null,null,null,null,null,null,null,null,null,null,null,{"$f":"ROUNDUP('Brick Final Sheet '!M55*30/3/6,0)","v":0},null,null,null,"Double Brick"]
[null,null,null,null,null,null,null,null,null,null,null,null,null,null,null,null,null,null,null,null,null,null,null,null,null,null,null,null,null,null,null,null,null,null,null,null,null,{"$f":"ROUNDUP('Brick Final Sheet '!M54/6,0)","v":0},null,null,null,"Brick Veneer"]
[]
[null,null,null,null,null,null,null,null,null,null,null,null,null,null,null,null,null,null,null,null,null,null,null,null,null,null,null,null,null,null,null,null,null,null,null,null,null,"BRACING TENSIONER VUEPRO"]
[null,null,null,null,null,null,null,null,null,null,null,null,null,null,null,null,null,null,null,null,null,null,null,null,null,null,null,null,null,null,null,null,null,null,null,null,null,"WALL WRAP 1350mm WIDE"]
[null,null,null,null,null,null,null,null,null,null,null,null,null,null,null,null,null,null,null,null,null,null,null,null,null,null,null,null,null,null,null,null,null,null,null,null,null,"WALL WRAP TAPE 72mm x 50m"]
[null,null,null,null,null,null,null,null,null,null,null,null,null,null,null,null,null,null,null,null,null,null,null,null,null,null,null,null,null,null,null,null,null,null,null,null,null,"PLASCOURSE BLACK POLYTHENE"]
[]
[]
[null,null,null,null,null,null,null,null,null,null,null,null,null,null,null,null,null,null,null,null,null,null,null,null,null,null,null,null,null,null,null,null,null,null,null,null,null,null,null,null,{"$f":"IF(AO65>0,1,0)","v":0},"DELIVERY PINE TIMBER"]
[null,null,null,null,null,null,null,null,null,null,null,null,null,null,null,null,null,null,null,null,null,null,null,null,null,null,null,null,null,null,null,null,null,null,null,null,null,null,null,null,{"$f":"S39","v":0},"KAPUR GLULAM BEAM 198 X 60"]
[]
[null,null,null,null,null,null,null,null,null,null,null,null,null,null,null,null,null,null,null,null,null,null,null,null,null,null,null,null,null,null,null,null,null,null,null,null,null,"290-100-400050","290-100-400075"]
[null,null,null,null,null,null,null,null,null,null,null,null,null,null,null,null,null,null,null,null,null,null,null,null,null,null,null,null,null,null,null,null,null,null,null,null,{"$f":"IF(S10=\"yes\",AH28,0)","v":0},{"$f":"IF(S10=\"yes\",AH27,0)","v":0},"Wall Wrap for BBS Supply"]
[null,null,null,null,null,null,null,null,null,null,null,null,null,null,null,null,null,null,null,null,null,null,null,null,null,null,null,null,null,null,null,null,null,null,null,null,{"$f":"IF(S10=\"NO\",AH28,0)","v":0},{"$f":"IF(S10=\"NO\",AH27,0)","v":0},"Wall Wrap for Roof Hardware"]

{"sheet":"Roof & Ceiling Quantities ","index":22,"n_rows":41,"n_cols":59,"rows_kept":41,"cut":false,"hidden":true,"merged":[[39,25,39,26],[36,43,36,44],[28,28,28,30],[35,42,40,42],[37,43,37,44],[36,39,37,40],[35,38,40,38],[33,32,34,33],[33,28,34,30],[29,28,29,30],[29,51,30,52],[12,43,13,44],[25,43,26,44],[35,47,40,47],[29,48,30,49],[24,47,26,47],[27,52,28,52],[25,48,26,52],[2,1,2,5],[5,5,6,5],[5,8,7,8],[5,9,6,9],[5,11,6,11],[5,1,7,1],[3,7,4,52],[5,32,6,33],[7,19,7,21],[5,51,6,52],[7,48,7,49],[5,48,6,49],[5,35,6,36],[5,19,6,21],[5,22,6,24],[5,15,6,17],[24,38,26,38],[28,32,28,33],[29,32,29,33],[36,35,37,36],[25,35,26,36],[7,32,7,33],[5,2,6,2],[7,28,7,30],[7,22,7,24],[5,28,6,30],[5,13,6,13],[29,15,29,17],[24,15,26,17],[5,25,6,26],[7,15,7,17],[7,25,7,26],[17,15,17,17],[28,15,28,17],[16,15,16,17],[24,42,26,42],[27,48,28,51],[12,39,13,40],[5,47,13,47],[5,43,6,44],[7,43,7,44],[7,51,7,52],[25,39,26,40],[7,35,7,36],[5,38,13,38],[5,42,13,42],[7,39,7,40],[5,39,6,40],[12,35,13,36]]}
[]
[null,{"$f":"'Main Details'!B2","v":"QUANTITY SHEET FOR EASY START HOMES"},null,null,null,null,null,null,null,null,null,null,null,null,null,null,null,null,null,null,null,null,null,null,null,null,null,null,null,null,null,null,null,null,null,null,null,null,null,null,null,null,null,null,null,null,null,null,null,null,null,"PG 9"]
[null,{"$f":"'Main Details'!D6","v":0}]
[null,null,null,null,null,null,null,"                  ROOF TIMBER QUANTITIES"]
[]
[null,null,"120x35",null,null,"200x25",null,null,null,"170x35",null,"170x35",null,"170x35",null,"120x35",null,null,null,"170x35",null,null,"120x35",null,null,"150x25",null,null,"96x51 U/Purlin",null,null,null,"96x51 U/Purlin",null,null,"70x45",null,null,"           E-SPLAYS   1,2","70x35",null,null,"           E-SPLAYS   1,2","70x45",null,null,null,"           E-SPLAYS   1,2","90x35",null,null,"90x35"]
[]
[null,null,"Rafters",null,null,"Ridges",null,null,null,"Hips",null,"Valleys",null,"Hips",null,"Hangers",null,null,null,"Totals",null,null,"Totals",null,null,"V/boards",null,null,"BOTM ROW",null,null,null,"TOP ROW",null,null,"Eave Trimmers",null,null,null,"Soldiers",null,null,null,"Gable Studs",null,null,null,null,"Pine<6.0",null,null,"Pine>6.0"]
[null,0.6,null,{"$f":"B9*C9","v":0},null,null,{"$f":"B9*F9","v":0},null,2.4,null,{"$f":"I9*J9","v":0},null,{"$f":"I9*L9","v":0},null,null,null,{"$f":"IF(J9=\"\",\"\",J9)","v":""},0.6,null,{"$f":"IF((L9+N9)>0,(L9+N9),\" \")","v":" "},{"$f":"IF(T9=\" \",\" \",I9*T9)","v":" "},0.6,null,null,0.6,null,null,{"$f":"IF(Z9=\" \",\" \",Z9*AA9)","v":0},null,null,1.2,{"$f":"AC9*AE9","v":0},null,1.2,{"$f":"AG9*AH9","v":0},{"$f":"SUM('Fascia-Roof Hardware'!AB27*3.6/3.6)","v":0},3.6,{"$f":"IF(AJ9=\" \",0,AK9*AJ9)","v":0},null,{"$f":"IF(AJ9=\" \",\" \",ROUNDUP(AJ9/2,0))","v":0},3.6,{"$f":"IF(AN9=\" \",0,AO9*AN9)","v":0},null,null,3.6,{"$f":"AR9*AS9","v":0},null,null,null,1.5,{"$f":"AX9*AW9","v":0},null,6.3,{"$f":"BA9*AZ9","v":0},null,"75x38"]
[null,0.9,null,{"$f":"B10*C10","v":0},null,null,0,null,2.7,null,0,null,{"$f":"I10*L10","v":0},null,null,null,{"$f":"IF(J10=\"\",\"\",J10)","v":""},0.9,null," "," ",0.9,null,null,0.9,null,null,0,null,null,1.5,0,null,1.5,0,null,null,{"$f":"AK10*AJ10","v":0},null,null,null,{"$f":"AO10*AN10","v":0},null,null,null,{"$f":"AR10*AS10","v":0},null,null,null,1.8,0,null,6.6,{"$f":"BA10*AZ10","v":0},null,"ROOF AREA",null,"x1.3=",{"$f":"'Main Details'!D39*1.3","v":31.200000000000003}]
[null,1.2,null,{"$f":"B11*C11","v":0},null,null,0,null,3,null,0,null,0,null,null,null,null,1.2,{"$f":"P11*R11","v":0}," "," ",1.2,{"$f":"IF((C11+P11)>0,(C11+P11),\" \")","v":" "},{"$f":"IF(W11=\" \",\" \",Y11*W11)","v":" "},1.2,null,null,0,null,null,1.8,0,null,1.8,0,null,null,0,null,null,null,0,null,null,null,{"$f":"AR11*AS11","v":0},null,null,null,2.1,0,null,6.9,0,null,"ROOF PERIMETER",null,"=",{"$f":"'Main Details'!D44","v":0}]
[null,1.5,null,0,null,null,0,null,3.3,null,0,null,0,null,null,null,null,1.5,{"$f":"P12*R12","v":0}," "," ",1.5,{"$f":"IF((C12+P12)>0,(C12+P12),\" \")","v":" "}," ",1.5,null,null,0,null,null,2.1,0,null,2.1,0,{"$f":"SUM(AL9:AL11)","v":0},"l/m",null,null,{"$f":"SUM(AP5:AP11)","v":0},"l/m","l/m",null,{"$f":"SUM(AT5:AT11)","v":0},"l/m",null,null,null,null,2.4,0,null,7.2,0,null,"RIDGES,HIPS VALLEYS",null,"x2=",{"$f":"SUM(F28+J22+J40+L22+L40)*2","v":0}]
[null,1.8,null,0,null,null,0,null,3.6,null,0,null,0,null,null,null,null,1.8,{"$f":"P13*R13","v":0}," "," ",1.8,{"$f":"IF((C13+P13)>0,(C13+P13),\" \")","v":" "}," ",1.8,null,null,0,null,null,2.4,0,null,2.4,0,"300x45 LVL",null,null,null,"200x63 LVL",null,null,null,"240x63 LVL",null,null,null,null,null,2.7,0,null,7.5,0,null,null,null,"/5.4=",{"$f":"(BG10+BG11+BG12)/5.4","v":5.7777777777777777}]
[null,2.1,null,0,null,null,0,null,3.9,null,0,null,0,null,null,null,null,2.1,{"$f":"P14*R14","v":0}," "," ",2.1,{"$f":"IF((C14+P14)>0,(C14+P14),\" \")","v":" "}," ",2.1,null,null,0,null,null,2.7,0,null,2.7,0,null,null,null,null,null,null,null,null,null,null,null,null,null,null,3,0,null,7.8,0,null,null,null,"Total=",{"$f":"ROUNDUP(BG13,0)","v":6}]
[null,2.4,null,0,null,null,0,null,4.2,null,0,null,0,null,null,null,null,2.4,{"$f":"P15*R15","v":0}," "," ",2.4,{"$f":"IF((C15+P15+AW32)>0,(C15+P15+AW32),\" \")","v":" "}," ",2.4,null,null,0,null,null,3,0,null,3,0,null,null,{"$f":"AJ15*AK15","v":0},null,null,null,{"$f":"AN15*AO15","v":0},null,null,null,{"$f":"AR15*AS15","v":0},null,null,null,3.3,0,null,8.1,0,null,null,null,"order=",{"$f":"IF(AND('Main Details'!C28=\"N\",BG14>0),BG14+8,0)","v":14}]
[null,2.7,null,0,null,null,0,null,4.5,null,0,null,0,null,null,{"$f":"SUM(S9:S15)","v":0},null,"l/m",null,{"$f":"IF(L16+N16+J16>0,L16+N16+J16,\"\")","v":""},{"$f":"IF(J16+L16+N16>0,(J16+L16+N16)*2.7,0)","v":0},2.7,{"$f":"IF((C16)>0,(C16),\" \")","v":" "}," ",2.7,null,null,0,null,null,3.3,0,null,3.3,0,null,null,0,null,null,null,0,null,null,null,{"$f":"AS16*AR16","v":0},null,null,null,3.6,0,null,8.4,0]
[null,3,null,0,null,null,0,null,4.8,null,0,null,0,null,null,"170x35",null,null,null,{"$f":"IF(L17+N17+J17>0,L17+N17+J17,\"\")","v":""},{"$f":"IF(J17+L17+N17>0,(J17+L17+N17)*3,0)","v":0},3,{"$f":"IF((C17+AW33)>0,(C17+AW33),\" \")","v":" "}," ",3,null,null,0,null,null,3.6,0,null,3.6,0,null,null,0,null,null,null,0,null,null,null,0,null,null,null,3.9,0,null,8.6999999999999993,{"$f":"BA17*AZ17","v":0}]
[null,3.3,null,0,null,null,0,null,5.0999999999999996,null,0,null,0,null,null,"Hangers",null,null,null,{"$f":"IF(L18+N18+J18>0,L18+N18+J18,\"\")","v":""},{"$f":"IF(J18+L18+N18>0,(J18+L18+N18)*3.3,0)","v":0},3.3,{"$f":"IF((C18)>0,(C18),\" \")","v":" "}," ",3.3,null,null,0,null,null,3.9,0,null,3.9,0,null,null,0,null,null,null,0,null,null,null,0,null,null,null,4.2,0,null,9,0]
[null,3.6,null,0,null,null,0,null,5.4,null,0,null,0,null,null,null,null,2.7,{"$f":"P19*R19","v":0},{"$f":"IF(L19+N19+J19>0,L19+N19+J19,\"\")","v":""},{"$f":"IF(J19+L19+N19>0,(J19+L19+N19)*3.6,0)","v":0},3.6,{"$f":"IF((C19+AW34)>0,(C19+AW34),\" \")","v":" "}," ",3.6,null,3.6,0,null,null,4.2,0,null,4.2,0,null,null,0,null,null,null,0,null,null,null,0,null,null,null,4.5,0,null,9.3000000000000007,0]
[null,3.9,null,0,null,null,0,null,5.7,null,0,null,0,null,null,null,null,3,{"$f":"P20*R20","v":0},{"$f":"IF(L20+N20+J20>0,L20+N20+J20,\"\")","v":""},{"$f":"IF(J20+L20+N20>0,(J20+L20+N20)*3.9,0)","v":0},3.9,{"$f":"IF((C20)>0,(C20),\" \")","v":" "}," ",3.9,null,null,0,null,null,4.5,0,null,4.5,0,null,null,{"$f":"AK20*AJ20","v":0},null,null,null,{"$f":"AO20*AN20","v":0},null,null,null,0,null,null,null,4.8,0,null,null,0]
[null,4.2,null,0,null,null,0,null,6,null,0,null,0,null,null,null,null,3.3,{"$f":"P21*R21","v":0},{"$f":"IF((L21+N21)>0,(L21+N21),\" \")","v":" "},{"$f":"IF(T21=\" \",\" \",I21*T21)","v":" "},4.2,{"$f":"IF((C21+AW35)>0,(C21+AW35),\" \")","v":" "}," ",4.2,null,4.2,0,null,null,4.8,0,null,4.8,0,null,null,0,null,null,null,{"$f":"AO21*AN21","v":0},null,null,null,0,null,null,null,5.0999999999999996,0,null,null,0]
[null,4.5,null,0,null,null,0,null,"l/m",{"$f":"SUM(K9:K21)","v":0},null,{"$f":"SUM(M9:M21)","v":0},null,null,null,null,null,3.6,{"$f":"P22*R22","v":0}," "," ",4.5,{"$f":"IF((C22)>0,(C22),\" \")","v":" "}," ",4.5,null,null,0,null,null,5.0999999999999996,{"$f":"AE22*AC22","v":0},null,5.0999999999999996,0,null,null,0,null,null,null,{"$f":"AO22*AN22","v":0},null,null,null,0,null,null,null,5.4,0,null,null,0]
[null,4.8,null,0,null,null,0,null,null,null,null,null,null,null,null,null,null,3.9,{"$f":"P23*R23","v":0}," "," ",4.8,{"$f":"IF((C23+AW36)>0,(C23+AW36),\" \")","v":" "}," ",4.8,null,4.8,0,null,null,5.4,0,null,5.4,0,null,null,0,null,null,null,{"$f":"AO23*AN23","v":0},null,null,null,0,null,null,null,5.7,0,null,null,0]
[null,5.0999999999999996,null,0,null,null,0,null,null,null,null,null,null,null,null,{"$f":"SUM(S18:S23)","v":0},null,"l/m",null," "," ",5.0999999999999996,{"$f":"IF((C24)>0,(C24),\" \")","v":" "}," ",5.0999999999999996,null,null,0,null,null,5.7,0,null,5.7,0,null,null,0,null,null,null,{"$f":"AO24*AN24","v":0},null,null,null,0,null,null,null,6,0,null,null,0]
[null,5.4,null,0,null,null,0,null,null,null,null,null,null,null,null,null,null,null,null," "," ",5.4,{"$f":"IF((C25+AW37)>0,(C25+AW37),\" \")","v":" "}," ",5.4,null,5.4,0,null,null,6,0,null,6,0,{"$f":"SUM(AL15:AL24)","v":0},"l/m",null,null,{"$f":"SUM(AP15:AP24)","v":0},"l/m",null,null,{"$f":"SUM(AT15:AT24)","v":0},"l/m",null,null,null,{"$f":"SUM(AY9:AY24)","v":0},"l/m",null,{"$f":"SUM(BB9:BB24)","v":0},"l/m"]
[null,5.7,null,0,null,null,0,null,null,null,null,null,null,null,null,null,null,null,null," "," ",5.7,{"$f":"IF((C26)>0,(C26),\" \")","v":" "}," ",5.7,null,null,0,null,null,6.3,0,null,6.3,0,"300x63 LVL",null,null,null,"360x63 LVL",null,null,null,null,null,null,null,null,"E-Splays to LVL Beams"]
[null,6,null,0,null,null,0,null,null,null,null,null,null,null,null,null,null,null,null," "," ",6,{"$f":"IF((C27+AW38)>0,(C27+AW38),\" \")","v":" "}," ",6,null,6,0,null,null,6.6,0,null,6.6,0]
[null,"l/m",{"$f":"SUM(D9:D27)","v":0},null,null,{"$f":"SUM(G9:G27)","v":0},null,null,null,null,null,null,null,{"$f":"SUM(O9:O27)","v":0},null,null,null,null,null,{"$f":"SUM(U9:U27)","v":0},0,"l/m",{"$f":"SUM(X9:X27)","v":0},null,"l/m",{"$f":"SUM(AB9:AB27)","v":0},null,null,{"$f":"SUM(AF3:AF27)","v":0},null,"l/m",null,{"$f":"SUM(AI3:AI27)","v":0},"l/m",null,null,null,{"$f":"AJ28*AK28","v":0},null,null,null,{"$f":"AN28*AO28","v":0},null,null,null,{"$f":"AR28*AS28","v":0},null,null,{"$f":"SUM(AM15:AM24,AQ15:AQ24,AV15:AV24,AM28:AM35,AQ28:AQ35,AV28:AV35)","v":0},null,null,null,"No"]
[null,6.3,null,{"$f":"B29*C29","v":0},null,null,null,null,null,null,null,null,null,null,null,"240x45",null,null,null," "," ",6.3,{"$f":"IF((C29+AW39)>0,(C29+AW39),\" \")","v":" "}," ",6.3,null,null,0,"63x63 Struts",null,null,null,"63x63 Struts",null,null,null,null,{"$f":"AJ29*AK29","v":0},null,null,null,{"$f":"AN29*AO29","v":0},null,null,null,{"$f":"AR29*AS29","v":0}]
[null,6.6,null,0,null,null,null,null,null,null,null,null,null,null,null,"Hangers",null,null,null," "," ",6.6,{"$f":"IF((C30+AW40)>0,(C30+AW40),\" \")","v":" "}," ",6.6,null,null,0,"3.6m",null,null,null,"4.5m",null,null,null,null,{"$f":"AJ30*AK30","v":0},null,null,null,{"$f":"AN30*AO30","v":0},null,null,null,{"$f":"AR30*AS30","v":0},null,null,"120x35 Collar Ties"]
[null,6.9,null,0,null,null,null,null,6.6,null,0,null,0,null,null,null,null,4.2,{"$f":"P31*R31","v":0}," "," ",6.9," "," ",6.9,null,null,0,{"$f":"CEILING((((F28+AC28)/1.5)*1.5)/3.6,1)","v":0},"say:-","say:-",null,{"$f":"CEILING((((AG28)/1.5)*2.1)/4.5,1)","v":0},"say:-",null,null,null,0,null,null,null,{"$f":"AO31*AN31","v":0},null,null,null,{"$f":"AS31*AR31","v":0}]
[null,7.2,null,0,null,null,null,null,7.2,null,0,null,0,null,null,null,null,4.5,{"$f":"P32*R32","v":0}," "," ",7.2," "," ",7.2,null,null,0,{"$f":"IF(AC31>0,AC31, \"\")","v":""},3.6,3.6,{"$f":"IF(AC31>0,AC32*AE32, \"0.0\")","v":"0.0"},{"$f":"IF(AG31>0,AG31+1, \"\")","v":""},4.5,{"$f":"IF(AG31>0,AG32*AH32, \"0.0\")","v":"0.0"},null,null,0,null,null,null,{"$f":"AO32*AN32","v":0},null,null,null,{"$f":"AS32*AR32","v":0},null,null,null,2.4,{"$f":"AW32*AX32","v":0},null,null,{"$f":"AZ32*BA32","v":0}]
[null,7.5,null,0,null,null,null,null,7.8,null,0,null,{"$f":"I33*L33","v":0},null,null,null,null,4.8,{"$f":"P33*R33","v":0}," "," ",7.5," "," ",7.5,null,null,0,{"$f":"AF32","v":"0.0"},"l/m","l/m",null,{"$f":"AI32","v":"0.0"},"l/m",null,null,null,0,null,null,null,{"$f":"AO33*AN33","v":0},null,null,null,{"$f":"AS33*AR33","v":0},null,null,null,3,0,null,null,{"$f":"AZ33*BA33","v":0}]
[null,7.8,null,0,null,null,null,null,8.4,null,0,null,{"$f":"I34*L34","v":0},null,null,null,null,5.0999999999999996,{"$f":"P34*R34","v":0}," "," ",7.8," "," ",7.8,null,null,0,"280x30 LOSP       Barge Board",null,null,null,"70x45         Roof Battens",null,null,null,null,0,null,null,null,{"$f":"AO34*AN34","v":0},null,null,null,{"$f":"AS34*AR34","v":0},null,null,null,3.6,0,null,null,{"$f":"AZ34*BA34","v":0}]
[null,8.1,null,0,null,null,null,null,9,null,0,null,0,null,null,null,null,5.4,{"$f":"P35*R35","v":0}," "," ",8.1," "," ",8.1,null,null,0,null,null,null,null,null,null,null,null,null,0,null,null,null,{"$f":"AO35*AN35","v":0},null,null,null,{"$f":"AS35*AR35","v":0},null,null,null,4.2,0,null,null,{"$f":"BA35*AZ35","v":0}]
[null,8.4,null,0,null,null,null,null,9.6,null,0,null,0,null,null,{"$f":"SUM(S31:S35)","v":0},null,"l/m",null," "," ",8.4," "," ",8.4,null,null,0,null,null,null,{"$f":"AC36*AE36","v":0},{"$f":"BG15","v":14},5.4,{"$f":"AG36*AH36","v":75.600000000000009},{"$f":"SUM(AL28:AL35)","v":0},"l/m",null,null,{"$f":"SUM(AP28:AP35)","v":0},"l/m",null,null,{"$f":"SUM(AT28:AT35)","v":0},"l/m",null,null,null,null,4.8,0,null,null,0]
[null,8.6999999999999993,null,0,null,null,null,null,10.199999999999999,null,0,null,0,null,null,null,null,null,null," "," ",8.6999999999999993," "," ",8.6999999999999993,null,null,0,null,null,null,{"$f":"AC37*AE37","v":0},null,null,{"$f":"AG37*AH37","v":0},"90x35 Wall Plate",null,"l/m",null,"150x25 H3 CCA",null,"l/m",null,"Perimeter",null,"l/m",null,null,null,5.4,0,null,null,0]
[null,9,null,0,null,null,null,null,10.8,null,0,null,0,null,null,null,null,null,null," "," ",9," "," ",9,null,null,0,null,null,null,{"$f":"AC38*AE38","v":0},null,null,{"$f":"AG38*AH38","v":0},null,null,null,null,null,null,null,null,"Batten 70x35",null,null,null,null,null,6,0,null,null,0]
[null,9.3000000000000007,null,0,null,null,null,null,11.4,null,0,null,0,null,null,null,null,null,null," "," ",9.3000000000000007," "," ",9.3000000000000007,null,null,0,null,null,null,{"$f":"AC39*AE39","v":0},null,null,{"$f":"AG39*AH39","v":0},{"$f":"(ROUNDUP((('Fascia-Roof Hardware'!#REF!+'Fascia-Roof Hardware'!#REF!+'Fascia-Roof Hardware'!#REF!+'Fascia-Roof Hardware'!#REF!+'Fascia-Roof Hardware'!#REF!+'Fascia-Roof Hardware'!#REF!)+'Main Details'!$D$42+'Main Details'!$D$43+'INT-EXT DOORS & int walls'!#REF!+'INT-EXT DOORS & int walls'!X40+'INT-EXT DOORS & int walls'!#REF!+'Concrete & Reo'!C20)/6,0))","v":{"$error":"#REF!"}},"say:-",null,null,null,null,{"$f":"AN39*AO39","v":0},null,null,6,{"$f":"AR39*AS39","v":0},null,null,null,6.3,0,null,null,0]
[null,"l/m",{"$f":"SUM(D29:D39)","v":0},null,null,null,null,null,"l/m",{"$f":"SUM(K31:K39)","v":0},null,{"$f":"SUM(M31:M39)","v":0},null,{"$f":"SUM(O29:O39)","v":0},null,null,null,null,null,{"$f":"SUM(U29:U39)","v":0},null,"l/m",{"$f":"SUM(X29:X39)","v":0},null,"l/m",null,null,null,{"$f":"SUM(AF36:AF39)","v":0},null,"l/m",null,{"$f":"SUM(AI36:AI39)","v":75.600000000000009},"l/m",null,{"$f":"SUM(AJ39,1)+10","v":{"$error":"#REF!"}},6,{"$f":"AJ40*AK40","v":{"$error":"#REF!"}},null,null,null,{"$f":"AN40*AO40","v":0},null,null,null,{"$f":"AR40*AS40","v":0},null,null,null,6.6,0,null,null,0]
[null,null,null,null,null,null,null,null,null,null,null,null,null,null,null,null,null,null,null,null,null,null,null,null,null,null,null,null,null,null,null,null,null,null,null,{"$f":"AL39+AL40","v":{"$error":"#REF!"}},"l/m",null,null,{"$f":"AP39+AP40","v":0},"l/m",null,null,{"$f":"AT39+AT40","v":0},"l/m",null,null,null,{"$f":"SUM(AY32:AY40)","v":0},"l/m",null,{"$f":"SUM(BB32:BB40)","v":0},"l/m"]

{"sheet":"Elec,Ceiling,Plaster,Paint ","index":23,"n_rows":85,"n_cols":26,"rows_kept":85,"cut":false,"hidden":false,"merged":[[54,12,55,17],[57,12,57,14],[58,12,58,14],[42,12,42,14],[47,20,47,25],[49,12,49,14],[34,12,34,14],[35,12,35,14],[36,12,36,14],[51,12,51,14],[46,23,46,24],[43,12,43,14],[45,23,45,24],[48,12,48,14],[48,23,48,24],[47,12,47,14],[46,12,46,14],[45,12,45,14],[39,12,39,14],[38,12,38,14],[41,12,41,14],[44,20,44,24],[3,1,3,2],[4,1,5,6],[7,1,7,6],[10,16,10,19],[3,5,3,6],[15,1,15,2],[15,16,15,19],[6,5,6,6],[12,16,12,19],[8,1,8,3],[8,5,8,6],[9,1,9,2],[6,1,6,4],[10,1,10,2],[11,1,11,2],[12,1,12,2],[13,16,13,18],[16,1,16,2],[14,1,14,5],[13,1,13,2],[28,21,28,23],[50,12,50,14],[18,11,18,13],[30,12,31,17],[22,16,22,18],[4,11,5,19],[11,16,11,19],[8,17,8,19],[9,17,9,19],[14,16,14,18],[16,16,16,19],[19,16,19,19],[18,14,18,19],[20,16,20,18],[21,16,21,18],[46,1,46,2],[47,1,47,2],[26,1,26,2],[27,1,27,2],[28,1,28,2],[29,1,29,2],[17,1,17,2],[18,1,18,2],[19,1,19,2],[21,1,21,2],[22,1,22,2],[23,1,23,5],[41,1,41,2],[24,1,24,2],[25,1,25,2],[38,1,38,2],[40,1,40,2],[39,1,39,5],[31,1,31,2],[32,1,32,2],[30,1,30,5],[33,1,33,2],[35,1,35,2],[34,1,34,5],[36,1,36,2],[37,1,37,2],[20,1,20,2],[55,1,55,2],[56,1,56,2],[58,1,58,2],[59,1,59,2],[57,1,57,5],[61,1,61,2],[62,1,62,2],[60,1,60,5],[48,1,48,2],[42,1,42,5],[45,1,45,5],[49,1,49,5],[50,1,50,2],[54,1,54,2],[43,1,43,2],[44,1,44,2],[51,1,51,2],[52,1,52,2],[53,1,53,5],[69,1,69,2],[68,1,68,2],[63,1,63,2],[64,1,64,6],[66,1,66,2],[71,1,71,2],[65,1,65,5],[67,1,67,2],[70,1,70,2]]}
[{"$f":"'Main Details'!B2","v":"QUANTITY SHEET FOR EASY START HOMES"},null,null,null,null,null,null,null,null,null,null,null,null,null,null,null,null,null,null,null,null,null,null,null,"PG 10"]
[{"$f":"'Main Details'!D6","v":0}]
[]
[null,"SYNERGY CONNECTION NUMBER:",null,null,{"$f":"_xlfn.XLOOKUP(B4,Lists!AW:AW,Lists!AV:AV,0)","v":"340-010-100100"},1]
[null,"ELECTRICAL",null,null,null,null,null,"SINGLE PHASE",null,null,null,"CEILINGS"]
[null,null,null,null,null,null,null,"THREE PHASE",null,null,null,null,null,null,null,null,null,null,null,null,"415-100-200400",{"$f":"'Main Details'!D40","v":250}]
[null,"ADCO",null,null,null,{"$f":"IF(B7=\"IDEAL\",(\"QUOTE\"),(\"\"))","v":""},null,null,null,null,null,"DDT EXT PERIMETER:",{"$f":"'Main Details'!D42","v":56},{"$f":"(('Main Details'!D42-'Main Details'!D50)*'Main Details'!D45)+('Main Details'!D50*'Main Details'!D51)","v":12.88},null,null,{"$f":"M14+M16","v":0},"Flat e/o Int + Flat Ext",null,null,"415-120-100100",{"$f":"M28","v":354.45600000000002}]
[null,"Switch Plate Colour WHITE",null,null,null,null,null,null,null,null,null,"DDT INT PERIMETER:",{"$f":"'Main Details'!D43*0.09","v":0},{"$f":"('Main Details'!D43+'INT-EXT DOORS & int walls'!AC22)*0.09","v":0},null,"=",{"$f":"M9-N9+M17","v":283.721},"Ceiling Area Int Flat",null,null,"415-120-100150",{"$f":"M12","v":0}]
[null,"SINGLE PHASE",null,null,null,"RUN-IN",null,"SINGLE PHASE","THREE PHASE",null,null,"Slab Area:",{"$f":"'Main Details'!D36","v":296.601},{"$f":"N7+N8","v":12.88},null,null,{"$f":"SUM(M12:M13)","v":0},"DDT Raking area (Int Only)",null,null,"415-500-200200",{"$f":"O13","v":54.841650000000001}]
[null,"UNDERGROUND MAINS RUN",null,"SINGLE PHASE 10mm",{"$f":"_xlfn.XLOOKUP(1,\n(Lists!$AW:$AW=B10)*\n(Lists!$AX:$AX=D10),\n(Lists!$AV:$AV),0)","v":"340-050-100200"},null,"lm","SINGLE PHASE 10mm","THREE PHASE 6mm",null,null,"Total Raking Int & Ext",{"$f":"SUM(M12:M13,M15)","v":0},"m2",null,"TOTAL",{"$f":"((Q8+Q7))-Q9","v":283.721},"m2 Flat Ceiling (Int & Ext)",null,null,"415-700-100400",{"$f":"O15","v":""},"NO"]
[null,"FINAL METER CONNECTION",null,{"$f":"B9","v":"SINGLE PHASE"},{"$f":"_xlfn.XLOOKUP(1,\n(Lists!$AW:$AW=B11)*\n(Lists!$AX:$AX=D11),\n(Lists!$AV:$AV),0)","v":"340-100-100100"},{"$f":"IF($B$7=\"IDEAL\",0,1)","v":1},null,"SINGLE PHASE 16mm","THREE PHASE 10mm",null,null,"Total e/o 13mm Gypr",{"$f":"SUM(M15:M17)","v":0},"m2",null,"l/m",null,null,null,null,null,null,"YES"]
[null,"MAINS SWITCHBOARD",null,{"$f":"B9","v":"SINGLE PHASE"},{"$f":"_xlfn.XLOOKUP(1,\n(Lists!$AW:$AW=B12)*\n(Lists!$AX:$AX=D12),\n(Lists!$AV:$AV),0)","v":"340-100-100200"},{"$f":"IF($B$7=\"IDEAL\",0,1)","v":1},null,"SINGLE PHASE 2.5mm","THREE PHASE 16mm",null,null,"Raking Ceilings     INT",null,"m2",null,"m2","Insulation to RAKING ceilings / Bulkheads"]
[null,{"$f":"IF(B7=\"IDEAL\",0,\"24 POLES TO METER BOX\")","v":"24 POLES TO METER BOX"},null,{"$f":"_xlfn.XLOOKUP(B13,Lists!AW:AW,Lists!AX:AX,\"\")","v":"E/O 16 POLE"},{"$f":"_xlfn.XLOOKUP(1,\n(Lists!$AW:$AW=B13)*\n(Lists!$AX:$AX=D13),\n(Lists!$AV:$AV),0)","v":"340-010-100500"},null,null,null,null,null,null,"Raking Ceilings     INT",null,"m2",{"$f":"IF('Main Details'!D32=\"brick veneer\",U15,\"\")","v":54.841650000000001},"m2","R2.0 Wall Batts"]
[null,"WESTERN POWER PIT CONNECTION",null,{"$f":"_xlfn.XLOOKUP(B14,Lists!AW:AW,Lists!AX:AX,\"\")","v":"FOR METER RELOCATION"},"340-010-100600",null,null,null,null,null,null,"E/O Flat Ceilings   INT",null,"m2",null,"m2","Additional Wall Height -E/O for Batts",null,null,"m2"]
[null,null,null,null,null,null,"No",null,null,null,null,"Raking (13mm)    EXT",null,"m2",{"$f":"IF(T15=\"YES\",('Main Details'!D42*V16)-'Lintels.windows '!K43,\"\")","v":""},"m2","R2.5 Wall Batts to perimeter",null,null,"NO",{"$f":"U16-U17","v":54.841650000000001}]
[null,"LIGHTING BATTEN HOLDER CEILING",null,{"$f":"_xlfn.XLOOKUP(B16,Lists!AW:AW,Lists!AX:AX,\"\")","v":"CLIPSAL 530-WE"},{"$f":"_xlfn.XLOOKUP(1,\n(Lists!$AW:$AW=B16)*\n(Lists!$AX:$AX=D16),\n(Lists!$AV:$AV),0)","v":"340-200-200100"},null,"No",null,null,null,null,"Flat (13mm)    EXT",null,"m2 ",null,"m2",null,null,null,null,{"$f":"('Fascia-Roof Hardware'!S7*V16)-'INT-EXT DOORS & int walls'!V35-'Lintels.windows '!K43+O14-V17","v":54.841650000000001},{"$f":"'Main Details'!D53","v":2.4},null,"INTERNAL WALL PAINTING"]
[null,"LIGHTING BATTEN HOLDER W/PROOF",null,{"$f":"_xlfn.XLOOKUP(B17,Lists!AW:AW,Lists!AX:AX,\"\")","v":"CLIPSAL 530-WE + 530AWP"},{"$f":"_xlfn.XLOOKUP(1,\n(Lists!$AW:$AW=B17)*\n(Lists!$AX:$AX=D17),\n(Lists!$AV:$AV),0)","v":"340-200-200300"},null,"No",null,null,null,null,"Flat (10mm)    EXT",null,"m2",null,null,null,null,null,null,{"$f":"IF(T15=\"YES\",('Main Details'!D42*V16)-'Lintels.windows '!K43,0)","v":0},{"$f":"'Main Details'!D55*'Main Details'!D56","v":0},null,"DRYLINE WALL PREP COAT ONLY"]
[null,"LIGHTING LED DOWNLIGHT 7W",null,{"$f":"_xlfn.XLOOKUP(B18,Lists!AW:AW,Lists!AX:AX,\"\")","v":"CLITPDL1C3- WHITE"},{"$f":"_xlfn.XLOOKUP(1,\n(Lists!$AW:$AW=B18)*\n(Lists!$AX:$AX=D18),\n(Lists!$AV:$AV),0)","v":"340-210-200057"},null,"No",null,null,null,null,"Duralux Plus EXT",null,"m2",null,null,null,null,null,null,"Required",null,null,"DRYLINE WALL 3 COATS"]
[null,"LIGHT SHADES AND GLOBES",null,{"$f":"_xlfn.XLOOKUP(B19,Lists!AW:AW,Lists!AX:AX,\"\")","v":""},{"$f":"_xlfn.XLOOKUP(1,\n(Lists!$AW:$AW=B19)*\n(Lists!$AX:$AX=D19),\n(Lists!$AV:$AV),0)","v":"340-240-100100"},null,"No",null,null,null,null,"Insulation to FLAT Ceilings",null,null,"CEILING/WALL PAINTING EXTRAS",null,null,null,null,null,"No",null,null,"PLASTERED WALLS 3 COATS"]
[null,"LIGHTING BATTEN DIFFUSED LED",null,{"$f":"_xlfn.XLOOKUP(B20,Lists!AW:AW,Lists!AX:AX,\"\")","v":"CLIPSAL CLITPDB2"},{"$f":"_xlfn.XLOOKUP(1,\n(Lists!$AW:$AW=B20)*\n(Lists!$AX:$AX=D20),\n(Lists!$AV:$AV),0)","v":"340-240-150150"},null,"No",null,null,null,null,"Garage Area",{"$f":"'Main Details'!D37","v":57.854999999999997},"m2",{"$f":"'Main Details'!D40-'Main Details'!D36-'Main Details'!D39-M17","v":-70.600999999999999},"l/m","FIBRE CEMENT LINING"]
[null,"BEACON SENTINEL 2 UP/DOWN",null,{"$f":"_xlfn.XLOOKUP(B21,Lists!AW:AW,Lists!AX:AX,\"\")","v":"LIGHT WHITE 23952"},{"$f":"_xlfn.XLOOKUP(1,\n(Lists!$AW:$AW=B21)*\n(Lists!$AX:$AX=D21),\n(Lists!$AV:$AV),0)","v":"340-220-200060"},null,"No",null,null,null,null,"P/board Porch",null,"m2",null,null,"E/O FEATURE WALLS",null,null,"each",null,null,null,"FLAT CEILINGS 2 COATS"]
[null,"PLUG BASE",null,{"$f":"_xlfn.XLOOKUP(B22,Lists!AW:AW,Lists!AX:AX,\"\")","v":"CLIPSAL 413-WE"},{"$f":"_xlfn.XLOOKUP(1,\n(Lists!$AW:$AW=B22)*\n(Lists!$AX:$AX=D22),\n(Lists!$AV:$AV),0)","v":"340-211-100100"},null,"No",null,null,null,null,"Durasheet Porch",null,"m2",null,null,"E/O HIGH CEILINGS ABOVE 3M",null,null,"m2","Roof - Chose Type",null,null,"FLAT CEILINGS 3 COATS"]
[null,"MOTION SENSOR PIR",null,{"$f":"_xlfn.XLOOKUP(B23,Lists!AW:AW,Lists!AX:AX,\"\")","v":"CLIPSAL 750WPR5"},{"$f":"_xlfn.XLOOKUP(1,\n(Lists!$AW:$AW=B23)*\n(Lists!$AX:$AX=D23),\n(Lists!$AV:$AV),0)","v":"340-225-200710"},null,"No",null,null,null,null,"P/board Alfresco",null,"m2",null,null,"HEBEL / REDIFIX MOULD",null,null,"LM","Steel",null,null,"DURALUX PLUS CEILING PAINTING"]
[null,null,null,null,null,null,null,null,null,null,null,"Duralux Plus Ceiling",0,"m2",null,null,null,null,null,null,"Timber",null,null,"RAKING CEILINGS 2 COATS"]
[null,"GPO SINGLE 3015VW 10AMP",null,{"$f":"_xlfn.XLOOKUP(B25,Lists!AW:AW,Lists!AX:AX,\"\")","v":"ICONIC VIVID WHITE"},{"$f":"_xlfn.XLOOKUP(1,\n(Lists!$AW:$AW=B25)*\n(Lists!$AX:$AX=D25),\n(Lists!$AV:$AV),0)","v":"340-300-200100"},null,"No",null,null,null,null,"House Nett",{"$f":"M26-M23-M21-M20-M24","v":296.601},"m2",null,null,null,null,null,null,null,null,null,"RAKING CEILINGS 3 COATS"]
[null,"GPO DOUBLE 3025VW 10AMP",null,{"$f":"_xlfn.XLOOKUP(B26,Lists!AW:AW,Lists!AX:AX,\"\")","v":"ICONIC VIVID WHITE"},{"$f":"_xlfn.XLOOKUP(1,\n(Lists!$AW:$AW=B26)*\n(Lists!$AX:$AX=D26),\n(Lists!$AV:$AV),0)","v":"340-300-200200"},null,"No",null,null,null,null,"Gross Insulation Area",{"$f":"(('Main Details'!$D$36+'Main Details'!$D$37)+M14+M15+M16+M18)","v":354.45600000000002},"m2",null,null,null,null,null,null,null,null,null,"E/O HIGH CEILINGS ABOVE 3M"]
[null,"GPO QUAD 3015/4VW 10AMP",null,{"$f":"_xlfn.XLOOKUP(B27,Lists!AW:AW,Lists!AX:AX,\"\")","v":"ICONIC VIVID WHITE"},{"$f":"_xlfn.XLOOKUP(1,\n(Lists!$AW:$AW=B27)*\n(Lists!$AX:$AX=D27),\n(Lists!$AV:$AV),0)","v":"340-300-200500"},null,"No",null,null,null,null,"Ddt Garage if Separate",null,"m2"]
[null,"WEATHERPROOF GPO SINGLE 10AMP",null,{"$f":"_xlfn.XLOOKUP(B28,Lists!AW:AW,Lists!AX:AX,\"\")","v":"CLIPSAL ICONIC"},{"$f":"_xlfn.XLOOKUP(1,\n(Lists!$AW:$AW=B28)*\n(Lists!$AX:$AX=D28),\n(Lists!$AV:$AV),0)","v":"340-310-200150"},null,"No",null,null,null,null,"Total Nett Insulation",{"$f":"SUM(M26-M27)+M22-O12","v":354.45600000000002},"m2",null,null,null,null,null,null,{"$f":"IF(M28<90,1,0)","v":0},"415-100-100150"]
[null,"WEATHERPROOF GPO DOUBLE 10AMP",null,{"$f":"_xlfn.XLOOKUP(B29,Lists!AW:AW,Lists!AX:AX,\"\")","v":"CLIPSAL ICONIC"},{"$f":"_xlfn.XLOOKUP(1,\n(Lists!$AW:$AW=B29)*\n(Lists!$AX:$AX=D29),\n(Lists!$AV:$AV),0)","v":"340-310-200250"},null,"No",null,null,null,null,null,null,null,null,null,null,null,null,null,null,"UP TO 15 COURSES"]
[null,"GPO DOUBLE WITH DUAL USB",null,{"$f":"_xlfn.XLOOKUP(B30,Lists!AW:AW,Lists!AX:AX,\"\")","v":"3025USB2-VW ICONIC VIVID WHITE"},{"$f":"_xlfn.XLOOKUP(1,\n(Lists!$AW:$AW=B30)*\n(Lists!$AX:$AX=D30),\n(Lists!$AV:$AV),0)","v":"340-400-100060"},null,"No",null,null,null,null,null,null,null,null,null,null,null,null,null,{"$f":"'Main Details'!D32","v":"Brick veneer"}]
[null,null,null,null,null,null,null,null,null,null,null,null,"PLASTERING"]
[null,"TWO WAY SWITCH",null,{"$f":"_xlfn.XLOOKUP(B32,Lists!AW:AW,Lists!AX:AX,\"\")","v":"ICONIC VIVID WHITE"},{"$f":"_xlfn.XLOOKUP(1,\n(Lists!$AW:$AW=B32)*\n(Lists!$AX:$AX=D32),\n(Lists!$AV:$AV),0)","v":"340-205-100150"},null,"No"]
[null,"THREE WAY SWITCH CLI40MI",null,{"$f":"_xlfn.XLOOKUP(B33,Lists!AW:AW,Lists!AX:AX,\"\")","v":"ICONIC VIVID WHITE"},{"$f":"_xlfn.XLOOKUP(1,\n(Lists!$AW:$AW=B33)*\n(Lists!$AX:$AX=D33),\n(Lists!$AV:$AV),0)","v":"340-205-100100"},null,"No"]
[null,"DIMMER ROTARY LED MODULE",null,{"$f":"_xlfn.XLOOKUP(B34,Lists!AW:AW,Lists!AX:AX,\"\")","v":"ICONIC 42ELEDM2-VW"},{"$f":"_xlfn.XLOOKUP(1,\n(Lists!$AW:$AW=B34)*\n(Lists!$AX:$AX=D34),\n(Lists!$AV:$AV),0)","v":"340-205-100200"},null,"No",null,null,null,null,null,null,null,null,null,null,null,null,null,{"$f":"('Main Details'!D42+'Main Details'!D43*2)*'Main Details'!D53-('Summary Sheet'!C55-'Summary Sheet'!C56-'Summary Sheet'!C57)","v":136.48331999999999}]
[null,null,null,null,null,null,null,null,null,null,null,null,"FLOAT AND SET",null,null,"=",{"$f":"V36","v":0},"m2"]
[null,"EXHAUST FAN CEF40N-WE",null,"STD EXHAUST",{"$f":"_xlfn.XLOOKUP(B36,Lists!AW:AW,Lists!AV:AV,0)","v":"340-600-200510"},null,"No",null,null,null,null,null,"E/O Std Height Plaster",null,null,"=",null,"m2",null,null,"GROUND FLOOR UP TO 31C",{"$f":"IF(U30=\"DOUBLE BRICK\",U34,0)","v":0}]
[null,"EXHAUST FAN 6600ADS-WE",null,"2LT/FAN/HEATER",{"$f":"_xlfn.XLOOKUP(B37,Lists!AW:AW,Lists!AV:AV,0)","v":"340-610-200055"},null,"No",null,null,null,null,null,"TOTAL INTERNAL PLASTER",null,null,null,{"$f":"Q35+Q36","v":0},"m2",null,null,"GROUND FLOOR OVER 31C"]
[null,"EXHAUST FAN 6500ADS-WE",null,"4LT/FAN/HEATER",{"$f":"_xlfn.XLOOKUP(B38,Lists!AW:AW,Lists!AV:AV,0)","v":"340-610-200065"},null,"No"]
[null,{"$f":"Lists!AW1614","v":"RUN ON TIMER TO EXHAUST FAN 1A"},null,null,{"$f":"_xlfn.XLOOKUP(B39,Lists!AW:AW,Lists!AV:AV,0)","v":"340-610-200080"},null,"No",null,null,null,null,null,"DRYLINE WALL 3 COATS",null,null,"=",{"$f":"U34-Tiling!A36+Q40","v":136.48331999999999},"m2"]
[null,null,null,null,null,null,null,null,null,null,null,null,"E/O Std Height ",null,null,null,{"$f":"O14","v":0},"m2"]
[null,"CEILING FAN P3HS1200AL-WE",null,{"$f":"_xlfn.XLOOKUP(B41,Lists!AW:AW,Lists!AX:AX,\"\")","v":"WHITE ELECTRIC"},{"$f":"_xlfn.XLOOKUP(B41,Lists!AW:AW,Lists!AV:AV,0)","v":"340-620-100300"},null,"No",null,null,null,null,null,null,null,null,null,null,null,null,null,"MINIMUM CHARGE UP TO 55m2",{"$f":"IF(Q42<55, 1,0)","v":0}]
[null,"WIRING ONLY FUTURE SWEEP FAN",null,{"$f":"_xlfn.XLOOKUP(B42,Lists!AW:AW,Lists!AX:AX,\"\")","v":"WALL BOX TO LOCATION"},{"$f":"_xlfn.XLOOKUP(B42,Lists!AW:AW,Lists!AV:AV,0)","v":"340-620-100200"},null,"No",null,null,null,null,null,"SAND FINISH RENDER",null,null,"=",{"$f":"'Summary Sheet'!C49+Q44","v":68.754000000000005},"m2",null,null,"GROUND FLOOR OVER 55m2",{"$f":"IF(Q42>55,Q42,0)","v":68.754000000000005}]
[null,null,null,null,null,null,null,null,null,null,null,null,{"$f":"IF(M42=\"ACRYLIC BASE COAT\",U50,U49)","v":"RENDER E/O DETACHED PIERS"},null,null,null,{"$f":"'Brick Final Sheet '!N64","v":0},"ea"]
[null,"SMOKE ALARM PHOTOELECTRIC",null,{"$f":"_xlfn.XLOOKUP(B44,Lists!AW:AW,Lists!AX:AX,\"\")","v":"CLIPSAL 755PSMA4"},{"$f":"_xlfn.XLOOKUP(B44,Lists!AW:AW,Lists!AV:AV,0)","v":"340-250-200100"},null,"No",null,null,null,null,null,"RENDER ADJUSTMENT"]
[null,{"$f":"IF(B7=\"WESCO\",\"SMOKE ALARM INTERCONNECTION\",0)","v":0},null,{"$f":"_xlfn.XLOOKUP(B45,Lists!AW:AW,Lists!AX:AX,\"\")","v":""},{"$f":"_xlfn.XLOOKUP(B45,Lists!AW:AW,Lists!AV:AV,0)","v":0},null,"No",null,null,null,null,null,null,null,null,"=",null,null,null,null,"Acyrlic V Sand Finish Calculation for upload"]
[null,null,null,null,null,null,null,null,null,null,null,null,"External Band / Corbel",null,null,"=",null,"L/m",null,null,"ACRYLIC BASE COAT",{"$f":"IF(M42=\"ACRYLIC BASE COAT\",Z46,\"\")","v":""},null,{"$f":"IF(V46=1,U46,\"\")","v":""},null,1]
[null,"ELECTRIC OVEN CONNECTION 15AMP",null,{"$f":"_xlfn.XLOOKUP(B47,Lists!AW:AW,Lists!AX:AX,\"\")","v":""},{"$f":"_xlfn.XLOOKUP(B47,Lists!AW:AW,Lists!AV:AV,0)","v":"340-100-300200"},null,"No",null,null,null,null,null,"BEAD ALLOWANCE",null,null,"=",{"$f":"Q35","v":0},"m2",null,null,"SAND FINISH RENDER",{"$f":"IF(M42=\"SAND FINISH RENDER\",Z46,\"\")","v":1},null,{"$f":"IF(V47=1,U47,\"\")","v":"SAND FINISH RENDER"}]
[null,"INDUCTION HOTPLATE CONNECTION",null,{"$f":"_xlfn.XLOOKUP(B48,Lists!AW:AW,Lists!AX:AX,\"\")","v":""},{"$f":"_xlfn.XLOOKUP(B48,Lists!AW:AW,Lists!AV:AV,0)","v":"340-100-300500"},null,"No",null,null,null,null,null,"PLASTIC BEADS",null,null,"=",{"$f":"'Summary Sheet'!C54","v":21},"No",null,null,"Acrylic v Sand detached piers Calculation for upload"]
[null,"HEAT PUMP CONNECTION",null,{"$f":"_xlfn.XLOOKUP(B49,Lists!AW:AW,Lists!AX:AX,\"\")","v":"RHEEM MODELS"},{"$f":"_xlfn.XLOOKUP(B49,Lists!AW:AW,Lists!AV:AV,0)","v":"340-650-300600"},null,"No",null,null,null,null,null,"Int Plaster Sand",null,null,"=",{"$f":"SUM(Q35)*0.02","v":0},"m3",null,null,"RENDER E/O DETACHED PIERS",{"$f":"IF($M$43=\"RENDER E/O DETACHED PIERS\",$Z$49,\"\")","v":0},null,{"$f":"IF(V49=1,U49,U50)","v":"ACRYLIC E/O DETACHED PIER"},null,{"$f":"Q43","v":0}]
[null,null,null,null,null,null,null,null,null,null,null,null,null,null,null,null,null,null,null,null,"ACRYLIC E/O DETACHED PIER",{"$f":"IF($M$43=\"ACRYLIC E/O DETACHED PIER\",$Z$49,\"\")","v":""}]
[null,"20mm CONDUIT",null,"CONDUIT ONLY",{"$f":"_xlfn.XLOOKUP(B51,Lists!AW:AW,Lists!AV:AV,0)","v":"340-500-100900"},null,"No",null,null,null,null,null,"Ext Plaster Sand",null,null,"=",{"$f":"ROUNDUP(Q42*0.02,0)","v":2},"m3"]
[null,"25mm CONDUIT",null,"CONDUIT ONLY",{"$f":"_xlfn.XLOOKUP(B52,Lists!AW:AW,Lists!AV:AV,0)","v":"340-500-101000"},null,"No",null,null,null,null,null,null,null,null,null,null,null,null,null,"CEMENT RENDER",{"$f":"IF(V47=1,Q42,0)","v":68.754000000000005}]
[null,"25mm CONDUIT CLI3040VW",null,{"$f":"_xlfn.XLOOKUP(B53,Lists!AW:AW,Lists!AX:AX,\"\")","v":"ICONIC VIVID WHITE"},{"$f":"_xlfn.XLOOKUP(B53,Lists!AW:AW,Lists!AV:AV,0)","v":"340-500-100710"},null,"No"]
[]
[null,"TELEPHONE LINE CONDUIT P20",null,"SHARED TRENCH UP TO 10m",{"$f":"_xlfn.XLOOKUP(1,\n(Lists!$AW:$AW=B55)*\n(Lists!$AX:$AX=D55),\n(Lists!$AV:$AV),0)","v":"340-500-100200"},null,"Ea",null,null,null,null,null,"ACRYLIC TEXTURE EXTRAS",null,null,null,null,null,null,null,"MINIMUM CHARGE UP TO 25m2",{"$f":"IF(Q58>0, 1,0)","v":0}]
[null,"TELEPHONE LINE CONDUIT P20",null,"SHARED TRENCH OVER 10m",{"$f":"_xlfn.XLOOKUP(1,\n(Lists!$AW:$AW=B56)*\n(Lists!$AX:$AX=D56),\n(Lists!$AV:$AV),0)","v":"340-500-100300"},null,"L/m",null,null,null,null,null,null,null,null,null,null,null,null,null,"GROUND FLOOR OVER 25m2",{"$f":"IF($Q$58>25,$Q$58-25,0)","v":0}]
[null,"TELEPHONE LINE CONDUIT P20",null,"SEPARATE TRENCH",{"$f":"_xlfn.XLOOKUP(1,\n(Lists!$AW:$AW=B57)*\n(Lists!$AX:$AX=D57),\n(Lists!$AV:$AV),0)","v":"340-500-100400"},null,"L/m"]
[null,null,null,null,null,null,null,"SUBMAINS IN HOUSE SINGLE PHASE",null,null,null,null,"ACRYLIC TOP COAT",null,null,null,null,"m2"]
[null,{"$f":"IF(B9=\"SINGLE PHASE\",\"SUBMAINS IN HOUSE SINGLE PHASE\",\"SUBMAINS IN HOUSE THREE PHASE\")","v":"SUBMAINS IN HOUSE SINGLE PHASE"},null,{"$f":"_xlfn.XLOOKUP(B59,Lists!AW:AW,Lists!AX:AX,\"\")","v":"WITHIN 10m OF METERBOX"},{"$f":"_xlfn.XLOOKUP(1,\n(Lists!$AW:$AW=B59)*\n(Lists!$AX:$AX=D59),\n(Lists!$AV:$AV),0)","v":"340-100-200200"},null,"Ea","SUBMAINS IN HOUSE THREE PHASE",null,null,null,null,"E/O FOR ATTACHED PIERS",null,null,null,null,"ea"]
[null,"SUBMAINS REMOTE METER",null,{"$f":"_xlfn.XLOOKUP(B60,Lists!AW:AW,Lists!AX:AX,\"\")","v":""},{"$f":"_xlfn.XLOOKUP(1,\n(Lists!$AW:$AW=B60)*\n(Lists!$AX:$AX=D60),\n(Lists!$AV:$AV),0)","v":"340-100-200300"},null,"Ea"]
[]
[null,{"$f":"IF(B7=\"WESCO\",Lists!AW1519,\"\")","v":""},null,{"$f":"_xlfn.XLOOKUP(B62,Lists!AW:AW,Lists!AX:AX,\"\")","v":""},{"$f":"_xlfn.XLOOKUP(1,\n(Lists!$AW:$AW=B62)*\n(Lists!$AX:$AX=D62),\n(Lists!$AV:$AV),0)","v":0},null,"No"]
[null,{"$f":"IF(B7=\"WESCO\",Lists!AW1520,\"\")","v":""},null,{"$f":"_xlfn.XLOOKUP(B63,Lists!AW:AW,Lists!AX:AX,\"\")","v":""},{"$f":"_xlfn.XLOOKUP(1,\n(Lists!$AW:$AW=B63)*\n(Lists!$AX:$AX=D63),\n(Lists!$AV:$AV),0)","v":0},null,"No"]
[null,{"$f":"IF(B7=\"WESCO\",Lists!AW1521,\"\")","v":""},null,{"$f":"_xlfn.XLOOKUP(B64,Lists!AW:AW,Lists!AX:AX,\"\")","v":""},{"$f":"_xlfn.XLOOKUP(1,\n(Lists!$AW:$AW=B64)*\n(Lists!$AX:$AX=D64),\n(Lists!$AV:$AV),0)","v":0},null,"No"]
[]
[null,"Intelligent Homes Items "]
[null,"3 POINT PACK",null,{"$f":"_xlfn.XLOOKUP(B67,Lists!AW:AW,Lists!AX:AX,\"\")","v":"SINGLE STOREY"},{"$f":"_xlfn.XLOOKUP(B67,Lists!AW:AW,Lists!AV:AV,0)","v":"342-100-100100"},null,"No"]
[null,"TV ANTENNA",null,{"$f":"_xlfn.XLOOKUP(E68,Lists!AV:AV,Lists!AX:AX,\"\")","v":"SINGLE STOREY"},"342-400-100300",null,"No"]
[null,{"$f":"_xlfn.XLOOKUP(E69,Lists!AV:AV,Lists!AW:AW,0)","v":"TV SPLITTER"},null,{"$f":"_xlfn.XLOOKUP(E69,Lists!AV:AV,Lists!AX:AX,\"\")","v":"FOR UP TO 3 TV POINTS"},"342-300-100500",null,"No"]
[null,{"$f":"_xlfn.XLOOKUP(E70,Lists!AV:AV,Lists!AW:AW,0)","v":"TV BOOSTER"},null,{"$f":"_xlfn.XLOOKUP(E70,Lists!AV:AV,Lists!AX:AX,\"\")","v":"FOR 4 x C1 POINTS"},"342-300-100600",null,"No"]
[null,{"$f":"_xlfn.XLOOKUP(E71,Lists!AV:AV,Lists!AW:AW,0)","v":"D1 DATA POINT"},null,{"$f":"_xlfn.XLOOKUP(E71,Lists!AV:AV,Lists!AX:AX,\"\")","v":""},"342-300-100100",null,"No"]
[null,"C1 TV POINT",null,{"$f":"_xlfn.XLOOKUP(E72,Lists!AV:AV,Lists!AX:AX,\"\")","v":""},"342-300-100200",null,"No"]
[]
[]
[]
[]
[]
[]
[]
[]
[]
[null,"ELECTRICIAN"]
[null,"ADCO"]
[null,"WESCO"]
[null,"IDEAL"]

{"sheet":"FIxing Carpentry & Moulding","index":24,"n_rows":65,"n_cols":79,"rows_kept":65,"cut":false,"hidden":false,"merged":[[29,30,29,31],[30,32,30,33],[47,17,47,21],[48,17,48,21],[31,23,31,24],[30,30,30,31],[36,31,38,31],[25,32,25,33],[26,32,26,33],[27,32,27,33],[28,32,28,33],[27,23,27,24],[31,32,31,33],[32,32,32,33],[33,32,33,33],[36,33,38,33],[29,32,29,33],[37,23,37,24],[38,23,38,24],[39,23,39,24],[28,20,28,21],[27,17,27,18],[27,20,27,21],[30,23,30,26],[29,23,29,24],[25,30,25,31],[26,30,26,31],[49,17,49,21],[39,30,40,31],[35,23,35,24],[36,23,36,24],[44,27,44,28],[32,17,32,18],[33,17,33,18],[32,20,32,21],[33,20,33,21],[39,28,40,29],[34,23,34,24],[46,23,46,26],[46,27,46,28],[44,17,44,21],[44,23,44,26],[47,27,47,28],[48,27,48,28],[49,27,49,28],[32,23,32,24],[33,23,33,24],[31,28,32,28],[31,30,31,31],[32,30,32,31],[33,30,33,31],[6,20,6,21],[5,42,5,43],[5,32,5,33],[5,28,6,28],[6,32,6,33],[7,28,8,28],[6,42,6,43],[27,28,28,28],[6,34,6,35],[6,36,6,37],[6,39,6,40],[28,34,28,35],[5,39,5,40],[7,34,7,35],[13,34,13,35],[24,32,24,33],[28,30,28,31],[17,32,17,33],[18,32,18,33],[19,32,19,33],[20,32,20,33],[21,32,21,33],[22,32,22,33],[23,32,23,33],[39,36,39,37],[38,36,38,37],[29,34,29,35],[30,34,30,35],[31,34,31,35],[32,34,32,35],[33,34,33,35],[39,32,40,33],[36,35,38,35],[5,1,6,1],[6,3,6,4],[6,5,6,6],[6,8,6,9],[5,3,5,4],[5,11,5,12],[5,5,5,6],[5,8,5,9],[6,11,6,12],[5,36,5,37],[8,34,8,35],[9,34,9,35],[10,34,10,35],[8,23,8,24],[13,23,13,24],[12,23,12,24],[10,23,10,24],[11,28,12,28],[5,23,6,26],[9,30,9,31],[10,30,10,31],[11,30,11,31],[12,30,12,31],[7,32,7,33],[8,32,8,33],[9,32,9,33],[10,32,10,33],[11,32,11,33],[12,32,12,33],[13,32,13,33],[19,23,19,24],[17,23,17,24],[18,23,18,24],[5,14,5,15],[6,14,6,15],[7,23,7,24],[11,23,11,24],[14,23,14,24],[5,34,5,35],[5,17,5,18],[6,17,6,18],[5,20,5,21],[14,20,14,21],[16,34,16,35],[17,34,17,35],[18,34,18,35],[14,32,14,33],[15,30,15,31],[16,30,16,31],[17,30,17,31],[18,30,18,31],[19,30,19,31],[15,32,15,33],[16,32,16,33],[52,27,52,28],[4,58,4,63],[20,23,20,26],[50,17,50,21],[51,17,51,21],[52,17,52,21],[47,23,47,26],[48,23,48,26],[49,23,49,26],[50,23,50,26],[51,23,51,26],[52,23,52,26],[45,27,45,28],[45,23,45,26],[45,17,45,21],[3,28,4,43],[3,1,4,26],[42,1,43,28],[46,17,46,21],[9,23,9,24],[15,23,15,24],[23,28,24,28],[26,23,26,24],[28,23,28,24],[14,17,14,18],[19,28,20,28],[15,28,16,28],[28,17,28,18],[5,66,5,68],[6,66,6,68],[8,66,8,68],[10,66,10,68],[12,66,12,68],[14,66,14,68],[5,30,5,31],[6,30,6,31],[7,30,7,31],[8,30,8,31],[15,17,15,18],[21,20,22,21],[21,17,22,18],[15,20,15,21],[24,23,24,24],[23,23,23,24],[25,23,25,24],[21,23,21,24],[22,23,22,24],[16,23,16,24],[35,42,35,43],[50,27,50,28],[51,27,51,28],[19,34,19,35],[20,34,20,35],[21,34,21,35],[22,34,22,35],[11,34,11,35],[12,34,12,35],[13,30,13,31],[14,30,14,31],[22,30,22,31],[14,34,14,35],[15,34,15,35],[23,34,23,35],[24,34,24,35],[25,34,25,35],[26,34,26,35],[27,34,27,35],[23,30,23,31],[27,30,27,31],[20,30,20,31],[21,30,21,31],[24,30,24,31]]}
[]
[null,{"$f":"'Main Details'!B2","v":"QUANTITY SHEET FOR EASY START HOMES"},null,null,null,null,null,null,null,null,null,null,null,null,null,null,null,null,null,null,null,null,null,null,null,null,null,null,null,null,null,null,null,null,null,null,null,null,null,null,null,null,null,"PG 11"]
[null,{"$f":"'Main Details'!D6","v":0}]
[null,"INTERNAL MOULDINGS",null,null,null,null,null,null,null,null,null,null,null,null,null,null,null,null,null,null,null,null,null,null,null,null,null,null,"SHELVING"]
[null,null,null,null,null,null,null,null,null,null,null,null,null,null,null,null,null,null,null,null,null,null,null,null,null,null,null,null,null,null,null,null,null,null,null,null,null,null,null,null,null,null,null,null,null,null,null,null,"VINYL ROBE","MIRROR/VINYL ROBE","MIRRORED ROBE","COLOURBACK ROBE","BRIGHTBACK ROBE",null,null,null,null,null,"ROD COUNT",null,null,null,null,null,null,null,null,null,null,null,null,null,null,null,"ENTRANCE SET"]
[null,"ROOM:             ",null,null,null,null,null,null,null,null,null,"175x30 ",null,null,"19x19 ",null,null,"105/80x19",null,null,"30mm Design",null,null,"HARDWARE ITEMS",null,null,null,null,"ROOM","STD","450mm","450mm 16mm","600mm 16mm",null,"300mm 16mm",null,"67x18mm",null,null,"40x18mm",null,null,"19mm Chrome",null,null,null,null,null,"2 DOOR 1200x2400mm","2 DOOR 1200x2400mm","2 DOOR 1200x2400mm","2 DOOR - 1200mm W x 2400mm H","2 DOOR 1800x2400mm",null,null,null,null,null,0.9,1.2,1.8,2.4,2.7,3.6,null,null,"ENTRANCE SET",null,null,"COLOUR",{"$f":"'INT-EXT DOORS & int walls'!C42-BS9","v":0},null,null,null,"BELA DOUBLE CYLINDER","BELA - SQUARE ROSE",null,null,"COLOUR"]
[null,null,null,"SKIRTING ",null,"NOSING",null,null,"SCOTIA",null,null,"CAPPING",null,null,"SQ BEAD",null,null,"G/batten",null,null,"Pine Scotia",null,null,null,null,null,null,null,null,"Melamine","Melamine","Melamine","Melamine",null,"Melamine",null,"MDF",null,null,"MDF Batten",null,null,"Rail",null,null,null,null,null,"2 DOOR 1500x2400mm","2 DOOR 1500x2400mm","2 DOOR 1500x2400mm","2 DOOR - 1500mm W x 2400mm H","2 DOOR 2100x2400mm",null,null,null,null,null,"ROD-STEEL 19mm 900 LONG CHROME","ROD-STEEL 19mm 1200LONG CHROME","ROD-STEEL 19mm 1800LONG CHROME","ROD-STEEL 19mm 2400LONG CHROME","ROD-STEEL 19mm 2700LONG CHROME","ROD-STEEL 19mm 3600LONG CHROME",null,null,"Deadlock",null,null,null,{"$f":"'INT-EXT DOORS & int walls'!C42-BS9","v":0},null,null,null,"ADEL - DOUBLE CYLINDER",null,null,null,"ENTRY SET - SATIN CHROME"]
[null,null,{"$f":"D8*E8","v":0},null,0.9,{"$f":"IF(G8=\" \",\" \",1)","v":{"$error":"#REF!"}},{"$f":"IF(#REF!=\"Y\",((INT(((#REF!*100)+30)/30)*30)/100),\" \")","v":{"$error":"#REF!"}},{"$f":"IF(G8=\" \",\" \",F8*G8)","v":{"$error":"#REF!"}},{"$f":"IF(F8>0,F8,\" \")","v":{"$error":"#REF!"}},{"$f":"IF(G8>0,G8,\" \")","v":{"$error":"#REF!"}},{"$f":"IF(AND(G8=\" \"),\" \",I8*J8)","v":{"$error":"#REF!"}},null,0.9,{"$f":"L8*M8","v":0},{"$f":"IF(L8>0,L8*2,\" \")","v":" "},{"$f":"IF(M8>0,M8,\" \")","v":0.9},{"$f":"IF(AND(L8>0,M8>0),O8*P8,\" \")","v":" "},null,null,{"$f":"R8*S8","v":0},{"$f":"IF(AND(B8>0,ROUNDUP(B8/V8,0)-B8/V8<=1),ROUNDUP(B8/V8,0)+1,ROUNDUP(B8/V8,0))","v":0},5.4,{"$f":"U8*V8","v":0},"Trico Roller Catch",null,null,"No",null,"PANTRY",3600,null,null,null,null,null,null,null,null,{"$f":"AK8*AL8","v":0},null,null,{"$f":"AN8*AO8","v":0},null,null,{"$f":"AQ8*AR8","v":0},null,null,null,"2 DOOR 1800x2400mm","2 DOOR 1800x2400mm","2 DOOR 1800x2400mm","2 DOOR - 1800mm W x 2400mm H","2 DOOR 2400x2400mm",null,null,null,null,null,{"$f":"IF($AR$8,AND($AR$8>0,$AR$8<1),\"0\")","v":"0"},{"$f":"IF(AR8,AND(AR8>1,AR8<1.3),\"0\")","v":"0"},{"$f":"IF(AR8,AND(AR8>1.2,AR8<1.9),\"0\")","v":"0"},{"$f":"IF(AR8,AND(AR8>1.8,AR8<2.5),\"0\")","v":"0"},{"$f":"IF(AR8,AND(AR8>2.4,AR8<2.8),\"0\")","v":"0"},{"$f":"IF(AR8,AND(AR8>2.7,AR8<3.7),\"0\")","v":"0"},null,null,null,null,null,null,null,null,null,null,null,null,null,null,"ENTRY SET - BRIGHT CHROME"]
[null,null,{"$f":"D9*E9","v":0},null,1.2,{"$f":"IF(G9=\" \",\" \",1)","v":{"$error":"#REF!"}},{"$f":"IF(#REF!=\"Y\",((INT(((#REF!*100)+30)/30)*30)/100),\" \")","v":{"$error":"#REF!"}},{"$error":"#REF!"},{"$f":"IF(F9>0,F9,\" \")","v":{"$error":"#REF!"}},{"$f":"IF(G9>0,G9,\" \")","v":{"$error":"#REF!"}},{"$error":"#REF!"},null,1.2,{"$f":"L9*M9","v":0},{"$f":"IF(L9>0,L9*2,\" \")","v":" "},1.2,{"$f":"IF(AND(L9>0,M9>0),O9*P9,\" \")","v":" "},null,null,0,null,null,{"$f":"U9*V9","v":0},null,null,null,null,null,null,2400,null,null,null,null,null,null,null,null,{"$f":"AK9*AL9","v":0},null,null,{"$f":"AN9*AO9","v":0},null,null,0,null,null,null,"2 DOOR 2100x2400mm","2 DOOR 2100x2400mm","2 DOOR 2100x2400mm","2 DOOR - 2100mm W x 2400mm H","3 DOOR 3000x2400mm",null,null,null,null,null,{"$f":"IF(AR9,AND(AR9>0,AR9<1),\"0\")","v":"0"},{"$f":"IF(AR9,AND(AR9>1,AR9<1.3),\"0\")","v":"0"},{"$f":"IF(AR9,AND(AR9>1.2,AR9<1.9),\"0\")","v":"0"},{"$f":"IF(AR9,AND(AR9>1.8,AR9<2.5),\"0\")","v":"0"},{"$f":"IF(AR9,AND(AR9>2.4,AR9<2.8),\"0\")","v":"0"},{"$f":"IF(AR9,AND(AR9>2.7,AR9<3.7),\"0\")","v":"0"},null,null,"Trilock",null,null,null,null,null,null,null,null,null,null,null,"ENTRY SET - MATT BLACK"]
[null,null,{"$f":"D10*E10","v":0},null,1.5,{"$error":"#REF!"},{"$f":"IF(#REF!=\"Y\",((INT(((#REF!*100)+30)/30)*30)/100),\" \")","v":{"$error":"#REF!"}},{"$error":"#REF!"},{"$f":"IF(F10>0,F10,\" \")","v":{"$error":"#REF!"}},{"$f":"IF(G10>0,G10,\" \")","v":{"$error":"#REF!"}},{"$error":"#REF!"},null,1.5,{"$f":"L10*L10","v":0},{"$f":"IF(L10>0,L10*2,\" \")","v":" "},1.5,{"$f":"IF(AND(L10>0,M10>0),O10*P10,\" \")","v":" "},null,null,{"$f":"R10*S10","v":0},null,null,{"$f":"U10*V10","v":0},"PELMETS",null,null,"No",null,"nett l/m shelving =",1800,null,null,null,null,null,null,null,null,{"$f":"AK10*AL10","v":0},null,null,{"$f":"AN10*AO10","v":0},null,null,0,null,null,null,"2 DOOR 2400x2400mm","2 DOOR 2400x2400mm","2 DOOR 2400x2400mm","3 DOOR - 2700mm W x 2400mm H","3 DOOR 3600x2400mm",null,null,null,null,null,{"$f":"IF(AR10,AND(AR10>0,AR10<1),\"0\")","v":"0"},"0","0","0","0","0"]
[null,null,{"$f":"D11*E11","v":0},null,1.8,{"$error":"#REF!"},{"$f":"IF(#REF!=\"Y\",((INT(((#REF!*100)+30)/30)*30)/100),\" \")","v":{"$error":"#REF!"}},{"$error":"#REF!"},{"$error":"#REF!"},{"$error":"#REF!"},{"$error":"#REF!"},null,1.8,{"$f":"L11*M11","v":0}," ",1.8,{"$f":"IF(AND(L11>0,M11>0),O11*P11,\" \")","v":" "},null,null,0,null,null,0,"Floor Guide",null,null,"No",null,null,null,null,null,null,null,null,null,null,null,0,null,null,0,null,null,0,null,null,null,"3 DOOR 2400x2400mm","2 DOOR 1200x2700mm","2 DOOR- 2400mm W x 2700mm H","3 DOOR - 3600mm W x 2400mm H","4 DOOR 4500x2400mm",null,null,null,null,null,"0","0","0","0","0","0",null,null,"Passge Set",null,null,null,{"$f":"'INT-EXT DOORS & int walls'!C15+'INT-EXT DOORS & int walls'!C35","v":0}]
[null,null,0,null,2.1,{"$error":"#REF!"},{"$f":"IF(#REF!=\"Y\",((INT(((#REF!*100)+30)/30)*30)/100),\" \")","v":{"$error":"#REF!"}},{"$error":"#REF!"},{"$error":"#REF!"},{"$error":"#REF!"},{"$error":"#REF!"},null,2.1,0," ",2.1," ",null,null,0,null,null,0,"Track",null,null,"No",null,"LINEN",3600,null,null,null,null,null,null,null,null,0,null,null,0,null,null,0,null,null,null,"3 DOOR 2700x2400mm","2 DOOR 1500x2700mm","3 DOOR 2400x2400mm",null,null,null,null,null,null,null,"0","0","0","0","0","0"]
[null,null,0,null,2.4,{"$error":"#REF!"},{"$f":"IF(#REF!=\"Y\",((INT(((#REF!*100)+30)/30)*30)/100),\" \")","v":{"$error":"#REF!"}},{"$error":"#REF!"},{"$error":"#REF!"},{"$error":"#REF!"},{"$error":"#REF!"},null,2.4,0," ",2.4," ",null,null,0,null,null,0,null,null,null,null,null,null,2400,null,null,null,null,null,null,null,null,0,null,null,0,null,null,0,null,null,null,"3 DOOR 3000x2400mm","2 DOOR 1800x2700mm","3 DOOR 2700x2400mm",null,null,null,null,null,null,null,"0","0","0","0","0","0",null,null,"Privacy",null,null,null,{"$f":"'INT-EXT DOORS & int walls'!C21","v":0}]
[null,null,0,null,2.7,{"$error":"#REF!"},{"$f":"IF(#REF!=\"Y\",((INT(((#REF!*100)+30)/30)*30)/100),\" \")","v":{"$error":"#REF!"}},{"$error":"#REF!"},{"$error":"#REF!"},{"$error":"#REF!"},{"$error":"#REF!"},null,2.7,0," ",2.7," ","L/M",{"$f":"SUM(T8:T13)","v":0},null,"L/M",{"$f":"SUM(W8:W13)","v":0},null,null,null,null,null,null,"nett l/m shelving =",1800,null,null,null,null,null,null,null,null,0,null,null,0,null,null,0,null,null,null,"3 DOOR 3300x2400mm","2 DOOR 2100x2700mm","3 DOOR 3000x2400mm",null,null,null,null,null,null,null,"0","0","0","0","0","0"]
[null,null,0,null,3,{"$error":"#REF!"},{"$f":"IF(#REF!=\"Y\",((INT(((#REF!*100)+30)/30)*30)/100),\" \")","v":{"$error":"#REF!"}},{"$error":"#REF!"},{"$error":"#REF!"},{"$error":"#REF!"},{"$error":"#REF!"},null,3,0," ",3," "," 13x13 ",null,null,"42 x 18",null,null,null,null,null,null,null,null,null,null,null,null,null,null,null,null,null,0,null,null,0,null,null,0,null,null,null,"3 DOOR 3600x2400mm","2 DOOR 2400x2700mm","3 DOOR 3300x2400mm",null,null,null,null,null,null,null,"0","0","0","0","0","0",null,null,"Sliding",null,null,null,{"$f":"'INT-EXT DOORS & int walls'!C27","v":0}]
[null,null,0,null,3.3,{"$error":"#REF!"},{"$f":"IF(#REF!=\"Y\",((INT(((#REF!*100)+30)/30)*30)/100),\" \")","v":{"$error":"#REF!"}},{"$error":"#REF!"},{"$error":"#REF!"},{"$error":"#REF!"},{"$error":"#REF!"},null,3.3,0," ",3.3," ","Jh Quad",null,null,"DBN Arch.",null,null,"Ball Bearing Hinges",null,null,"No",null,"BROOM",3600,null,null,null,null,null,null,null,null,0,null,null,0,null,null,0,null,"QUAD - JARRAH 13Fmm",null,"4 DOOR 3600x2400mm","4 DOOR - 4200mm W x 2700mm H","4 DOOR 3600x2400mm",null,null,null,null,null,null,null,"0","0","0","0","0","0"]
[null,null,0,null,3.6,{"$error":"#REF!"},{"$f":"IF(#REF!=\"Y\",((INT(((#REF!*100)+30)/30)*30)/100),\" \")","v":{"$error":"#REF!"}},{"$error":"#REF!"},{"$error":"#REF!"},{"$error":"#REF!"},{"$error":"#REF!"},null,3.6,0," ",3.6," ",2,1.2,{"$f":"R17*S17","v":2.4},null,5.4,{"$f":"U17*V17","v":0},null,null,null,null,null,null,2400,null,null,null,null,null,null,null,null,0,null,null,0,null,null,0,null,null,null,"4 DOOR 3900x2400mm",null,"4 DOOR 4200x2400mm",null,null,null,null,null,null,null,"0","0","0","0","0","0"]
[null,null,0,null,3.9,{"$error":"#REF!"},{"$f":"IF(#REF!=\"Y\",((INT(((#REF!*100)+30)/30)*30)/100),\" \")","v":{"$error":"#REF!"}},{"$error":"#REF!"},{"$error":"#REF!"},{"$error":"#REF!"},{"$error":"#REF!"},null,3.9,0," ",3.9," ",4,2.4,{"$f":"R18*S18","v":9.6},null,null,{"$f":"U18*V18","v":0},null,null,null,null,null,"nett l/m shelving =",1800,null,null,null,null,null,null,null,null,0,null,null,0,null,null,0,null,null,null,"4 DOOR 4200x2400mm",null,"4 DOOR 4500x2400mm",null,null,null,null,null,null,null,"0","0","0","0","0","0"]
[null,null,0,null,4.2,{"$error":"#REF!"},{"$f":"IF(#REF!=\"Y\",((INT(((#REF!*100)+30)/30)*30)/100),\" \")","v":{"$error":"#REF!"}},{"$error":"#REF!"},{"$error":"#REF!"},{"$error":"#REF!"},{"$error":"#REF!"},null,4.2,0," ",4.2," ",null,null,{"$f":"R19*S19","v":0},null,null,{"$f":"U19*V19","v":0},"Finial (select)",null,null,"No",null,null,null,null,null,null,null,null,null,null,null,0,null,null,0,null,null,0,null,null,null,"4 DOOR 4500x2400mm",null,"2 DOOR 1200x2700mm",null,null,null,null,null,null,null,"0","0","0","0","0","0"]
[null,null,0,null,4.5,{"$error":"#REF!"},{"$f":"IF(#REF!=\"Y\",((INT(((#REF!*100)+30)/30)*30)/100),\" \")","v":{"$error":"#REF!"}},{"$error":"#REF!"},{"$error":"#REF!"},{"$error":"#REF!"},{"$error":"#REF!"},null,4.5,0," ",4.5," ",null,null,{"$f":"R20*S20","v":0},null,null,{"$f":"U20*V20","v":0},"SKIRTING - MDF 87x18mm",null,null,"No",null,"BED 1",3600,null,null,null,null,null,null,null,null,0,null,null,0,null,null,0,null,{"$f":"IF(R17>1,_xlfn.CONCAT(R17,\"/\",S17),\"\")","v":"2/1.2"},null,"4 DOOR 4800x2400mm",null,"2 DOOR 1500x2700mm",null,null,null,null,null,null,null,"0","0","0","0","0","0"]
[null,null,0,null,4.8,{"$error":"#REF!"},{"$f":"IF(#REF!=\"Y\",((INT(((#REF!*100)+30)/30)*30)/100),\" \")","v":{"$error":"#REF!"}},{"$error":"#REF!"},{"$error":"#REF!"},{"$error":"#REF!"},{"$error":"#REF!"},null,4.8,0," ",4.8," ","L/M",{"$f":"SUM(T17:T20)","v":12},null,"L/M",{"$f":"SUM(W17:W210)","v":0},null,"SQUARE - LENGTHS 5.4m",null,null,null,null,null,2400,null,null,null,null,null,null,null,null,0,null,null,0,null,null,0,null,{"$f":"IF(R18>1,_xlfn.CONCAT(R18,\"/\",S18),\"\")","v":"4/2.4"},null,"2 DOOR 1200x2700mm",null,"2 DOOR 1800x2700mm",null,null,null,null,null,null,null,"0","0","0","0","0","0"]
[null,null,0,null,5.0999999999999996,{"$error":"#REF!"},{"$f":"IF(#REF!=\"Y\",((INT(((#REF!*100)+30)/30)*30)/100),\" \")","v":{"$error":"#REF!"}},{"$error":"#REF!"},{"$error":"#REF!"},{"$error":"#REF!"},{"$error":"#REF!"},null,5.0999999999999996,0," ",5.0999999999999996," ","Mdf D/Arch",null,null,"Pine Arch",null,null,null,null,null,null,null,"nett l/m shelving =",1800,null,null,null,null,null,null,null,null,0,null,null,0,null,null,0,null,null,null,"2 DOOR 1500x2700mm",null,"2 DOOR 2100x2700mm",null,null,null,null,null,null,null,"0","0","0","0","0","0"]
[null,null,0,null,5.4,{"$error":"#REF!"},{"$f":"IF(#REF!=\"Y\",((INT(((#REF!*100)+30)/30)*30)/100),\" \")","v":{"$error":"#REF!"}},{"$error":"#REF!"},{"$error":"#REF!"},{"$error":"#REF!"},{"$error":"#REF!"},null,5.4,0," ",5.4," ",null,null,null,null,null,null,null,null,null,null,null,null,null,null,null,null,null,null,null,null,null,0,null,null,0,null,null,0,null,null,null,"2 DOOR 1800x2700mm",null,"3 DOOR 2400x2700mm",null,null,null,null,null,null,null,"0","0","0","0","0","0"]
[null,null,0,null,5.7,{"$f":"IF(G24=\" \",\" \",1)","v":{"$error":"#REF!"}},{"$f":"IF(#REF!=\"Y\",((INT(((#REF!*100)+30)/30)*30)/100),\" \")","v":{"$error":"#REF!"}},{"$error":"#REF!"},{"$error":"#REF!"},{"$error":"#REF!"},{"$error":"#REF!"},null,5.7,0," ",5.7," ",null,5.4,{"$f":"R24*S24","v":0},null,5.4,{"$f":"U24*V24","v":0},null,null,null,null,null,"BED 2",3600,null,null,null,null,null,null,null,null,0,null,null,0,null,null,0,null,null,null,"2 DOOR 2100x2700mm",null,"3 DOOR 2700x2700mm",null,null,null,null,null,null,null,"0","0","0","0","0","0"]
[null,null,0,null,6,{"$f":"IF(G25=\" \",\" \",1)","v":{"$error":"#REF!"}},{"$f":"IF(#REF!=\"Y\",((INT(((#REF!*100)+30)/30)*30)/100),\" \")","v":{"$error":"#REF!"}},{"$error":"#REF!"},{"$error":"#REF!"},{"$error":"#REF!"},{"$error":"#REF!"},null,6,0," ",6," ",null,null,{"$f":"R25*S25","v":0},null,null,{"$f":"U25*V25","v":0},"Wet Area Fixings",null,9,"No",null,null,2400,null,null,null,null,null,null,null,null,0,null,null,0,null,null,0,null,null,null,"2 DOOR 2400x2700mm",null,"3 DOOR 3000x2700mm",null,null,null,null,null,null,null,"0","0","0","0","0","0"]
[null,null,null,null,null,{"$error":"#REF!"},{"$f":"IF(#REF!=\"Y\",((INT(((#REF!*100)+30)/30)*30)/100),\" \")","v":{"$error":"#REF!"}},{"$error":"#REF!"},{"$error":"#REF!"},{"$error":"#REF!"},{"$error":"#REF!"},null,null,0," "," "," ",null,null,{"$f":"R26*S26","v":0},null,null,{"$f":"U26*V26","v":0},null,null,null,"No",null,"nett l/m shelving =",1800,null,null,null,null,null,null,null,null,0,null,null,0,null,null,0,null,null,null,"3 DOOR 2400x2700mm",null,"3 DOOR 3300x2700mm",null,null,null,null,null,null,null,"0","0","0","0","0","0"]
[null,null,null,null,null,{"$error":"#REF!"},{"$f":"IF(#REF!=\"Y\",((INT(((#REF!*100)+30)/30)*30)/100),\" \")","v":{"$error":"#REF!"}},{"$error":"#REF!"},{"$error":"#REF!"},{"$error":"#REF!"},{"$error":"#REF!"},null,null,0," "," "," ","L/M",{"$f":"SUM(T24:T26)","v":0},null,"L/M",{"$f":"SUM(W24:W26)","v":0},null,"Single Cavity Slider",null,1,"No",null,null,null,null,null,null,null,null,null,null,null,0,null,null,0,null,null,0,null,null,null,"3 DOOR 2700x2700mm",null,"3 DOOR 3600x2700mm",null,null,null,null,null,null,null,"0","0","0","0","0","0"]
[null,null,null,null,null,{"$error":"#REF!"},{"$f":"IF(#REF!=\"Y\",((INT(((#REF!*100)+30)/30)*30)/100),\" \")","v":{"$error":"#REF!"}},{"$error":"#REF!"},{"$error":"#REF!"},{"$error":"#REF!"},{"$error":"#REF!"},null,null,0," "," "," ","42x10",null,null,"86x10",null,null,"Double Cavity Slider",null,1,"No",null,"BED 3",3600,null,null,null,null,null,null,null,null,0,null,null,0,null,null,0,null,null,null,"3 DOOR 3000x2700mm",null,"4 DOOR 3600x2700mm",null,null,null,null,null,null,null,"0","0","0","0","0","0"]
[null,null,null,null,null,{"$error":"#REF!"},{"$f":"IF(#REF!=\"Y\",((INT(((#REF!*100)+30)/30)*30)/100),\" \")","v":{"$error":"#REF!"}},{"$error":"#REF!"},{"$error":"#REF!"},{"$error":"#REF!"},{"$error":"#REF!"},null,null,0," "," "," ","Des Pine Trim",null,null,"INT. Cedar",null,null,"ARCHITRAVE PER OPENING",null,2,null,null,null,2400,null,null,null,null,null,null,null,null,0,null,null,0,null,null,0,null,null,null,"3 DOOR 3300x2700mm",null,"4 DOOR 3900x2700mm",null,null,null,null,null,null,null,"0","0","0","0","0","0"]
[null,null,null,null,null,{"$error":"#REF!"},{"$f":"IF(#REF!=\"Y\",((INT(((#REF!*100)+30)/30)*30)/100),\" \")","v":{"$error":"#REF!"}},{"$error":"#REF!"},{"$error":"#REF!"},{"$error":"#REF!"},{"$error":"#REF!"},null,null,0," "," "," ",{"$f":"IF(AND(B30>0,ROUNDUP(B30/S30,0)-B30/S30<=1),ROUNDUP(B30/S30,0)+1,ROUNDUP(B30/S30,0))","v":0},5.4,{"$f":"R30*S30","v":0},null,null,{"$f":"U30*V30","v":0},null,null,null,null,null,"nett l/m shelving =",1800,null,null,null,null,null,null,null,null,0,null,null,0,null,null,0,null,null,null,"3 DOOR 3600x2700mm",null,"4 DOOR 4500x2700mm",null,null,null,null,null,null,null,"0","0","0","0","0","0"]
[null,null,null,null,null,{"$error":"#REF!"},{"$f":"IF(#REF!=\"Y\",((INT(((#REF!*100)+30)/30)*30)/100),\" \")","v":{"$error":"#REF!"}},{"$error":"#REF!"},{"$error":"#REF!"},{"$error":"#REF!"},{"$error":"#REF!"},null,null,0," "," "," ",null,null,{"$f":"R31*S31","v":0},null,null,0,"PAINT EXTRAS",null,null,null,null,null,null,null,null,null,null,null,null,null,null,0,null,null,0,null,null,0,null,null,null,"4 DOOR 3600x2700mm",null,null,null,null,null,null,null,null,null,"0","0","0","0","0","0"]
[null,null,null,null,null,{"$error":"#REF!"},{"$f":"IF(#REF!=\"Y\",((INT(((#REF!*100)+30)/30)*30)/100),\" \")","v":{"$error":"#REF!"}},{"$error":"#REF!"},{"$error":"#REF!"},{"$error":"#REF!"},{"$error":"#REF!"},null,null,0," "," "," ","L/M",{"$f":"SUM(T30:T31)","v":0},null,"L/M",{"$f":"SUM(W30:W31)","v":0},null,"Colonial Door",null,null,"e/o",null,"BED 4",3600,null,null,null,null,null,null,null,null,{"$f":"AK32*AL32","v":0},null,null,{"$f":"AN32*AO32","v":0},null,null,0,null,null,null,"4 DOOR 4200x2700mm",null,null,null,null,null,null,null,null,null,"0","0","0","0","0","0"]
[null,null,null,null,null,{"$error":"#REF!"},{"$f":"IF(#REF!=\"Y\",((INT(((#REF!*100)+30)/30)*30)/100),\" \")","v":{"$error":"#REF!"}},{"$error":"#REF!"},{"$error":"#REF!"},{"$error":"#REF!"},{"$error":"#REF!"},null,null,0," "," "," ","Gable Batten",null,null,"W/Tex",null,null,"Cavity Slider Colonial Door",null,null,"e/o",null,null,2400,null,null,null,null,null,null,null,null,0,null,null,0,null,null,0,null,null,null,null,null,null,null,null,null,null,null,null,null,"0","0","0","0","0","0"]
[null,null,null,null,null,{"$error":"#REF!"},{"$f":"IF(#REF!=\"Y\",((INT(((#REF!*100)+30)/30)*30)/100),\" \")","v":{"$error":"#REF!"}},{"$error":"#REF!"},{"$error":"#REF!"},{"$error":"#REF!"},{"$error":"#REF!"},null,null,0," "," "," ","80x30",null,null,"Scribe",null,null,"e/o 2340 doors intenal",null,null,"e/o",null,"nett l/m shelving =",1800,null,null,null,null,null,null,null,null,0,null,null,0,null,null,0,null,null,null,null,null,null,null,null,null,null,null,null,null,"0","0","0","0","0","0"]
[null,null,null,null,null,{"$error":"#REF!"},{"$f":"IF(#REF!=\"Y\",((INT(((#REF!*100)+30)/30)*30)/100),\" \")","v":{"$error":"#REF!"}},{"$error":"#REF!"},{"$error":"#REF!"},{"$error":"#REF!"},{"$error":"#REF!"},null,null,0," "," "," ",null,null,0,null,3.6,0,"External Doors",null,null,"No",null,null,null,null,null,null,null,null,null,null,null,{"$f":"AK35*AL35","v":0},null,null,{"$f":"AN35*AO35","v":0},null,null,0,null,null,null,"SKIRTING - MDF 67x18mm","SKIRTING - JARRAH 60Fx19Fmm","SKIRTING - JARRAH 80Fx19Fmm","SKIRTING - MDF 87x18mm","SKIRTING - MDF 92x18mm","SKIRTING - JARRAH 125Fx19Fmm","SKIRTING - H3 PINE 66x18mm","SKIRTING - H3 PINE 90x18mm","SKIRTING - H3 PINE 92x18mm",null,"0","0","0","0","0","0"]
[null,null,null,null,null,{"$error":"#REF!"},{"$f":"IF(#REF!=\"Y\",((INT(((#REF!*100)+30)/30)*30)/100),\" \")","v":{"$error":"#REF!"}},{"$error":"#REF!"},{"$error":"#REF!"},{"$error":"#REF!"},{"$error":"#REF!"},null,null,0," "," "," ",null,null,0,null,null,0,"ENTRY DOOR UNGLAZED & FRAME",null,1,"No",null,"SHELF BATTENS",null,null,null,null,null,null,null,{"$f":"IF(AM36>0,AM37,\" \")","v":" "},5.4,{"$f":"SUM(AM8:AM35)","v":0},{"$f":"IF(AP36>0,AP37,\" \")","v":" "},5.4,{"$f":"SUM(AP8:AP35)","v":0},"1 rod per line",null,null,null,null,null,"SINGLE BULLNOSED LENGTHS: 5.4m","SINGLE BULLNOSED","SPLAYED","COLONIAL - LENGTHS: 5.4m","SPLAYED - LENGTHS: 5.4m","SINGLE BULLNOSED","SQUARE - LENGTHS: 5.4m","SQUARE - LENGTHS: 5.4m","SPLAYED - LENGTHS: 5.4m",null,"0","0","0","0","0","0"]
[null,"TOTALS:-",null,"L/M",{"$f":"IF((SUM(C8:C25))>0,SUM(C8:C25),\" \")","v":" "},"L/M",{"$f":"IF((SUM(H8:H36))>0,SUM(H8:H36),\" \")","v":{"$error":"#REF!"}},null,"L/M",{"$f":"IF((SUM(K8:K36))>0,SUM(K8:K36),\" \")","v":{"$error":"#REF!"}},null,"L/M",{"$f":"IF((SUM(N8:N36))>0,SUM(N8:N36),\" \")","v":" "},null,"L/M",{"$f":"IF((SUM(Q8:Q36))>0,SUM(Q8:Q36),\" \")","v":" "},null,"L/M",{"$f":"SUM(T35:T36)","v":0},null,"L/M",{"$f":"SUM(W35:W36)","v":0},null,"STAIN/VARNISH DOOR AND FRAME",null,null,"ea",null,"TOTALS:",3600,{"$f":"AE8+AE12+AE16+AE20+AE24+AE28+AE32","v":0},"450 wide",{"$f":"AG8+AG12+AG16+AG20+AG24+AG28+AG32","v":0},"600 wide",{"$f":"AI8+AI12+AI16+AI20+AI24+AI28+AI32","v":0},"300 wide","L/m",{"$f":"AK36*AL36","v":{"$error":"#VALUE!"}},{"$f":"ROUNDUP(AM36/5.4,0)","v":0},"L/m",{"$f":"IF(AP37>2,AN36*AO36,\" \")","v":" "},{"$f":"ROUNDUP(AP36/5.4,0)+2","v":2},"L/m",{"$f":"SUM(AS8:AS35)","v":0},null,null,null,null,"SQUARE - LENGTHS 5.4m","SPLAYED","COLONIAL SK36",null,"COLONIAL - LENGTHS: 5.4m","SPLAYED","SPLAYED - LENGTHS: 5.4m",null,"LAMBS TONGUE - LENGTHS: 5.4m",null,{"$f":"COUNTIF(BG8:BG35,\"TRUE\")","v":0},0,0,0,0,0]
[null,null,null,null,null,null,null,null,null,null,null,null,null,null,null,null,null,null,null,null,null,null,null,"10 LITE DOOR ON METAL FRAME",null,null,"No",null,null,2400,{"$f":"AE9+AE13+AE17+AE21+AE25+AE29+AE33","v":0},null,{"$f":"AG9+AG13+AG17+AG21+AG25+AG29+AG33","v":0},null,{"$f":"AI9+AI13+AI17+AI21+AI25+AI29+AI33","v":0},null,null,null,null,null,null,null,null,null,null,null,null,null,"SPLAYED - LENGTHS: 5.4m",null,null,null,null,null,"LAMBS TONGUE - LENGTHS: 5.4m"]
[null,null,null,null,null,null,null,null,null,null,null,null,null,null,null,null,null,null,null,null,null,null,null,"4 LITE DOOR ON TIMBER FRAME",null,null,"ea",null,null,1800,{"$f":"AE10+AE14+AE18+AE22+AE26+AE30+AE34","v":0},null,{"$f":"AG10+AG14+AG18+AG22+AG26+AG30+AG34","v":0},null,{"$f":"AI10+AI14+AI18+AI22+AI26+AI30+AI34","v":0},null,"Gallows Bracket",null,null,null,"Pillars=",null,null,"Each",null,null,null,null,"COLONIAL - LENGTHS: 5.4m"]
[null,null,null,null,null,null,null,null,null,null,null,null,null,null,null,null,null,null,null,null,null,null,null,"6 LITE DOOR ON TIMBER FRAME",null,null,"ea",null,"TOTAL NETT L/M SHELVING  =",null,{"$f":"AM36","v":0},{"$f":"SUM(AC11:AC15:AC19:AC23:AC27:AC31:AC35)","v":0},null,null,null,null,"Vertical Shelf",null,null,null,"Ends=",null,null,"Pair/s"]
[null,null,null,null,null,null,null,null,null,null,null,null,null,null,null,null,null,null,null,null,null,null,null,null,null,null,null,null,null,null,null,null,null,null,null,null,null,null,null,null,null,null,null,null,null,null,null,null,null,null,null,"END PILLARS FOR 19mm CIRCULAR"]
[null,null,null,null,null,null,null,null,null,null,null,null,null,null,null,null,null,null,null,null,null,null,null,null,null,null,null,null,null,null,null,null,null,null,null,null,null,null,null,null,null,null,null,null,null,null,null,null,"DESIGN PINE H3 42x10mm","SCOTIA EXTERNAL",null,"CENTRE PILLAR FOR 19mm"]
[null,"ROBES",null,null,null,null,null,null,null,null,null,null,null,null,null,null,null,null,null,null,null,null,null,null,null,null,null,null,null,null,null,null,null,null,null,null,null,null,null,null,null,null,null,null,null,null,null,null,null,"E/O 2340MM INTERNAL DOORS ON"]
[null,null,null,null,null,null,null,null,null,null,null,null,null,null,null,null,null,null,null,null,null,null,null,null,null,null,null,null,null,null,null,null,null,null,null,null,null,null,null,null,null,null,null,null,null,null,null,null,"SHELF RAIL - MDF 40x18mm"]
[null,"ROOM",null,null,null,null,null,null,null,null,null,null,null,null,null,null,null,"Type",null,null,null,null,null,"Size",null,null,null,"Quantity",null,null,null,null,null,null,null,null,null,null,null,null,null,null,null,null,null,null,null,null,"SHELF RAIL - MDF 67x18mm"]
[]
[null,null,null,null,null,null,null,null,null,null,null,null,null,null,null,null,null,null,null,null,null,null,null,null,null,null,null,null,null,null,null,null,null,null,null,null,null,null,null,null,null,null,null,null,null,null,null,null,"MELAMINE SHELVING 1800x300x16"]
[null,null,null,null,null,null,null,null,null,null,null,null,null,null,null,null,null,null,null,null,null,null,null,null,null,null,null,null,null,null,null,null,null,null,null,null,null,null,null,null,null,null,null,null,null,null,null,null,"MELAMINE SHELVING 2400x300x16"]
[null,null,null,null,null,null,null,null,null,null,null,null,null,null,null,null,null,null,null,null,null,null,null,null,null,null,null,null,null,null,null,null,null,null,null,null,null,null,null,null,null,null,null,null,null,null,null,null,"MELAMINE SHELVING 3600x300x16"]
[null,null,null,null,null,null,null,null,null,null,null,null,null,null,null,null,null,null,null,null,null,null,null,null,null,null,null,null,null,null,null,null,null,null,null,null,null,null,null,null,null,null,null,null,null,null,null,null,"MELAMINE SHELVING 1800x450x16"]
[null,null,null,null,null,null,null,null,null,null,null,null,null,null,null,null,null,null,null,null,null,null,null,null,null,null,null,null,null,null,null,null,null,null,null,null,null,null,null,null,null,null,null,null,null,null,null,null,"MELAMINE SHELVING 2400x450x16"]
[null,null,null,null,null,null,null,null,null,null,null,null,null,null,null,null,null,null,null,null,null,null,null,null,null,null,null,null,null,null,null,null,null,null,null,null,null,null,null,null,null,null,null,null,null,null,null,null,"MELAMINE SHELVING 3600x450x16"]
[null,null,null,null,null,null,null,null,null,null,null,null,null,null,null,null,null,null,null,null,null,null,null,null,null,null,null,null,null,null,null,null,null,null,null,null,null,null,null,null,null,null,null,null,null,null,null,null,"MELAMINE SHELVING 1800x600x16"]
[]
[null,null,null,null,null,null,null,null,null,null,null,null,null,null,null,null,null,null,null,null,null,null,null,null,"Finial (select)",null,null,null,null,null,null,null,null,null,null,null,null,null,null,null,null,null,null,null,null,null,"MELAMINE SHELVING 2400x600x16"]
[null,null,null,null,null,null,null,null,null,null,null,null,null,null,null,null,null,null,null,null,null,null,null,null,"1000mm Finial",null,null,null,null,null,null,null,null,null,null,null,null,null,null,null,null,null,null,null,null,null,"MELAMINE SHELVING 3600x600x16"]
[null,null,null,null,null,null,null,null,null,null,null,null,null,null,null,null,null,null,null,null,null,null,null,null,"1200mm Finial"]
[null,null,null,null,null,null,null,null,null,null,null,null,null,null,null,null,null,null,null,null,null,null,null,null,"1500mm Finial"]
[]
[]
[null,null,null,null,null,null,null,null,null,null,null,null,null,null,null,null,null,null,null,null,null,null,null,null,null,null,null,null,null,null,null,null,null,null,null,null,null,null,null,null,null,null,null,null,null,null,null,null,{"$f":"Z27+(Z28*2)-AW62","v":3},"CAVITY SLIDING DOOR ONLY","FLUSH PANEL"]
[null,null,null,null,null,null,null,null,null,null,null,null,null,null,null,null,null,null,null,null,null,null,null,null,null,null,null,null,null,null,null,null,null,null,null,null,null,null,null,null,null,null,null,null,null,null,null,null,{"$f":"Z33","v":0},"CAVITY SLIDING DOOR ONLY","COLONIAL"]
[null,null,null,null,null,null,null,null,null,null,null,null,null,null,null,null,null,null,null,null,null,null,null,null,null,null,null,null,null,null,null,null,null,null,null,null,null,null,null,null,null,null,null,null,null,null,null,null,null,"COLONIAL DOOR ON METAL FRAME"]
[null,null,null,null,null,null,null,null,null,null,null,null,null,null,null,null,null,null,null,null,null,null,null,null,null,null,null,null,null,null,null,null,null,null,null,null,null,null,null,null,null,null,null,null,null,null,null,null,null,"GAP METAL DOOR FRAMES TO",{"$f":"IF('Main Details'!D32=\"Brick veneer\",'INT-EXT DOORS & int walls'!C34,0)","v":0}]
[null,null,null,null,null,null,null,null,null,null,null,null,null,null,null,null,null,null,null,null,null,null,null,null,null,null,null,null,null,null,null,null,null,null,null,null,null,null,null,null,null,null,null,null,null,null,null,null,null,"SKIRTINGS",{"$f":"Z20*5.4","v":0}]

{"sheet":"Lists","index":25,"n_rows":4353,"n_cols":59,"rows_kept":1125,"cut":true,"hidden":true,"merged":[],"bounds":{"rows_first":500,"rows_last":125,"rows_between":500,"halvings":2}}
[null,null,null,null,null,null,null,null,null,null,null,null,null,null,null,null,null,null,null,null,null,null,1234]
[2,3,4,5,6,7,8,9,10,11,12,13,14,15,16,17,null,null,null,1,null,1,2,null,1,2,3,null,1,2,3,4,1,2,3,4,5,1,2,3,4,5,6,null,null,null,null,1,2,3,4,5,6,7,8,9,10]
["Item Code","Description","Extra Description","Supplier's Code","Product Cat","Prod Group","Cost Centre","User Code","Sell UOM","Purch UOM","Vendor","Sort Code","Bin No","Drawing No.","Active","Supplier Part Numbers","Column2","Column3",null,null,null,null,null,null,null,null,null,null,null,null,null,null,null,null,null,null,null,null,null,null,null,null,null,null,null,null,null,"Item","Description","Extra Description","Supplier Code","Sort Code","Prod Group","Prod Cat","User Def","Cst Ctr","Purch UOM"]
["010-010-100100","SURVEYING","AS PER QUOTE",null,"CO","CO",10,"M","QT","QT",null,null,null,"SURVEYS-0001","Y",null,{"$f":"SURVEYORS[[#This Row],[Item Code]]","v":"010-010-100100"},{"$f":"CONCATENATE(SURVEYORS[[#This Row],[Description]], \" \",#REF!)","v":{"$error":"#REF!"}},null,"BRAD ROCKE"]
["010-100-100100","C1 CONTOURS VACANT (NORMAL)","<1012 M2",null,"CO","CO",10,"S","IT","IT",null,null,null,"SURVEYS-1020","Y",null,{"$f":"SURVEYORS[[#This Row],[Item Code]]","v":"010-100-100100"},{"$f":"CONCATENATE(SURVEYORS[[#This Row],[Description]], \" \",#REF!)","v":{"$error":"#REF!"}},null,"BILLY MOI",null,"CROSBY  ($26.95)",26.95,null,"Corrosion Rating","Coating","Treatment",null,null,null,null,null,null,null,null,null,null,null,null,null,null,null,null,null,null,null,null,"105-010-100100","TERMI-MESH","AS PER QUOTE","","","CO","CO","S","105","QT"]
["010-100-100200","C2 CONTOURS LARGE / PART LOT","(VACANT) > 1012 M2",null,"CO","CO",10,"S","IT","IT",null,null,null,"SURVEYS-1030","Y",null,{"$f":"SURVEYORS[[#This Row],[Item Code]]","v":"010-100-100200"},{"$f":"CONCATENATE(SURVEYORS[[#This Row],[Description]], \" \",#REF!)","v":{"$error":"#REF!"}},null,"DAN BEDFORD",null,"TILES EXPO",20,null,"R1",600,"600g/m2",null,null,"600g/m2 Tbars",null,null,null,null,null,null,null,null,null,null,null,null,null,null,null,null,null,"105-010-200100","GRANITEGUARD EXTERN. PERIMETER","AS PER QUOTE","","","CO","CO","S","105","QT","Cst Ctr","Purch UOM"]
["010-100-100300","C3 CONTOURS HOUSE EXISTING","< 1012 M2",null,"CO","CO",10,"S","IT","IT",null,null,null,"SURVEYS-1040","Y",null,{"$f":"SURVEYORS[[#This Row],[Item Code]]","v":"010-100-100300"},{"$f":"CONCATENATE(SURVEYORS[[#This Row],[Description]], \" \",#REF!)","v":{"$error":"#REF!"}},null,"COREY REYNOLDS",null,"CERAMICS INT ($44.00 ddt 30%)",30.8,null,"R2",600,"600g/m2",null,{"$f":"CONCATENATE(MID(AD7,7,10),\" - \",AE7)","v":"180x150x10 - GALVANISED 600g/m2"},"T-BAR 180x150x10mm","GALVANISED 600g/m2","185-200-100200",null,null,null,null,null,null,null,null,null,null,null,null,null,null,null,"105-020-100100","RETICULATED TERMITE TREATMENT","","","","CO","CO","M","105","LM"]
["010-100-100400","C4 CONTOURS STRATA LOT (VAC)","< 1012 M2",null,"CO","CO",10,"S","IT","IT",null,null,null,"SURVEYS-1050","Y",null,{"$f":"SURVEYORS[[#This Row],[Item Code]]","v":"010-100-100400"},{"$f":"CONCATENATE(SURVEYORS[[#This Row],[Description]], \" \",#REF!)","v":{"$error":"#REF!"}},null,null,null,"EUROPEAN CER ($44.00 ddt 30%)",{"$f":"44-(44*0.3)","v":30.8},null,"R3",600,"600g/m2",null,{"$f":"CONCATENATE(MID(AD8,7,10),\" - \",AE8)","v":"180x200x10 - GALVANISED 600g/m2"},"T-BAR 180x200x10mm","GALVANISED 600g/m2","185-200-100300",null,null,null,null,null,null,null,null,null,null,null,null,null,null,null,"105-100-100100","SLAB CURE","","","","CO","CO","S","105","NO"]
["010-100-100500","C5 CONTOURS STRATA LOT + HOUSE","< 1012 M2",null,"CO","CO",10,"S","IT","IT",null,null,null,"SURVEYS-1060","Y",null,{"$f":"SURVEYORS[[#This Row],[Item Code]]","v":"010-100-100500"},{"$f":"CONCATENATE(SURVEYORS[[#This Row],[Description]], \" \",#REF!)","v":{"$error":"#REF!"}},null,"FAISEL SALEEM",null,"TREND CER ($44.00 ddt 30%)",{"$f":"44-(44*0.3)","v":30.8},null,"R4",900,"900g/m2",null,{"$f":"CONCATENATE(MID(AD9,7,10),\" - \",AE9)","v":"180x250x10 - GALVANISED 600g/m2"},"T-BAR 180x250x10mm","GALVANISED 600g/m2","185-200-100400",null,null,null,null,null,null,null,null,null,null,null,null,null,null,null,"105-100-100200","PART A & B CHEMICAL TREATMENT","TO SECTION 8.6.2 AS 3660.1","","","CO","CO","S","105","M2"]
["010-100-100600","C6 CONTOURS DISPLAY HOME","< 1012 M2 VACANT",null,"CO","CO",10,"S","IT","IT",null,null,null,"SURVEYS-1070","Y",null,{"$f":"SURVEYORS[[#This Row],[Item Code]]","v":"010-100-100600"},{"$f":"CONCATENATE(SURVEYORS[[#This Row],[Description]], \" \",#REF!)","v":{"$error":"#REF!"}},null,"GEMMA TURNER",null,"CERAMIC DIST ($24.20)",24.2,null,null,null,null,null,"200x100x10 - GALVANISED 600g/m2","T-BAR 200x100x10mm","GALVANISED 600g/m2","185-200-100700",null,null,null,null,null,null,null,null,null,null,null,null,null,null,null,"105-100-100300","CHEMICAL TREATMENT <40m2 GRANO","AREAS CARPORTS, GARAGES, STORE","","","CO","CO","S","105","IT"]
["010-100-200100","A.H.D. WITH C1 TO C6","CONTOURS SURVEYS",null,"CO","CO",10,"M","EA","EA",null,null,null,"SURVEYS-1080","Y",null,{"$f":"SURVEYORS[[#This Row],[Item Code]]","v":"010-100-200100"},{"$f":"CONCATENATE(SURVEYORS[[#This Row],[Description]], \" \",#REF!)","v":{"$error":"#REF!"}},null,"MARK JAMES",null,"CERAMICS INT ($44.00 ddt 30%)",{"$f":"44-(44*0.3)","v":30.8},null,null,null,null,null,"200x150x10 - GALVANISED 600g/m2","T-BAR 200x150x10mm","GALVANISED 600g/m2","185-200-100800",null,null,null,null,null,null,null,null,null,null,null,null,null,null,null,"105-100-100400","EXTRA OVER FOR CHEMICAL","TREATMENT OVER 40M2 TO GRANO","","","CO","CO","M","105","M2"]
["010-100-200200","CONTOURS WITH A.H.D. VARIABLES",null,null,"CO","CO",10,"S","EA","EA",null,null,null,"SURVEYS-4030","Y",null,{"$f":"SURVEYORS[[#This Row],[Item Code]]","v":"010-100-200200"},{"$f":"CONCATENATE(SURVEYORS[[#This Row],[Description]], \" \",#REF!)","v":{"$error":"#REF!"}},null,"MADELINE MCMURTRIE",null,"MYAREE CER (Retail ddt 30%)",{"$f":"44-(44*0.3)","v":30.8},null,null,null,null,null,"200x200x10 - GALVANISED 600g/m2","T-BAR 200x200x10mm","GALVANISED 600g/m2","185-200-100900",null,null,null,null,null,null,null,null,null,null,null,null,null,null,null,"105-100-100500","PARAPET/SINGLE LEAF WALLS","TERMITE BLANKET BARRIER PER","","","CO","CO","S","105","IT"]
["010-200-100100","A21 ESTABLISH A.D.H.","A.H.D. & CERTIFICATES",null,"CO","CO",10,"S","EA","EA",null,null,null,"SURVEYS-4500","Y",null,{"$f":"SURVEYORS[[#This Row],[Item Code]]","v":"010-200-100100"},{"$f":"CONCATENATE(SURVEYORS[[#This Row],[Description]], \" \",#REF!)","v":{"$error":"#REF!"}},null,"MOSTAFA NOORI",null,null,null,null,null,null,null,null,"200x250x10 - GALVANISED 600g/m2","T-BAR 200x250x10mm","GALVANISED 600g/m2","185-200-101000",null,null,null,null,null,null,null,null,null,null,null,null,null,null,null,"105-100-100600","PARGING TO CONCRETE SLAB EDGE","PER SLAB.TERMICO RESISTA 101","","","CO","CO","S","105","JB"]
["010-300-100050","REPEG (OLD AREA VACANT LOT)","PRE DP15000,PRE D65000 <1000M2",null,"CO","CO",10,"S","IT","IT",null,null,null,"SURVEYS-1995","Y",null,{"$f":"SURVEYORS[[#This Row],[Item Code]]","v":"010-300-100050"},{"$f":"CONCATENATE(SURVEYORS[[#This Row],[Description]], \" \",#REF!)","v":{"$error":"#REF!"}},null,"PLOY NAWAN",null,null,null,null,null,null,null,null,"200x300x10 - GALVANISED 600g/m2","T-BAR 200x300x10mm","GALVANISED 600g/m2","185-200-101100",null,null,null,null,null,null,null,null,null,null,null,null,null,null,null,"105-100-100700","HOMEGUARD TMB MEMBRANE TERMITE","BARRIER >8M - SUPPLY & INSTALL","","","CO","CO","M","105","LM"]
["010-300-100100","B1  REPEG (NORMAL VACANT LOT)","BOUNDARY SURVEYS <1012 M2",null,"CO","CO",10,"S","IT","IT",null,null,null,"SURVEYS-2000","Y",null,{"$f":"SURVEYORS[[#This Row],[Item Code]]","v":"010-300-100100"},{"$f":"CONCATENATE(SURVEYORS[[#This Row],[Description]], \" \",#REF!)","v":{"$error":"#REF!"}},null,"SCOTT KENYON",null,null,null,null,null,null,null,null,"180x250x10 - HAT GALVANISED 600g/m2","T-BAR 180x250x10 + 75x10 TOP","HAT GALVANISED 600g/m2","185-200-150100",null,null,null,null,null,null,null,null,null,null,null,null,null,null,null,"105-100-100800","HOMEGUARD GT GRANULE TERMITE","BARRIER >8M - SUPPLY & INSTALL","","","CO","CO","M","105","LM"]
["010-300-100200","B1 REPEG BOUNDARY SURVEY - OLD","ESTABLISHED AREA VACANT LOT",null,"CO","CO",10,"M","IT","IT",null,null,null,"SURVEYS-2005","Y",null,{"$f":"SURVEYORS[[#This Row],[Item Code]]","v":"010-300-100200"},{"$f":"CONCATENATE(SURVEYORS[[#This Row],[Description]], \" \",#REF!)","v":{"$error":"#REF!"}},null,"SAM LEE",null,null,null,null,null,null,null,null,"200x100x10 - GALVANISING 600 G/M2 W/ EPOXY","T-BAR 200x100x10 EPOXY","GALVANISING 600 G/M2 W/ EPOXY","185-200-200700",null,null,null,null,null,null,null,null,null,null,null,null,null,null,null,"105-100-100900","HOMEGUARD GT & TMB TERMITE","BARRIER <8M MIN CALLOUT CHARGE","","","CO","CO","M","105","IT"]
["010-300-100300","B1RI REPEG REAR LOT","BOUNDARY SURVEYS",null,"CO","CO",10,"S","IT","IT",null,null,null,"SURVEYS-2010","Y",null,{"$f":"SURVEYORS[[#This Row],[Item Code]]","v":"010-300-100300"},{"$f":"CONCATENATE(SURVEYORS[[#This Row],[Description]], \" \",#REF!)","v":{"$error":"#REF!"}},null,"TARSHA HAMILTON",null,null,null,null,null,null,null,null,"180x10/300 - TOP HAT GALVANISED 600g/m2","T-BAR 180x10/300x12mm + 50x12","TOP HAT GALVANISED 600g/m2","185-200-200750",null,null,null,null,null,null,null,null,null,null,null,null,null,null,null,"105-100-101000","MIN CALL OUT PRETREAT < 56 M2","","","","CO","CO","S","105","IT"]
["010-300-100400","B2 REPEG LARGE LOT","BOUNDARY SURVEYS >1013 M2",null,"CO","CO",10,"S","IT","IT",null,null,null,"SURVEYS-2020","Y",null,{"$f":"SURVEYORS[[#This Row],[Item Code]]","v":"010-300-100400"},{"$f":"CONCATENATE(SURVEYORS[[#This Row],[Description]], \" \",#REF!)","v":{"$error":"#REF!"}},null,"VINCENT WEE",null,"R1","Moderate",null,null,null,null,null,{"$f":"CONCATENATE(MID(AD18,7,21),\" - \",AE18)","v":"DOUBLE 270x150(x2)x10 - GALVANISED 600g/m2"},"T-BAR DOUBLE 270x150(x2)x10mm","GALVANISED 600g/m2","185-200-400200",null,null,null,null,null,null,null,null,null,null,null,null,null,null,null,"105-200-100100","KORDON TERMITE BLANKET 300MM","","","","CO","CO","M","105","LM"]
["010-300-100500","B2F REPEG LARGE FIXED DISTANCE","LINE PEGS.  BOUNDARY SURVEYS",null,"CO","CO",10,"S","IT","IT",null,null,null,"SURVEYS-2030","Y",null,{"$f":"SURVEYORS[[#This Row],[Item Code]]","v":"010-300-100500"},{"$f":"CONCATENATE(SURVEYORS[[#This Row],[Description]], \" \",#REF!)","v":{"$error":"#REF!"}},null,"CHRISTOPHER MORALES",null,"R2","Moderate",null,null,null,null,null,"180x10mm - - GALVANISED 600g/m2","T-BAR 180x10mm - 250x12mm","GALVANISED 600g/m2","185-200-500050",null,null,null,null,null,null,null,null,null,null,null,null,null,null,null,"105-200-100200","KORDON TERMITE BARRIER","PENETRATION COLLARS","","","CO","CO","M","105","EA"]
["010-300-100800","B4 PART REPEG INC. 4 PEGS","BOUNDARY SURVEYS",null,"CO","CO",10,"S","IT","IT",null,null,null,"SURVEYS-2060","Y",null,{"$f":"SURVEYORS[[#This Row],[Item Code]]","v":"010-300-100800"},{"$f":"CONCATENATE(SURVEYORS[[#This Row],[Description]], \" \",#REF!)","v":{"$error":"#REF!"}},null,"ZEBER MARCO",null,"R3","Marine",null,null,null,null,null,"200x10mm - - GALVANISED 600g/m2","T-BAR 200x10mm - 200x12mm","GALVANISED 600g/m2","185-200-500100",null,null,null,null,null,null,null,null,null,null,null,null,null,null,null,"105-700-100100","GF WEED SPRAY FLOOR AREA","GLYPHOSATE UNDER STEEL FLOOR","","","CO","CO","M","105","M2"]
["010-300-100900","B5 LOCATE (HOUSE POINTS)+ PEGS","BOUNDARY SURVEYS",null,"CO","CO",10,"S","IT","IT",null,null,null,"SURVEYS-2070","Y",null,{"$f":"SURVEYORS[[#This Row],[Item Code]]","v":"010-300-100900"},{"$f":"CONCATENATE(SURVEYORS[[#This Row],[Description]], \" \",#REF!)","v":{"$error":"#REF!"}},null,"ADRIAN FUENTEBELLA",null,"R4","Severe Marine",null,null,null,null,null,"200x10mm - - GALVANISED 600g/m2","T-BAR 200x10mm - 250x12mm","GALVANISED 600g/m2","185-200-500200",null,null,null,null,null,null,null,null,null,null,null,null,null,null,null,"105-700-100200","GF WEED SPRAY MIN CALL OUT","GLYPHOSATE UNDER STEEL FLOOR","","","CO","CO","M","105","EA"]
["010-300-101000","B5R RE-PEG LOCATE (HOUSE","POINTS + PEGS)BOUNDARY SURVEYS",null,"CO","CO",10,"S","IT","IT",null,null,null,"SURVEYS-2080","Y",null,{"$f":"SURVEYORS[[#This Row],[Item Code]]","v":"010-300-101000"},{"$f":"CONCATENATE(SURVEYORS[[#This Row],[Description]], \" \",#REF!)","v":{"$error":"#REF!"}},null,"CLEMENT ABEJO",null,null,null,null,null,null,null,null,"200x10/300 - TOP HAT GALVANISED 600g/m2","T-BAR 200x10/300x12mm + 50x25","TOP HAT GALVANISED 600g/m2","185-200-500400",null,null,null,null,null,null,null,null,null,null,null,null,null,null,null,"105-800-100100","PARGING TO ADDITIONAL SLABS","PER SLAB.UNIT DEVELOPEMENTS","","","CO","CO","S","105","JB"]
["010-300-101100","B6 ENVELOPE BOUNDARY NOT","PEGGED.BOUNDARY SURVEYS",null,"CO","CO",10,"S","IT","IT",null,null,null,"SURVEYS-2090","Y",null,{"$f":"SURVEYORS[[#This Row],[Item Code]]","v":"010-300-101100"},{"$f":"CONCATENATE(SURVEYORS[[#This Row],[Description]], \" \",#REF!)","v":{"$error":"#REF!"}},null,"STEPHANIE GALLOS",null,null,null,null,null,null,null,null,"180x250x10 - HAT GALVANISED 600g/m2","T-BAR 180x250x10 + 50x10 TOP","HAT GALVANISED 600g/m2","185-200-500700",null,null,null,null,null,null,null,null,null,null,null,null,null,null,null,"105-850-100200","MYALUP            AREA LOADING","WHITEANT TREATMENT","","","CO","CO","M","105","IT"]
["010-300-101200","B7 REPLACE PEGS + # OF PEGS",null,null,"CO","CO",10,"S","IT","IT",null,null,null,"SURVEYS-2095","Y",null,{"$f":"SURVEYORS[[#This Row],[Item Code]]","v":"010-300-101200"},{"$f":"CONCATENATE(SURVEYORS[[#This Row],[Description]], \" \",#REF!)","v":{"$error":"#REF!"}},null,"ARMIELYN OFLARIA",null,null,null,null,null,null,null,null,"200x200x10 - HAT GALVANISED 600g/m2","T-BAR 200x200x10 + 50x10 TOP","HAT GALVANISED 600g/m2","185-200-900100",null,null,null,null,null,null,null,null,null,null,null,null,null,null,null,"105-980-100100","AREA LOADING AS PER QUOTE","","","","CO","CO","M","105","QT"]
["010-400-100100","S11 SET OUTS PARAPET NAILS","(PREV. RE-PEG) + NAILS / PEG",null,"CO","CO",10,"S","IT","IT",null,null,null,"SURVEYS-3010","Y",null,{"$f":"SURVEYORS[[#This Row],[Item Code]]","v":"010-400-100100"},{"$f":"CONCATENATE(SURVEYORS[[#This Row],[Description]], \" \",#REF!)","v":{"$error":"#REF!"}},null,null,null,"Main Ceiling Heights","Main Ceiling Heights",null,null,null,null,null,"200x250x10 - T-BAR GALVANISED 600g/m2","T-BAR 200x250x10 + 50x10 TOP","T-BAR GALVANISED 600g/m2","185-200-900300",null,null,null,null,null,null,null,null,null,null,null,null,null,null,null,null,"Reinforement"]
["010-400-100200","S11R SET OUTS RE-PEG NAILS",{"$f":"+ NAILS / PEG","v":{"$error":"#NAME?"}},null,"CO","CO",10,"S","IT","IT",null,null,null,"SURVEYS-3020","Y",null,{"$f":"SURVEYORS[[#This Row],[Item Code]]","v":"010-400-100200"},{"$f":"CONCATENATE(SURVEYORS[[#This Row],[Description]], \" \",#REF!)","v":{"$error":"#REF!"}},null,"COLOURBOND",null,null,null,null,null,null,null,null,"200x300x10 - HAT GALVANISED 600g/m2","T-BAR 200x300x10 + 50x10 TOP","HAT GALVANISED 600g/m2","185-200-900350",null,null,null,null,null,null,null,null,null,null,null,null,null,null,null,"110-010-100100","REINFORCING","AS PER QUOTE","","","CO","CO","M","110","QT"]
["010-400-100300","S12 SET OUTS HOUSE RE-PEGS","(PREV. RE-PEG) + NAILS / PEG",null,"CO","CO",10,"S","IT","IT",null,null,null,"SURVEYS-3030","Y",null,{"$f":"SURVEYORS[[#This Row],[Item Code]]","v":"010-400-100300"},{"$f":"CONCATENATE(SURVEYORS[[#This Row],[Description]], \" \",#REF!)","v":{"$error":"#REF!"}},null,"TILED",null,2.1429999999999998,"25c",null,null,null,null,null,"200x300x10 - HAT GALVANISED 600g/m2","T-BAR 200x300x10 + 65x10 TOP","HAT GALVANISED 600g/m2","185-200-900400",null,null,null,null,null,null,null,null,null,null,null,null,null,null,null,"110-010-200100","REINFORCING - SOUTH WEST","Item","Description","Extra Description","Supplier Code","Sort Code","Prod Group","Prod Cat","User Def"]
["010-400-100400","S12R SET OUTS RE-PEG HOUSE",{"$f":"+ PEG","v":{"$error":"#NAME?"}},null,"CO","CO",10,"S","IT","IT",null,null,null,"SURVEYS-3040","Y",null,{"$f":"SURVEYORS[[#This Row],[Item Code]]","v":"010-400-100400"},{"$f":"CONCATENATE(SURVEYORS[[#This Row],[Description]], \" \",#REF!)","v":{"$error":"#REF!"}},null,null,null,2.2290000000000001,"26c",null,null,null,null,null,"200x10/300 - TOP HAT GALVANISED 600g/m2","T-BAR 200x10/300x16 + 50x25","TOP HAT GALVANISED 600g/m2","185-200-901000",null,null,null,null,null,null,null,null,null,null,null,null,null,null,null,"110-100-100100","DELIVERY PER DROP","METRO AREA","","","CO","CO","M","110","EA"]
["010-400-100500","S13 SET OUTS HOUSE PIN","(PREV. RE-PEG) + PIN / PEG",null,"CO","CO",10,"S","IT","IT",null,null,null,"SURVEYS-3050","Y",null,{"$f":"SURVEYORS[[#This Row],[Item Code]]","v":"010-400-100500"},{"$f":"CONCATENATE(SURVEYORS[[#This Row],[Description]], \" \",#REF!)","v":{"$error":"#REF!"}},null,"STEEL TRUSS",null,2.3140000000000001,"27c",null,null,null,null,null,null,"900g/m2 Tbars",null,null,null,null,null,null,null,null,null,null,null,null,null,null,null,null,null,"110-100-100110","DELIVERY AUSTRALIND","","","","CO","CO","M","110","EA"]
["010-400-100600","S13R SET OUTS RE-PEG + PINS",null,null,"CO","CO",10,"S","IT","IT",null,null,null,"SURVEYS-3060","Y",null,{"$f":"SURVEYORS[[#This Row],[Item Code]]","v":"010-400-100600"},{"$f":"CONCATENATE(SURVEYORS[[#This Row],[Description]], \" \",#REF!)","v":{"$error":"#REF!"}},null,"TIMBER",null,2.4,"28c",null,null,null,null,null,"180x150x10 - GALVANISED 900g/m2","T-BAR 180x150x10mm","GALVANISED 900g/m2","185-210-100200",null,null,null,null,null,null,null,null,null,null,null,null,null,null,null,"110-100-100120","ESTIMATING STEEL REINFORCEMENT","","","","CO","CO","M","110","IT"]
["010-400-100700","S14 SET OUTS PARAPET PEGS","(PREV. RE-PEG) + PEGS",null,"CO","CO",10,"S","IT","IT",null,null,null,"SURVEYS-3070","Y",null,{"$f":"SURVEYORS[[#This Row],[Item Code]]","v":"010-400-100700"},{"$f":"CONCATENATE(SURVEYORS[[#This Row],[Description]], \" \",#REF!)","v":{"$error":"#REF!"}},null,null,null,2.4860000000000002,"29c",null,null,null,null,null,"180x200x10 - GALVANISED 900g/m2","T-BAR 180x200x10mm","GALVANISED 900g/m2","185-210-100300"]
["010-400-100900","S15R SET OUTS RE-PEG + POOL",{"$f":"+ PEGS","v":{"$error":"#NAME?"}},null,"CO","CO",10,"S","IT","IT",null,null,null,"SURVEYS-3090","Y",null,{"$f":"SURVEYORS[[#This Row],[Item Code]]","v":"010-400-100900"},{"$f":"CONCATENATE(SURVEYORS[[#This Row],[Description]], \" \",#REF!)","v":{"$error":"#REF!"}},null,"R1",null,2.5720000000000001,"30c",null,null,null,null,null,"180x250x10 - GALVANISED 900g/m2","T-BAR 180x250x10mm","GALVANISED 900g/m2","185-210-100400",null,null,null,null,null,null,null,null,null,null,null,null,null,null,null,"110-100-100125","RF52 MESH - 6 x 2.4m","","","","CO","CO","M","110","SH"]
["010-400-101200","S17 RETAINING PEGS","(PREV. RE-PEG) + PEGS",null,"CO","CO",10,"S","IT","IT",null,null,null,"SURVEYS-3120","Y",null,{"$f":"SURVEYORS[[#This Row],[Item Code]]","v":"010-400-101200"},{"$f":"CONCATENATE(SURVEYORS[[#This Row],[Description]], \" \",#REF!)","v":{"$error":"#REF!"}},null,"R2",null,2.657,"31c",null,null,null,null,null,"200x150x10 - GALVANISED 900g/m2","T-BAR 200x150x10mm","GALVANISED 900g/m2","185-210-100800",null,null,null,null,null,null,null,null,null,null,null,null,null,null,null,"110-100-100200","RF63 MESH - 6 x 2.4m","","","","CO","CO","M","110","SH"]
["010-400-101300","S17R RE-PEG + RETAINING + PEGS",null,null,"CO","CO",10,"S","IT","IT",null,null,null,"SURVEYS-3130","Y",null,{"$f":"SURVEYORS[[#This Row],[Item Code]]","v":"010-400-101300"},{"$f":"CONCATENATE(SURVEYORS[[#This Row],[Description]], \" \",#REF!)","v":{"$error":"#REF!"}},null,"R3",null,2.7429999999999999,"32c",null,null,null,null,null,"200x200x10 - GALVANISED 900g/m2","T-BAR 200x200x10mm","GALVANISED 900g/m2","185-210-100900",null,null,null,null,null,null,null,null,null,null,null,null,null,null,null,"110-100-100300","RF62 MESH - 6 x 2.4m","","","","CO","CO","M","110","SH"]
["010-500-100100","SURVEYS VARIABLES PEGS / NAILS","PINS / MARKS POINTS ETC. EACH",null,"CO","CO",10,"S","EA","EA",null,null,null,"SURVEYS-4000","Y",null,{"$f":"SURVEYORS[[#This Row],[Item Code]]","v":"010-500-100100"},{"$f":"CONCATENATE(SURVEYORS[[#This Row],[Description]], \" \",#REF!)","v":{"$error":"#REF!"}},null,"R4",null,2.8290000000000002,"33c",null,null,null,null,null,"200x250x10 - GALVANISED 900g/m2","T-BAR 200x250x10mm","GALVANISED 900g/m2","185-210-101000",null,null,null,null,null,null,null,null,null,null,null,null,null,null,null,"110-100-100400","RF72 MESH - 6 x 2.4m","","","","CO","CO","M","110","SH"]
["010-500-100200","SURVEYS VARIABLES   OLD AREA",null,null,"CO","CO",10,"S","EA","EA",null,null,null,"SURVEYS-4010","Y",null,{"$f":"SURVEYORS[[#This Row],[Item Code]]","v":"010-500-100200"},{"$f":"CONCATENATE(SURVEYORS[[#This Row],[Description]], \" \",#REF!)","v":{"$error":"#REF!"}},null,null,null,2.9140000000000001,"34c",null,null,null,null,null,"200x300x10 - GALVANISED 900g/m2","T-BAR 200x300x10mm","GALVANISED 900g/m2","185-210-101100",null,null,null,null,null,null,null,null,null,null,null,null,null,null,null,"110-100-100450","RM82 MESH - 6 x 2.4m","","","","CO","CO","M","110","SH"]
["010-500-100300","SURVEYS VARIABLES   LARGE LOTS","> 1012M2",null,"CO","CO",10,"S","EA","EA",null,null,null,"SURVEYS-4020","Y",null,{"$f":"SURVEYORS[[#This Row],[Item Code]]","v":"010-500-100300"},{"$f":"CONCATENATE(SURVEYORS[[#This Row],[Description]], \" \",#REF!)","v":{"$error":"#REF!"}},null,"EASYSTART",null,3,"35c",null,null,null,null,null,"180x10/300 - TOP HAT GALVANISED 900g/m2","T-BAR 180x10/300x12mm + 50x12","TOP HAT GALVANISED 900g/m2","185-210-200750",null,null,null,null,null,null,null,null,null,null,null,null,null,null,null,"110-100-100460","RM92 MESH - 6 x 2.4m","","","","CO","CO","M","110","SH"]
["010-500-100400","SURVEYS VARIABLES CALCULATIONS","BOUNDARY SURVEYS",null,"CO","CO",10,"S","EA","EA",null,null,null,"SURVEYS-4040","Y",null,{"$f":"SURVEYORS[[#This Row],[Item Code]]","v":"010-500-100400"},{"$f":"CONCATENATE(SURVEYORS[[#This Row],[Description]], \" \",#REF!)","v":{"$error":"#REF!"}},null,"NEW GENERATION",null,3.0859999999999999,"36c",null,null,null,null,null,{"$f":"CONCATENATE(MID(AD38,7,21),\" - \",AE38)","v":"DOUBLE 270x150(x2)x10 - GALVANISED 900g/m2"},"T-BAR DOUBLE 270x150(x2)x10mm","GALVANISED 900g/m2","185-210-400200",null,null,null,null,null,null,null,null,null,null,null,null,null,null,null,"110-100-100500","THREADED ROD 10mm DIA 3m LONG","GALVANISED.","","","CO","CO","M","110","LG"]
["010-500-100500","SURVEYS VARIABLES CALCULATIONS","SET OUTS",null,"CO","CO",10,"S","EA","EA",null,null,null,"SURVEYS-4050","Y",null,{"$f":"SURVEYORS[[#This Row],[Item Code]]","v":"010-500-100500"},{"$f":"CONCATENATE(SURVEYORS[[#This Row],[Description]], \" \",#REF!)","v":{"$error":"#REF!"}},null,"SUMMIT HOMES",null,3.1720000000000002,"37c",null,null,null,null,null,{"$f":"CONCATENATE(MID(AD39,7,21),\" - \",AE39)","v":"DOUBLE 300x150(x2)x10 - GALVANISED 900g/m2"},"T-BAR DOUBLE 300x150(x2)x10mm","GALVANISED 900g/m2","185-210-400250"]
["010-500-100600","SURVEYS VARIABLES","EXISTING HOUSE",null,"CO","CO",10,"M","IT","IT",null,null,null,null,"Y",null,{"$f":"SURVEYORS[[#This Row],[Item Code]]","v":"010-500-100600"},{"$f":"CONCATENATE(SURVEYORS[[#This Row],[Description]], \" \",#REF!)","v":{"$error":"#REF!"}},null,null,null,3.2570000000000001,"38c",null,null,null,null,null,{"$f":"CONCATENATE(MID(AD40,7,21),\" - \",AE40)","v":"DOUBLE 400x150(x2)x10 - GALVANISED 600g/m2"},"T-BAR DOUBLE 400x150(x2)x10mm","GALVANISED 600g/m2","185-210-400300",null,null,null,null,null,null,null,null,null,null,null,null,null,null,null,"110-100-100580","N12 Z BAR 150x260x150mm","SUITS 200mm DEEP FOOTING","","","CO","CO","M","110","EA"]
["010-980-100100","AREA LOADING","AS PER QUOTE",null,"CO","CO",10,"S","QT","QT",null,null,null,"SURVEYS-9000","Y",null,{"$f":"SURVEYORS[[#This Row],[Item Code]]","v":"010-980-100100"},{"$f":"CONCATENATE(SURVEYORS[[#This Row],[Description]], \" \",#REF!)","v":{"$error":"#REF!"}},null,null,null,3.343,"39c",null,null,null,null,null,{"$f":"CONCATENATE(MID(AD41,7,21),\" - \",AE41)","v":"DOUBLE 400x150(x2)x10 - GALVANISED 900g/m2"},"T-BAR DOUBLE 400x150(x2)x10mm","GALVANISED 900g/m2","185-210-400400",null,null,null,null,null,null,null,null,null,null,null,null,null,null,null,"110-100-100590","N12 Z BAR 150x310x150mm","SUITS 250mm DEEP FOOTING","","","CO","CO","M","110","EA"]
["010-980-100200","AREA LOADING / DAWESVILLE /","PINJARRA & STH YUNDERUP",null,"CO","CO",10,"S","IT","IT",null,null,null,"SURVEYS-9010","Y",null,{"$f":"SURVEYORS[[#This Row],[Item Code]]","v":"010-980-100200"},{"$f":"CONCATENATE(SURVEYORS[[#This Row],[Description]], \" \",#REF!)","v":{"$error":"#REF!"}},null,"Double Brick",null,3.4289999999999998,"40c",null,null,null,null,null,"180x10mm - - GALVANISED 900g/m2","T-BAR 180x10mm - 250x12mm","GALVANISED 900g/m2","185-210-500050",null,null,null,null,null,null,null,null,null,null,null,null,null,null,null,"110-100-100600","N12 STOCK Z BAR 200x340x300mm","SUITS 280mm DEEP FOOTING","ZBN12900","","CO","CO","M","110","NO"]
["010-980-100300","AREA LOADING / TWO ROCKS &","YANCHEP",null,"CO","CO",10,"S","IT","IT",null,null,null,"SURVEYS-9020","Y",null,{"$f":"SURVEYORS[[#This Row],[Item Code]]","v":"010-980-100300"},{"$f":"CONCATENATE(SURVEYORS[[#This Row],[Description]], \" \",#REF!)","v":{"$error":"#REF!"}},null,"Brick veneer",null,null,null,null,null,null,null,null,"200x10mm - - GALVANISED 900g/m2","T-BAR 200x10mm - 250x12mm","GALVANISED 900g/m2","185-210-500200"]
["010-980-100400","AREA LOADING BULLSBROOK",null,null,"CO","CO",10,"M","IT","IT",null,null,null,null,"Y",null,{"$f":"SURVEYORS[[#This Row],[Item Code]]","v":"010-980-100400"},{"$f":"CONCATENATE(SURVEYORS[[#This Row],[Description]], \" \",#REF!)","v":{"$error":"#REF!"}},null,"Fully Framed",null,"NO BAL","WEEPA 105mm STANDARD",null,null,null,null,null,"200x10/300 - TOP HAT GALVANISED 900g/m2","T-BAR 200x10/300x12mm + 50x25","TOP HAT GALVANISED 900g/m2","185-210-500400",null,null,null,null,null,null,null,null,null,null,null,null,null,null,null,"110-100-200100","TRENCH MESH 8TM - 3 BAR","8TM3 - 6.0m x 200mm","","","CO","CO","M","110","SH"]
["S-SITESUR-0055","SITE SURVEY","E/O FOR OLD AREA",null,"ES","AS",10,"Z","EA","EA",null,null,null,null,"Y",null,{"$f":"SURVEYORS[[#This Row],[Item Code]]","v":"S-SITESUR-0055"},{"$f":"CONCATENATE(SURVEYORS[[#This Row],[Description]], \" \",#REF!)","v":{"$error":"#REF!"}},null,null,null,"BAL 12.5","WEEPA HIGH PERFORMANCE BUSHFIR",null,null,null,null,null,"180x250x10 - HAT GALVANISED 900g/m2","T-BAR 180x250x10 + 50x10 TOP","HAT GALVANISED 900g/m2","185-210-500700",null,null,null,null,null,null,null,null,null,null,null,null,null,null,null,"110-100-200200","TRENCH MESH 8TM - 4 BAR","8TM4 - 6.0m x 300mm","","","CO","CO","M","110","SH"]
["S-SITESUR-0110","SITE SURVEY","E/O FOR LARGE SITE >1000M2",null,"ES","AS",10,"Z","EA","EA",null,null,null,null,"Y",null,{"$f":"SURVEYORS[[#This Row],[Item Code]]","v":"S-SITESUR-0110"},{"$f":"CONCATENATE(SURVEYORS[[#This Row],[Description]], \" \",#REF!)","v":{"$error":"#REF!"}},null,null,null,"BAL 19","WEEPA HIGH PERFORMANCE BUSHFIR",null,null,null,null,null,"180x250x10 - HAT GALVANISED 900g/m2","T-BAR 180x250x10 + 75x10 TOP","HAT GALVANISED 900g/m2","185-210-600100",null,null,null,null,null,null,null,null,null,null,null,null,null,null,null,"110-100-200300","TRENCH MESH 11TM - 3 BAR","11TM3 - 6.0m x 200mm","","","CO","CO","M","110","SH"]
["S-SITESUR-0120","SITE RE-PEG","E/O FOR LARGE SITE >1000M2",null,"ES","AS",10,"Z","EA","EA",null,null,null,null,"Y",null,{"$f":"SURVEYORS[[#This Row],[Item Code]]","v":"S-SITESUR-0120"},{"$f":"CONCATENATE(SURVEYORS[[#This Row],[Description]], \" \",#REF!)","v":{"$error":"#REF!"}},null,null,null,"BAL 29","WEEPA BUSHFIRE 70mm BAL",null,null,null,null,null,"200x200x10 - HAT GALVANISED 900g/m2","T-BAR 200x200x10 + 50x10 TOP","HAT GALVANISED 900g/m2","185-210-900100",null,null,null,null,null,null,null,null,null,null,null,null,null,null,null,"110-100-200310","TRENCH MESH 11TM - 4 BAR","11TM4 - 6.0m x 300mm","","","CO","CO","M","110","SH"]
[null,null,null,null,null,null,null,null,null,null,null,null,null,null,null,null,null,null,null,null,null,"BAL 40","WEEPA BUSHFIRE 70mm BAL",null,null,null,null,null,"200x300x10 - HAT GALVANISED 900g/m2","T-BAR 200x300x10 + 50x10 TOP","HAT GALVANISED 900g/m2","185-210-900350"]
[null,null,null,null,null,null,null,null,null,null,null,null,null,null,null,null,null,null,null,null,null,null,null,null,null,null,null,null,"200x300x10 - HAT GALVANISED 900g/m2","T-BAR 200x300x10 + 65x10 TOP","HAT GALVANISED 900g/m2","185-210-900400",null,null,null,null,null,null,null,null,null,null,null,null,null,null,null,"110-200-100100","N12 RE-ENTRY BAR 1.5m","RENTN1215","","","CO","CO","M","110","LG"]
[null,null,null,null,null,null,null,null,null,null,null,null,null,null,null,null,null,null,null,null,null,null,null,null,null,null,null,null,"200x10/300 - TOP HAT GALVANISED 900g/m2","T-BAR 200x10/300x16 + 50x25","TOP HAT GALVANISED 900g/m2","185-210-901000",null,null,null,null,null,null,null,null,null,null,null,null,null,null,null,"110-200-100200","N12 RE-ENTRY BAR 2.0m","","","","CO","CO","M","110","LG"]
[null,null,null,null,null,null,null,null,null,null,null,null,null,null,null,null,null,null,"R1",null,"155-300-100100",null,null,null,null,null,null,null,null,null,null,null,null,null,null,null,null,null,null,null,null,null,null,null,null,null,null,"110-200-100300","N16 RE-ENTRY BAR 1.5m","RENTN1615","","","CO","CO","M","110","LG"]
[null,null,null,null,null,null,null,null,null,null,null,null,null,null,null,null,null,null,"R2",null,"155-300-100100",null,null,null,null,null,null,null,null,null,null,null,null,null,null,null,null,null,null,null,null,null,null,null,null,null,null,"110-200-100400","N16 RE-ENTRY BAR 2.0m","RENTN1620","","","CO","CO","M","110","LG"]
[null,null,null,null,null,null,null,null,null,null,null,null,null,null,null,null,null,null,"R3",null,"155-300-100100",null,null,null,null,null,null,null,null,"SC COLUMN SELECT"]
[null,null,null,null,null,null,null,null,null,null,null,null,null,null,null,null,null,null,"R4","155-300-100450","155-300-100400",null,null,null,null,null,null,null,"185-050-500100","RODS HIT & MISS 6mm E/O","STRUCTRUAL COLUMN PER SIDE","",null,null,null,null,null,null,null,null,null,null,null,null,null,null,null,"110-200-100600","N12 STOCK STARTER 1000x300mm","SB1210305","","","CO","CO","M","110","LG"]
[null,null,null,null,null,null,null,null,null,null,null,null,null,null,null,null,null,null,null,"155-300-100450",null,null,null,null,null,null,null,null,null,"600g/m2 Columns",null,null,null,null,null,null,null,null,null,null,null,null,null,null,null,null,null,"110-200-100605","N12 STOCK STARTER 1500x300mm","","","","CO","CO","M","110","LG"]
[null,null,null,null,null,null,null,null,null,null,null,null,null,null,null,null,null,null,null,"155-300-100500",null,null,null,null,null,null,null,null,null,"Column to Select",null,"",null,null,null,null,null,null,null,null,null,null,null,null,null,null,null,"110-200-100620","N16 STOCK STARTER 1500x300mm","","","","CO","CO","M","110","LG"]
[null,null,null,null,null,null,null,null,null,null,null,null,null,null,null,null,null,null,null,"155-300-100550",null,null,null,null,null,null,null,null,"185-350-100330","COLUMN 65x65x4mm UP TO 3m","GALVANISED 500g/m2","",null,null,null,null,null,null,null,null,null,null,null,null,null,null,null,"110-200-100630","N16 STOCK STARTER 2000x300mm","","","","CO","CO","M","110","LG"]
[null,null,null,null,null,null,null,null,null,null,null,null,null,null,null,null,null,null,null,null,null,null,null,null,null,null,null,null,"185-350-100401","COLUMN 89x89x3.5mm UP TO 3m","GALVANISED 500g/m2","",null,null,null,null,null,null,null,null,null,null,null,null,null,null,null,"110-200-100650","ROD N20 300mm LONG","","","","CO","CO","M","110","LG"]
[null,null,null,null,null,null,null,null,null,null,null,null,null,null,null,null,null,null,null,null,null,null,null,null,null,null,null,null,"185-350-100650","COLUMN 125x75x4 - 3m TO 5m","GALVANISED 500g/m2","",null,null,null,null,null,null,null,null,null,null,null,null,null,null,null,"110-300-100100","SOG PL BAR CHAIR 25-40mm","SOG2540 - BAG LOTS 100","","","CO","CO","M","110","BG"]
[null,null,null,null,null,null,null,null,null,null,null,null,null,null,null,null,null,null,null,null,null,null,null,null,null,null,null,null,"185-450-100100","COLUMN 50x50x3mm UP TO 3m","GALVANISED 390g/m2","",null,null,null,null,null,null,null,null,null,null,null,null,null,null,null,"110-300-100200","SOG PL BAR CHAIR 50-65mm","SOG5065 - BAG LOTS 100","","","CO","CO","M","110","BG"]
[null,null,null,null,null,null,null,null,null,null,null,null,null,null,null,null,null,null,null,null,null,null,null,null,null,null,null,null,"185-450-100110","COLUMN 50x50x3mm - 3m TO 5m","GALVANISED 390g/m2","",null,null,null,null,null,null,null,null,null,null,null,null,null,null,null,"110-300-100300","PLASTIC BUILDER BLK 200UM","4m x 50m ROLL","","","CO","CO","M","110","RL"]
[null,null,null,null,null,null,null,null,null,null,null,null,null,null,null,null,null,null,null,null,null,null,null,null,null,null,null,null,"185-450-100200","COLUMN 50x50x4mm UP TO 3m","GALVANISED 500g/m2","",null,null,null,null,null,null,null,null,null,null,null,null,null,null,null,"110-300-200100","BAR GUARD REINFORCING","YELLOW SAFETY CAPS","","","CO","CO","M","110","PK"]
[null,null,null,null,null,null,null,null,null,null,null,null,null,null,null,null,null,null,null,null,null,null,null,null,null,null,null,null,"185-450-100210","COLUMN 50x50x4mm 3m TO 5m","GALVANISED 500g/m2","",null,null,null,null,null,null,null,null,null,null,null,null,null,null,null,"110-300-200105","BAR GUARD REINFORCING","40PK YELLOW SAFETY CAPS","","","CO","CO","M","110","PK"]
[null,null,null,null,null,null,null,null,null,null,null,null,null,null,null,null,null,null,null,null,null,null,null,null,null,null,null,null,"185-450-100300","COLUMN 50x50x5mm UP TO 3m","GALVANISED 500g/m2","",null,null,null,null,null,null,null,null,null,null,null,null,null,null,null,"110-300-300110","CONNELLY KEY JOINTS","KJ100 - 6.0m","","","CO","CO","M","110","LG"]
[null,null,null,null,null,null,null,null,null,null,null,null,null,null,null,null,null,null,null,null,null,null,null,null,null,null,null,null,"185-450-100310","COLUMN 50x50x5mm - 3m TO 5m","GALVANISED 500g/m2","",null,null,null,null,null,null,null,null,null,null,null,null,null,null,null,"110-777-100100","DELIVERY TO AUSTRALIND","","","","CO","CO","M","110","EA"]
[null,null,null,null,null,null,null,null,null,null,null,null,null,null,null,null,null,null,null,null,null,null,null,null,null,null,null,null,"185-450-200100","COLUMN 100x50x3mm UP TO 3m","GALVANISED 390g/m2",""]
[null,null,null,null,null,null,null,null,null,null,null,null,null,null,null,null,null,null,null,null,null,null,null,null,null,null,null,null,"185-450-200110","COLUMN 100x50x3mm 3m TO 5m","GALVANISED 390g/m2","",null,null,null,null,null,null,null,null,null,null,null,null,null,null,null,null,"Concretor"]
[null,null,null,null,null,null,null,null,null,null,null,null,null,null,null,null,null,null,null,null,null,null,null,null,null,null,null,null,"185-450-200200","COLUMN 100x50x4mm UP TO 3m","GALVANISED 500g/m2","",null,null,null,null,null,null,null,null,null,null,null,null,null,null,null,"115-010-100100","CONCRETE","AS PER QUOTE","","","CO","CO","M","115","QT"]
[null,null,null,null,null,null,null,null,null,null,null,null,null,null,null,null,null,null,null,null,null,null,null,null,null,null,null,null,"185-450-200210","COLUMN 100x50x4mm - 3m TO 5m","GALVANISED 500g/m2","",null,null,null,null,null,null,null,null,null,null,null,null,null,null,null,"115-010-100200","CONCRETE LABOUR","AS PER QUOTE","","","CO","CO","M","115","QT"]
[null,null,null,null,null,null,null,null,null,null,null,null,null,null,null,null,null,null,null,null,null,null,null,null,null,null,null,null,"185-450-200400","COLUMN 150x50x3mm UP TO 3m","GALVANISED 390g/m2","",null,null,null,null,null,null,null,null,null,null,null,null,null,null,null,"115-050-100100","GROUND FLOOR SLAB & FOOTINGS","CONCRETE INSTALLATION","","","CO","CO","M","115","M3"]
[null,null,null,null,null,null,null,null,null,null,null,null,null,null,null,null,null,null,null,null,null,null,null,null,null,null,null,null,"185-450-200450","COLUMN 150x50x3mm - 3m TO 5m","GALVANISED 390g/m2","",null,null,null,null,null,null,null,null,null,null,null,null,null,null,null,"115-050-100125","GROUND FLOOR SLAB & FOOTINGS","INSTALLATION ONLY FOR POLISHED","","","CO","CO","M","115","M3"]
[null,null,null,null,null,null,null,null,null,null,null,null,null,null,null,null,null,null,null,null,null,null,null,null,null,null,null,null,"185-450-200500","COLUMN 150x50x4mm UP TO 3m","GALVANIZED 500g/m2","",null,null,null,null,null,null,null,null,null,null,null,null,null,null,null,"115-050-100200","SUSPENDED SLAB","CONCRETE INSTALLATION","","","CO","CO","M","115","M3"]
[null,null,null,null,null,null,null,null,null,null,null,null,null,null,null,null,null,null,null,null,null,null,null,null,null,null,null,null,"185-450-200520","COLUMN 150x50x4mm - 3m TO 5m","GALVANISED 500g/m2","",null,null,null,null,null,null,null,null,null,null,null,null,null,null,null,"115-050-500100","STARTER BAR INSTALLATION","","","","CO","CO","M","115","EA"]
[null,null,null,null,null,null,null,null,null,null,null,null,null,null,null,null,null,null,null,null,null,null,null,null,null,null,null,null,"185-450-200550","COLUMN 150x50x5mm UP TO 3m","GALVANISED 500g/m2","",null,null,null,null,null,null,null,null,null,null,null,null,null,null,null,"115-050-500200","Z BAR INSTALLATION","","","","CO","CO","M","115","EA"]
[null,null,null,null,null,null,null,null,null,null,null,null,null,null,null,null,null,null,null,null,null,null,null,null,null,null,null,null,"185-450-200570","COLUMN 150x50x5mm - 3m TO 5m","GALVANISED 500g/m2","",null,null,null,null,null,null,null,null,null,null,null,null,null,null,null,"115-050-500300","KEYED JOINT INSTALLATION","","","","CO","CO","M","115","EA"]
[null,null,null,null,null,null,null,null,null,null,null,null,null,null,null,null,null,null,null,null,null,null,null,null,null,null,null,null,"185-460-300100","PWC 100x50x3 - 1.5m","GALVANISED 390g/m2","",null,null,null,null,null,null,null,null,null,null,null,null,null,null,null,"115-050-900000","CONCRETE PILES UP TO 2.4m DEEP","HAND DUG","","","CO","CO","M","115","EA"]
[null,null,null,null,null,null,null,null,null,null,null,null,null,null,null,null,null,null,null,null,null,null,null,null,null,null,null,null,null,"900g/m2 Columns",null,"",null,null,null,null,null,null,null,null,null,null,null,null,null,null,null,"115-050-900100","MACHINE ALLOWANCE","HARD DIGGING","","","CO","CO","M","115","AL"]
[null,null,null,null,null,null,null,null,null,null,null,null,null,null,null,null,null,null,null,null,null,null,null,null,null,null,null,null,"185-360-100330","COLUMN 65x65x4mm UP TO 3m","GALVANISED 900g/m2","",null,null,null,null,null,null,null,null,null,null,null,null,null,null,null,"115-100-099950","1course DROPPED FOOTING","FOOTING AT -3course","","","CO","CO","M","115","LM"]
[null,null,null,null,null,null,null,null,null,null,null,null,null,null,null,null,null,null,null,null,null,null,null,null,null,null,null,null,"185-360-100401","COLUMN 89x89x3.5mm UP TO 3m","GALVANISED 900g/m2","",null,null,null,null,null,null,null,null,null,null,null,null,null,null,null,"115-100-100000","2course DROPPED FOOTING","FOOTING AT -4course","","","CO","CO","M","115","LM"]
[null,null,null,null,null,null,null,null,null,null,null,null,null,null,null,null,null,null,null,null,null,null,null,null,null,null,null,null,"185-460-100100","COLUMN 50x50x3mm UP TO 3m","GALVANISED 900g/m2","",null,null,null,null,null,null,null,null,null,null,null,null,null,null,null,"115-100-100050","3course DROPPED FOOTING","FOOTING AT -5course","","","CO","CO","M","115","LM"]
[null,null,null,null,null,null,null,null,null,null,null,null,null,null,null,null,null,null,null,null,null,null,null,null,null,null,null,null,"185-460-100110","COLUMN 50x50x3mm - 3m TO 5m","GALVANISED 900g/m2","",null,null,null,null,null,null,null,null,null,null,null,null,null,null,null,"115-100-100100","4course DROPPED FOOTING","FOOTING AT -6course","","","CO","CO","M","115","LM"]
[null,null,null,null,null,null,null,null,null,null,null,null,null,null,null,null,null,null,null,null,null,null,null,null,null,null,null,null,"185-460-100200","COLUMN 50x50x4mm UP TO 3m","GALVANISED 900g/m2","",null,null,null,null,null,null,null,null,null,null,null,null,null,null,null,"115-100-100200","5course DROPPED FOOTING","FOOTING AT -7course","","","CO","CO","M","115","LM"]
[null,null,null,null,null,null,null,null,null,null,null,null,null,null,null,null,null,null,null,null,null,null,null,null,null,null,null,null,"185-460-100210","COLUMN 50x50x4mm 3m TO 5m","GALVANISED 900g/m2","",null,null,null,null,null,null,null,null,null,null,null,null,null,null,null,"115-100-100300","6course DROPPED FOOTING","FOOTING AT -8course","","","CO","CO","M","115","LM"]
[null,null,null,null,null,null,null,null,null,null,null,null,null,null,null,null,null,null,null,null,null,null,null,null,null,null,null,null,"185-460-100300","COLUMN 50x50x5mm UP TO 3m","GALVANISED 900g/m2","",null,null,null,null,null,null,null,null,null,null,null,null,null,null,null,"115-100-100400","7course DROPPED FOOTING","FOOTING AT -9course","","","CO","CO","M","115","LM"]
[null,null,null,null,null,null,null,null,null,null,null,null,null,null,null,null,null,null,null,null,null,null,null,null,null,null,null,null,"185-460-200100","COLUMN 100x50x3mm UP TO 3m","GALVANISED 900g/m2","",null,null,null,null,null,null,null,null,null,null,null,null,null,null,null,"115-100-100500","8course DROPPED FOOTING","FOOTING AT -10course","","","CO","CO","M","115","LM"]
[null,null,null,null,null,null,null,null,null,null,null,null,null,null,null,null,null,null,null,null,null,null,null,null,null,null,null,null,"185-460-200110","COLUMN 100x50x3mm - 3m TO 5m","GALVANISED 900g/m2","",null,null,null,null,null,null,null,null,null,null,null,null,null,null,null,"115-150-100100","CONCRETE CAVITY FILL","SUPPLY & INSTALL.","","","CO","CO","M","115","M3"]
[null,null,null,null,null,null,null,null,null,null,null,null,null,null,null,null,null,null,null,null,null,null,null,null,null,null,null,null,"185-460-200200","COLUMN 100x50x4mm UP TO 3m","GALVANISED 900g/m2","",null,null,null,null,null,null,null,null,null,null,null,null,null,null,null,"115-150-200100","FINISH TO STEPS - PER SET","UP TO 3 STEPS HIGHx1200mm WIDE","","","CO","CO","M","115","ST"]
[null,null,null,null,null,null,null,null,null,null,null,null,null,null,null,null,null,null,null,null,null,null,null,null,null,null,null,null,"185-460-200400","COLUMN 150x50x3mm UP TO 3m","GALVANISED 900g/m2","",null,null,null,null,null,null,null,null,null,null,null,null,null,null,null,"115-150-300100","CONNELLY KEY JOINT","","","","CO","CO","M","115","LM"]
[null,null,null,null,null,null,null,null,null,null,null,null,null,null,null,null,null,null,null,null,null,null,null,null,null,null,null,null,"185-460-200450","COLUMN 150x50x3mm - 3m TO 5m","GALVANISED 900g/m2","",null,null,null,null,null,null,null,null,null,null,null,null,null,null,null,"115-150-350100","RECESSED SILL IN SLAB EDGE","PER SILL","","","CO","CO","S","115","EA"]
[null,null,null,null,null,null,null,null,null,null,null,null,null,null,null,null,null,null,null,null,null,null,null,null,null,null,null,null,"185-460-200500","COLUMN 150x50x4mm UP TO 3m","GALVANISED 900g/m2","",null,null,null,null,null,null,null,null,null,null,null,null,null,null,null,"115-200-200100","CONCRETE FOOTING ONLY","SUPPLY & INSTALL","","","CO","CO","M","115","M3"]
[null,null,null,null,null,null,null,null,null,null,null,null,null,null,null,null,null,null,null,null,null,null,null,null,null,null,null,null,"185-460-200520","COLUMN 150x50x4mm - 3m TO 5m","GALVANISED 900g/m2",null,null,null,null,null,null,null,null,null,null,null,null,null,null,null,null,"115-200-200200","CONCRETE 85mm SLAB","WITH SL53 FABRIC MESH","","","CO","CO","M","115","M3"]
[null,null,null,null,null,null,null,null,null,null,null,null,null,null,null,null,null,null,null,null,null,null,null,null,null,null,null,null,"185-460-300200","PWC 100x50x3 - 1.5m","GALVANISED 900g/m2",null,null,null,null,null,null,null,null,null,null,null,null,null,null,null,null,"115-200-200220","CONCRETE 85mm SLAB","WITH SL52 FABRIC MESH","","","CO","CO","M","115","M3"]
[null,null,null,null,null,null,null,null,null,null,null,null,null,null,null,null,null,null,null,null,null,null,null,null,null,null,null,null,null,null,null,null,null,null,null,null,null,null,null,null,null,null,null,null,null,null,null,"115-200-200230","CONCRETE 85mm SLAB","WITH SL63 FABRIC MESH","","","CO","CO","M","115","M3"]
[null,null,null,null,null,null,null,null,null,null,null,null,null,null,null,null,null,null,null,null,null,null,null,null,null,null,null,null,null,null,null,null,null,null,null,null,null,null,null,null,null,null,null,null,null,null,null,"115-200-200240","CONCRETE 85mm SLAB","WITH SL62 FABRIC MESH","","","CO","CO","M","115","M3"]
[null,null,null,null,null,null,null,null,null,null,null,null,null,null,null,null,null,null,null,null,null,null,null,null,null,null,null,null,null,null,null,null,null,null,null,null,null,null,null,null,null,null,null,null,null,null,null,"115-200-200285","CONCRETE 100mm SLAB","WITH SL53 FABRIC MESH","","","CO","CO","M","115","M3"]
[null,null,null,null,null,null,null,null,null,null,null,null,null,null,null,null,null,null,null,null,null,null,null,null,null,null,null,null,null,null,null,null,null,null,null,null,null,null,null,null,null,null,null,null,null,null,null,"115-200-200290","CONCRETE 100mm SLAB","WITH SL52 FABRIC MESH","","","CO","CO","M","115","M3"]
[null,null,null,null,null,null,null,null,null,null,null,null,null,null,null,null,null,null,null,null,null,null,null,null,null,null,null,null,null,null,null,null,null,null,null,null,null,null,null,null,null,null,null,null,null,null,null,"115-200-200300","CONCRETE 100mm SLAB","WITH SL63 FABRIC MESH","","","CO","CO","M","115","M3"]
[null,null,null,null,null,null,null,null,null,null,null,null,null,null,null,null,null,null,null,null,null,null,null,null,null,null,null,null,null,null,null,null,null,null,null,null,null,null,null,null,null,null,null,null,null,null,null,"115-200-200400","CONCRETE 100mm SLAB","WITH SL62 FABRIC MESH","","","CO","CO","M","115","M3"]
[null,null,null,null,null,null,null,null,null,null,null,null,null,null,null,null,null,null,null,null,null,null,null,null,null,null,null,null,null,null,null,null,null,null,null,null,null,null,null,null,null,null,null,null,null,null,null,"115-200-200425","CONCRETE 100mm SLAB","WITH SL72 FABRIC MESH","","","CO","CO","M","115","M3"]
[null,null,null,null,null,null,null,null,null,null,null,null,null,null,null,null,null,null,null,null,null,null,null,null,null,null,null,null,null,null,null,null,null,null,null,null,null,null,null,null,null,null,null,null,null,null,null,"115-200-200450","CONCRETE 100mm SLAB","WITH SL82 FABRIC MESH","","","CO","CO","M","115","M3"]
[null,null,null,null,null,null,null,null,null,null,null,null,null,null,null,null,null,null,null,null,null,null,null,null,null,null,null,null,null,null,null,null,null,null,null,null,null,null,null,null,null,null,null,null,null,null,null,"115-200-200475","CONCRETE 100mm SLAB","WITH SL92 FABRIC MESH","","","CO","CO","M","115","M3"]
[null,null,null,null,null,null,null,null,null,null,null,null,null,null,null,null,null,null,null,null,null,null,null,null,null,null,null,null,null,null,null,null,null,null,null,null,null,null,null,null,null,null,null,null,null,null,null,"115-300-100100","2course SUNKEN AREA - PER ROOM","FORMWORK & LABOUR ONLY.","","","CO","CO","M","115","NO"]
[null,null,null,null,null,null,null,null,null,null,null,null,null,null,null,null,null,null,null,null,null,null,null,null,null,null,null,null,null,null,null,null,null,null,null,null,null,null,null,null,null,null,null,null,null,null,null,"115-300-100200","4course SUNKEN AREA - PER ROOM","FORMWORK & LABOUR ONLY.","","","CO","CO","M","115","NO"]
[null,null,null,null,null,null,null,null,null,null,null,null,null,null,null,null,null,null,null,null,null,null,null,null,null,null,null,null,null,null,null,null,null,null,null,null,null,null,null,null,null,null,null,null,null,null,null,"115-300-100300","6course SUNKEN AREA - PER ROOM","FORMWORK & LABOUR ONLY.","","","CO","CO","M","115","NO"]
[null,null,null,null,null,null,null,null,null,null,null,null,null,null,null,null,null,null,null,null,null,null,null,null,null,null,null,null,null,null,null,null,null,null,null,null,null,null,null,null,null,null,null,null,null,null,null,"115-350-100100","CONCRETE PILE UP TO 1.0m","INCLUDING:","","","CO","CO","M","115","NO"]
[null,null,null,null,null,null,null,null,null,null,null,null,null,null,null,null,null,null,null,null,null,null,null,null,null,null,null,null,null,null,null,null,null,null,null,null,null,null,null,null,null,null,null,null,null,null,null,"115-350-100200","CONCRETE PILE 1.0m TO 1.5m","INCLUDING:","","","CO","CO","M","115","NO"]
[null,null,null,null,null,null,null,null,null,null,null,null,null,null,null,null,null,null,null,null,null,null,null,null,null,null,null,null,null,null,null,null,null,null,null,null,null,null,null,null,null,null,null,null,null,null,null,"115-350-100300","CONCRETE PILE 1.5m TO 2.0m","INCLUDING:","","","CO","CO","M","115","NO"]
[null,null,null,null,null,null,null,null,null,null,null,null,null,null,null,null,null,null,null,null,null,null,null,null,null,null,null,null,null,null,null,null,null,null,null,null,null,null,null,null,null,null,null,null,null,null,null,"115-350-100400","CONCRETE PILE 2.0m TO 2.5m","INCLUDING:","","","CO","CO","M","115","NO"]
[null,null,null,null,null,null,null,null,null,null,null,null,null,null,null,null,null,null,null,null,null,null,null,null,null,null,null,null,null,null,null,null,null,null,null,null,null,null,null,null,null,null,null,null,null,null,null,"115-350-100500","CONCRETE PILE 2.5m TO 3.0m","INCLUDING:","","","CO","CO","M","115","NO"]
[null,null,null,null,null,null,null,null,null,null,null,null,null,null,null,null,null,null,null,null,null,null,null,null,null,null,null,null,null,null,null,null,null,null,null,null,null,null,null,null,null,null,null,null,null,null,null,"115-400-100100","FABRIC MESH SL52 E/O CONCRETE","INCLUDING:","","","CO","CO","M","115","M2"]
[null,null,null,null,null,null,null,null,null,null,null,null,null,null,null,null,null,null,null,null,null,null,null,null,null,null,null,null,null,null,null,null,null,null,null,null,null,null,null,null,null,null,null,null,null,null,null,"115-400-100200","FABRIC MESH SL63 E/O CONCRETE","INCLUDING:","","","CO","CO","M","115","M2"]
[null,null,null,null,null,null,null,null,null,null,null,null,null,null,null,null,null,null,null,null,null,null,null,null,null,null,null,null,null,null,null,null,null,null,null,null,null,null,null,null,null,null,null,null,null,null,null,"115-400-200100","FABRIC MESH SL53 E/O CONCRETE","INCLUDING:","","","CO","CO","M","115","M2"]
[null,null,null,null,null,null,null,null,null,null,null,null,null,null,null,null,null,null,null,null,null,null,null,null,null,null,null,null,null,null,null,null,null,null,null,null,null,null,null,null,null,null,null,null,null,null,null,"115-400-200200","FABRIC MESH SL62 E/O CONCRETE","INCLUDING:","","","CO","CO","M","115","M2"]
[null,null,null,null,null,null,null,null,null,null,null,null,null,null,null,null,null,null,null,null,null,null,null,null,null,null,null,null,null,null,null,null,null,null,null,null,null,null,null,null,null,null,null,null,null,null,null,"115-400-200350","FABRIC MESH SL72 E/O CONCRETE","INCLUDING:","","","CO","CO","M","115","M2"]
[null,null,null,null,null,null,null,null,null,null,null,null,null,null,null,null,null,null,null,null,null,null,null,null,null,null,null,null,null,null,null,null,null,null,null,null,null,null,null,null,null,null,null,null,null,null,null,"115-400-200400","FABRIC MESH SL82 E/O CONCRETE","INCLUDING:","","","CO","CO","M","115","M2"]
[null,null,null,null,null,null,null,null,null,null,null,null,null,null,null,null,null,null,null,null,null,null,null,null,null,null,null,null,null,null,null,null,null,null,null,null,null,null,null,null,null,null,null,null,null,null,null,"115-400-200500","FABRIC MESH SL92 E/O CONCRETE","INCLUDING:","","","CO","CO","M","115","M2"]
[null,null,null,null,null,null,null,null,null,null,null,null,null,null,null,null,null,null,null,null,null,null,null,null,null,null,null,null,null,null,null,null,null,null,null,null,null,null,null,null,null,null,null,null,null,null,null,"115-450-100100","TRENCH MESH L8TM200","200mm WIDE","","","CO","CO","M","115","LM"]
[null,null,null,null,null,null,null,null,null,null,null,null,null,null,null,null,null,null,null,null,null,null,null,null,null,null,null,null,null,null,null,null,null,null,null,null,null,null,null,null,null,null,null,null,null,null,null,"115-450-100200","TRENCH MESH L8TM300","300mm WIDE","","","CO","CO","M","115","LM"]
[null,null,null,null,null,null,null,null,null,null,null,null,null,null,null,null,null,null,null,null,null,null,null,null,null,null,null,null,null,null,null,null,null,null,null,null,null,null,null,null,null,null,null,null,null,null,null,"115-450-100300","TRENCH MESH L11TM200","200mm WIDE","","","CO","CO","M","115","LM"]
[null,null,null,null,null,null,null,null,null,null,null,null,null,null,null,null,null,null,null,null,null,null,null,null,null,null,null,null,null,null,null,null,null,null,null,null,null,null,null,null,null,null,null,null,null,null,null,"115-500-100100","ROD N12 1500mm LONG","RE-ENTRANT BAR","","","CO","CO","M","115","NO"]
[null,null,null,null,null,null,null,null,null,null,null,null,null,null,null,null,null,null,null,null,null,null,null,null,null,null,null,null,null,null,null,null,null,null,null,null,null,null,null,null,null,null,null,null,null,null,null,"115-500-100300","ROD N16 2000mm LONG","RE-ENTRANT BAR","","","CO","CO","M","115","NO"]
[null,null,null,null,null,null,null,null,null,null,null,null,null,null,null,null,null,null,null,null,null,null,null,null,null,null,null,null,null,null,null,null,null,null,null,null,null,null,null,null,null,null,null,null,null,null,null,"115-500-200100","ROD N12 1000mm LONG","WITH A 300mm LONG COG","","","CO","CO","M","115","NO"]
[null,null,null,null,null,null,null,null,null,null,null,null,null,null,null,null,null,null,null,null,null,null,null,null,null,null,null,null,null,null,null,null,null,null,null,null,null,null,null,null,null,null,null,null,null,null,null,"115-500-200200","ROD N12 1500mm LONG","WITH A 300mm LONG COG","","","CO","CO","M","115","NO"]
[null,null,null,null,null,null,null,null,null,null,null,null,null,null,null,null,null,null,null,null,null,null,null,null,null,null,null,null,null,null,null,null,null,null,null,null,null,null,null,null,null,null,null,null,null,null,null,"115-500-200300","ROD N16 1500mm LONG","WITH A 300mm LONG COG","","","CO","CO","M","115","NO"]
[null,null,null,null,null,null,null,null,null,null,null,null,null,null,null,null,null,null,null,null,null,null,null,null,null,null,null,null,null,null,null,null,null,null,null,null,null,null,null,null,null,null,null,null,null,null,null,"115-500-200500","ROD N16 2000mm LONG","WITH A 300mm LONG COG","","","CO","CO","M","115","NO"]
[null,null,null,null,null,null,null,null,null,null,null,null,null,null,null,null,null,null,null,null,null,null,null,null,null,null,null,null,null,null,null,null,null,null,null,null,null,null,null,null,null,null,null,null,null,null,null,"115-500-200800","ROD N20 300mm LONG","","","","CO","CO","M","115","EA"]
[null,null,null,null,null,null,null,null,null,null,null,null,null,null,null,null,null,null,null,null,null,null,null,null,null,null,null,null,null,null,null,null,null,null,null,null,null,null,null,null,null,null,null,null,null,null,null,"115-500-300100","Z BAR N12","INCLUDING","","","CO","CO","M","115","NO"]
[null,null,null,null,null,null,null,null,null,null,null,null,null,null,null,null,null,null,null,null,null,null,null,null,null,null,null,null,null,null,null,null,null,null,null,null,null,null,null,null,null,null,null,null,null,null,null,"115-520-200100","ROD R10 THREADED","GALVANISED","","","CO","CO","M","115","NO"]
[null,null,null,null,null,null,null,null,null,null,null,null,null,null,null,null,null,null,null,null,null,null,null,null,null,null,null,null,null,null,null,null,null,null,null,null,null,null,null,null,null,null,null,null,null,null,null,"115-520-200200","ROD R10 UNTHREADED","GALVANISED","","","CO","CO","M","115","NO"]
[null,null,null,null,null,null,null,null,null,null,null,null,null,null,null,null,null,null,null,null,null,null,null,null,null,null,null,null,null,null,null,null,null,null,null,null,null,null,null,null,null,null,null,null,null,null,null,"115-550-200100","32mpa CONCRETE SUSPENDED SLAB","SUPPLY & INSTALL","","","CO","CO","M","115","M3"]
[null,null,null,null,null,null,null,null,null,null,null,null,null,null,null,null,null,null,null,null,null,null,null,null,null,null,null,null,null,null,null,null,null,null,null,null,null,null,null,null,null,null,null,null,null,null,null,"115-550-200200","40mpa CONCRETE SUSPENDED SLAB","SUPPLY & INSTALL","","","CO","CO","M","115","M3"]
[null,null,null,null,null,null,null,null,null,null,null,null,null,null,null,null,null,null,null,null,null,null,null,null,null,null,null,null,null,null,null,null,null,null,null,null,null,null,null,null,null,null,null,null,null,null,null,"115-550-200300","25mpa CONCRETE SUSPENDED SLAB","SUPPLY & INSTALL","","","CO","CO","M","115","M3"]
[null,null,null,null,null,null,null,null,null,null,null,null,null,null,null,null,null,null,null,null,null,null,null,null,null,null,null,null,null,null,null,null,null,null,null,null,null,null,null,null,null,null,null,null,null,null,null,"115-650-100100","BIFENTHRIN WHITE ANT TREATMENT","BEING USED","","","CO","CO","M","115","NT"]
[null,null,null,null,null,null,null,null,null,null,null,null,null,null,null,null,null,null,null,null,null,null,null,null,null,null,null,null,null,null,null,null,null,null,null,null,null,null,null,null,null,null,null,null,null,null,null,"115-700-100200","HI CONCRETE LABOUR PER DAY","5m3 PER DAY","","","CO","CO","M","115","IT"]
[null,null,null,null,null,null,null,null,null,null,null,null,null,null,null,null,null,null,null,null,null,null,null,null,null,null,null,null,null,null,null,null,null,null,null,null,null,null,null,null,null,null,null,null,null,null,null,"115-700-100300","HI CONCRETE LABOUR CAVITY FILL","PER HALF DAY","","","CO","CO","M","115","IT"]
[null,null,null,null,null,null,null,null,null,null,null,null,null,null,null,null,null,null,null,null,null,null,null,null,null,null,null,null,null,null,null,null,null,null,null,null,null,null,null,null,null,null,null,null,null,null,null,"115-700-200500","HI CONCRETE SUPPLY ONLY","PER m3","","","CO","CO","M","115","M3"]
[null,null,null,null,null,null,null,null,null,null,null,null,null,null,null,null,null,null,null,null,null,null,null,null,null,null,null,null,null,null,null,null,null,null,null,null,null,null,null,null,null,null,null,null,null,null,null,"115-700-300100","HI CONCRETE SLAB MESH","STANDARD MESH PER M2","","","CO","CO","M","115","M2"]
[null,null,null,null,null,null,null,null,null,null,null,null,null,null,null,null,null,null,null,null,null,null,null,null,null,null,null,null,null,null,null,null,null,null,null,null,null,null,null,null,null,null,null,null,null,null,null,"115-700-300200","HI CONCRETE SLAB MESH","SUPPLY AND INSTALL PER SHEET","","","CO","CO","M","115","SH"]
[null,null,null,null,null,null,null,null,null,null,null,null,null,null,null,null,null,null,null,null,null,null,null,null,null,null,null,null,null,null,null,null,null,null,null,null,null,null,null,null,null,null,null,null,null,null,null,"115-700-400100","HI TRENCH MESH L8TM","FOOTING MESH SHEET","","","CO","CO","M","115","SH"]
[null,null,null,null,null,null,null,null,null,null,null,null,null,null,null,null,null,null,null,null,null,null,null,null,null,null,null,null,null,null,null,null,null,null,null,null,null,null,null,null,null,null,null,null,null,null,null,"115-700-500100","HI CONC WATERPROOF MEMBRANE","MEMBRANE 0.2 PLY PER M2","","","CO","LB","S","115","M2"]
[null,null,null,null,null,null,null,null,null,null,null,null,null,null,null,null,null,null,null,null,null,null,null,null,null,null,null,null,null,null,null,null,null,null,null,null,null,null,null,null,null,null,null,null,null,null,null,"115-700-500300","HI CONCRETE RENOVATE FLOOR","MINIMUM ALLOWANCE PER ROOM","","","CO","CO","M","115","EA"]
[null,null,null,null,null,null,null,null,null,null,null,null,null,null,null,null,null,null,null,null,null,null,null,null,null,null,null,null,null,null,null,null,null,null,null,null,null,null,null,null,null,null,null,null,null,null,null,"115-700-600100","HI CONCRETOR MINIMUM CHARGE","MINIMUM CHARGE PER JOB","","","CO","CO","S","115","IT"]
[null,null,null,null,null,null,null,null,null,null,null,null,null,null,null,null,null,null,null,null,null,null,null,null,null,null,null,null,null,null,null,null,null,null,null,null,null,null,null,null,null,null,null,null,null,null,null,"115-700-600200","HI CONCRETE BLACK PLASTIC","MEMBRANE 0.2 PLY PER ROLL","","","CO","CO","M","115","IT"]
[null,null,null,null,null,null,null,null,null,null,null,null,null,null,null,null,null,null,null,null,null,null,null,null,null,null,null,null,null,null,null,null,null,null,null,null,null,null,null,null,null,null,null,null,null,null,null,"115-700-600300","HI CONCRETE MESH DELIVERY","DELIVERY PER JOB","","","CO","CO","M","115","IT"]
[null,null,null,null,null,null,null,null,null,null,null,null,null,null,null,null,null,null,null,null,null,null,null,null,null,null,null,null,null,null,null,null,null,null,null,null,null,null,null,null,null,null,null,null,null,null,null,"115-700-700100","HI STARTER BARS IN SLAB","SUPPLY AND INSTALL PER BAR","","","CO","CO","M","115","EA"]
[null,null,null,null,null,null,null,null,null,null,null,null,null,null,null,null,null,null,null,null,null,null,null,null,null,null,null,null,null,null,null,null,null,null,null,null,null,null,null,null,null,null,null,null,null,null,null,"115-850-100600","COLLIE - AREA LOADING","EXTRA OVER PER m3","","","CO","CO","M","115","M3"]
[null,null,null,null,null,null,null,null,null,null,null,null,null,null,null,null,null,null,null,null,null,null,null,null,null,null,null,null,null,null,null,null,null,null,null,null,null,null,null,null,null,null,null,null,null,null,null,"115-980-100100","CARTAGE AREA LOADING","MANDURAH","","","CO","CO","M","115","M3"]
[null,null,null,null,null,null,null,null,null,null,null,null,null,null,null,null,null,null,null,null,null,null,null,null,null,null,null,null,null,null,null,null,null,null,null,null,null,null,null,null,null,null,null,null,null,null,null,"115-980-100200","CARTAGE AREA LOADING","YANCHEP / TWO ROCKS","","","CO","CO","M","115","M3"]
[null,null,null,null,null,null,null,null,null,null,null,null,null,null,null,null,null,null,null,null,null,null,null,null,null,null,null,null,null,null,null,null,null,null,null,null,null,null,null,null,null,null,null,null,null,null,null,"115-980-100300","CARTAGE AREA LOADING TWO ROCKS","ITEM APPLIES TO NEWLAND","","","CO","CO","M","115","M3"]
[null,null,null,null,null,null,null,null,null,null,null,null,null,null,null,null,null,null,null,null,null,null,null,null,null,null,null,null,null,null,null,null,null,null,null,null,null,null,null,null,null,null,null,null,null,null,null,"115-999-100100","CONCRETOR NOTES","","","","CO","CO","M","115","NT"]
[null,null,null,null,null,null,null,null,null,null,null,null,null,null,null,null,null,null,null,null,null,null,null,null,null,null,null,null,null,null,null,null,null,null,null,null,null,null,null,null,null,null,null,null,null,null,null,"116-850-400100","CONCRETOR LABOUR ONLY","(SOUTHWEST)","","","CO","CO","S","115","M3"]
[null,null,null,null,null,null,null,null,null,null,null,null,null,null,null,null,null,null,null,null,null,null,null,null,null,null,null,null,null,null,null,null,null,null,null,null,null,null,null,null,null,null,null,null,null,null,null,"116-850-400200","CONCRETOR LABOUR ONLY E/O","BRIDGETOWN/NANNUP/MANJIMUP","","","CO","CO","S","115","M3"]
[null,null,null,null,null,null,null,null,null,null,null,null,null,null,null,null,null,null,null,null,null,null,null,null,null,null,null,null,null,null,null,null,null,null,null,null,null,null,null,null,null,null,null,null,null,null,null,"116-850-400300","CONCRETOR INSTALL STARTER /","THREADED BARS/RE-ENTRANT BARS","","","CO","CO","S","115","EA"]
[null,null,null,null,null,null,null,null,null,null,null,null,null,null,null,null,null,null,null,null,null,null,null,null,null,null,null,null,null,null,null,null,null,null,null,null,null,null,null,null,null,null,null,null,null,null,null,"116-850-400400","CONCRETOR INSTALL Z BARS","(SOUTHWEST)","","","CO","CO","S","115","EA"]
[]
[null,null,null,null,null,null,null,null,null,null,null,null,null,null,null,null,null,null,null,null,null,null,null,null,null,null,null,null,null,null,null,null,null,null,null,null,null,null,null,null,null,null,null,null,null,null,null,null,"Concrete Supply"]
[null,null,null,null,null,null,null,null,null,null,null,null,null,null,null,null,null,null,null,null,null,null,null,null,null,null,null,null,null,null,null,null,null,null,null,null,null,null,null,null,null,null,null,null,null,null,null,"116-010-100100","CONCRETE AS PER QUOTE","","","","CO","CO","M","116","QT"]
[null,null,null,null,null,null,null,null,null,null,null,null,null,null,null,null,null,null,null,null,null,null,null,null,null,null,null,null,null,null,null,null,null,null,null,null,null,null,null,null,null,null,null,null,null,null,null,"116-100-100150","20/20/80 CONCRETE SUPPLY ","CAVITY FILL (20mpa)","","","CO","CO","M","116","M3"]
[null,null,null,null,null,null,null,null,null,null,null,null,null,null,null,null,null,null,null,null,null,null,null,null,null,null,null,null,null,null,null,null,null,null,null,null,null,null,null,null,null,null,null,null,null,null,null,"116-200-100150","20/20/80 CONCRETE SUPPLY ONLY","FOOTINGS & GROUND SLAB (20mpa)","","","CO","CO","M","116","M3"]
[null,null,null,null,null,null,null,null,null,null,null,null,null,null,null,null,null,null,null,null,null,null,null,null,null,null,null,null,null,null,null,null,null,null,null,null,null,null,null,null,null,null,null,null,null,null,null,"116-200-100160","25/20/80 CONCRETE SUPPLY ONLY","FOOTINGS & GROUND SLAB (25mpa)","","","CO","CO","M","116","M3"]
[null,null,null,null,null,null,null,null,null,null,null,null,null,null,null,null,null,null,null,null,null,null,null,null,null,null,null,null,null,null,null,null,null,null,null,null,null,null,null,null,null,null,null,null,null,null,null,"116-200-200150","20/20/100 CONCRETE SUPPLY ONLY","FOOTINGS & GROUND SLAB (20mpa)","","","CO","CO","M","116","M3"]
[null,null,null,null,null,null,null,null,null,null,null,null,null,null,null,null,null,null,null,null,null,null,null,null,null,null,null,null,null,null,null,null,null,null,null,null,null,null,null,null,null,null,null,null,null,null,null,"116-200-200160","25/20/100 CONCRETE SUPPLY ONLY","FOOTINGS & GROUND SLAB (25mpa)","","","CO","CO","M","116","M3"]
[null,null,null,null,null,null,null,null,null,null,null,null,null,null,null,null,null,null,null,null,null,null,null,null,null,null,null,null,null,null,null,null,null,null,null,null,null,null,null,null,null,null,null,null,null,null,null,"116-300-100200","25mpa CONCRETE SUPPLY ONLY","SUSPENDED SLAB","","","CO","CO","M","116","M3"]
[null,null,null,null,null,null,null,null,null,null,null,null,null,null,null,null,null,null,null,null,null,null,null,null,null,null,null,null,null,null,null,null,null,null,null,null,null,null,null,null,null,null,null,null,null,null,null,"116-300-100300","32mpa CONCRETE SUPPLY ONLY","SUSPENDED SLAB","","","CO","CO","M","116","M3"]
[null,null,null,null,null,null,null,null,null,null,null,null,null,null,null,null,null,null,null,null,null,null,null,null,null,null,null,null,null,null,null,null,null,null,null,null,null,null,null,null,null,null,null,null,null,null,null,"116-300-100400","40mpa CONCRETE SUPPLY ONLY","SUSPENDED SLAB","","","CO","CO","M","116","M3"]
[null,null,null,null,null,null,null,null,null,null,null,null,null,null,null,null,null,null,null,null,null,null,null,null,null,null,null,null,null,null,null,null,null,null,null,null,null,null,null,null,null,null,null,null,null,null,null,"116-500-100100","CONTROL PLUS 777","FOR POLISHED CONCRETE","","","CO","CO","M","116","M3"]
[null,null,null,null,null,null,null,null,null,null,null,null,null,null,null,null,null,null,null,null,null,null,null,null,null,null,null,null,null,null,null,null,null,null,null,null,null,null,null,null,null,null,null,null,null,null,null,"116-850-100200","CONCRETE N20/20/80 SUPPLY ONLY","GREATER BUNBURY AREA.","","","CO","CO","M","116","M3"]
[null,null,null,null,null,null,null,null,null,null,null,null,null,null,null,null,null,null,null,null,null,null,null,null,null,null,null,null,null,null,null,null,null,null,null,null,null,null,null,null,null,null,null,null,null,null,null,"116-850-100300","CONCRETE SUSP. SLAB A 25MPA","GREATER BUNBURY AREA.","","","CO","CO","M","116","M3"]
[null,null,null,null,null,null,null,null,null,null,null,null,null,null,null,null,null,null,null,null,null,null,null,null,null,null,null,null,null,null,null,null,null,null,null,null,null,null,null,null,null,null,null,null,null,null,null,"116-850-100400","CONCRETE SUSP. SLAB B 32MPA","GREATER BUNBURY AREA.","","","CO","CO","M","116","M3"]
[null,null,null,null,null,null,null,null,null,null,null,null,null,null,null,null,null,null,null,null,null,null,null,null,null,null,null,null,null,null,null,null,null,null,null,null,null,null,null,null,null,null,null,null,null,null,null,"116-850-100500","CONCRETE SUSP. SLAB C 40MPA","GREATER BUNBURY AREA.","","","CO","CO","M","116","M3"]
[null,null,null,null,null,null,null,null,null,null,null,null,null,null,null,null,null,null,null,null,null,null,null,null,null,null,null,null,null,null,null,null,null,null,null,null,null,null,null,null,null,null,null,null,null,null,null,"116-850-100600","CONCRETE N20/20/80 SUPPLY ONLY","BUSSELTON AREA","","","CO","CO","M","116","M3"]
[null,null,null,null,null,null,null,null,null,null,null,null,null,null,null,null,null,null,null,null,null,null,null,null,null,null,null,null,null,null,null,null,null,null,null,null,null,null,null,null,null,null,null,null,null,null,null,"116-850-100610","CONCRETE N25/20/80 SUPPLY ONLY","BUSSELTON AREA","","","CO","CO","M","116","M3"]
[null,null,null,null,null,null,null,null,null,null,null,null,null,null,null,null,null,null,null,null,null,null,null,null,null,null,null,null,null,null,null,null,null,null,null,null,null,null,null,null,null,null,null,null,null,null,null,"116-850-100650","CONCRETE N20/20/100 SUPP ONLY","BUSSELTON AREA","","","CO","CO","M","116","M3"]
[null,null,null,null,null,null,null,null,null,null,null,null,null,null,null,null,null,null,null,null,null,null,null,null,null,null,null,null,null,null,null,null,null,null,null,null,null,null,null,null,null,null,null,null,null,null,null,"116-850-100660","CONCRETE N25/20/100 SUPP ONLY","BUSSELTON AREA","","","CO","CO","M","116","M3"]
[null,null,null,null,null,null,null,null,null,null,null,null,null,null,null,null,null,null,null,null,null,null,null,null,null,null,null,null,null,null,null,null,null,null,null,null,null,null,null,null,null,null,null,null,null,null,null,"116-850-100700","CONCRETE SUSP SLAB A 25MPA","BUSSELTON AREA","","","CO","CO","M","116","M3"]
[null,null,null,null,null,null,null,null,null,null,null,null,null,null,null,null,null,null,null,null,null,null,null,null,null,null,null,null,null,null,null,null,null,null,null,null,null,null,null,null,null,null,null,null,null,null,null,"116-850-100800","CONCRETE SUSP SLAB B 32MPA","BUSSELTON AREA","","","CO","CO","M","116","M3"]
[null,null,null,null,null,null,null,null,null,null,null,null,null,null,null,null,null,null,null,null,null,null,null,null,null,null,null,null,null,null,null,null,null,null,null,null,null,null,null,null,null,null,null,null,null,null,null,"116-850-101000","CONCRETE N20/20/80 SUPPLY ONLY","DUNSBOROUGH AREA.","","","CO","CO","M","116","M3"]
[null,null,null,null,null,null,null,null,null,null,null,null,null,null,null,null,null,null,null,null,null,null,null,null,null,null,null,null,null,null,null,null,null,null,null,null,null,null,null,null,null,null,null,null,null,null,null,"116-850-101010","CONCRETE N25/20/80 SUPPLY ONLY","DUNSBOROUGH AREA.","","","CO","CO","M","116","M3"]
[null,null,null,null,null,null,null,null,null,null,null,null,null,null,null,null,null,null,null,null,null,null,null,null,null,null,null,null,null,null,null,null,null,null,null,null,null,null,null,null,null,null,null,null,null,null,null,"116-850-101050","CONCRETE N20/20/100 SUPPLY","ONLY - DUNSBOROUGH AREA.","","","CO","CO","M","116","M3"]
[null,null,null,null,null,null,null,null,null,null,null,null,null,null,null,null,null,null,null,null,null,null,null,null,null,null,null,null,null,null,null,null,null,null,null,null,null,null,null,null,null,null,null,null,null,null,null,"116-850-101060","CONCRETE N25/20/100 SUPPLY","ONLY - DUNSBOROUGH AREA.","","","CO","CO","M","116","M3"]
[null,null,null,null,null,null,null,null,null,null,null,null,null,null,null,null,null,null,null,null,null,null,null,null,null,null,null,null,null,null,null,null,null,null,null,null,null,null,null,null,null,null,null,null,null,null,null,"116-850-101100","CONCRETE SUSP. SLAB A 25MPA","DUNSBOROUGH AREA.","","","CO","CO","M","116","M3"]
[null,null,null,null,null,null,null,null,null,null,null,null,null,null,null,null,null,null,null,null,null,null,null,null,null,null,null,null,null,null,null,null,null,null,null,null,null,null,null,null,null,null,null,null,null,null,null,"116-850-101200","CONCRETE SUSP. SLAB B 32MPA","DUNSBOROUGH AREA.","","","CO","CO","M","116","M3"]
[null,null,null,null,null,null,null,null,null,null,null,null,null,null,null,null,null,null,null,null,null,null,null,null,null,null,null,null,null,null,null,null,null,null,null,null,null,null,null,null,null,null,null,null,null,null,null,"116-850-101400","CONCRETE N20/20/80 SUPPLY ONLY","MARGARET RIVER AREA.","","","CO","CO","M","116","M3"]
[null,null,null,null,null,null,null,null,null,null,null,null,null,null,null,null,null,null,null,null,null,null,null,null,null,null,null,null,null,null,null,null,null,null,null,null,null,null,null,null,null,null,null,null,null,null,null,"116-850-101410","CONCRETE N25/20/80 SUPPLY ONLY","MARGARET RIVER AREA.","","","CO","CO","M","116","M3"]
[null,null,null,null,null,null,null,null,null,null,null,null,null,null,null,null,null,null,null,null,null,null,null,null,null,null,null,null,null,null,null,null,null,null,null,null,null,null,null,null,null,null,null,null,null,null,null,"116-850-101450","CONCRETE N20/20/100 SUPPLY","ONLY - MARGARET RIVER AREA.","","","CO","CO","M","116","M3"]
[null,null,null,null,null,null,null,null,null,null,null,null,null,null,null,null,null,null,null,null,null,null,null,null,null,null,null,null,null,null,null,null,null,null,null,null,null,null,null,null,null,null,null,null,null,null,null,"116-850-101460","CONCRETE N25/20/100 SUPPLY","ONLY - MARGARET RIVER AREA.","","","CO","CO","M","116","M3"]
[null,null,null,null,null,null,null,null,null,null,null,null,null,null,null,null,null,null,null,null,null,null,null,null,null,null,null,null,null,null,null,null,null,null,null,null,null,null,null,null,null,null,null,null,null,null,null,"116-850-101550","CONCRETE SUSP. SLAB B 32MPA","MARGARET RIVER AREA.","","","CO","CO","M","116","M3"]
[null,null,null,null,null,null,null,null,null,null,null,null,null,null,null,null,null,null,null,null,null,null,null,null,null,null,null,null,null,null,null,null,null,null,null,null,null,null,null,null,null,null,null,null,null,null,null,"116-850-101700","CONCRETE N20/20/80 SUPPLY ONLY","CAPEL AREA.","","","CO","CO","M","116","M3"]
[null,null,null,null,null,null,null,null,null,null,null,null,null,null,null,null,null,null,null,null,null,null,null,null,null,null,null,null,null,null,null,null,null,null,null,null,null,null,null,null,null,null,null,null,null,null,null,"116-850-101710","CONCRETE N25/20/80 SUPPLY ONLY","CAPEL AREA.","","","CO","CO","M","116","M3"]
[null,null,null,null,null,null,null,null,null,null,null,null,null,null,null,null,null,null,null,null,null,null,null,null,null,null,null,null,null,null,null,null,null,null,null,null,null,null,null,null,null,null,null,null,null,null,null,"116-850-101750","CONCRETE N20/20/100 SUPPLY","ONLY - CAPEL AREA.","","","CO","CO","M","116","M3"]
[null,null,null,null,null,null,null,null,null,null,null,null,null,null,null,null,null,null,null,null,null,null,null,null,null,null,null,null,null,null,null,null,null,null,null,null,null,null,null,null,null,null,null,null,null,null,null,"116-850-101760","CONCRETE N25/20/100 SUPPLY","ONLY - CAPEL AREA.","","","CO","CO","M","116","M3"]
[null,null,null,null,null,null,null,null,null,null,null,null,null,null,null,null,null,null,null,null,null,null,null,null,null,null,null,null,null,null,null,null,null,null,null,null,null,null,null,null,null,null,null,null,null,null,null,"116-850-102100","CONCRETE N20/20/80 SUPPLY ONLY","DONNYBROOK AREA.","","","CO","CO","M","116","M3"]
[null,null,null,null,null,null,null,null,null,null,null,null,null,null,null,null,null,null,null,null,null,null,null,null,null,null,null,null,null,null,null,null,null,null,null,null,null,null,null,null,null,null,null,null,null,null,null,"116-850-102600","CONCRETE N20/20/80 SUPPLY ONLY","DARDANUP AREA.","","","CO","CO","M","116","M3"]
[null,null,null,null,null,null,null,null,null,null,null,null,null,null,null,null,null,null,null,null,null,null,null,null,null,null,null,null,null,null,null,null,null,null,null,null,null,null,null,null,null,null,null,null,null,null,null,"116-850-103400","CONCRETE N20/20/80 SUPPLY ONLY","WAROONA AREA.","","","CO","CO","M","116","M3"]
[null,null,null,null,null,null,null,null,null,null,null,null,null,null,null,null,null,null,null,null,null,null,null,null,null,null,null,null,null,null,null,null,null,null,null,null,null,null,null,null,null,null,null,null,null,null,null,"116-850-103800","CONCRETE N20/20/80 SUPPLY ONLY","COLLIE AREA.","","","CO","CO","M","116","M3"]
[null,null,null,null,null,null,null,null,null,null,null,null,null,null,null,null,null,null,null,null,null,null,null,null,null,null,null,null,null,null,null,null,null,null,null,null,null,null,null,null,null,null,null,null,null,null,null,"116-850-104200","CONCRETE N20/20/80 SUPPLY ONLY","HARVEY AREA.","","","CO","CO","M","116","M3"]
[null,null,null,null,null,null,null,null,null,null,null,null,null,null,null,null,null,null,null,null,null,null,null,null,null,null,null,null,null,null,null,null,null,null,null,null,null,null,null,null,null,null,null,null,null,null,null,"116-850-105000","CONCRETE N20/20/80 SUPPLY ONLY","MYALUP AREA.","","","CO","CO","M","116","M3"]
[null,null,null,null,null,null,null,null,null,null,null,null,null,null,null,null,null,null,null,null,null,null,null,null,null,null,null,null,null,null,null,null,null,null,null,null,null,null,null,null,null,null,null,null,null,null,null,"116-850-105100","CONCRETE SUSP. SLAB A 25MPA","MYALUP AREA.","","","CO","CO","M","116","M3"]
[null,null,null,null,null,null,null,null,null,null,null,null,null,null,null,null,null,null,null,null,null,null,null,null,null,null,null,null,null,null,null,null,null,null,null,null,null,null,null,null,null,null,null,null,null,null,null,"116-850-105200","CONCRETE SUSP. SLAB B 32MPA","MYALUP AREA.","","","CO","CO","M","116","M3"]
[null,null,null,null,null,null,null,null,null,null,null,null,null,null,null,null,null,null,null,null,null,null,null,null,null,null,null,null,null,null,null,null,null,null,null,null,null,null,null,null,null,null,null,null,null,null,null,"116-850-105300","CONCRETE SUSP. SLAB C 40MPA","MYALUP AREA.","","","CO","CO","M","116","M3"]
[null,null,null,null,null,null,null,null,null,null,null,null,null,null,null,null,null,null,null,null,null,null,null,null,null,null,null,null,null,null,null,null,null,null,null,null,null,null,null,null,null,null,null,null,null,null,null,"116-850-105400","CONCRETE N20/20/80 SUPPLY ONLY","BINNINGUP AREA.","","","CO","CO","M","116","M3"]
[null,null,null,null,null,null,null,null,null,null,null,null,null,null,null,null,null,null,null,null,null,null,null,null,null,null,null,null,null,null,null,null,null,null,null,null,null,null,null,null,null,null,null,null,null,null,null,"116-850-106100","CONCRETE N20/20/80 SUPPLY ONLY","YALLINGUP AREA","","","CO","CO","M","116","M3"]
[null,null,null,null,null,null,null,null,null,null,null,null,null,null,null,null,null,null,null,null,null,null,null,null,null,null,null,null,null,null,null,null,null,null,null,null,null,null,null,null,null,null,null,null,null,null,null,"116-850-106200","CONCRETE SUSP. SLAB A 25MPA","YALLINGUP AREA.","","","CO","CO","M","116","M3"]
[null,null,null,null,null,null,null,null,null,null,null,null,null,null,null,null,null,null,null,null,null,null,null,null,null,null,null,null,null,null,null,null,null,null,null,null,null,null,null,null,null,null,null,null,null,null,null,"116-850-106300","CONCRETE SUSP. SLAB B 32MPA","YALLINGUP AREA.","","","CO","CO","M","116","M3"]
[null,null,null,null,null,null,null,null,null,null,null,null,null,null,null,null,null,null,null,null,null,null,null,null,null,null,null,null,null,null,null,null,null,null,null,null,null,null,null,null,null,null,null,null,null,null,null,"116-850-106400","CONCRETE SUSP. SLAB C 40MPA","YALLINGUP AREA.","","","CO","CO","M","116","M3"]
[null,null,null,null,null,null,null,null,null,null,null,null,null,null,null,null,null,null,null,null,null,null,null,null,null,null,null,null,null,null,null,null,null,null,null,null,null,null,null,null,null,null,null,null,null,null,null,"116-850-300100","MINIMUM CARTAGE UNDER 3.4M3","LOADS OR PART THERE OF FOR","","","CO","CO","M","116","M3"]
[null,null,null,null,null,null,null,null,null,null,null,null,null,null,null,null,null,null,null,null,null,null,null,null,null,null,null,null,null,null,null,null,null,null,null,null,null,null,null,null,null,null,null,null,null,null,null,"116-850-400500","CONCRETE CONTINGENCY","(SOUTHWEST)","","","CO","CO","M","116","QT"]
[null,null,null,null,null,null,null,null,null,null,null,null,null,null,null,null,null,null,null,null,null,null,null,null,null,null,null,null,null,null,null,null,null,null,null,null,null,null,null,null,null,null,null,null,null,null,null,"116-850-500050","CONCRETE WINTER ADD-INS /","ACCELERATOR - BRONZE (HALF)","","","CO","CO","M","116","M3"]
[null,null,null,null,null,null,null,null,null,null,null,null,null,null,null,null,null,null,null,null,null,null,null,null,null,null,null,null,null,null,null,null,null,null,null,null,null,null,null,null,null,null,null,null,null,null,null,"116-850-500200","CONCRETE WINTER ADD-INS /","ACCELERATOR - SILVER","","","CO","CO","M","116","M3"]
[null,null,null,null,null,null,null,null,null,null,null,null,null,null,null,null,null,null,null,null,null,null,null,null,null,null,null,null,null,null,null,null,null,null,null,null,null,null,null,null,null,null,null,null,null,null,null,"116-850-500300","CONCRETE WINTER ADD-INS /","ACCELERATOR - GOLD (FULL)","","","CO","CO","M","116","M3"]
[null,null,null,null,null,null,null,null,null,null,null,null,null,null,null,null,null,null,null,null,null,null,null,null,null,null,null,null,null,null,null,null,null,null,null,null,null,null,null,null,null,null,null,null,null,null,null,"116-850-500400","STEEL FIBRE REINFORCEMENT","ADDITIVE 10kg/m3","","","CO","CO","M","116","M3"]
[null,null,null,null,null,null,null,null,null,null,null,null,null,null,null,null,null,null,null,null,null,null,null,null,null,null,null,null,null,null,null,null,null,null,null,null,null,null,null,null,null,null,null,null,null,null,null,"116-850-500500","STEEL FIBRE REINFORCEMENT","ADDITIVE 15kg/m3","","","CO","CO","M","116","M3"]
[null,null,null,null,null,null,null,null,null,null,null,null,null,null,null,null,null,null,null,null,null,null,null,null,null,null,null,null,null,null,null,null,null,null,null,null,null,null,null,null,null,null,null,null,null,null,null,"116-980-130000","CARTAGE AREA LOADING","PRICELISTS - REFER DOCUMENT","","","CO","CO","M","116","AL"]
[null,null,null,null,null,null,null,null,null,null,null,null,null,null,null,null,null,null,null,null,null,null,null,null,null,null,null,null,null,null,null,null,null,null,null,null,null,null,null,null,null,null,null,null,null,null,null,"116-980-130100","CARTAGE AREA LOADING","MANDURAH","","","CO","CO","M","116","M3"]
[null,null,null,null,null,null,null,null,null,null,null,null,null,null,null,null,null,null,null,null,null,null,null,null,null,null,null,null,null,null,null,null,null,null,null,null,null,null,null,null,null,null,null,null,null,null,null,"116-980-200300","CARTAGE AREA LOADING","TWO ROCKS","","","CO","CO","M","116","M3"]
[null,null,null,null,null,null,null,null,null,null,null,null,null,null,null,null,null,null,null,null,null,null,null,null,null,null,null,null,null,null,null,null,null,null,null,null,null,null,null,null,null,null,null,null,null,null,null,"116-980-250100","CARTAGE AREA LOADING","YANCHEP","","","CO","CO","M","116","M3"]
[]
[null,null,null,null,null,null,null,null,null,null,null,null,null,null,null,null,null,null,null,null,null,null,null,null,null,null,null,null,null,null,null,null,null,null,null,null,null,null,null,null,null,null,null,null,null,null,null,null,"Concrete Pump"]
[null,null,null,null,null,null,null,null,null,null,null,null,null,null,null,null,null,null,null,null,null,null,null,null,null,null,null,null,null,null,null,null,null,null,null,null,null,null,null,null,null,null,null,null,null,null,null,"118-010-100100","CONCRETE PUMPING AS QUOTED","","","","CO","CO","M","118","QT"]
[null,null,null,null,null,null,null,null,null,null,null,null,null,null,null,null,null,null,null,null,null,null,null,null,null,null,null,null,null,null,null,null,null,null,null,null,null,null,null,null,null,null,null,null,null,null,null,"118-010-200020","CONCRETE PUMP ALLOWANCE","UP TO 9m3","","","CO","CO","M","118","AL"]
[null,null,null,null,null,null,null,null,null,null,null,null,null,null,null,null,null,null,null,null,null,null,null,null,null,null,null,null,null,null,null,null,null,null,null,null,null,null,null,null,null,null,null,null,null,null,null,"118-010-200030","CONCRETE PUMP ALLOWANCE","FROM 9.2m3 UP TO 19m3","","","CO","CO","M","118","AL"]
[null,null,null,null,null,null,null,null,null,null,null,null,null,null,null,null,null,null,null,null,null,null,null,null,null,null,null,null,null,null,null,null,null,null,null,null,null,null,null,null,null,null,null,null,null,null,null,"118-010-200040","CONCRETE PUMP ALLOWANCE","FROM 19.2m3 UP TO 29.2m3","","","CO","CO","M","118","AL"]
[null,null,null,null,null,null,null,null,null,null,null,null,null,null,null,null,null,null,null,null,null,null,null,null,null,null,null,null,null,null,null,null,null,null,null,null,null,null,null,null,null,null,null,null,null,null,null,"118-010-200100","CONCRETE PUMP FOR FOOTINGS","ALLOWANCE ONLY","","","CO","CO","M","118","AL"]
[null,null,null,null,null,null,null,null,null,null,null,null,null,null,null,null,null,null,null,null,null,null,null,null,null,null,null,null,null,null,null,null,null,null,null,null,null,null,null,null,null,null,null,null,null,null,null,"118-010-200200","CONCRETE PUMP FOR SLAB","ALLOWANCE ONLY","","","CO","CO","M","118","AL"]
[null,null,null,null,null,null,null,null,null,null,null,null,null,null,null,null,null,null,null,null,null,null,null,null,null,null,null,null,null,null,null,null,null,null,null,null,null,null,null,null,null,null,null,null,null,null,null,"118-010-200300","CONCRETE PUMP PER HOUSE / UNIT","ALLOWANCE ONLY","","","CO","CO","M","118","AL"]
[null,null,null,null,null,null,null,null,null,null,null,null,null,null,null,null,null,null,null,null,null,null,null,null,null,null,null,null,null,null,null,null,null,null,null,null,null,null,null,null,null,null,null,null,null,null,null,"118-010-300400","CONCRETE PUMP - 2 UNITS","FOOTINGS & SLABS - PER UNIT","","","CO","CO","M","118","AL"]
[null,null,null,null,null,null,null,null,null,null,null,null,null,null,null,null,null,null,null,null,null,null,null,null,null,null,null,null,null,null,null,null,null,null,null,null,null,null,null,null,null,null,null,null,null,null,null,"118-010-300500","CONCRETE PUMP - 3 OR MORE UNIT","FOOTINGS & SLABS - PER UNIT","","","CO","CO","M","118","AL"]
[null,null,null,null,null,null,null,null,null,null,null,null,null,null,null,null,null,null,null,null,null,null,null,null,null,null,null,null,null,null,null,null,null,null,null,null,null,null,null,null,null,null,null,null,null,null,null,"118-100-100100","CONCRETE PUMPING MIN HIRE 2HRS","LINE PUMP","","","CO","CO","M","118","IT"]
[null,null,null,null,null,null,null,null,null,null,null,null,null,null,null,null,null,null,null,null,null,null,null,null,null,null,null,null,null,null,null,null,null,null,null,null,null,null,null,null,null,null,null,null,null,null,null,"118-100-100200","CONCRETE PUMPING ADD PER HR","(EXTRA OVER MIN 2HRS)","","","CO","CO","M","118","NO"]
[null,null,null,null,null,null,null,null,null,null,null,null,null,null,null,null,null,null,null,null,null,null,null,null,null,null,null,null,null,null,null,null,null,null,null,null,null,null,null,null,null,null,null,null,null,null,null,"118-100-100300","CONCRETE PUMPED PER M3","","","","CO","CO","M","118","M3"]
[null,null,null,null,null,null,null,null,null,null,null,null,null,null,null,null,null,null,null,null,null,null,null,null,null,null,null,null,null,null,null,null,null,null,null,null,null,null,null,null,null,null,null,null,null,null,null,"118-100-100400","CONCRETE PUMP CEMENT SLURRY","SUPPLY CEMENT PRIOR PUMPING","","","CO","CO","M","118","BG"]
[null,null,null,null,null,null,null,null,null,null,null,null,null,null,null,null,null,null,null,null,null,null,null,null,null,null,null,null,null,null,null,null,null,null,null,null,null,null,null,null,null,null,null,null,null,null,null,"118-100-100450","CONCRETE PUMP MOBILISATION","> 20KM FROM BUSSELTON","","","CO","CO","M","118","KM"]
[null,null,null,null,null,null,null,null,null,null,null,null,null,null,null,null,null,null,null,null,null,null,null,null,null,null,null,null,null,null,null,null,null,null,null,null,null,null,null,null,null,null,null,null,null,null,null,"118-100-100500","CONCRETE PUMP PRIMING MATERIAL","","","","CO","CO","M","118","BG"]
[null,null,null,null,null,null,null,null,null,null,null,null,null,null,null,null,null,null,null,null,null,null,null,null,null,null,null,null,null,null,null,null,null,null,null,null,null,null,null,null,null,null,null,null,null,null,null,"118-200-100100","ESTIMATING-CONCRETE LPUMP HIRE","2HRS MIN HIRE X 2 LINE PUMPS","","","CO","CO","M","118","IT"]
[null,null,null,null,null,null,null,null,null,null,null,null,null,null,null,null,null,null,null,null,null,null,null,null,null,null,null,null,null,null,null,null,null,null,null,null,null,null,null,null,null,null,null,null,null,null,null,"118-200-100300","EST-CONCRETE 26MBOOM PUMP HIRE","2HRS MIN HIRE","","","CO","CO","M","118","IT"]
[null,null,null,null,null,null,null,null,null,null,null,null,null,null,null,null,null,null,null,null,null,null,null,null,null,null,null,null,null,null,null,null,null,null,null,null,null,null,null,null,null,null,null,null,null,null,null,"118-200-100400","EST-CONCRETE 32MBOOM PUMP HIRE","2HRS MIN HIRE","","","CO","CO","M","118","IT"]
[null,null,null,null,null,null,null,null,null,null,null,null,null,null,null,null,null,null,null,null,null,null,null,null,null,null,null,null,null,null,null,null,null,null,null,null,null,null,null,null,null,null,null,null,null,null,null,"118-200-100600","EST 2STRY-CONCRETE 26MBOOMPUMP","HIRE 2HRS MIN + 1 HR EXTRA +","","","CO","CO","M","118","IT"]
[null,null,null,null,null,null,null,null,null,null,null,null,null,null,null,null,null,null,null,null,null,null,null,null,null,null,null,null,null,null,null,null,null,null,null,null,null,null,null,null,null,null,null,null,null,null,null,"118-700-100100","HI CONCRETE PUMP ALLOWANCE","PER PUMP PER DAY","","","CO","CO","S","118","IT"]
[null,null,null,null,null,null,null,null,null,null,null,null,null,null,null,null,null,null,null,null,null,null,null,null,null,null,null,null,null,null,null,null,null,null,null,null,null,null,null,null,null,null,null,null,null,null,null,"118-700-500200","GF CONCRETE PUMP ALLOWANCE","STEEL FRAME WALLS","","","CO","CO","M","118","EA"]
[null,null,null,null,null,null,null,null,null,null,null,null,null,null,null,null,null,null,null,null,null,null,null,null,null,null,null,null,null,null,null,null,null,null,null,null,null,null,null,null,null,null,null,null,null,null,null,"118-700-500300","GF CONCRETE PUMP ALLOWANCE","BRICK WALLS - FOOTINGS ONLY","","","CO","CO","M","118","EA"]
[null,null,null,null,null,null,null,null,null,null,null,null,null,null,null,null,null,null,null,null,null,null,null,null,null,null,null,null,null,null,null,null,null,null,null,null,null,null,null,null,null,null,null,null,null,null,null,"118-700-500400","GF CONCRETE PUMP ALLOWANCE","BRICK WALLS - SLAB ONLY","","","CO","CO","M","118","EA"]
[]
[]
[null,null,null,null,null,null,null,null,null,null,null,null,null,null,null,null,null,null,null,null,null,null,null,null,null,null,null,null,null,null,null,null,null,null,null,null,null,null,null,null,null,null,null,null,null,null,null,null,"Bricklayer"]
[null,null,null,null,null,null,null,null,null,null,null,null,null,null,null,null,null,null,null,null,null,null,null,null,null,null,null,null,null,null,null,null,null,null,null,null,null,null,null,null,null,null,null,null,null,null,null,"125-100-100100","TWO STOREY LOADING","","","","CO","CO","S","125","IT"]
[null,null,null,null,null,null,null,null,null,null,null,null,null,null,null,null,null,null,null,null,null,null,null,null,null,null,null,null,null,null,null,null,null,null,null,null,null,null,null,null,null,null,null,null,null,null,null,"125-100-100200","BRICKWORK REINFORCEMENT","6mm RODS","","","CO","CO","S","125","LM"]
[null,null,null,null,null,null,null,null,null,null,null,null,null,null,null,null,null,null,null,null,null,null,null,null,null,null,null,null,null,null,null,null,null,null,null,null,null,null,null,null,null,null,null,null,null,null,null,"125-100-100350","PARGING TO BRICKWORK","","","","CO","CO","M","125","M2"]
[null,null,null,null,null,null,null,null,null,null,null,null,null,null,null,null,null,null,null,null,null,null,null,null,null,null,null,null,null,null,null,null,null,null,null,null,null,null,null,null,null,null,null,null,null,null,null,"125-100-100700","WHITE/SILVER/BLACK MORTAR","E/O CREAM","","","CO","CO","S","125","TB"]
[null,null,null,null,null,null,null,null,null,null,null,null,null,null,null,null,null,null,null,null,null,null,null,null,null,null,null,null,null,null,null,null,null,null,null,null,null,null,null,null,null,null,null,null,null,null,null,"125-100-101110","PROJECTING HEADERS/CORBELLED/","SLOPING OR SOLDIER SILLS","","","CO","CO","M","125","LM"]
[null,null,null,null,null,null,null,null,null,null,null,null,null,null,null,null,null,null,null,null,null,null,null,null,null,null,null,null,null,null,null,null,null,null,null,null,null,null,null,null,null,null,null,null,null,null,null,"125-100-101700","LETTERBOX SINGLE","","","","CO","CO","S","125","EA"]
[null,null,null,null,null,null,null,null,null,null,null,null,null,null,null,null,null,null,null,null,null,null,null,null,null,null,null,null,null,null,null,null,null,null,null,null,null,null,null,null,null,null,null,null,null,null,null,"125-100-102250","MORTAR FILL PIER","","","","CO","CO","S","125","EA"]
[null,null,null,null,null,null,null,null,null,null,null,null,null,null,null,null,null,null,null,null,null,null,null,null,null,null,null,null,null,null,null,null,null,null,null,null,null,null,null,null,null,null,null,null,null,null,null,"125-100-102300","PIERS ISOLATED","","","","CO","CO","S","125","EA"]
[null,null,null,null,null,null,null,null,null,null,null,null,null,null,null,null,null,null,null,null,null,null,null,null,null,null,null,null,null,null,null,null,null,null,null,null,null,null,null,null,null,null,null,null,null,null,null,"125-100-102350","HI ATTACHED PIERS","","","","CO","CO","S","125","EA"]
[null,null,null,null,null,null,null,null,null,null,null,null,null,null,null,null,null,null,null,null,null,null,null,null,null,null,null,null,null,null,null,null,null,null,null,null,null,null,null,null,null,null,null,null,null,null,null,"125-100-102580","INSTALL BRICK VENEER WALL TIES","","","","CO","LB","S","125","IT"]
[null,null,null,null,null,null,null,null,null,null,null,null,null,null,null,null,null,null,null,null,null,null,null,null,null,null,null,null,null,null,null,null,null,null,null,null,null,null,null,null,null,null,null,null,null,null,null,"125-100-102590","CAVITY WALL INSULATION","PER FLOOR","","","CO","CO","M","125","EA"]
[null,null,null,null,null,null,null,null,null,null,null,null,null,null,null,null,null,null,null,null,null,null,null,null,null,null,null,null,null,null,null,null,null,null,null,null,null,null,null,null,null,null,null,null,null,null,null,"125-210-100110","EXTERNAL FACE 1C","GROUND FLOOR","","","CO","CO","S","125","TB"]
[null,null,null,null,null,null,null,null,null,null,null,null,null,null,null,null,null,null,null,null,null,null,null,null,null,null,null,null,null,null,null,null,null,null,null,null,null,null,null,null,null,null,null,null,null,null,null,"125-210-100210","EXTERNAL FACE 2C","GROUND FLOOR","","","CO","CO","S","125","TB"]
[null,null,null,null,null,null,null,null,null,null,null,null,null,null,null,null,null,null,null,null,null,null,null,null,null,null,null,null,null,null,null,null,null,null,null,null,null,null,null,null,null,null,null,null,null,null,null,"125-210-200110","EXTERNAL ROUGH 1C","GROUND FLOOR","","","CO","CO","S","125","TB"]
[null,null,null,null,null,null,null,null,null,null,null,null,null,null,null,null,null,null,null,null,null,null,null,null,null,null,null,null,null,null,null,null,null,null,null,null,null,null,null,null,null,null,null,null,null,null,null,"125-210-200210","EXTERNAL ROUGH 2C","GROUND FLOOR","","","CO","CO","S","125","TB"]
[null,null,null,null,null,null,null,null,null,null,null,null,null,null,null,null,null,null,null,null,null,null,null,null,null,null,null,null,null,null,null,null,null,null,null,null,null,null,null,null,null,null,null,null,null,null,null,"125-310-100110","INTERNAL FACE 1C","GROUND FLOOR","","","CO","CO","S","125","TB"]
[null,null,null,null,null,null,null,null,null,null,null,null,null,null,null,null,null,null,null,null,null,null,null,null,null,null,null,null,null,null,null,null,null,null,null,null,null,null,null,null,null,null,null,null,null,null,null,"125-310-100210","INTERNAL FACE 2C","GROUND FLOOR","","","CO","CO","S","125","TB"]
[null,null,null,null,null,null,null,null,null,null,null,null,null,null,null,null,null,null,null,null,null,null,null,null,null,null,null,null,null,null,null,null,null,null,null,null,null,null,null,null,null,null,null,null,null,null,null,"125-310-200110","INTERNAL ROUGH 1C","GROUND FLOOR","","","CO","CO","S","125","TB"]
[null,null,null,null,null,null,null,null,null,null,null,null,null,null,null,null,null,null,null,null,null,null,null,null,null,null,null,null,null,null,null,null,null,null,null,null,null,null,null,null,null,null,null,null,null,null,null,"125-310-200210","INTERNAL ROUGH 2C","GROUND FLOOR","","","CO","CO","S","125","TB"]
[null,null,null,null,null,null,null,null,null,null,null,null,null,null,null,null,null,null,null,null,null,null,null,null,null,null,null,null,null,null,null,null,null,null,null,null,null,null,null,null,null,null,null,null,null,null,null,"125-410-100110","EXTERNAL FACE 1C","FIRST FLOOR","","","CO","CO","S","125","TB"]
[null,null,null,null,null,null,null,null,null,null,null,null,null,null,null,null,null,null,null,null,null,null,null,null,null,null,null,null,null,null,null,null,null,null,null,null,null,null,null,null,null,null,null,null,null,null,null,"125-410-100210","EXTERNAL FACE 2C","FIRST FLOOR","","","CO","CO","S","125","TB"]
[null,null,null,null,null,null,null,null,null,null,null,null,null,null,null,null,null,null,null,null,null,null,null,null,null,null,null,null,null,null,null,null,null,null,null,null,null,null,null,null,null,null,null,null,null,null,null,"125-410-200110","EXTERNAL ROUGH 1C","FIRST FLOOR","","","CO","CO","S","125","TB"]
[null,null,null,null,null,null,null,null,null,null,null,null,null,null,null,null,null,null,null,null,null,null,null,null,null,null,null,null,null,null,null,null,null,null,null,null,null,null,null,null,null,null,null,null,null,null,null,"125-410-200210","EXTERNAL ROUGH 2C","FIRST FLOOR","","","CO","CO","S","125","TB"]
[null,null,null,null,null,null,null,null,null,null,null,null,null,null,null,null,null,null,null,null,null,null,null,null,null,null,null,null,null,null,null,null,null,null,null,null,null,null,null,null,null,null,null,null,null,null,null,"125-510-100110","INTERNAL FACE 1C","FIRST FLOOR","","","CO","CO","S","125","TB"]
[null,null,null,null,null,null,null,null,null,null,null,null,null,null,null,null,null,null,null,null,null,null,null,null,null,null,null,null,null,null,null,null,null,null,null,null,null,null,null,null,null,null,null,null,null,null,null,"125-510-200110","INTERNAL ROUGH 1C","FIRST FLOOR","","","CO","CO","S","125","TB"]
[null,null,null,null,null,null,null,null,null,null,null,null,null,null,null,null,null,null,null,null,null,null,null,null,null,null,null,null,null,null,null,null,null,null,null,null,null,null,null,null,null,null,null,null,null,null,null,"125-510-200210","INTERNAL ROUGH 2C","FIRST FLOOR","","","CO","CO","S","125","TB"]
[null,null,null,null,null,null,null,null,null,null,null,null,null,null,null,null,null,null,null,null,null,null,null,null,null,null,null,null,null,null,null,null,null,null,null,null,null,null,null,null,null,null,null,null,null,null,null,"125-550-100100","E/O BRICKWORK 33C TO 50C","FACE BRICKS AND UTILITY BRICKS","","","CO","CO","S","125","IT"]
[null,null,null,null,null,null,null,null,null,null,null,null,null,null,null,null,null,null,null,null,null,null,null,null,null,null,null,null,null,null,null,null,null,null,null,null,null,null,null,null,null,null,null,null,null,null,null,"125-550-100200","E/O BRICKWORK OVER 50C","FACE BRICKS AND UTILITY BRICKS","","","CO","CO","S","125","IT"]
[null,null,null,null,null,null,null,null,null,null,null,null,null,null,null,null,null,null,null,null,null,null,null,null,null,null,null,null,null,null,null,null,null,null,null,null,null,null,null,null,null,null,null,null,null,null,null,"125-600-100100","E/O CURVED WALL","UP TO 1M RADIUS","","","CO","CO","M","125","EA"]
[null,null,null,null,null,null,null,null,null,null,null,null,null,null,null,null,null,null,null,null,null,null,null,null,null,null,null,null,null,null,null,null,null,null,null,null,null,null,null,null,null,null,null,null,null,null,null,"125-700-100450","HI BRICKLAYER METAL FRAME","INSTALL LABOUR PER FRAME","","","CO","CO","S","125","EA"]
[null,null,null,null,null,null,null,null,null,null,null,null,null,null,null,null,null,null,null,null,null,null,null,null,null,null,null,null,null,null,null,null,null,null,null,null,null,null,null,null,null,null,null,null,null,null,null,"125-700-100500","HI BRICKLAYER TIMBER FRAME","INSTALL LABOUR PER FRAME","","","CO","CO","S","125","EA"]
[null,null,null,null,null,null,null,null,null,null,null,null,null,null,null,null,null,null,null,null,null,null,null,null,null,null,null,null,null,null,null,null,null,null,null,null,null,null,null,null,null,null,null,null,null,null,null,"125-700-100600","HI BRICKLAYER CAVITY FRAME","INSTALL LABOUR PER FRAME","","","CO","CO","S","125","EA"]
[null,null,null,null,null,null,null,null,null,null,null,null,null,null,null,null,null,null,null,null,null,null,null,null,null,null,null,null,null,null,null,null,null,null,null,null,null,null,null,null,null,null,null,null,null,null,null,"125-700-100700","HI BRICKLAYER DOOR FRAME","INSTALL LABOUR PER FRAME","","","CO","CO","S","125","EA"]
[null,null,null,null,null,null,null,null,null,null,null,null,null,null,null,null,null,null,null,null,null,null,null,null,null,null,null,null,null,null,null,null,null,null,null,null,null,null,null,null,null,null,null,null,null,null,null,"125-700-100900","HI BRICKLAYER SLAB CLEAN","LABOUR ALLOWANCE PER JOB","","","CO","CO","M","125","IT"]
[null,null,null,null,null,null,null,null,null,null,null,null,null,null,null,null,null,null,null,null,null,null,null,null,null,null,null,null,null,null,null,null,null,null,null,null,null,null,null,null,null,null,null,null,null,null,null,"125-700-101100","HI BRICKLAYER PATCHING WALL","INSTALL LABOUR PER PATCH","","","CO","CO","S","125","EA"]
[null,null,null,null,null,null,null,null,null,null,null,null,null,null,null,null,null,null,null,null,null,null,null,null,null,null,null,null,null,null,null,null,null,null,null,null,null,null,null,null,null,null,null,null,null,null,null,"125-700-101200","HI BRICKLAYER DOUBLE FACE","EXTRA OVER LABOUR PER TH","","","CO","CO","S","125","TB"]
[null,null,null,null,null,null,null,null,null,null,null,null,null,null,null,null,null,null,null,null,null,null,null,null,null,null,null,null,null,null,null,null,null,null,null,null,null,null,null,null,null,null,null,null,null,null,null,"125-700-101400","HI BRICKLAYER PIER","EXTRA OVER LABOUR PER LM","","","CO","CO","S","125","LM"]
[null,null,null,null,null,null,null,null,null,null,null,null,null,null,null,null,null,null,null,null,null,null,null,null,null,null,null,null,null,null,null,null,null,null,null,null,null,null,null,null,null,null,null,null,null,null,null,"125-700-101800","HI BRICKLAYER ARCH 230 FACE","EXTRA OVER LABOUR PER LM","","","CO","CO","S","125","LM"]
[null,null,null,null,null,null,null,null,null,null,null,null,null,null,null,null,null,null,null,null,null,null,null,null,null,null,null,null,null,null,null,null,null,null,null,null,null,null,null,null,null,null,null,null,null,null,null,"125-700-101900","HI BRICKLAYER GABLE","EXTRA OVER LABOUR PER LM","","","CO","CO","S","125","LM"]
[null,null,null,null,null,null,null,null,null,null,null,null,null,null,null,null,null,null,null,null,null,null,null,null,null,null,null,null,null,null,null,null,null,null,null,null,null,null,null,null,null,null,null,null,null,null,null,"125-850-103000","BRICK UP HEARTH","SOUTH WEST","","","CO","CO","S","125","EA"]
[null,null,null,null,null,null,null,null,null,null,null,null,null,null,null,null,null,null,null,null,null,null,null,null,null,null,null,null,null,null,null,null,null,null,null,null,null,null,null,null,null,null,null,null,null,null,null,"125-950-100100","BRICKLAYER RETURN TRIP TO SITE","","","","CO","CO","S","125","IT"]
[null,null,null,null,null,null,null,null,null,null,null,null,null,null,null,null,null,null,null,null,null,null,null,null,null,null,null,null,null,null,null,null,null,null,null,null,null,null,null,null,null,null,null,null,null,null,null,"125-999-100100","BRICKLAYER NOTES","","","","CO","CO","S","125","NT"]
[]
[null,null,null,null,null,null,null,null,null,null,null,null,null,null,null,null,null,null,null,null,null,null,null,null,null,null,null,null,null,null,null,null,null,null,null,null,null,null,null,null,null,null,null,null,null,null,null,"129-100-100100","SITE WELD ALLOWANCE BRICKWORK","COLUMNS & LINTELS","","CO","CO","129","S",129,"AL"]
[]
[null,null,null,null,null,null,null,null,null,null,null,null,null,null,null,null,null,null,null,null,null,null,null,null,null,null,null,null,null,null,null,null,null,null,null,null,null,null,null,null,null,null,null,null,null,null,null,null,"Brick Supply"]
[null,null,null,null,null,null,null,null,null,null,null,null,null,null,null,null,null,null,null,null,null,null,null,null,null,null,null,null,null,null,null,null,null,null,null,null,null,null,null,null,null,null,null,null,null,null,null,"130-200-100050","T4 TRUCK & HIAB HIRE DELIVERY","SMALL BRICK ORDERS (SEE LIST","","","CO","CO","M","130","IT"]
[null,null,null,null,null,null,null,null,null,null,null,null,null,null,null,null,null,null,null,null,null,null,null,null,null,null,null,null,null,null,null,null,null,null,null,null,null,null,null,null,null,null,null,null,null,null,null,"130-200-100400","BRICK HIAB HIRE AREA 4","","","","CO","CO","M","130","TB"]
[null,null,null,null,null,null,null,null,null,null,null,null,null,null,null,null,null,null,null,null,null,null,null,null,null,null,null,null,null,null,null,null,null,null,null,null,null,null,null,null,null,null,null,null,null,null,null,"130-300-100100","MIDLAND STANDARD MODEL RANGE","FACE BRICK 230x110x76mm CORED","","","CO","CO","M","130","TB"]
[null,null,null,null,null,null,null,null,null,null,null,null,null,null,null,null,null,null,null,null,null,null,null,null,null,null,null,null,null,null,null,null,null,null,null,null,null,null,null,null,null,null,null,null,null,null,null,"130-300-100200","MIDLAND STANDARD MODEL RANGE","FACE BRICK 230x110x76mm SOLID","","","CO","CO","M","130","TB"]
[null,null,null,null,null,null,null,null,null,null,null,null,null,null,null,null,null,null,null,null,null,null,null,null,null,null,null,null,null,null,null,null,null,null,null,null,null,null,null,null,null,null,null,null,null,null,null,"130-300-200100","MIDLAND SUMMIT STANDARD RANGE","FACE BRICKS 230x110x76mm","","","CO","CO","M","130","TB"]
[null,null,null,null,null,null,null,null,null,null,null,null,null,null,null,null,null,null,null,null,null,null,null,null,null,null,null,null,null,null,null,null,null,null,null,null,null,null,null,null,null,null,null,null,null,null,null,"130-300-200150","MIDLAND 2c FACE","290x90x162mm","","","CO","CO","M","130","TB"]
[null,null,null,null,null,null,null,null,null,null,null,null,null,null,null,null,null,null,null,null,null,null,null,null,null,null,null,null,null,null,null,null,null,null,null,null,null,null,null,null,null,null,null,null,null,null,null,"130-300-200160","MIDLAND 2c FINISHING","290x90x162mm","","","CO","CO","M","130","TB"]
[null,null,null,null,null,null,null,null,null,null,null,null,null,null,null,null,null,null,null,null,null,null,null,null,null,null,null,null,null,null,null,null,null,null,null,null,null,null,null,null,null,null,null,null,null,null,null,"130-300-200170","MIDLAND 2c 190mm FRACTION SNAP","190x90x162mm","","","CO","CO","M","130","TB"]
[null,null,null,null,null,null,null,null,null,null,null,null,null,null,null,null,null,null,null,null,null,null,null,null,null,null,null,null,null,null,null,null,null,null,null,null,null,null,null,null,null,null,null,null,null,null,null,"130-300-200180","MIDLAND FACE LONGREACH CORED","290x90x76mm","","","CO","CO","M","130","TB"]
[null,null,null,null,null,null,null,null,null,null,null,null,null,null,null,null,null,null,null,null,null,null,null,null,null,null,null,null,null,null,null,null,null,null,null,null,null,null,null,null,null,null,null,null,null,null,null,"130-300-200190","MIDLAND FACE LONGREACH SOLID","290x90x76mm","","","CO","CO","M","130","TB"]
[null,null,null,null,null,null,null,null,null,null,null,null,null,null,null,null,null,null,null,null,null,null,null,null,null,null,null,null,null,null,null,null,null,null,null,null,null,null,null,null,null,null,null,null,null,null,null,"130-300-200250","MIDLAND 1c FACE CORED","230x110x76mm - CLASSIC RANGE","","","CO","CO","M","130","TB"]
[null,null,null,null,null,null,null,null,null,null,null,null,null,null,null,null,null,null,null,null,null,null,null,null,null,null,null,null,null,null,null,null,null,null,null,null,null,null,null,null,null,null,null,null,null,null,null,"130-300-200275","MIDLAND 1c FACE SOLID","230x110x76mm - CLASSIC RANGE","","","CO","CO","M","130","TB"]
[null,null,null,null,null,null,null,null,null,null,null,null,null,null,null,null,null,null,null,null,null,null,null,null,null,null,null,null,null,null,null,null,null,null,null,null,null,null,null,null,null,null,null,null,null,null,null,"130-300-200280","MIDLAND 1c FACE CORED","230x110x76mm - REVIVAL RANGE","","","CO","CO","M","130","TB"]
[null,null,null,null,null,null,null,null,null,null,null,null,null,null,null,null,null,null,null,null,null,null,null,null,null,null,null,null,null,null,null,null,null,null,null,null,null,null,null,null,null,null,null,null,null,null,null,"130-300-200285","MIDLAND 1c FACE SOLID","230x110x76mm - REVIVAL RANGE","","","CO","CO","M","130","TB"]
[null,null,null,null,null,null,null,null,null,null,null,null,null,null,null,null,null,null,null,null,null,null,null,null,null,null,null,null,null,null,null,null,null,null,null,null,null,null,null,null,null,null,null,null,null,null,null,"130-300-200295","MIDLAND TUMBLING SURCHARGE","1c BRICKS ONLY","","","CO","CO","M","130","TB"]
[null,null,null,null,null,null,null,null,null,null,null,null,null,null,null,null,null,null,null,null,null,null,null,null,null,null,null,null,null,null,null,null,null,null,null,null,null,null,null,null,null,null,null,null,null,null,null,"130-300-200300","MIDLAND COMMON CORED","230x110x76mm","","","CO","CO","M","130","TB"]
[null,null,null,null,null,null,null,null,null,null,null,null,null,null,null,null,null,null,null,null,null,null,null,null,null,null,null,null,null,null,null,null,null,null,null,null,null,null,null,null,null,null,null,null,null,null,null,"130-300-200350","MIDLAND COMMON SOLID","230x110x76mm","","","CO","CO","M","130","TB"]
[null,null,null,null,null,null,null,null,null,null,null,null,null,null,null,null,null,null,null,null,null,null,null,null,null,null,null,null,null,null,null,null,null,null,null,null,null,null,null,null,null,null,null,null,null,null,null,"130-315-100300","MIDLAND MAXIBRICK","305x90x162mm","","","CO","CO","M","130","TB"]
[null,null,null,null,null,null,null,null,null,null,null,null,null,null,null,null,null,null,null,null,null,null,null,null,null,null,null,null,null,null,null,null,null,null,null,null,null,null,null,null,null,null,null,null,null,null,null,"130-315-100351","MIDLAND TIEDOWN MAXI","305x90x162mm","","","CO","CO","M","130","TB"]
[null,null,null,null,null,null,null,null,null,null,null,null,null,null,null,null,null,null,null,null,null,null,null,null,null,null,null,null,null,null,null,null,null,null,null,null,null,null,null,null,null,null,null,null,null,null,null,"130-315-100400","MIDLAND LONGREACH CORED","305x90x76mm","","","CO","CO","M","130","TB"]
[null,null,null,null,null,null,null,null,null,null,null,null,null,null,null,null,null,null,null,null,null,null,null,null,null,null,null,null,null,null,null,null,null,null,null,null,null,null,null,null,null,null,null,null,null,null,null,"130-315-100500","MIDLAND LONGREACH SOLID","305x90x76mm","","","CO","CO","M","130","TB"]
[null,null,null,null,null,null,null,null,null,null,null,null,null,null,null,null,null,null,null,null,null,null,null,null,null,null,null,null,null,null,null,null,null,null,null,null,null,null,null,null,null,null,null,null,null,null,null,"130-315-100600","MIDLAND MODULAR SPLITS","290x90x33mm","","","CO","CO","M","130","NO"]
[null,null,null,null,null,null,null,null,null,null,null,null,null,null,null,null,null,null,null,null,null,null,null,null,null,null,null,null,null,null,null,null,null,null,null,null,null,null,null,null,null,null,null,null,null,null,null,"130-390-100100","MIDLAND FASTWALL 940mm","BRICK LINTEL","","","CO","CO","M","130","NO"]
[null,null,null,null,null,null,null,null,null,null,null,null,null,null,null,null,null,null,null,null,null,null,null,null,null,null,null,null,null,null,null,null,null,null,null,null,null,null,null,null,null,null,null,null,null,null,null,"130-390-100200","MIDLAND FASTWALL 1250mm","BRICK LINTEL","","","CO","CO","M","130","NO"]
[null,null,null,null,null,null,null,null,null,null,null,null,null,null,null,null,null,null,null,null,null,null,null,null,null,null,null,null,null,null,null,null,null,null,null,null,null,null,null,null,null,null,null,null,null,null,null,"130-390-100300","MIDLAND FASTWALL 1570mm","BRICK LINTEL","","","CO","CO","M","130","NO"]
[null,null,null,null,null,null,null,null,null,null,null,null,null,null,null,null,null,null,null,null,null,null,null,null,null,null,null,null,null,null,null,null,null,null,null,null,null,null,null,null,null,null,null,null,null,null,null,"130-390-100400","MIDLAND FASTWALL 1890mm","BRICK LINTEL","","","CO","CO","M","130","NO"]
[null,null,null,null,null,null,null,null,null,null,null,null,null,null,null,null,null,null,null,null,null,null,null,null,null,null,null,null,null,null,null,null,null,null,null,null,null,null,null,null,null,null,null,null,null,null,null,"130-390-100500","MIDLAND FASTWALL 2200mm","BRICK LINTEL","","","CO","CO","M","130","NO"]
[null,null,null,null,null,null,null,null,null,null,null,null,null,null,null,null,null,null,null,null,null,null,null,null,null,null,null,null,null,null,null,null,null,null,null,null,null,null,null,null,null,null,null,null,null,null,null,"130-390-100600","MIDLAND FASTWALL 2500mm","BRICK LINTEL","","","CO","CO","M","130","NO"]
[null,null,null,null,null,null,null,null,null,null,null,null,null,null,null,null,null,null,null,null,null,null,null,null,null,null,null,null,null,null,null,null,null,null,null,null,null,null,null,null,null,null,null,null,null,null,null,"130-390-100700","MIDLAND FASTWALL 2830mm","BRICK LINTEL","","","CO","CO","M","130","NO"]
[null,null,null,null,null,null,null,null,null,null,null,null,null,null,null,null,null,null,null,null,null,null,null,null,null,null,null,null,null,null,null,null,null,null,null,null,null,null,null,null,null,null,null,null,null,null,null,"130-390-100800","MIDLAND FASTWALL 3140mm","BRICK LINTEL","","","CO","CO","M","130","EA"]
[null,null,null,null,null,null,null,null,null,null,null,null,null,null,null,null,null,null,null,null,null,null,null,null,null,null,null,null,null,null,null,null,null,null,null,null,null,null,null,null,null,null,null,null,null,null,null,"130-390-100900","MIDLAND FASTWALL LINTEL","DELIVERY PER LINTEL","","","CO","CO","M","130","TB"]
[null,null,null,null,null,null,null,null,null,null,null,null,null,null,null,null,null,null,null,null,null,null,null,null,null,null,null,null,null,null,null,null,null,null,null,null,null,null,null,null,null,null,null,null,null,null,null,"130-395-100100","MIDLAND ABBTF TRAINING FUND 1c","BRICKS","","","CO","CO","M","130","TB"]
[null,null,null,null,null,null,null,null,null,null,null,null,null,null,null,null,null,null,null,null,null,null,null,null,null,null,null,null,null,null,null,null,null,null,null,null,null,null,null,null,null,null,null,null,null,null,null,"130-395-100200","MIDLAND ABBTF TRAINING FUND 2c","BRICKS","","","CO","CO","M","130","TB"]
[null,null,null,null,null,null,null,null,null,null,null,null,null,null,null,null,null,null,null,null,null,null,null,null,null,null,null,null,null,null,null,null,null,null,null,null,null,null,null,null,null,null,null,null,null,null,null,"130-398-100100","MIDLAND AREA LOADING","AS PER QUOTE","","","CO","CO","M","130","TB"]
[null,null,null,null,null,null,null,null,null,null,null,null,null,null,null,null,null,null,null,null,null,null,null,null,null,null,null,null,null,null,null,null,null,null,null,null,null,null,null,null,null,null,null,null,null,null,null,"130-398-100200","MIDLAND CARTAGE ZONE 1","1c FACE CORED","","","CO","CO","M","130","TB"]
[null,null,null,null,null,null,null,null,null,null,null,null,null,null,null,null,null,null,null,null,null,null,null,null,null,null,null,null,null,null,null,null,null,null,null,null,null,null,null,null,null,null,null,null,null,null,null,"130-398-100250","MIDLAND CARTAGE ZONE 1","1c FACE SOLID","","","CO","CO","M","130","TB"]
[null,null,null,null,null,null,null,null,null,null,null,null,null,null,null,null,null,null,null,null,null,null,null,null,null,null,null,null,null,null,null,null,null,null,null,null,null,null,null,null,null,null,null,null,null,null,null,"130-398-100300","MIDLAND CARTAGE ZONE 1","LONGREACH CORED","","","CO","CO","M","130","TB"]
[null,null,null,null,null,null,null,null,null,null,null,null,null,null,null,null,null,null,null,null,null,null,null,null,null,null,null,null,null,null,null,null,null,null,null,null,null,null,null,null,null,null,null,null,null,null,null,"130-398-100350","MIDLAND CARTAGE ZONE 1","LONGREACH SOLID","","","CO","CO","M","130","TB"]
[null,null,null,null,null,null,null,null,null,null,null,null,null,null,null,null,null,null,null,null,null,null,null,null,null,null,null,null,null,null,null,null,null,null,null,null,null,null,null,null,null,null,null,null,null,null,null,"130-398-100400","MIDLAND CARTAGE ZONE 1","FASTWALL / MAXIBRICK","","","CO","CO","M","130","TB"]
[null,null,null,null,null,null,null,null,null,null,null,null,null,null,null,null,null,null,null,null,null,null,null,null,null,null,null,null,null,null,null,null,null,null,null,null,null,null,null,null,null,null,null,null,null,null,null,"130-398-101000","MIDLAND CARTAGE ZONE 1","2c FACE","","","CO","CO","M","130","TB"]
[null,null,null,null,null,null,null,null,null,null,null,null,null,null,null,null,null,null,null,null,null,null,null,null,null,null,null,null,null,null,null,null,null,null,null,null,null,null,null,null,null,null,null,null,null,null,null,"130-398-101800","MIDLAND CARTAGE ZONE 2","2c FACE","","","CO","CO","M","130","TB"]
[null,null,null,null,null,null,null,null,null,null,null,null,null,null,null,null,null,null,null,null,null,null,null,null,null,null,null,null,null,null,null,null,null,null,null,null,null,null,null,null,null,null,null,null,null,null,null,"130-398-102100","MIDLAND CARTAGE ZONE 2","1c FACE CORED","","","CO","CO","M","130","TB"]
[null,null,null,null,null,null,null,null,null,null,null,null,null,null,null,null,null,null,null,null,null,null,null,null,null,null,null,null,null,null,null,null,null,null,null,null,null,null,null,null,null,null,null,null,null,null,null,"130-398-102150","MIDLAND CARTAGE ZONE 2","1c FACE SOLID","","","CO","CO","M","130","TB"]
[null,null,null,null,null,null,null,null,null,null,null,null,null,null,null,null,null,null,null,null,null,null,null,null,null,null,null,null,null,null,null,null,null,null,null,null,null,null,null,null,null,null,null,null,null,null,null,"130-398-102200","MIDLAND CARTAGE ZONE 2","LONGREACH CORED","","","CO","CO","M","130","TB"]
[null,null,null,null,null,null,null,null,null,null,null,null,null,null,null,null,null,null,null,null,null,null,null,null,null,null,null,null,null,null,null,null,null,null,null,null,null,null,null,null,null,null,null,null,null,null,null,"130-398-102250","MIDLAND CARTAGE ZONE 2","LONGREACH SOLID","","","CO","CO","M","130","TB"]
[null,null,null,null,null,null,null,null,null,null,null,null,null,null,null,null,null,null,null,null,null,null,null,null,null,null,null,null,null,null,null,null,null,null,null,null,null,null,null,null,null,null,null,null,null,null,null,"130-398-102300","MIDLAND CARTAGE ZONE 2","FASTWALL / MAXIBRICK","","","CO","CO","M","130","TB"]
[null,null,null,null,null,null,null,null,null,null,null,null,null,null,null,null,null,null,null,null,null,null,null,null,null,null,null,null,null,null,null,null,null,null,null,null,null,null,null,null,null,null,null,null,null,null,null,"130-398-102305","MIDLAND CARTAGE ZONE SW1","2c FACE","","","CO","CO","M","130","TB"]
[null,null,null,null,null,null,null,null,null,null,null,null,null,null,null,null,null,null,null,null,null,null,null,null,null,null,null,null,null,null,null,null,null,null,null,null,null,null,null,null,null,null,null,null,null,null,null,"130-398-102310","MIDLAND CARTAGE ZONE SW1","LONGREACH CORED","","","CO","CO","M","130","TB"]
[null,null,null,null,null,null,null,null,null,null,null,null,null,null,null,null,null,null,null,null,null,null,null,null,null,null,null,null,null,null,null,null,null,null,null,null,null,null,null,null,null,null,null,null,null,null,null,"130-398-102315","MIDLAND CARTAGE ZONE SW1","LONGREACH SOLID","","","CO","CO","M","130","TB"]
[null,null,null,null,null,null,null,null,null,null,null,null,null,null,null,null,null,null,null,null,null,null,null,null,null,null,null,null,null,null,null,null,null,null,null,null,null,null,null,null,null,null,null,null,null,null,null,"130-398-102320","MIDLAND CARTAGE ZONE SW1","1c FACE CORED","","","CO","CO","M","130","TB"]
[null,null,null,null,null,null,null,null,null,null,null,null,null,null,null,null,null,null,null,null,null,null,null,null,null,null,null,null,null,null,null,null,null,null,null,null,null,null,null,null,null,null,null,null,null,null,null,"130-398-102325","MIDLAND CARTAGE ZONE SW1","1c FACE SOLID","","","CO","CO","M","130","TB"]
[null,null,null,null,null,null,null,null,null,null,null,null,null,null,null,null,null,null,null,null,null,null,null,null,null,null,null,null,null,null,null,null,null,null,null,null,null,null,null,null,null,null,null,null,null,null,null,"130-398-102330","MIDLAND CARTAGE ZONE SW1","FASTWALL / MAXIBRICK","","","CO","CO","M","130","TB"]
[null,null,null,null,null,null,null,null,null,null,null,null,null,null,null,null,null,null,null,null,null,null,null,null,null,null,null,null,null,null,null,null,null,null,null,null,null,null,null,null,null,null,null,null,null,null,null,"130-398-102335","MIDLAND CARTAGE ZONE SW2","2c FACE","","","CO","CO","M","130","TB"]
[null,null,null,null,null,null,null,null,null,null,null,null,null,null,null,null,null,null,null,null,null,null,null,null,null,null,null,null,null,null,null,null,null,null,null,null,null,null,null,null,null,null,null,null,null,null,null,"130-398-102340","MIDLAND CARTAGE ZONE SW2","LONGREACH CORED","","","CO","CO","M","130","TB"]
[null,null,null,null,null,null,null,null,null,null,null,null,null,null,null,null,null,null,null,null,null,null,null,null,null,null,null,null,null,null,null,null,null,null,null,null,null,null,null,null,null,null,null,null,null,null,null,"130-398-102345","MIDLAND CARTAGE ZONE SW2","LONGREACH SOLID","","","CO","CO","M","130","TB"]
[null,null,null,null,null,null,null,null,null,null,null,null,null,null,null,null,null,null,null,null,null,null,null,null,null,null,null,null,null,null,null,null,null,null,null,null,null,null,null,null,null,null,null,null,null,null,null,"130-398-102350","MIDLAND CARTAGE ZONE SW2","1c FACE CORED","","","CO","CO","M","130","TB"]
[null,null,null,null,null,null,null,null,null,null,null,null,null,null,null,null,null,null,null,null,null,null,null,null,null,null,null,null,null,null,null,null,null,null,null,null,null,null,null,null,null,null,null,null,null,null,null,"130-398-102355","MIDLAND CARTAGE ZONE SW2","1c FACE SOLID","","","CO","CO","M","130","TB"]
[null,null,null,null,null,null,null,null,null,null,null,null,null,null,null,null,null,null,null,null,null,null,null,null,null,null,null,null,null,null,null,null,null,null,null,null,null,null,null,null,null,null,null,null,null,null,null,"130-398-102360","MIDLAND CARTAGE ZONE SW2","FASTWALL / MAXIBRICK","","","CO","CO","M","130","TB"]
[null,null,null,null,null,null,null,null,null,null,null,null,null,null,null,null,null,null,null,null,null,null,null,null,null,null,null,null,null,null,null,null,null,null,null,null,null,null,null,null,null,null,null,null,null,null,null,"130-398-102365","MIDLAND CARTAGE ZONE SW3","2c FACE","","","CO","CO","M","130","TB"]
[null,null,null,null,null,null,null,null,null,null,null,null,null,null,null,null,null,null,null,null,null,null,null,null,null,null,null,null,null,null,null,null,null,null,null,null,null,null,null,null,null,null,null,null,null,null,null,"130-398-102370","MIDLAND CARTAGE ZONE SW3","LONGREACH CORED","","","CO","CO","M","130","TB"]
[null,null,null,null,null,null,null,null,null,null,null,null,null,null,null,null,null,null,null,null,null,null,null,null,null,null,null,null,null,null,null,null,null,null,null,null,null,null,null,null,null,null,null,null,null,null,null,"130-398-102375","MIDLAND CARTAGE ZONE SW3","LONGREACH SOLID","","","CO","CO","M","130","TB"]
[null,null,null,null,null,null,null,null,null,null,null,null,null,null,null,null,null,null,null,null,null,null,null,null,null,null,null,null,null,null,null,null,null,null,null,null,null,null,null,null,null,null,null,null,null,null,null,"130-398-102380","MIDLAND CARTAGE ZONE SW3","1c FACE CORED","","","CO","CO","M","130","TB"]
[null,null,null,null,null,null,null,null,null,null,null,null,null,null,null,null,null,null,null,null,null,null,null,null,null,null,null,null,null,null,null,null,null,null,null,null,null,null,null,null,null,null,null,null,null,null,null,"130-398-102385","MIDLAND CARTAGE ZONE SW3","1c FACE SOLID","","","CO","CO","M","130","TB"]
[null,null,null,null,null,null,null,null,null,null,null,null,null,null,null,null,null,null,null,null,null,null,null,null,null,null,null,null,null,null,null,null,null,null,null,null,null,null,null,null,null,null,null,null,null,null,null,"130-398-102390","MIDLAND CARTAGE ZONE SW3","FASTWALL / MAXIBRICK","","","CO","CO","M","130","TB"]
[null,null,null,null,null,null,null,null,null,null,null,null,null,null,null,null,null,null,null,null,null,null,null,null,null,null,null,null,null,null,null,null,null,null,null,null,null,null,null,null,null,null,null,null,null,null,null,"130-398-102395","MIDLAND CARTAGE ZONE SW4","2c FACE","","","CO","CO","M","130","TB"]
[null,null,null,null,null,null,null,null,null,null,null,null,null,null,null,null,null,null,null,null,null,null,null,null,null,null,null,null,null,null,null,null,null,null,null,null,null,null,null,null,null,null,null,null,null,null,null,"130-398-102405","MIDLAND CARTAGE ZONE SW4","LONGREACH CORED","","","CO","CO","M","130","TB"]
[null,null,null,null,null,null,null,null,null,null,null,null,null,null,null,null,null,null,null,null,null,null,null,null,null,null,null,null,null,null,null,null,null,null,null,null,null,null,null,null,null,null,null,null,null,null,null,"130-398-102410","MIDLAND CARTAGE ZONE SW4","LONGREACH SOLID","","","CO","CO","M","130","TB"]
[null,null,null,null,null,null,null,null,null,null,null,null,null,null,null,null,null,null,null,null,null,null,null,null,null,null,null,null,null,null,null,null,null,null,null,null,null,null,null,null,null,null,null,null,null,null,null,"130-398-102415","MIDLAND CARTAGE ZONE SW4","1c FACE CORED","","","CO","CO","M","130","TB"]
[null,null,null,null,null,null,null,null,null,null,null,null,null,null,null,null,null,null,null,null,null,null,null,null,null,null,null,null,null,null,null,null,null,null,null,null,null,null,null,null,null,null,null,null,null,null,null,"130-398-102420","MIDLAND CARTAGE ZONE SW4","1c FACE SOLID","","","CO","CO","M","130","TB"]
[null,null,null,null,null,null,null,null,null,null,null,null,null,null,null,null,null,null,null,null,null,null,null,null,null,null,null,null,null,null,null,null,null,null,null,null,null,null,null,null,null,null,null,null,null,null,null,"130-398-102425","MIDLAND CARTAGE ZONE SW4","FASTWALL / MAXIBRICK","","","CO","CO","M","130","TB"]
[null,null,null,null,null,null,null,null,null,null,null,null,null,null,null,null,null,null,null,null,null,null,null,null,null,null,null,null,null,null,null,null,null,null,null,null,null,null,null,null,null,null,null,null,null,null,null,"130-398-102430","MIDLAND CARTAGE ZONE SW5","2c FACE","","","CO","CO","M","130","TB"]
[null,null,null,null,null,null,null,null,null,null,null,null,null,null,null,null,null,null,null,null,null,null,null,null,null,null,null,null,null,null,null,null,null,null,null,null,null,null,null,null,null,null,null,null,null,null,null,"130-398-102435","MIDLAND CARTAGE ZONE SW5","LONGREACH CORED","","","CO","CO","M","130","TB"]
[null,null,null,null,null,null,null,null,null,null,null,null,null,null,null,null,null,null,null,null,null,null,null,null,null,null,null,null,null,null,null,null,null,null,null,null,null,null,null,null,null,null,null,null,null,null,null,"130-398-102440","MIDLAND CARTAGE ZONE SW5","LONGREACH SOLID","","","CO","CO","M","130","TB"]
[null,null,null,null,null,null,null,null,null,null,null,null,null,null,null,null,null,null,null,null,null,null,null,null,null,null,null,null,null,null,null,null,null,null,null,null,null,null,null,null,null,null,null,null,null,null,null,"130-398-102445","MIDLAND CARTAGE ZONE SW5","1c FACE CORED","","","CO","CO","M","130","TB"]
[null,null,null,null,null,null,null,null,null,null,null,null,null,null,null,null,null,null,null,null,null,null,null,null,null,null,null,null,null,null,null,null,null,null,null,null,null,null,null,null,null,null,null,null,null,null,null,"130-398-102450","MIDLAND CARTAGE ZONE SW5","1c FACE SOLID","","","CO","CO","M","130","TB"]
[null,null,null,null,null,null,null,null,null,null,null,null,null,null,null,null,null,null,null,null,null,null,null,null,null,null,null,null,null,null,null,null,null,null,null,null,null,null,null,null,null,null,null,null,null,null,null,"130-398-102455","MIDLAND CARTAGE ZONE SW5","FASTWALL / MAXIBRICK","","","CO","CO","M","130","EA"]
[null,null,null,null,null,null,null,null,null,null,null,null,null,null,null,null,null,null,null,null,null,null,null,null,null,null,null,null,null,null,null,null,null,null,null,null,null,null,null,null,null,null,null,null,null,null,null,"130-398-200100","MIDLAND CARTAGE ZONE 1","MINIMUM CARTAGE","","","CO","CO","M","130","EA"]
[null,null,null,null,null,null,null,null,null,null,null,null,null,null,null,null,null,null,null,null,null,null,null,null,null,null,null,null,null,null,null,null,null,null,null,null,null,null,null,null,null,null,null,null,null,null,null,"130-398-200110","MIDLAND CARTAGE ZONE 2","MINIMUM CARTAGE","","","CO","CO","M","130","EA"]
[null,null,null,null,null,null,null,null,null,null,null,null,null,null,null,null,null,null,null,null,null,null,null,null,null,null,null,null,null,null,null,null,null,null,null,null,null,null,null,null,null,null,null,null,null,null,null,"130-398-200120","MIDLAND CARTAGE ZONE SW1","MINIMUM CARTAGE","","","CO","CO","M","130","EA"]
[null,null,null,null,null,null,null,null,null,null,null,null,null,null,null,null,null,null,null,null,null,null,null,null,null,null,null,null,null,null,null,null,null,null,null,null,null,null,null,null,null,null,null,null,null,null,null,"130-398-200130","MIDLAND CARTAGE ZONE SW2 & SW3","MINIMUM CARTAGE","","","CO","CO","M","130","EA"]
[null,null,null,null,null,null,null,null,null,null,null,null,null,null,null,null,null,null,null,null,null,null,null,null,null,null,null,null,null,null,null,null,null,null,null,null,null,null,null,null,null,null,null,null,null,null,null,"130-398-200140","MIDLAND CARTAGE ZONE SW4","MINIMUM CARTAGE","","","CO","CO","M","130","EA"]
[null,null,null,null,null,null,null,null,null,null,null,null,null,null,null,null,null,null,null,null,null,null,null,null,null,null,null,null,null,null,null,null,null,null,null,null,null,null,null,null,null,null,null,null,null,null,null,"130-398-200150","MIDLAND CARTAGE ZONE SW5","MINIMUM CARTAGE","","","CO","CO","M","130"]
[]
[]
[null,null,null,null,null,null,null,null,null,null,null,null,null,null,null,null,null,null,null,null,null,null,null,null,null,null,null,null,null,null,null,null,null,null,null,null,null,null,null,null,null,null,null,null,null,null,null,"144-010-100100","CARTAGE ZONE 1","1C FACE CORED","","","CO","CO","M","144","TB"]
[null,null,null,null,null,null,null,null,null,null,null,null,null,null,null,null,null,null,null,null,null,null,null,null,null,null,null,null,null,null,null,null,null,null,null,null,null,null,null,null,null,null,null,null,null,null,null,"144-010-100200","CARTAGE ZONE 1","1C FACE SOLID","","","CO","CO","M","144","TB"]
[null,null,null,null,null,null,null,null,null,null,null,null,null,null,null,null,null,null,null,null,null,null,null,null,null,null,null,null,null,null,null,null,null,null,null,null,null,null,null,null,null,null,null,null,null,null,null,"144-010-100300","CARTAGE ZONE 1","LONGREACH CORED","","","CO","CO","M","144","TB"]
[null,null,null,null,null,null,null,null,null,null,null,null,null,null,null,null,null,null,null,null,null,null,null,null,null,null,null,null,null,null,null,null,null,null,null,null,null,null,null,null,null,null,null,null,null,null,null,"144-010-100400","CARTAGE ZONE 1","LONGREACH SOLID","","","CO","CO","M","144","TB"]
[null,null,null,null,null,null,null,null,null,null,null,null,null,null,null,null,null,null,null,null,null,null,null,null,null,null,null,null,null,null,null,null,null,null,null,null,null,null,null,null,null,null,null,null,null,null,null,"144-010-100500","CARTAGE ZONE 1","FASTWALL / MAXIBRICK","","","CO","CO","M","144","TB"]
[null,null,null,null,null,null,null,null,null,null,null,null,null,null,null,null,null,null,null,null,null,null,null,null,null,null,null,null,null,null,null,null,null,null,null,null,null,null,null,null,null,null,null,null,null,null,null,"144-010-100600","CARTAGE ZONE 1","2C FACE","","","CO","CO","M","144","TB"]
[null,null,null,null,null,null,null,null,null,null,null,null,null,null,null,null,null,null,null,null,null,null,null,null,null,null,null,null,null,null,null,null,null,null,null,null,null,null,null,null,null,null,null,null,null,null,null,"144-010-100700","CARTAGE ZONE 1","MINIMUM CARTAGE","","","CO","CO","M","144","EA"]
[null,null,null,null,null,null,null,null,null,null,null,null,null,null,null,null,null,null,null,null,null,null,null,null,null,null,null,null,null,null,null,null,null,null,null,null,null,null,null,null,null,null,null,null,null,null,null,"144-010-100800","CARTAGE ZONE 1","FASTWALL LINTEL","","","CO","CO","M","144","EA"]
[null,null,null,null,null,null,null,null,null,null,null,null,null,null,null,null,null,null,null,null,null,null,null,null,null,null,null,null,null,null,null,null,null,null,null,null,null,null,null,null,null,null,null,null,null,null,null,"144-010-200100","CARTAGE ZONE 2","1C FACE CORED","","","CO","CO","M","144","TB"]
[null,null,null,null,null,null,null,null,null,null,null,null,null,null,null,null,null,null,null,null,null,null,null,null,null,null,null,null,null,null,null,null,null,null,null,null,null,null,null,null,null,null,null,null,null,null,null,"144-010-200200","CARTAGE ZONE 2","1C FACE SOLID","","","CO","CO","M","144","TB"]
[null,null,null,null,null,null,null,null,null,null,null,null,null,null,null,null,null,null,null,null,null,null,null,null,null,null,null,null,null,null,null,null,null,null,null,null,null,null,null,null,null,null,null,null,null,null,null,"144-010-200300","CARTAGE ZONE 2","LONGREACH CORED","","","CO","CO","M","144","TB"]
[null,null,null,null,null,null,null,null,null,null,null,null,null,null,null,null,null,null,null,null,null,null,null,null,null,null,null,null,null,null,null,null,null,null,null,null,null,null,null,null,null,null,null,null,null,null,null,"144-010-200400","CARTAGE ZONE 2","LONGREACH SOLID","","","CO","CO","M","144","TB"]
[null,null,null,null,null,null,null,null,null,null,null,null,null,null,null,null,null,null,null,null,null,null,null,null,null,null,null,null,null,null,null,null,null,null,null,null,null,null,null,null,null,null,null,null,null,null,null,"144-010-200500","CARTAGE ZONE 2","FASTWALL / MAXIBRICK","","","CO","CO","M","144","TB"]
[null,null,null,null,null,null,null,null,null,null,null,null,null,null,null,null,null,null,null,null,null,null,null,null,null,null,null,null,null,null,null,null,null,null,null,null,null,null,null,null,null,null,null,null,null,null,null,"144-010-200600","CARTAGE ZONE 2","2C FACE","","","CO","CO","M","144","TB"]
[null,null,null,null,null,null,null,null,null,null,null,null,null,null,null,null,null,null,null,null,null,null,null,null,null,null,null,null,null,null,null,null,null,null,null,null,null,null,null,null,null,null,null,null,null,null,null,"144-010-200700","CARTAGE ZONE 2","MINIMUM CARTAGE","","","CO","CO","M","144","EA"]
[null,null,null,null,null,null,null,null,null,null,null,null,null,null,null,null,null,null,null,null,null,null,null,null,null,null,null,null,null,null,null,null,null,null,null,null,null,null,null,null,null,null,null,null,null,null,null,"144-010-200800","CARTAGE ZONE 2","FASTWALL LINTEL","","","CO","CO","M","144","EA"]
[null,null,null,null,null,null,null,null,null,null,null,null,null,null,null,null,null,null,null,null,null,null,null,null,null,null,null,null,null,null,null,null,null,null,null,null,null,null,null,null,null,null,null,null,null,null,null,"144-010-300100","CARTAGE ZONE 3","1C FACE CORED","","","CO","CO","M","144","TB"]
[null,null,null,null,null,null,null,null,null,null,null,null,null,null,null,null,null,null,null,null,null,null,null,null,null,null,null,null,null,null,null,null,null,null,null,null,null,null,null,null,null,null,null,null,null,null,null,"144-010-300200","CARTAGE ZONE 3","1C FACE SOLID","","","CO","CO","M","144","TB"]
[null,null,null,null,null,null,null,null,null,null,null,null,null,null,null,null,null,null,null,null,null,null,null,null,null,null,null,null,null,null,null,null,null,null,null,null,null,null,null,null,null,null,null,null,null,null,null,"144-010-300300","CARTAGE ZONE 3","LONGREACH CORED","","","CO","CO","M","144","TB"]
[null,null,null,null,null,null,null,null,null,null,null,null,null,null,null,null,null,null,null,null,null,null,null,null,null,null,null,null,null,null,null,null,null,null,null,null,null,null,null,null,null,null,null,null,null,null,null,"144-010-300400","CARTAGE ZONE 3","LONGREACH SOLID","","","CO","CO","M","144","TB"]
[null,null,null,null,null,null,null,null,null,null,null,null,null,null,null,null,null,null,null,null,null,null,null,null,null,null,null,null,null,null,null,null,null,null,null,null,null,null,null,null,null,null,null,null,null,null,null,"144-010-300500","CARTAGE ZONE 3","FASTWALL / MAXIBRICK","","","CO","CO","M","144","TB"]
[null,null,null,null,null,null,null,null,null,null,null,null,null,null,null,null,null,null,null,null,null,null,null,null,null,null,null,null,null,null,null,null,null,null,null,null,null,null,null,null,null,null,null,null,null,null,null,"144-010-300600","CARTAGE ZONE 3","2C FACE","","","CO","CO","M","144","TB"]
[null,null,null,null,null,null,null,null,null,null,null,null,null,null,null,null,null,null,null,null,null,null,null,null,null,null,null,null,null,null,null,null,null,null,null,null,null,null,null,null,null,null,null,null,null,null,null,"144-010-300700","CARTAGE ZONE 3","MINIMUM CARTAGE","","","CO","CO","M","144","EA"]
[null,null,null,null,null,null,null,null,null,null,null,null,null,null,null,null,null,null,null,null,null,null,null,null,null,null,null,null,null,null,null,null,null,null,null,null,null,null,null,null,null,null,null,null,null,null,null,"144-010-300800","CARTAGE ZONE 3","FASTWALL LINTEL","","","CO","CO","M","144","EA"]
[null,null,null,null,null,null,null,null,null,null,null,null,null,null,null,null,null,null,null,null,null,null,null,null,null,null,null,null,null,null,null,null,null,null,null,null,null,null,null,null,null,null,null,null,null,null,null,"144-010-400100","CARTAGE ZONE 4","1C FACE CORED","","","CO","CO","M","144","TB"]
[null,null,null,null,null,null,null,null,null,null,null,null,null,null,null,null,null,null,null,null,null,null,null,null,null,null,null,null,null,null,null,null,null,null,null,null,null,null,null,null,null,null,null,null,null,null,null,"144-010-400200","CARTAGE ZONE 4","1C FACE SOLID","","","CO","CO","M","144","TB"]
[null,null,null,null,null,null,null,null,null,null,null,null,null,null,null,null,null,null,null,null,null,null,null,null,null,null,null,null,null,null,null,null,null,null,null,null,null,null,null,null,null,null,null,null,null,null,null,"144-010-400300","CARTAGE ZONE 4","LONGREACH CORED","","","CO","CO","M","144","TB"]
[null,null,null,null,null,null,null,null,null,null,null,null,null,null,null,null,null,null,null,null,null,null,null,null,null,null,null,null,null,null,null,null,null,null,null,null,null,null,null,null,null,null,null,null,null,null,null,"144-010-400400","CARTAGE ZONE 4","LONGREACH SOLID","","","CO","CO","M","144","TB"]
[null,null,null,null,null,null,null,null,null,null,null,null,null,null,null,null,null,null,null,null,null,null,null,null,null,null,null,null,null,null,null,null,null,null,null,null,null,null,null,null,null,null,null,null,null,null,null,"144-010-400500","CARTAGE ZONE 4","FASTWALL / MAXIBRICK","","","CO","CO","M","144","TB"]
[null,null,null,null,null,null,null,null,null,null,null,null,null,null,null,null,null,null,null,null,null,null,null,null,null,null,null,null,null,null,null,null,null,null,null,null,null,null,null,null,null,null,null,null,null,null,null,"144-010-400600","CARTAGE ZONE 4","2C FACE","","","CO","CO","M","144","TB"]
[null,null,null,null,null,null,null,null,null,null,null,null,null,null,null,null,null,null,null,null,null,null,null,null,null,null,null,null,null,null,null,null,null,null,null,null,null,null,null,null,null,null,null,null,null,null,null,"144-010-400700","CARTAGE ZONE 4","MINIMUM CARTAGE","","","CO","CO","M","144","EA"]
[null,null,null,null,null,null,null,null,null,null,null,null,null,null,null,null,null,null,null,null,null,null,null,null,null,null,null,null,null,null,null,null,null,null,null,null,null,null,null,null,null,null,null,null,null,null,null,"144-010-400800","CARTAGE ZONE 4","FASTWALL LINTEL","","","CO","CO","M","144","EA"]
[null,null,null,null,null,null,null,null,null,null,null,null,null,null,null,null,null,null,null,null,null,null,null,null,null,null,null,null,null,null,null,null,null,null,null,null,null,null,null,null,null,null,null,null,null,null,null,"144-010-500100","CARTAGE ZONE 5","1C FACE CORED","","","CO","CO","M","144","TB"]
[null,null,null,null,null,null,null,null,null,null,null,null,null,null,null,null,null,null,null,null,null,null,null,null,null,null,null,null,null,null,null,null,null,null,null,null,null,null,null,null,null,null,null,null,null,null,null,"144-010-500200","CARTAGE ZONE 5","1C FACE SOLID","","","CO","CO","M","144","TB"]
[null,null,null,null,null,null,null,null,null,null,null,null,null,null,null,null,null,null,null,null,null,null,null,null,null,null,null,null,null,null,null,null,null,null,null,null,null,null,null,null,null,null,null,null,null,null,null,"144-010-500300","CARTAGE ZONE 5","LONGREACH CORED","","","CO","CO","M","144","TB"]
[null,null,null,null,null,null,null,null,null,null,null,null,null,null,null,null,null,null,null,null,null,null,null,null,null,null,null,null,null,null,null,null,null,null,null,null,null,null,null,null,null,null,null,null,null,null,null,"144-010-500400","CARTAGE ZONE 5","LONGREACH SOLID","","","CO","CO","M","144","TB"]
[null,null,null,null,null,null,null,null,null,null,null,null,null,null,null,null,null,null,null,null,null,null,null,null,null,null,null,null,null,null,null,null,null,null,null,null,null,null,null,null,null,null,null,null,null,null,null,"144-010-500500","CARTAGE ZONE 5","FASTWALL / MAXIBRICK","","","CO","CO","M","144","TB"]
[null,null,null,null,null,null,null,null,null,null,null,null,null,null,null,null,null,null,null,null,null,null,null,null,null,null,null,null,null,null,null,null,null,null,null,null,null,null,null,null,null,null,null,null,null,null,null,"144-010-500600","CARTAGE ZONE 5","2C FACE","","","CO","CO","M","144","TB"]
[null,null,null,null,null,null,null,null,null,null,null,null,null,null,null,null,null,null,null,null,null,null,null,null,null,null,null,null,null,null,null,null,null,null,null,null,null,null,null,null,null,null,null,null,null,null,null,"144-010-500700","CARTAGE ZONE 5","MINIMUM CARTAGE","","","CO","CO","M","144","EA"]
[null,null,null,null,null,null,null,null,null,null,null,null,null,null,null,null,null,null,null,null,null,null,null,null,null,null,null,null,null,null,null,null,null,null,null,null,null,null,null,null,null,null,null,null,null,null,null,"144-010-500800","CARTAGE ZONE 5","FASTWALL LINTEL","","","CO","CO","M","144","EA"]
[]
[]
[null,null,null,null,null,null,null,null,null,null,null,null,null,null,null,null,null,null,null,null,null,null,null,null,null,null,null,null,null,null,null,null,null,null,null,null,null,null,null,null,null,null,null,null,null,null,null,null,"Brickies Sand",null,null,null,null,null,null,null,"QT"]
[null,null,null,null,null,null,null,null,null,null,null,null,null,null,null,null,null,null,null,null,null,null,null,null,null,null,null,null,null,null,null,null,null,null,null,null,null,null,null,null,null,null,null,null,null,null,null,"145-100-100050","YELLOW BRICKIES SAND","AS PER QUOTE","","","CO","CO","M","145","EA"]
[null,null,null,null,null,null,null,null,null,null,null,null,null,null,null,null,null,null,null,null,null,null,null,null,null,null,null,null,null,null,null,null,null,null,null,null,null,null,null,null,null,null,null,null,null,null,null,"145-100-100100","BRICKIES SAND YELLOW 1m3","METRO AREA","","","CO","CO","M","145","EA"]
[null,null,null,null,null,null,null,null,null,null,null,null,null,null,null,null,null,null,null,null,null,null,null,null,null,null,null,null,null,null,null,null,null,null,null,null,null,null,null,null,null,null,null,null,null,null,null,"145-100-100150","BRICKIES SAND YELLOW 2m3","METRO AREA","","","CO","CO","M","145","EA"]
[null,null,null,null,null,null,null,null,null,null,null,null,null,null,null,null,null,null,null,null,null,null,null,null,null,null,null,null,null,null,null,null,null,null,null,null,null,null,null,null,null,null,null,null,null,null,null,"145-100-100200","BRICKIES SAND YELLOW 3m3","METRO AREA","","","CO","CO","M","145","EA"]
[null,null,null,null,null,null,null,null,null,null,null,null,null,null,null,null,null,null,null,null,null,null,null,null,null,null,null,null,null,null,null,null,null,null,null,null,null,null,null,null,null,null,null,null,null,null,null,"145-100-100250","BRICKIES SAND YELLOW 4m3","METRO AREA","","","CO","CO","M","145","EA"]
[null,null,null,null,null,null,null,null,null,null,null,null,null,null,null,null,null,null,null,null,null,null,null,null,null,null,null,null,null,null,null,null,null,null,null,null,null,null,null,null,null,null,null,null,null,null,null,"145-100-100300","BRICKIES SAND YELLOW 5m3","METRO AREA","","","CO","CO","M","145","EA"]
[null,null,null,null,null,null,null,null,null,null,null,null,null,null,null,null,null,null,null,null,null,null,null,null,null,null,null,null,null,null,null,null,null,null,null,null,null,null,null,null,null,null,null,null,null,null,null,"145-100-100350","BRICKIES SAND YELLOW 6m3","METRO AREA","","","CO","CO","M","145","EA"]
[null,null,null,null,null,null,null,null,null,null,null,null,null,null,null,null,null,null,null,null,null,null,null,null,null,null,null,null,null,null,null,null,null,null,null,null,null,null,null,null,null,null,null,null,null,null,null,"145-100-100400","BRICKIES SAND YELLOW 7m3","METRO AREA","","","CO","CO","M","145","EA"]
[null,null,null,null,null,null,null,null,null,null,null,null,null,null,null,null,null,null,null,null,null,null,null,null,null,null,null,null,null,null,null,null,null,null,null,null,null,null,null,null,null,null,null,null,null,null,null,"145-100-100450","BRICKIES SAND YELLOW 8m3","METRO AREA","","","CO","CO","M","145","EA"]
[null,null,null,null,null,null,null,null,null,null,null,null,null,null,null,null,null,null,null,null,null,null,null,null,null,null,null,null,null,null,null,null,null,null,null,null,null,null,null,null,null,null,null,null,null,null,null,"145-100-100500","BRICKIES SAND YELLOW 9m3","METRO AREA","","","CO","CO","M","145","EA"]
[null,null,null,null,null,null,null,null,null,null,null,null,null,null,null,null,null,null,null,null,null,null,null,null,null,null,null,null,null,null,null,null,null,null,null,null,null,null,null,null,null,null,null,null,null,null,null,"145-100-100550","BRICKIES SAND YELLOW 10m3","METRO AREA","","","CO","CO","M","145","EA"]
[null,null,null,null,null,null,null,null,null,null,null,null,null,null,null,null,null,null,null,null,null,null,null,null,null,null,null,null,null,null,null,null,null,null,null,null,null,null,null,null,null,null,null,null,null,null,null,"145-100-100600","BRICKIES SAND YELLOW 11m3","METRO AREA","","","CO","CO","M","145","EA"]
[null,null,null,null,null,null,null,null,null,null,null,null,null,null,null,null,null,null,null,null,null,null,null,null,null,null,null,null,null,null,null,null,null,null,null,null,null,null,null,null,null,null,null,null,null,null,null,"145-100-100650","BRICKIES SAND YELLOW 12m3","METRO AREA","","","CO","CO","M","145","EA"]
[null,null,null,null,null,null,null,null,null,null,null,null,null,null,null,null,null,null,null,null,null,null,null,null,null,null,null,null,null,null,null,null,null,null,null,null,null,null,null,null,null,null,null,null,null,null,null,"145-100-200100","BRICKIES SAND YELLOW 1m3","OUTER AREA","","","CO","CO","M","145","EA"]
[null,null,null,null,null,null,null,null,null,null,null,null,null,null,null,null,null,null,null,null,null,null,null,null,null,null,null,null,null,null,null,null,null,null,null,null,null,null,null,null,null,null,null,null,null,null,null,"145-100-200150","BRICKIES SAND YELLOW 2m3","OUTER AREA","","","CO","CO","M","145","EA"]
[null,null,null,null,null,null,null,null,null,null,null,null,null,null,null,null,null,null,null,null,null,null,null,null,null,null,null,null,null,null,null,null,null,null,null,null,null,null,null,null,null,null,null,null,null,null,null,"145-100-200200","BRICKIES SAND YELLOW 3m3","OUTER AREA","","","CO","CO","M","145","EA"]
[null,null,null,null,null,null,null,null,null,null,null,null,null,null,null,null,null,null,null,null,null,null,null,null,null,null,null,null,null,null,null,null,null,null,null,null,null,null,null,null,null,null,null,null,null,null,null,"145-100-200250","BRICKIES SAND YELLOW 4m3","OUTER AREA","","","CO","CO","M","145","EA"]
[null,null,null,null,null,null,null,null,null,null,null,null,null,null,null,null,null,null,null,null,null,null,null,null,null,null,null,null,null,null,null,null,null,null,null,null,null,null,null,null,null,null,null,null,null,null,null,"145-100-200300","BRICKIES SAND YELLOW 5m3","OUTER AREA","","","CO","CO","M","145","EA"]
[null,null,null,null,null,null,null,null,null,null,null,null,null,null,null,null,null,null,null,null,null,null,null,null,null,null,null,null,null,null,null,null,null,null,null,null,null,null,null,null,null,null,null,null,null,null,null,"145-100-200350","BRICKIES SAND YELLOW 6m3","OUTER AREA","","","CO","CO","M","145","EA"]
[null,null,null,null,null,null,null,null,null,null,null,null,null,null,null,null,null,null,null,null,null,null,null,null,null,null,null,null,null,null,null,null,null,null,null,null,null,null,null,null,null,null,null,null,null,null,null,"145-100-200400","BRICKIES SAND YELLOW 7m3","OUTER AREA","","","CO","CO","M","145","EA"]
[null,null,null,null,null,null,null,null,null,null,null,null,null,null,null,null,null,null,null,null,null,null,null,null,null,null,null,null,null,null,null,null,null,null,null,null,null,null,null,null,null,null,null,null,null,null,null,"145-100-200450","BRICKIES SAND YELLOW 8m3","OUTER AREA","","","CO","CO","M","145","EA"]
[null,null,null,null,null,null,null,null,null,null,null,null,null,null,null,null,null,null,null,null,null,null,null,null,null,null,null,null,null,null,null,null,null,null,null,null,null,null,null,null,null,null,null,null,null,null,null,"145-100-200500","BRICKIES SAND YELLOW 9m3","OUTER AREA","","","CO","CO","M","145","EA"]
[null,null,null,null,null,null,null,null,null,null,null,null,null,null,null,null,null,null,null,null,null,null,null,null,null,null,null,null,null,null,null,null,null,null,null,null,null,null,null,null,null,null,null,null,null,null,null,"145-100-200550","BRICKIES SAND YELLOW 10m3","OUTER AREA","","","CO","CO","M","145","EA"]
[null,null,null,null,null,null,null,null,null,null,null,null,null,null,null,null,null,null,null,null,null,null,null,null,null,null,null,null,null,null,null,null,null,null,null,null,null,null,null,null,null,null,null,null,null,null,null,"145-100-200600","BRICKIES SAND YELLOW 11m3","OUTER AREA","","","CO","CO","M","145","EA"]
[null,null,null,null,null,null,null,null,null,null,null,null,null,null,null,null,null,null,null,null,null,null,null,null,null,null,null,null,null,null,null,null,null,null,null,null,null,null,null,null,null,null,null,null,null,null,null,"145-100-200650","BRICKIES SAND YELLOW 12m3","OUTER AREA","","","CO","CO","M","145","EA"]
[null,null,null,null,null,null,null,null,null,null,null,null,null,null,null,null,null,null,null,null,null,null,null,null,null,null,null,null,null,null,null,null,null,null,null,null,null,null,null,null,null,null,null,null,null,null,null,"145-200-100100","BRICKIES SAND WHITE 1m3","METRO AREA","","","CO","CO","M","145","EA"]
[null,null,null,null,null,null,null,null,null,null,null,null,null,null,null,null,null,null,null,null,null,null,null,null,null,null,null,null,null,null,null,null,null,null,null,null,null,null,null,null,null,null,null,null,null,null,null,"145-200-100150","BRICKIES SAND WHITE 2m3","METRO AREA","","","CO","CO","M","145","EA"]
[null,null,null,null,null,null,null,null,null,null,null,null,null,null,null,null,null,null,null,null,null,null,null,null,null,null,null,null,null,null,null,null,null,null,null,null,null,null,null,null,null,null,null,null,null,null,null,"145-200-100200","BRICKIES SAND WHITE 3m3","METRO AREA","","","CO","CO","M","145","EA"]
[null,null,null,null,null,null,null,null,null,null,null,null,null,null,null,null,null,null,null,null,null,null,null,null,null,null,null,null,null,null,null,null,null,null,null,null,null,null,null,null,null,null,null,null,null,null,null,"145-200-100250","BRICKIES SAND WHITE 4m3","METRO AREA","","","CO","CO","M","145","EA"]
[null,null,null,null,null,null,null,null,null,null,null,null,null,null,null,null,null,null,null,null,null,null,null,null,null,null,null,null,null,null,null,null,null,null,null,null,null,null,null,null,null,null,null,null,null,null,null,"145-200-100300","BRICKIES SAND WHITE 5m3","METRO AREA","","","CO","CO","M","145","EA"]
[null,null,null,null,null,null,null,null,null,null,null,null,null,null,null,null,null,null,null,null,null,null,null,null,null,null,null,null,null,null,null,null,null,null,null,null,null,null,null,null,null,null,null,null,null,null,null,"145-200-100350","BRICKIES SAND WHITE 6m3","METRO AREA","","","CO","CO","M","145","EA"]
[null,null,null,null,null,null,null,null,null,null,null,null,null,null,null,null,null,null,null,null,null,null,null,null,null,null,null,null,null,null,null,null,null,null,null,null,null,null,null,null,null,null,null,null,null,null,null,"145-200-100400","BRICKIES SAND WHITE 7m3","METRO AREA","","","CO","CO","M","145","EA"]
[null,null,null,null,null,null,null,null,null,null,null,null,null,null,null,null,null,null,null,null,null,null,null,null,null,null,null,null,null,null,null,null,null,null,null,null,null,null,null,null,null,null,null,null,null,null,null,"145-200-100450","BRICKIES SAND WHITE 8m3","METRO AREA","","","CO","CO","M","145","EA"]
[null,null,null,null,null,null,null,null,null,null,null,null,null,null,null,null,null,null,null,null,null,null,null,null,null,null,null,null,null,null,null,null,null,null,null,null,null,null,null,null,null,null,null,null,null,null,null,"145-200-100500","BRICKIES SAND WHITE 9m3","METRO AREA","","","CO","CO","M","145","EA"]
[null,null,null,null,null,null,null,null,null,null,null,null,null,null,null,null,null,null,null,null,null,null,null,null,null,null,null,null,null,null,null,null,null,null,null,null,null,null,null,null,null,null,null,null,null,null,null,"145-200-100550","BRICKIES SAND WHITE 10m3","METRO AREA","","","CO","CO","M","145","EA"]
[null,null,null,null,null,null,null,null,null,null,null,null,null,null,null,null,null,null,null,null,null,null,null,null,null,null,null,null,null,null,null,null,null,null,null,null,null,null,null,null,null,null,null,null,null,null,null,"145-200-200100","BRICKIES SAND WHITE 1m3","OUTER AREA","","","CO","CO","M","145","EA"]
[null,null,null,null,null,null,null,null,null,null,null,null,null,null,null,null,null,null,null,null,null,null,null,null,null,null,null,null,null,null,null,null,null,null,null,null,null,null,null,null,null,null,null,null,null,null,null,"145-200-200150","BRICKIES SAND WHITE 2m3","OUTER AREA","","","CO","CO","M","145","EA"]
[null,null,null,null,null,null,null,null,null,null,null,null,null,null,null,null,null,null,null,null,null,null,null,null,null,null,null,null,null,null,null,null,null,null,null,null,null,null,null,null,null,null,null,null,null,null,null,"145-200-200200","BRICKIES SAND WHITE 3m3","OUTER AREA","","","CO","CO","M","145","EA"]
[null,null,null,null,null,null,null,null,null,null,null,null,null,null,null,null,null,null,null,null,null,null,null,null,null,null,null,null,null,null,null,null,null,null,null,null,null,null,null,null,null,null,null,null,null,null,null,"145-200-200250","BRICKIES SAND WHITE 4m3","OUTER AREA","","","CO","CO","M","145","EA"]
[null,null,null,null,null,null,null,null,null,null,null,null,null,null,null,null,null,null,null,null,null,null,null,null,null,null,null,null,null,null,null,null,null,null,null,null,null,null,null,null,null,null,null,null,null,null,null,"145-200-200300","BRICKIES SAND WHITE 5m3","OUTER AREA","","","CO","CO","M","145","EA"]
[null,null,null,null,null,null,null,null,null,null,null,null,null,null,null,null,null,null,null,null,null,null,null,null,null,null,null,null,null,null,null,null,null,null,null,null,null,null,null,null,null,null,null,null,null,null,null,"145-200-200350","BRICKIES SAND WHITE 6m3","OUTER AREA","","","CO","CO","M","145","EA"]
[null,null,null,null,null,null,null,null,null,null,null,null,null,null,null,null,null,null,null,null,null,null,null,null,null,null,null,null,null,null,null,null,null,null,null,null,null,null,null,null,null,null,null,null,null,null,null,"145-200-200400","BRICKIES SAND WHITE 7m3","OUTER AREA","","","CO","CO","M","145","EA"]
[null,null,null,null,null,null,null,null,null,null,null,null,null,null,null,null,null,null,null,null,null,null,null,null,null,null,null,null,null,null,null,null,null,null,null,null,null,null,null,null,null,null,null,null,null,null,null,"145-200-200500","BRICKIES SAND WHITE 9m3","OUTER AREA","","","CO","CO","M","145","EA"]
[null,null,null,null,null,null,null,null,null,null,null,null,null,null,null,null,null,null,null,null,null,null,null,null,null,null,null,null,null,null,null,null,null,null,null,null,null,null,null,null,null,null,null,null,null,null,null,"145-200-200550","BRICKIES SAND WHITE 10m3","OUTER AREA","","","CO","CO","M","145","IT"]
[null,null,null,null,null,null,null,null,null,null,null,null,null,null,null,null,null,null,null,null,null,null,null,null,null,null,null,null,null,null,null,null,null,null,null,null,null,null,null,null,null,null,null,null,null,null,null,"145-400-100100","SAND CONTINGENCY PRICE","(FOR FUTURE PRICE INCREASE)","","","CO","CO","M","145","IT"]
[null,null,null,null,null,null,null,null,null,null,null,null,null,null,null,null,null,null,null,null,null,null,null,null,null,null,null,null,null,null,null,null,null,null,null,null,null,null,null,null,null,null,null,null,null,null,null,"145-400-100200","SAND BRICKIES CMA CONTINGENCY","(FOR STANDARD MODELS INCREASE)","","","CO","CO","Z","145","M3"]
[null,null,null,null,null,null,null,null,null,null,null,null,null,null,null,null,null,null,null,null,null,null,null,null,null,null,null,null,null,null,null,null,null,null,null,null,null,null,null,null,null,null,null,null,null,null,null,"145-500-100100","SW BRICKIES YELLOW SAND PER M3","AUGUSTA AND SURROUNDING","","","CO","CO","M","145","M3"]
[null,null,null,null,null,null,null,null,null,null,null,null,null,null,null,null,null,null,null,null,null,null,null,null,null,null,null,null,null,null,null,null,null,null,null,null,null,null,null,null,null,null,null,null,null,null,null,"145-500-100150","SW BRICKIES YELLOW SAND PER M3","AUSTRALIND AND SURROUNDING","","","CO","CO","M","145","M3"]
[null,null,null,null,null,null,null,null,null,null,null,null,null,null,null,null,null,null,null,null,null,null,null,null,null,null,null,null,null,null,null,null,null,null,null,null,null,null,null,null,null,null,null,null,null,null,null,"145-500-100200","SW BRICKIES YELLOW SAND PER M3","BINNINGUP AND SURROUNDING","","","CO","CO","M","145","M3"]
[null,null,null,null,null,null,null,null,null,null,null,null,null,null,null,null,null,null,null,null,null,null,null,null,null,null,null,null,null,null,null,null,null,null,null,null,null,null,null,null,null,null,null,null,null,null,null,"145-500-100250","SW BRICKIES YELLOW SAND PER M3","BOYANUP AND SURROUNDING","","","CO","CO","M","145","M3"]
[null,null,null,null,null,null,null,null,null,null,null,null,null,null,null,null,null,null,null,null,null,null,null,null,null,null,null,null,null,null,null,null,null,null,null,null,null,null,null,null,null,null,null,null,null,null,null,"145-500-100300","SW BRICKIES YELLOW SAND PER M3","BRIDGETOWN AND SURROUNDING","","","CO","CO","M","145","M3"]
[null,null,null,null,null,null,null,null,null,null,null,null,null,null,null,null,null,null,null,null,null,null,null,null,null,null,null,null,null,null,null,null,null,null,null,null,null,null,null,null,null,null,null,null,null,null,null,"145-500-100350","SW BRICKIES YELLOW SAND PER M3","BRUNSWICK AND SURROUNDING","","","CO","CO","M","145","M3"]
[null,null,null,null,null,null,null,null,null,null,null,null,null,null,null,null,null,null,null,null,null,null,null,null,null,null,null,null,null,null,null,null,null,null,null,null,null,null,null,null,null,null,null,null,null,null,null,"145-500-100400","SW BRICKIES YELLOW SAND PER M3","BUNBURY AND SURROUNDING","","","CO","CO","M","145","M3"]
[null,null,null,null,null,null,null,null,null,null,null,null,null,null,null,null,null,null,null,null,null,null,null,null,null,null,null,null,null,null,null,null,null,null,null,null,null,null,null,null,null,null,null,null,null,null,null,"145-500-100450","SW BRICKIES YELLOW SAND PER M3","BUREKUP AND SURROUNDING","","","CO","CO","M","145","M3"]
[null,null,null,null,null,null,null,null,null,null,null,null,null,null,null,null,null,null,null,null,null,null,null,null,null,null,null,null,null,null,null,null,null,null,null,null,null,null,null,null,null,null,null,null,null,null,null,"145-500-100500","SW BRICKIES YELLOW SAND PER M3","BUSSELTON AND SURROUNDING","","","CO","CO","M","145","M3"]
[null,null,null,null,null,null,null,null,null,null,null,null,null,null,null,null,null,null,null,null,null,null,null,null,null,null,null,null,null,null,null,null,null,null,null,null,null,null,null,null,null,null,null,null,null,null,null,"145-500-100550","SW BRICKIES YELLOW SAND PER M3","CAPEL AND SURROUNDING","","","CO","CO","M","145","M3"]
[null,null,null,null,null,null,null,null,null,null,null,null,null,null,null,null,null,null,null,null,null,null,null,null,null,null,null,null,null,null,null,null,null,null,null,null,null,null,null,null,null,null,null,null,null,null,null,"145-500-100600","SW BRICKIES YELLOW SAND PER M3","COLLIE AND SURROUNDING","","","CO","CO","M","145","M3"]
[null,null,null,null,null,null,null,null,null,null,null,null,null,null,null,null,null,null,null,null,null,null,null,null,null,null,null,null,null,null,null,null,null,null,null,null,null,null,null,null,null,null,null,null,null,null,null,"145-500-100650","SW BRICKIES YELLOW SAND PER M3","COWARAMUP AND SURROUNDING","","","CO","CO","M","145","M3"]
[null,null,null,null,null,null,null,null,null,null,null,null,null,null,null,null,null,null,null,null,null,null,null,null,null,null,null,null,null,null,null,null,null,null,null,null,null,null,null,null,null,null,null,null,null,null,null,"145-500-100700","SW BRICKIES YELLOW SAND PER M3","DALYELLUP AND SURROUNDING","","","CO","CO","M","145","M3"]
[null,null,null,null,null,null,null,null,null,null,null,null,null,null,null,null,null,null,null,null,null,null,null,null,null,null,null,null,null,null,null,null,null,null,null,null,null,null,null,null,null,null,null,null,null,null,null,"145-500-100750","SW BRICKIES YELLOW SAND PER M3","DARDANUP AND SURROUNDING","","","CO","CO","M","145","M3"]
[null,null,null,null,null,null,null,null,null,null,null,null,null,null,null,null,null,null,null,null,null,null,null,null,null,null,null,null,null,null,null,null,null,null,null,null,null,null,null,null,null,null,null,null,null,null,null,"145-500-100800","SW BRICKIES YELLOW SAND PER M3","DONNYBROOK AND SURROUNDING","","","CO","CO","M","145","M3"]
[null,null,null,null,null,null,null,null,null,null,null,null,null,null,null,null,null,null,null,null,null,null,null,null,null,null,null,null,null,null,null,null,null,null,null,null,null,null,null,null,null,null,null,null,null,null,null,"145-500-100850","SW BRICKIES YELLOW SAND PER M3","DUNSBOROUGH AND SURROUNDING","","","CO","CO","M","145","M3"]
[null,null,null,null,null,null,null,null,null,null,null,null,null,null,null,null,null,null,null,null,null,null,null,null,null,null,null,null,null,null,null,null,null,null,null,null,null,null,null,null,null,null,null,null,null,null,null,"145-500-100900","SW BRICKIES YELLOW SAND PER M3","EATON AND SURROUNDING","","","CO","CO","M","145","M3"]
[null,null,null,null,null,null,null,null,null,null,null,null,null,null,null,null,null,null,null,null,null,null,null,null,null,null,null,null,null,null,null,null,null,null,null,null,null,null,null,null,null,null,null,null,null,null,null,"145-500-100950","SW BRICKIES YELLOW SAND PER M3","GELORUP AND SURROUNDING","","","CO","CO","M","145","M3"]
[null,null,null,null,null,null,null,null,null,null,null,null,null,null,null,null,null,null,null,null,null,null,null,null,null,null,null,null,null,null,null,null,null,null,null,null,null,null,null,null,null,null,null,null,null,null,null,"145-500-200050","SW BRICKIES YELLOW SAND PER M3","HARVEY AND SURROUNDING","","","CO","CO","M","145","M3"]
[null,null,null,null,null,null,null,null,null,null,null,null,null,null,null,null,null,null,null,null,null,null,null,null,null,null,null,null,null,null,null,null,null,null,null,null,null,null,null,null,null,null,null,null,null,null,null,"145-500-200100","SW BRICKIES YELLOW SAND PER M3","MARGARET RIVER AND SURROUNDING","","","CO","CO","M","145","M3"]
[null,null,null,null,null,null,null,null,null,null,null,null,null,null,null,null,null,null,null,null,null,null,null,null,null,null,null,null,null,null,null,null,null,null,null,null,null,null,null,null,null,null,null,null,null,null,null,"145-500-200150","SW BRICKIES YELLOW SAND PER M3","MYALUP AND SURROUNDING","","","CO","CO","M","145","M3"]
[null,null,null,null,null,null,null,null,null,null,null,null,null,null,null,null,null,null,null,null,null,null,null,null,null,null,null,null,null,null,null,null,null,null,null,null,null,null,null,null,null,null,null,null,null,null,null,"145-500-200200","SW BRICKIES YELLOW SAND PER M3","NANNUP AND SURROUNDING","","","CO","CO","M","145","M3"]
[null,null,null,null,null,null,null,null,null,null,null,null,null,null,null,null,null,null,null,null,null,null,null,null,null,null,null,null,null,null,null,null,null,null,null,null,null,null,null,null,null,null,null,null,null,null,null,"145-500-200250","SW BRICKIES YELLOW SAND PER M3","ROELANDS AND SURROUNDING","","","CO","CO","M","145","M3"]
[null,null,null,null,null,null,null,null,null,null,null,null,null,null,null,null,null,null,null,null,null,null,null,null,null,null,null,null,null,null,null,null,null,null,null,null,null,null,null,null,null,null,null,null,null,null,null,"145-500-200300","SW BRICKIES YELLOW SAND PER M3","STRATHAM AND SURROUNDING","","","CO","CO","M","145","M3"]
[null,null,null,null,null,null,null,null,null,null,null,null,null,null,null,null,null,null,null,null,null,null,null,null,null,null,null,null,null,null,null,null,null,null,null,null,null,null,null,null,null,null,null,null,null,null,null,"145-500-200350","SW BRICKIES YELLOW SAND PER M3","WAROONA AND SURROUNDING","","","CO","CO","M","145","M3"]
[null,null,null,null,null,null,null,null,null,null,null,null,null,null,null,null,null,null,null,null,null,null,null,null,null,null,null,null,null,null,null,null,null,null,null,null,null,null,null,null,null,null,null,null,null,null,null,"145-500-200400","SW BRICKIES YELLOW SAND PER M3","WITCHCLIFFE AND SURROUNDING","","","CO","CO","M","145","M3"]
[null,null,null,null,null,null,null,null,null,null,null,null,null,null,null,null,null,null,null,null,null,null,null,null,null,null,null,null,null,null,null,null,null,null,null,null,null,null,null,null,null,null,null,null,null,null,null,"145-500-200450","SW BRICKIES YELLOW SAND PER M3","YALLINGUP AND SURROUNDING","","","CO","CO","M","145","M3"]
[null,null,null,null,null,null,null,null,null,null,null,null,null,null,null,null,null,null,null,null,null,null,null,null,null,null,null,null,null,null,null,null,null,null,null,null,null,null,null,null,null,null,null,null,null,null,null,"145-500-200500","SW BRICKIES YELLOW SAND PER M3","YARLOOP AND SURROUNDING","","","CO","CO","M","145","QT"]
[null,null,null,null,null,null,null,null,null,null,null,null,null,null,null,null,null,null,null,null,null,null,null,null,null,null,null,null,null,null,null,null,null,null,null,null,null,null,null,null,null,null,null,null,null,null,null,"145-980-100050","SAND SUPPLY AREA LOADING","AS PER QUOTE","","","CO","CO","M","145"]
[]
[null,null,null,null,null,null,null,null,null,null,null,null,null,null,null,null,null,null,null,null,null,null,null,null,null,null,null,null,null,null,null,null,null,null,null,null,null,null,null,null,null,null,null,null,null,null,null,null,"Cement",null,null,null,null,null,null,null,"QT"]
[null,null,null,null,null,null,null,null,null,null,null,null,null,null,null,null,null,null,null,null,null,null,null,null,null,null,null,null,null,null,null,null,null,null,null,null,null,null,null,null,null,null,null,null,null,null,null,"150-010-100100","CEMENT AS PER QUOTE","","","","CO","CO","M","150","IT"]
[null,null,null,null,null,null,null,null,null,null,null,null,null,null,null,null,null,null,null,null,null,null,null,null,null,null,null,null,null,null,null,null,null,null,null,null,null,null,null,null,null,null,null,null,null,null,null,"150-090-100100","CEMENT DELIVERY EX BUNNINGS","AFTER 1ST DELIVERY & UNDER 28","9920133","","CO","CO","M","150","IT"]
[null,null,null,null,null,null,null,null,null,null,null,null,null,null,null,null,null,null,null,null,null,null,null,null,null,null,null,null,null,null,null,null,null,null,null,null,null,null,null,null,null,null,null,null,null,null,null,"150-090-100300","CEMENT DELIVERY EX COCKBURN","DELIVERY UNDER ONE TONNE","760536","","CO","CO","M","150","IT"]
[null,null,null,null,null,null,null,null,null,null,null,null,null,null,null,null,null,null,null,null,null,null,null,null,null,null,null,null,null,null,null,null,null,null,null,null,null,null,null,null,null,null,null,null,null,null,null,"150-090-100400","CEMENT DELIVERY EX COCKBURN","DELIVERY OVER ONE TONNE","","","CO","CO","M","150","TN"]
[null,null,null,null,null,null,null,null,null,null,null,null,null,null,null,null,null,null,null,null,null,null,null,null,null,null,null,null,null,null,null,null,null,null,null,null,null,null,null,null,null,null,null,null,null,null,null,"150-090-100500","CEMENT DELIVERY EX COCKBURN","OUTER METRO 1 PER TONNE","","","CO","CO","M","150","TN"]
[null,null,null,null,null,null,null,null,null,null,null,null,null,null,null,null,null,null,null,null,null,null,null,null,null,null,null,null,null,null,null,null,null,null,null,null,null,null,null,null,null,null,null,null,null,null,null,"150-090-100600","CEMENT DELIVERY EX COCKBURN","OUTER METRO 2 PER TONNE","","","CO","CO","M","150","BG"]
[null,null,null,null,null,null,null,null,null,null,null,null,null,null,null,null,null,null,null,null,null,null,null,null,null,null,null,null,null,null,null,null,null,null,null,null,null,null,null,null,null,null,null,null,null,null,null,"150-200-100100","CEMENT BRICKIES COASTAL (LITE)","COCKBURN 20KG BG METRO DELIVER","0766189","","CO","CO","M","150","BG"]
[null,null,null,null,null,null,null,null,null,null,null,null,null,null,null,null,null,null,null,null,null,null,null,null,null,null,null,null,null,null,null,null,null,null,null,null,null,null,null,null,null,null,null,null,null,null,null,"150-300-200200","LIME HYLIME COCKBURN","20KG BACK INSTORE","0760688","","CO","CO","M","150","BG"]
[null,null,null,null,null,null,null,null,null,null,null,null,null,null,null,null,null,null,null,null,null,null,null,null,null,null,null,null,null,null,null,null,null,null,null,null,null,null,null,null,null,null,null,null,null,null,null,"150-650-200200","CONCRETE MIX RAPID SET - SWAN","20KG BAG METRO DELIVERED","760152","","CO","CO","M","150","BG"]
[null,null,null,null,null,null,null,null,null,null,null,null,null,null,null,null,null,null,null,null,null,null,null,null,null,null,null,null,null,null,null,null,null,null,null,null,null,null,null,null,null,null,null,null,null,null,null,null,"Bricklaying Hardware"]
[null,null,null,null,null,null,null,null,null,null,null,null,null,null,null,null,null,null,null,null,null,null,null,null,null,null,null,null,null,null,null,null,null,null,null,null,null,null,null,null,null,null,null,null,null,null,null,"155-150-100100","CONCRETE WESTBUILD DRYMIX","20kg GENERAL PURPOSE RPDMC20","760236","","CO","CO","M","155","BG"]
[null,null,null,null,null,null,null,null,null,null,null,null,null,null,null,null,null,null,null,null,null,null,null,null,null,null,null,null,null,null,null,null,null,null,null,null,null,null,null,null,null,null,null,null,null,null,null,"155-200-100200","CAgroup ALDAMP 230x0.3mm x 10m","BITUMEN COATED ALUMINIUM","","","CO","CO","M","155","RL"]
[null,null,null,null,null,null,null,null,null,null,null,null,null,null,null,null,null,null,null,null,null,null,null,null,null,null,null,null,null,null,null,null,null,null,null,null,null,null,null,null,null,null,null,null,null,null,null,"155-300-100450","VENEER TIES SUIT SINGLE STOREY","MAX N2 WIND/MAX R2 CORROSION","","","CO","CO","M","155","EA"]
[null,null,null,null,null,null,null,null,null,null,null,null,null,null,null,null,null,null,null,null,null,null,null,null,null,null,null,null,null,null,null,null,null,null,null,null,null,null,null,null,null,null,null,null,null,null,null,"155-300-100560","VENEER TIES SUIT DOUBLE STOREY","MAX N3 WIND/MAX R4 CORROSION","","","CO","CO","M","155","EA"]
[null,null,null,null,null,null,null,null,null,null,null,null,null,null,null,null,null,null,null,null,null,null,null,null,null,null,null,null,null,null,null,null,null,null,null,null,null,null,null,null,null,null,null,null,null,null,null,"155-300-100880","JACK BRICK MESH","70mm x 46m GALVANISED","20010","","CO","CO","M","155","RL"]
[null,null,null,null,null,null,null,null,null,null,null,null,null,null,null,null,null,null,null,null,null,null,null,null,null,null,null,null,null,null,null,null,null,null,null,null,null,null,null,null,null,null,null,null,null,null,null,"155-350-100070","MAXI METALS  STAINLESS STEEL","3000x30x0.9mm 316","SS3031","","CO","CO","M","155","EA"]
[null,null,null,null,null,null,null,null,null,null,null,null,null,null,null,null,null,null,null,null,null,null,null,null,null,null,null,null,null,null,null,null,null,null,null,null,null,null,null,null,null,null,null,null,null,null,null,"155-400-100350","RAMSET DYNABOLT PLUS HEX NUT","BOLT 12x100mm GALVANISED","DP12100GH","","CO","CO","M","155","EA"]
[null,null,null,null,null,null,null,null,null,null,null,null,null,null,null,null,null,null,null,null,null,null,null,null,null,null,null,null,null,null,null,null,null,null,null,null,null,null,null,null,null,null,null,null,null,null,null,"155-450-100700","WEEPA HIGH PERFORMANCE","BUSHFIRE WEEP HOLE VENT","11-HPBW","","CO","CO","M","155","PK"]
[null,null,null,null,null,null,null,null,null,null,null,null,null,null,null,null,null,null,null,null,null,null,null,null,null,null,null,null,null,null,null,null,null,null,null,null,null,null,null,null,null,null,null,null,null,null,null,"155-550-100600","WIND POST TO 3.0m WALL","STAINLESS STEEL","","","CO","CO","M","155","EA"]
[null,null,null,null,null,null,null,null,null,null,null,null,null,null,null,null,null,null,null,null,null,null,null,null,null,null,null,null,null,null,null,null,null,null,null,null,null,null,null,null,null,null,null,null,null,null,null,"170-010-100200","TIMBER JOINERY AS PER QUOTE","","","","CO","CO","M","170","QT"]
[null,null,null,null,null,null,null,null,null,null,null,null,null,null,null,null,null,null,null,null,null,null,null,null,null,null,null,null,null,null,null,null,null,null,null,null,null,null,null,null,null,null,null,null,null,null,null,"170-090-100350","TIMBER FRAME DELIVERY","","","","CO","CO","M","170","IT"]
[null,null,null,null,null,null,null,null,null,null,null,null,null,null,null,null,null,null,null,null,null,null,null,null,null,null,null,null,null,null,null,null,null,null,null,null,null,null,null,null,null,null,null,null,null,null,null,"170-100-300100","SINGLE ENTRY FRAME - 720","ALUMINIUM THRESHOLD (BAL 19)","","","CO","CO","M","170","EA"]
[null,null,null,null,null,null,null,null,null,null,null,null,null,null,null,null,null,null,null,null,null,null,null,null,null,null,null,null,null,null,null,null,null,null,null,null,null,null,null,null,null,null,null,null,null,null,null,"170-100-350100","DOUBLE ENTRY FRAME - 1280","ALUMINIUM THRESHOLD (BAL 19)","","","CO","CO","M","170","EA"]
[null,null,null,null,null,null,null,null,null,null,null,null,null,null,null,null,null,null,null,null,null,null,null,null,null,null,null,null,null,null,null,null,null,null,null,null,null,null,null,null,null,null,null,null,null,null,null,"170-300-100100","WINGLIGHT DOOR FRAME - 1330","TIMBER THRESHOLD","","","CO","CO","M","170","EA"]
[null,null,null,null,null,null,null,null,null,null,null,null,null,null,null,null,null,null,null,null,null,null,null,null,null,null,null,null,null,null,null,null,null,null,null,null,null,null,null,null,null,null,null,null,null,null,null,"170-400-500841","SINGLE ENTRY FRAME - 1020","ALUMINIUM THRESHOLD (BAL 29)","","","CO","CO","M","170","EA"]
[null,null,null,null,null,null,null,null,null,null,null,null,null,null,null,null,null,null,null,null,null,null,null,null,null,null,null,null,null,null,null,null,null,null,null,null,null,null,null,null,null,null,null,null,null,null,null,"170-468-100600","INTERNAL TIMBER JAMB - 920","110x30mm (BAL 0)","JIS920110","","CO","CO","M","170","EA"]
[null,null,null,null,null,null,null,null,null,null,null,null,null,null,null,null,null,null,null,null,null,null,null,null,null,null,null,null,null,null,null,null,null,null,null,null,null,null,null,null,null,null,null,null,null,null,null,"170-660-100200","24x2.5 FIXED TIMBER WINDOW","FRAME WITH 3 TRANSOMS","","","CO","CO","M","170","EA"]
[null,null,null,null,null,null,null,null,null,null,null,null,null,null,null,null,null,null,null,null,null,null,null,null,null,null,null,null,null,null,null,null,null,null,null,null,null,null,null,null,null,null,null,null,null,null,null,"170-700-101100","TIMBER DOOR JAMBS 820,110 X 42","S.COOGEE /HOME IMP.PAINT GRADE","","","CO","CO","M","170","EA"]
[null,null,null,null,null,null,null,null,null,null,null,null,null,null,null,null,null,null,null,null,null,null,null,null,null,null,null,null,null,null,null,null,null,null,null,null,null,null,null,null,null,null,null,null,null,null,null,"170-700-102100","JARRAH ENTRY FRAME DBLE/R 820","S.COOGEE /HOME IMP.POLISHGRADE","","","CO","CO","M","170","EA"]
[null,null,null,null,null,null,null,null,null,null,null,null,null,null,null,null,null,null,null,null,null,null,null,null,null,null,null,null,null,null,null,null,null,null,null,null,null,null,null,null,null,null,null,null,null,null,null,"170-700-102200","JARRAH ENTRY FRAME S/R 1650","S.COOGEE /HOME IMP.POLISHGRADE","","","CO","CO","M","170","EA"]
[null,null,null,null,null,null,null,null,null,null,null,null,null,null,null,null,null,null,null,null,null,null,null,null,null,null,null,null,null,null,null,null,null,null,null,null,null,null,null,null,null,null,null,null,null,null,null,"170-700-300150","HI TIMBER WINDOWS RATE PER M2","INCLUDING COLONIAL BARS","","","CO","CO","M","170","M2"]
[]
[null,null,null,null,null,null,null,null,null,null,null,null,null,null,null,null,null,null,null,null,null,null,null,null,null,null,null,null,null,null,null,null,null,null,null,null,null,null,null,null,null,null,null,null,null,null,null,"175-100-100020","EXTRA STANDARD HINGE FITTED","FOR SOLID DOOR","","","CO","CO","M","175","EA"]
[null,null,null,null,null,null,null,null,null,null,null,null,null,null,null,null,null,null,null,null,null,null,null,null,null,null,null,null,null,null,null,null,null,null,null,null,null,null,null,null,null,null,null,null,null,null,null,"175-100-100600","DELUXE 2 HINGES 2040x620 RH",null,620,"DB","CO","CO","M","175","EA"]
[null,null,null,null,null,null,null,null,null,null,null,null,null,null,null,null,null,null,null,null,null,null,null,null,null,null,null,null,null,null,null,null,null,null,null,null,null,null,null,null,null,null,null,null,null,null,null,"175-100-101600","DELUXE 2 HINGES 2040x920 LH",null,920,"DB","CO","CO","M","175","EA"]
[null,null,null,null,null,null,null,null,null,null,null,null,null,null,null,null,null,null,null,null,null,null,null,null,null,null,null,null,null,null,null,null,null,null,null,null,null,null,null,null,null,null,null,null,null,null,null,"175-100-201600","DELUXE 3 HINGES 2340x820 RH",null,"820a","DB","CO","CO","M","175","EA"]
[null,null,null,null,null,null,null,null,null,null,null,null,null,null,null,null,null,null,null,null,null,null,null,null,null,null,null,null,null,null,null,null,null,null,null,null,null,null,null,null,null,null,null,null,null,null,null,"175-100-700300","DELUXE 2 HINGES 2040x620 LH","110mm BACK OPENING","","DB","CO","CO","M","175","EA"]
[null,null,null,null,null,null,null,null,null,null,null,null,null,null,null,null,null,null,null,null,null,null,null,null,null,null,null,null,null,null,null,null,null,null,null,null,null,null,null,null,null,null,null,null,null,null,null,"175-100-701200","DELUXE 3 HINGES 2040x820x42 LH","BAL DOOR","","","CO","CO","M","175","EA"]
[null,null,null,null,null,null,null,null,null,null,null,null,null,null,null,null,null,null,null,null,null,null,null,null,null,null,null,null,null,null,null,null,null,null,null,null,null,null,null,null,null,null,null,null,null,null,null,"175-100-702300","DELUXE 2 HINGES 2040x620 RH WC","110mm BACK OPENING","","DB1","CO","CO","M","175","EA"]
[null,null,null,null,null,null,null,null,null,null,null,null,null,null,null,null,null,null,null,null,null,null,null,null,null,null,null,null,null,null,null,null,null,null,null,null,null,null,null,null,null,null,null,null,null,null,null,"175-110-100950","DELUXE 2 HINGES 2040x870 RH WC",null,870,"DB","CO","CO","M","175","EA"]
[null,null,null,null,null,null,null,null,null,null,null,null,null,null,null,null,null,null,null,null,null,null,null,null,null,null,null,null,null,null,null,null,null,null,null,null,null,null,null,null,null,null,null,null,null,null,null,"175-110-200800","DELUXE 3 HINGES 2340x620 RH WC",null,"620a","DB","CO","CO","M","175","EA"]
[null,null,null,null,null,null,null,null,null,null,null,null,null,null,null,null,null,null,null,null,null,null,null,null,null,null,null,null,null,null,null,null,null,null,null,null,null,null,null,null,null,null,null,null,null,null,null,"175-120-101450","DELUXE 3 HINGE 2040x920 LH","SHOPPER 90mm BACK OPENING","","","CO","CO","M","175","EA"]
[null,null,null,null,null,null,null,null,null,null,null,null,null,null,null,null,null,null,null,null,null,null,null,null,null,null,null,null,null,null,null,null,null,null,null,null,null,null,null,null,null,null,null,null,null,null,null,"175-130-200920","DELUXE 3 HINGE 2340x820 LH","SHOPPER 90mm BACK OPENING","","","CO","CO","M","175","EA"]
[null,null,null,null,null,null,null,null,null,null,null,null,null,null,null,null,null,null,null,null,null,null,null,null,null,null,null,null,null,null,null,null,null,null,null,null,null,null,null,null,null,null,null,null,null,null,null,"175-140-100400","SQUARE BEND 3 HINGE","2040x820x42 RH BAL DOOR","","","CO","CO","M","175","EA"]
[null,null,null,null,null,null,null,null,null,null,null,null,null,null,null,null,null,null,null,null,null,null,null,null,null,null,null,null,null,null,null,null,null,null,null,null,null,null,null,null,null,null,null,null,null,null,null,"175-200-200800","DELUXE 3 HINGES 2340x1640","TO SUIT 2 x 820 DOORS","820a","DB","CO","CO","M","175","EA"]
[null,null,null,null,null,null,null,null,null,null,null,null,null,null,null,null,null,null,null,null,null,null,null,null,null,null,null,null,null,null,null,null,null,null,null,null,null,null,null,null,null,null,null,null,null,null,null,"175-200-300100","DELUXE SLIDER 2040x1240","TO SUIT 2 x 670 DOORS",620,"DB","CO","CO","M","175","EA"]
[null,null,null,null,null,null,null,null,null,null,null,null,null,null,null,null,null,null,null,null,null,null,null,null,null,null,null,null,null,null,null,null,null,null,null,null,null,null,null,null,null,null,null,null,null,null,null,"175-460-100310","DELUXE 3 HINGES 2340x620 LH","FIXING PLATES: 6 (3 PER SIDE)","620a","SF","CO","CO","","175","EA"]
[null,null,null,null,null,null,null,null,null,null,null,null,null,null,null,null,null,null,null,null,null,null,null,null,null,null,null,null,null,null,null,null,null,null,null,null,null,null,null,null,null,null,null,null,null,null,null,"175-460-100350","DELUXE 3 HINGES 2340x920 LH","FIXING PLATES: 6 (3 PER SIDE)","920a","SF","CO","CO","","175","EA"]
[null,null,null,null,null,null,null,null,null,null,null,null,null,null,null,null,null,null,null,null,null,null,null,null,null,null,null,null,null,null,null,null,null,null,null,null,null,null,null,null,null,null,null,null,null,null,null,"175-460-100540","DELUXE 2 HINGES 2040x920 LH WC","FIXING PLATES: 6 (3 PER SIDE)",920,"SF","CO","CO","","175","EA"]
[null,null,null,null,null,null,null,null,null,null,null,null,null,null,null,null,null,null,null,null,null,null,null,null,null,null,null,null,null,null,null,null,null,null,null,null,null,null,null,null,null,null,null,null,null,null,null,"175-460-100745","DELUXE 3 HINGES 2340x920 RH WC","FIXING PLATES: 6 (3 PER SIDE)","920a","SF","CO","CO","","175","EA"]
[null,null,null,null,null,null,null,null,null,null,null,null,null,null,null,null,null,null,null,null,null,null,null,null,null,null,null,null,null,null,null,null,null,null,null,null,null,null,null,null,null,null,null,null,null,null,null,"175-460-101700","DELUXE SLIDER 2040x620","TO SUIT 1 x 670 DOOR",620,"SF","CO","CO","","175","EA"]
[null,null,null,null,null,null,null,null,null,null,null,null,null,null,null,null,null,null,null,null,null,null,null,null,null,null,null,null,null,null,null,null,null,null,null,null,null,null,null,null,null,null,null,null,null,null,null,"175-460-101905","DELUXE SLIDER 2340x720","TO SUIT 1 x 770 DOOR","720a","SF","CO","CO","","175","EA"]
[null,null,null,null,null,null,null,null,null,null,null,null,null,null,null,null,null,null,null,null,null,null,null,null,null,null,null,null,null,null,null,null,null,null,null,null,null,null,null,null,null,null,null,null,null,null,null,"175-500-101100","METERBOX COMBINATION","NON REBATED WITH LOCK","","","CO","CO","M","175","EA"]
[null,null,null,null,null,null,null,null,null,null,null,null,null,null,null,null,null,null,null,null,null,null,null,null,null,null,null,null,null,null,null,null,null,null,null,null,null,null,null,null,null,null,null,null,null,null,null,"235-150-100300","STEEL FRAME WALL UP TO 15C","","","","CO","CO","S","235","LM"]
[null,null,null,null,null,null,null,null,null,null,null,null,null,null,null,null,null,null,null,null,null,null,null,null,null,null,null,null,null,null,null,null,null,null,null,null,null,null,null,null,null,null,null,null,null,null,null,"235-850-200500","PICTURE FRAME OPENING","OVER STUDWALL CLADDING","","","CO","CO","S","235","EA"]
[null,null,null,null,null,null,null,null,null,null,null,null,null,null,null,null,null,null,null,null,null,null,null,null,null,null,null,null,null,null,null,null,null,null,null,null,null,null,null,null,null,null,null,null,null,null,null,"245-100-100550","TIMBER FRAME ROOF","E/O DROPPED CEILING","","","CO","CO","S","245","EA"]
[null,null,null,null,null,null,null,null,null,null,null,null,null,null,null,null,null,null,null,null,null,null,null,null,null,null,null,null,null,null,null,null,null,null,null,null,null,null,null,null,null,null,null,null,null,null,null,"245-100-100920","COMPRESSED FIBRE CEMENT SHEETS","TO FRAMED WALLS","","","CO","CO","S","245","M2"]
[null,null,null,null,null,null,null,null,null,null,null,null,null,null,null,null,null,null,null,null,null,null,null,null,null,null,null,null,null,null,null,null,null,null,null,null,null,null,null,null,null,null,null,null,null,null,null,"245-100-101500","PERGOLA RAFTER BRACKET","","","","CO","CO","S","245","EA"]
[null,null,null,null,null,null,null,null,null,null,null,null,null,null,null,null,null,null,null,null,null,null,null,null,null,null,null,null,null,null,null,null,null,null,null,null,null,null,null,null,null,null,null,null,null,null,null,"245-150-100300","STEEL FRAME WALL","UP TO 15 COURSES","","","CO","LB","S","245","LM"]
[null,null,null,null,null,null,null,null,null,null,null,null,null,null,null,null,null,null,null,null,null,null,null,null,null,null,null,null,null,null,null,null,null,null,null,null,null,null,null,null,null,null,null,null,null,null,null,"245-150-100525","STEEL FRAME ROOF","E/O RECESSED CEILING","","","CO","CO","S","245","LM"]
[null,null,null,null,null,null,null,null,null,null,null,null,null,null,null,null,null,null,null,null,null,null,null,null,null,null,null,null,null,null,null,null,null,null,null,null,null,null,null,null,null,null,null,null,null,null,null,"245-200-100500","CLADDING","","","","CO","CO","S","245","M2"]
[null,null,null,null,null,null,null,null,null,null,null,null,null,null,null,null,null,null,null,null,null,null,null,null,null,null,null,null,null,null,null,null,null,null,null,null,null,null,null,null,null,null,null,null,null,null,null,"245-200-200100","CEMINTEL CLADDING","INC TIMBER BATTEN SUBFRAME","","","CO","CO","S","245","M2"]
[null,null,null,null,null,null,null,null,null,null,null,null,null,null,null,null,null,null,null,null,null,null,null,null,null,null,null,null,null,null,null,null,null,null,null,null,null,null,null,null,null,null,null,null,null,null,null,"245-700-100280","HI INSERT INSULATION WRAP","ROOF CARPENTER","","","CO","CO","S","245","LM"]
[null,null,null,null,null,null,null,null,null,null,null,null,null,null,null,null,null,null,null,null,null,null,null,null,null,null,null,null,null,null,null,null,null,null,null,null,null,null,null,null,null,null,null,null,null,null,null,"245-700-101600","ROOF CARPENTER HARDWARE","EXTRA OVER FOR DIFFICULT JOBS","","","CO","CO","S","245","AL"]
[null,null,null,null,null,null,null,null,null,null,null,null,null,null,null,null,null,null,null,null,null,null,null,null,null,null,null,null,null,null,null,null,null,null,null,null,null,null,null,null,null,null,null,null,null,null,null,"245-700-200300","DROP IN ROOF VALLEY LABOUR","VALLEY BOARDS","","","CO","CO","S","245","LM"]
[null,null,null,null,null,null,null,null,null,null,null,null,null,null,null,null,null,null,null,null,null,null,null,null,null,null,null,null,null,null,null,null,null,null,null,null,null,null,null,null,null,null,null,null,null,null,null,"245-700-201100","DROP IN FLOOR SHEETING LABOUR","SHEETING & MATTING","","","CO","CO","S","245","M2"]
[null,null,null,null,null,null,null,null,null,null,null,null,null,null,null,null,null,null,null,null,null,null,null,null,null,null,null,null,null,null,null,null,null,null,null,null,null,null,null,null,null,null,null,null,null,null,null,"245-700-201600","DI SITE INSTALL SINGLE USM","ON SITE INSTALLATION","","","CO","CO","S","245","IT"]
[null,null,null,null,null,null,null,null,null,null,null,null,null,null,null,null,null,null,null,null,null,null,null,null,null,null,null,null,null,null,null,null,null,null,null,null,null,null,null,null,null,null,null,null,null,null,null,"245-700-202250","DROP IN CHASSIS SET UP QUAD","INITIAL FACTORY LEVELLING","","","CO","CO","S","245","IT"]
[null,null,null,null,null,null,null,null,null,null,null,null,null,null,null,null,null,null,null,null,null,null,null,null,null,null,null,null,null,null,null,null,null,null,null,null,null,null,null,null,null,null,null,null,null,null,null,"245-700-205300","DROP IN PROP SPLITS QUAD","LABOUR FOR SPLITS","","","CO","CO","S","245","IT"]
[null,null,null,null,null,null,null,null,null,null,null,null,null,null,null,null,null,null,null,null,null,null,null,null,null,null,null,null,null,null,null,null,null,null,null,null,null,null,null,null,null,null,null,null,null,null,null,"245-700-205900","DROP IN DOOR FRAME","INSTALLATION LABOUR","","","CO","CO","S","245","EA"]
[null,null,null,null,null,null,null,null,null,null,null,null,null,null,null,null,null,null,null,null,null,null,null,null,null,null,null,null,null,null,null,null,null,null,null,null,null,null,null,null,null,null,null,null,null,null,null,"245-777-100800","EASY LAP CLADDING INSTALL","","","","CO","LB","S","245","M2"]
[null,null,null,null,null,null,null,null,null,null,null,null,null,null,null,null,null,null,null,null,null,null,null,null,null,null,null,null,null,null,null,null,null,null,null,null,null,null,null,null,null,null,null,null,null,null,null,"245-777-200800","EXTERNAL DOOR FRAMES","INC FLASHING","","","CO","LB","S","245","EA"]
[null,null,null,null,null,null,null,null,null,null,null,null,null,null,null,null,null,null,null,null,null,null,null,null,null,null,null,null,null,null,null,null,null,null,null,null,null,null,null,null,null,null,null,null,null,null,null,"255-100-100075","DELIVERY CHARGE ROOF TIMBER","BUNNINGS PER DROP","","","CO","CO","M","255","EA"]
[null,null,null,null,null,null,null,null,null,null,null,null,null,null,null,null,null,null,null,null,null,null,null,null,null,null,null,null,null,null,null,null,null,null,null,null,null,null,null,null,null,null,null,null,null,null,null,"255-100-200220","MGP10 H3 CCA 70 X 35 DRESSED","4.2M","","","CO","CO","M","255","EA"]
[null,null,null,null,null,null,null,null,null,null,null,null,null,null,null,null,null,null,null,null,null,null,null,null,null,null,null,null,null,null,null,null,null,null,null,null,null,null,null,null,null,null,null,null,null,null,null,"255-100-200400","MGP10 H3 CCA 90 X 35 DRESSED","6.6M TO 9.3M (increments 600)","903011","","CO","CO","M","255","LM"]
[null,null,null,null,null,null,null,null,null,null,null,null,null,null,null,null,null,null,null,null,null,null,null,null,null,null,null,null,null,null,null,null,null,null,null,null,null,null,null,null,null,null,null,null,null,null,null,"255-100-201600","MGP10 H3 CCA 190 X 45 DRESSED","6.6M TO 9.0M MULTIPLES 600","902866","","CO","CO","M","255","LM"]
[null,null,null,null,null,null,null,null,null,null,null,null,null,null,null,null,null,null,null,null,null,null,null,null,null,null,null,null,null,null,null,null,null,null,null,null,null,null,null,null,null,null,null,null,null,null,null,"255-200-100160","MGP10 70 X 35 BLUEPINE DRESSED","4.8m TO 6.0m (increments 600)","903197","","CO","CO","M","255","LM"]
[null,null,null,null,null,null,null,null,null,null,null,null,null,null,null,null,null,null,null,null,null,null,null,null,null,null,null,null,null,null,null,null,null,null,null,null,null,null,null,null,null,null,null,null,null,null,null,"255-200-100270","MGP10 90 X 35 BLUEPINE DRESSED","3.3m TO 6.0m (increments 300)","","","CO","CO","M","255","EA"]
[null,null,null,null,null,null,null,null,null,null,null,null,null,null,null,null,null,null,null,null,null,null,null,null,null,null,null,null,null,null,null,null,null,null,null,null,null,null,null,null,null,null,null,null,null,null,null,"255-200-100273","MGP10 90 X 35 BLUEPINE DRESSED","3.9M","P0B090035L039","","CO","CO","M","255","EA"]
[null,null,null,null,null,null,null,null,null,null,null,null,null,null,null,null,null,null,null,null,null,null,null,null,null,null,null,null,null,null,null,null,null,null,null,null,null,null,null,null,null,null,null,null,null,null,null,"255-200-100280","MGP10 90 X 35 BLUEPINE DRESSED","6.0M","P0B090035L060","","CO","CO","M","255","EA"]
[null,null,null,null,null,null,null,null,null,null,null,null,null,null,null,null,null,null,null,null,null,null,null,null,null,null,null,null,null,null,null,null,null,null,null,null,null,null,null,null,null,null,null,null,null,null,null,"255-200-100825","MGP10 170X35 BLUEPINE DRESSED","7.5m TO 11.4m (increments 300)","","","CO","CO","M","255","LM"]
[null,null,null,null,null,null,null,null,null,null,null,null,null,null,null,null,null,null,null,null,null,null,null,null,null,null,null,null,null,null,null,null,null,null,null,null,null,null,null,null,null,null,null,null,null,null,null,"255-200-102200","MGP10 190X45 BLUEPINE DRESSED","3.6M TO 6.0M (increments 600)","","","CO","CO","M","255","LM"]
[null,null,null,null,null,null,null,null,null,null,null,null,null,null,null,null,null,null,null,null,null,null,null,null,null,null,null,null,null,null,null,null,null,null,null,null,null,null,null,null,null,null,null,null,null,null,null,"255-200-200200","MGP10 200X25 BLUEPINE TREATED","3.6M TO 6.0M- ONLY IN FULL L/M","","","CO","CO","M","255","LM"]
[null,null,null,null,null,null,null,null,null,null,null,null,null,null,null,null,null,null,null,null,null,null,null,null,null,null,null,null,null,null,null,null,null,null,null,null,null,null,null,null,null,null,null,null,null,null,null,"255-300-100200","LVL E-BEAM 150 x 45 LOSP H2","(WESBEAM) USE WITH BLUEPINE","","","CO","CO","M","255","LM"]
[null,null,null,null,null,null,null,null,null,null,null,null,null,null,null,null,null,null,null,null,null,null,null,null,null,null,null,null,null,null,null,null,null,null,null,null,null,null,null,null,null,null,null,null,null,null,null,"255-300-101200","LVL E-BEAM 360 x 63 LOSP H2","(WESBEAM) USE WITH BLUEPINE","","","CO","CO","M","255","LM"]
[null,null,null,null,null,null,null,null,null,null,null,null,null,null,null,null,null,null,null,null,null,null,null,null,null,null,null,null,null,null,null,null,null,null,null,null,null,null,null,null,null,null,null,null,null,null,null,"255-350-100150","MERBAU BARGE FASCIA 188 x 30","PROLAM PRE ROUTERED GROOVES","","","CO","CO","M","255","LM"]
[null,null,null,null,null,null,null,null,null,null,null,null,null,null,null,null,null,null,null,null,null,null,null,null,null,null,null,null,null,null,null,null,null,null,null,null,null,null,null,null,null,null,null,null,null,null,null,"255-400-200500","KAPUR GLULAM BEAM 297 X 80","1.8 TO 7.2 - 600mm INCREMENTS","","","CO","CO","M","255","LM"]
[null,null,null,null,null,null,null,null,null,null,null,null,null,null,null,null,null,null,null,null,null,null,null,null,null,null,null,null,null,null,null,null,null,null,null,null,null,null,null,null,null,null,null,null,null,null,null,"255-400-400100","150x150 MERBAU POST","LAMINATED GL13 D.A.R","","","CO","CO","M","255","LM"]
[null,null,null,null,null,null,null,null,null,null,null,null,null,null,null,null,null,null,null,null,null,null,null,null,null,null,null,null,null,null,null,null,null,null,null,null,null,null,null,null,null,null,null,null,null,null,null,"255-850-102300","MARGARET RIVER","ROOF LOAD & EXTRA DELIVERIES","","","CO","CO","M","255","IT"]
[]
[]
[null,null,null,null,null,null,null,null,null,null,null,null,null,null,null,null,null,null,null,null,null,null,null,null,null,null,null,null,null,null,null,null,null,null,null,null,null,null,null,null,null,null,null,null,null,null,null,"285-100-100130","DELIVERY SOUTHWEST","","","","CO","CO","M","285","IT"]
[null,null,null,null,null,null,null,null,null,null,null,null,null,null,null,null,null,null,null,null,null,null,null,null,null,null,null,null,null,null,null,null,null,null,null,null,null,null,null,null,null,null,null,null,null,null,null,"285-100-100500","INTERNAL CORNERS 90 DEGREE","ZINCALUME","","","CO","CO","M","285","EA"]
[null,null,null,null,null,null,null,null,null,null,null,null,null,null,null,null,null,null,null,null,null,null,null,null,null,null,null,null,null,null,null,null,null,null,null,null,null,null,null,null,null,null,null,null,null,null,null,"285-100-100560","BRACKET CHIEF CLIP","ZINCALUME","","","CO","CO","M","285","EA"]
[null,null,null,null,null,null,null,null,null,null,null,null,null,null,null,null,null,null,null,null,null,null,null,null,null,null,null,null,null,null,null,null,null,null,null,null,null,null,null,null,null,null,null,null,null,null,null,"285-100-200800","POP RIVETS","COLORBOND","","","CO","CO","M","285","PK"]
[null,null,null,null,null,null,null,null,null,null,null,null,null,null,null,null,null,null,null,null,null,null,null,null,null,null,null,null,null,null,null,null,null,null,null,null,null,null,null,null,null,null,null,null,null,null,null,"285-100-300100","FASCIA","COLORBOND ULTRA","","","CO","CO","M","285","LM"]
[null,null,null,null,null,null,null,null,null,null,null,null,null,null,null,null,null,null,null,null,null,null,null,null,null,null,null,null,null,null,null,null,null,null,null,null,null,null,null,null,null,null,null,null,null,null,null,"285-200-100300","CUSTOM STOP END TO SUIT","235mm HIGH COLORBOND - POA","","","CO","CO","M","285","QT"]
[null,null,null,null,null,null,null,null,null,null,null,null,null,null,null,null,null,null,null,null,null,null,null,null,null,null,null,null,null,null,null,null,null,null,null,null,null,null,null,null,null,null,null,null,null,null,null,"290-100-100320","PRYDA TRIPLE GRIP RIGHT HAND","1.0mm G300-Z275 GALVANISED","MPTGAR","","CO","CO","M","290","EA"]
[null,null,null,null,null,null,null,null,null,null,null,null,null,null,null,null,null,null,null,null,null,null,null,null,null,null,null,null,null,null,null,null,null,null,null,null,null,null,null,null,null,null,null,null,null,null,null,"290-100-150200","WESFAB ANGLE BRACKET","75x75x40mm GALVINISED","","","CO","CO","M","290","EA"]
[null,null,null,null,null,null,null,null,null,null,null,null,null,null,null,null,null,null,null,null,null,null,null,null,null,null,null,null,null,null,null,null,null,null,null,null,null,null,null,null,null,null,null,null,null,null,null,"290-100-200470","CAgroup PLASCOURSE","300mm x 30m x 500um","","","CO","CO","M","290","RL"]
[null,null,null,null,null,null,null,null,null,null,null,null,null,null,null,null,null,null,null,null,null,null,null,null,null,null,null,null,null,null,null,null,null,null,null,null,null,null,null,null,null,null,null,null,null,null,null,"290-100-200690","BUILDEX HEX HEAD TEK SCREWS","12Gx20mm GALVANISED","6-311-0097-4CS","","CO","CO","M","290","BX"]
[null,null,null,null,null,null,null,null,null,null,null,null,null,null,null,null,null,null,null,null,null,null,null,null,null,null,null,null,null,null,null,null,null,null,null,null,null,null,null,null,null,null,null,null,null,null,null,"290-100-200765","ZENITH BUTTON HEAD SCREWS","8Gx20mm GALVANISED","EDN7420","","CO","CO","M","290","PK"]
[null,null,null,null,null,null,null,null,null,null,null,null,null,null,null,null,null,null,null,null,null,null,null,null,null,null,null,null,null,null,null,null,null,null,null,null,null,null,null,null,null,null,null,null,null,null,null,"290-100-200815","BUILDEX HEX HEAD WITH SEAL","SCREWS 12Gx25mm CLIMASEAL","1-030-9012-4TPCS","","CO","CO","M","290","BX"]
[null,null,null,null,null,null,null,null,null,null,null,null,null,null,null,null,null,null,null,null,null,null,null,null,null,null,null,null,null,null,null,null,null,null,null,null,null,null,null,null,null,null,null,null,null,null,null,"290-100-201310","RAMSET ULTRA LONG HEX HEAD","RAMPLUG 10x100mm GALVANISED","","","CO","CO","M","290","EA"]
[null,null,null,null,null,null,null,null,null,null,null,null,null,null,null,null,null,null,null,null,null,null,null,null,null,null,null,null,null,null,null,null,null,null,null,null,null,null,null,null,null,null,null,null,null,null,null,"290-100-201750","ZENITH CUP HEAD BOLTS AND NUTS","M10x115mm ZINC","","","CO","CO","M","290","EA"]
[null,null,null,null,null,null,null,null,null,null,null,null,null,null,null,null,null,null,null,null,null,null,null,null,null,null,null,null,null,null,null,null,null,null,null,null,null,null,null,null,null,null,null,null,null,null,null,"290-100-202175","ZENITH CUP HEAD BOLTS AND NUTS","M10x260mm GALVANISED","","","CO","CO","M","290","EA"]
[null,null,null,null,null,null,null,null,null,null,null,null,null,null,null,null,null,null,null,null,null,null,null,null,null,null,null,null,null,null,null,null,null,null,null,null,null,null,null,null,null,null,null,null,null,null,null,"290-100-202725","HARDI SQUARE DRIVE SCREW","41mm","","","CO","CO","M","290","BX"]
[null,null,null,null,null,null,null,null,null,null,null,null,null,null,null,null,null,null,null,null,null,null,null,null,null,null,null,null,null,null,null,null,null,null,null,null,null,null,null,null,null,null,null,null,null,null,null,"290-100-300160","BGC DIVISIONAL H-MOULD","3000x6mm","","","CO","CO","M","290","LG"]
[null,null,null,null,null,null,null,null,null,null,null,null,null,null,null,null,null,null,null,null,null,null,null,null,null,null,null,null,null,null,null,null,null,null,null,null,null,null,null,null,null,null,null,null,null,null,null,"290-140-100150","JOINT SEALANT ADHESIVE","SIKAFLEX 11FC 300ml PURFORM","","","CO","CO","M","290","EA"]
[null,null,null,null,null,null,null,null,null,null,null,null,null,null,null,null,null,null,null,null,null,null,null,null,null,null,null,null,null,null,null,null,null,null,null,null,null,null,null,null,null,null,null,null,null,null,null,"290-200-100075","BGC DURASHEET","2400x450x4.5mm","","","CO","CO","M","290","SH"]
[null,null,null,null,null,null,null,null,null,null,null,null,null,null,null,null,null,null,null,null,null,null,null,null,null,null,null,null,null,null,null,null,null,null,null,null,null,null,null,null,null,null,null,null,null,null,null,"290-200-100600","HARDI FLEX SHEET","3000x1200x4.5mm","400182","","CO","CO","M","290","SH"]
[null,null,null,null,null,null,null,null,null,null,null,null,null,null,null,null,null,null,null,null,null,null,null,null,null,null,null,null,null,null,null,null,null,null,null,null,null,null,null,null,null,null,null,null,null,null,null,"290-210-400400","HARDIE EDGE INTERNAL CORNER","65x65x130mm","305913","","CO","CO","M","290","EA"]
[null,null,null,null,null,null,null,null,null,null,null,null,null,null,null,null,null,null,null,null,null,null,null,null,null,null,null,null,null,null,null,null,null,null,null,null,null,null,null,null,null,null,null,null,null,null,null,"290-250-200600","HARDIE 6mm PVC EAVE SOFFIT","EXPRESS JOINTER BLACK 3000mm","305432","","CO","CO","M","290","EA"]
[null,null,null,null,null,null,null,null,null,null,null,null,null,null,null,null,null,null,null,null,null,null,null,null,null,null,null,null,null,null,null,null,null,null,null,null,null,null,null,null,null,null,null,null,null,null,null,"290-350-100150","HARDI PLANK WEATHERBOARD","SMOOTH 4200x300x7.5mm","400265","","CO","CO","M","290","LG"]
[null,null,null,null,null,null,null,null,null,null,null,null,null,null,null,null,null,null,null,null,null,null,null,null,null,null,null,null,null,null,null,null,null,null,null,null,null,null,null,null,null,null,null,null,null,null,null,"290-350-100425","HARDIE PLANK 230mm ALUMINIUM","INTERNAL CORNER SOAKER","305516","","CO","CO","M","290","EA"]
[null,null,null,null,null,null,null,null,null,null,null,null,null,null,null,null,null,null,null,null,null,null,null,null,null,null,null,null,null,null,null,null,null,null,null,null,null,null,null,null,null,null,null,null,null,null,null,"290-400-100150","LINEA WEATHERBOARD 180mm","4200x180x16mm","403912","","CO","CO","M","290","LG"]
[null,null,null,null,null,null,null,null,null,null,null,null,null,null,null,null,null,null,null,null,null,null,null,null,null,null,null,null,null,null,null,null,null,null,null,null,null,null,null,null,null,null,null,null,null,null,null,"290-450-100140","BGC STRATUM TRIO","4200x300x12mm","","","CO","CO","M","290","M2"]
[null,null,null,null,null,null,null,null,null,null,null,null,null,null,null,null,null,null,null,null,null,null,null,null,null,null,null,null,null,null,null,null,null,null,null,null,null,null,null,null,null,null,null,null,null,null,null,"290-450-100145","BGC STRATUM WOODGRAIN","4200x300x12mm","","","CO","CO","M","290","EA"]
[null,null,null,null,null,null,null,null,null,null,null,null,null,null,null,null,null,null,null,null,null,null,null,null,null,null,null,null,null,null,null,null,null,null,null,null,null,null,null,null,null,null,null,null,null,null,null,"290-500-200100","AXON CLADDING 133mm SMOOTH","2450x1200x9mm","403931","","CO","CO","M","290","SH"]
[null,null,null,null,null,null,null,null,null,null,null,null,null,null,null,null,null,null,null,null,null,null,null,null,null,null,null,null,null,null,null,null,null,null,null,null,null,null,null,null,null,null,null,null,null,null,null,"290-500-200610","BGC INNOVA ACCESSORIES","EXTERNAL CORNER 3000mm","EXTCNR25","","CO","CO","M","290","EA"]
[null,null,null,null,null,null,null,null,null,null,null,null,null,null,null,null,null,null,null,null,null,null,null,null,null,null,null,null,null,null,null,null,null,null,null,null,null,null,null,null,null,null,null,null,null,null,null,"290-500-200700","HARDIE 14mm ALUMINIUM INTERNAL","CORNER 3000mm","305518","","CO","CO","M","290","LG"]
[null,null,null,null,null,null,null,null,null,null,null,null,null,null,null,null,null,null,null,null,null,null,null,null,null,null,null,null,null,null,null,null,null,null,null,null,null,null,null,null,null,null,null,null,null,null,null,"290-500-202900","HARDIE AXENT TRIM 19x89mm","3000mm","405258","","CO","CO","M","290","LG"]
[null,null,null,null,null,null,null,null,null,null,null,null,null,null,null,null,null,null,null,null,null,null,null,null,null,null,null,null,null,null,null,null,null,null,null,null,null,null,null,null,null,null,null,null,null,null,null,"290-620-200100","WEATHERTEX WEATHERGROOVE","WOODSMAN 3660x1196x75mm","","","CO","CO","M","290","SH"]
[null,null,null,null,null,null,null,null,null,null,null,null,null,null,null,null,null,null,null,null,null,null,null,null,null,null,null,null,null,null,null,null,null,null,null,null,null,null,null,null,null,null,null,null,null,null,null,"290-620-200400","WEATHERTEX WEATHERGROOVE","WOODSMAN 3660x1196x150mm","","","CO","CO","M","290","SH"]
[null,null,null,null,null,null,null,null,null,null,null,null,null,null,null,null,null,null,null,null,null,null,null,null,null,null,null,null,null,null,null,null,null,null,null,null,null,null,null,null,null,null,null,null,null,null,null,"290-700-100100","HI FLOOR FRAME HARDWARE","ESTIMATING ALLOWANCE","","","CO","CO","M","290","IT"]
[null,null,null,null,null,null,null,null,null,null,null,null,null,null,null,null,null,null,null,null,null,null,null,null,null,null,null,null,null,null,null,null,null,null,null,null,null,null,null,null,null,null,null,null,null,null,null,"290-777-100250","BGC DURASCAPE","2450x900x9mm  PACK BUY","DSP92459 PACK","","CO","CO","M","290","PK"]
[null,null,null,null,null,null,null,null,null,null,null,null,null,null,null,null,null,null,null,null,null,null,null,null,null,null,null,null,null,null,null,null,null,null,null,null,null,null,null,null,null,null,null,null,null,null,null,"290-777-100350","BGC DURASHEET","2400x450x4.5mm PACK BUY","D2445 PACK","","CO","CO","M","290","PK"]
[null,null,null,null,null,null,null,null,null,null,null,null,null,null,null,null,null,null,null,null,null,null,null,null,null,null,null,null,null,null,null,null,null,null,null,null,null,null,null,null,null,null,null,null,null,null,null,"290-777-100950","BGC DURALUX PLUS","3600x1200x6mm PACK BUY","DX63612 PACK","","CO","CO","M","290","PK"]
[null,null,null,null,null,null,null,null,null,null,null,null,null,null,null,null,null,null,null,null,null,null,null,null,null,null,null,null,null,null,null,null,null,null,null,null,null,null,null,null,null,null,null,null,null,null,null,"290-777-101200","BGC DURALINER PLUS","3000x1200x6mm PACK BUY","DL63012 PACK","","CO","CO","M","290","PK"]
[null,null,null,null,null,null,null,null,null,null,null,null,null,null,null,null,null,null,null,null,null,null,null,null,null,null,null,null,null,null,null,null,null,null,null,null,null,null,null,null,null,null,null,null,null,null,null,"290-777-101450","BGC DURALINER PLUS","3600x1350x6mm PACK BUY","DL636135 PACK","","CO","CO","M","290","PK"]
[null,null,null,null,null,null,null,null,null,null,null,null,null,null,null,null,null,null,null,null,null,null,null,null,null,null,null,null,null,null,null,null,null,null,null,null,null,null,null,null,null,null,null,null,null,null,null,"290-777-200700","BGC INNOVA ACCESSORIES","EXTERNAL CORNER 3000mm","EXTCNR17","","CO","CO","M","290","EA"]
[null,null,null,null,null,null,null,null,null,null,null,null,null,null,null,null,null,null,null,null,null,null,null,null,null,null,null,null,null,null,null,null,null,null,null,null,null,null,null,null,null,null,null,null,null,null,null,"395-100-100250","FLOAT AND SET","FIRST FLOOR OVER 31C","","","CO","CO","S","395","M2"]
[null,null,null,null,null,null,null,null,null,null,null,null,null,null,null,null,null,null,null,null,null,null,null,null,null,null,null,null,null,null,null,null,null,null,null,null,null,null,null,null,null,null,null,null,null,null,null,"395-100-100450","PLASTER MESH TO UNDER STAIRS","","","","CO","CO","S","395","IT"]
[null,null,null,null,null,null,null,null,null,null,null,null,null,null,null,null,null,null,null,null,null,null,null,null,null,null,null,null,null,null,null,null,null,null,null,null,null,null,null,null,null,null,null,null,null,null,null,"395-200-100200","PLASTERER LABOUR CONTINGENCY","EXTRA $3/M2","","","CO","CO","S","395","M2"]
[null,null,null,null,null,null,null,null,null,null,null,null,null,null,null,null,null,null,null,null,null,null,null,null,null,null,null,null,null,null,null,null,null,null,null,null,null,null,null,null,null,null,null,null,null,null,null,"395-800-100200","INTERNAL WALL PLASTER","EXTRA OVER 31 COURSES PROJECTS","","","CO","CO","M","395","M2"]
[null,null,null,null,null,null,null,null,null,null,null,null,null,null,null,null,null,null,null,null,null,null,null,null,null,null,null,null,null,null,null,null,null,null,null,null,null,null,null,null,null,null,null,null,null,null,null,"395-999-100100","PLASTERER NOTES","","","","CO","CO","S","395","IT"]
[null,null,null,null,null,null,null,null,null,null,null,null,null,null,null,null,null,null,null,null,null,null,null,null,null,null,null,null,null,null,null,null,null,null,null,null,null,null,null,null,null,null,null,null,null,null,null,"340-011-100113","ICONIC STYL","4 GANG PLATE","","","CO","CO","M","340","EA"]
[null,null,null,null,null,null,null,null,null,null,null,null,null,null,null,null,null,null,null,null,null,null,null,null,null,null,null,null,null,null,null,null,null,null,null,null,null,null,null,null,null,null,null,null,null,null,null,"340-011-100121","ICONIC ESSENCE","2 GANG PLATE","","","CO","CO","M","340","EA"]
[null,null,null,null,null,null,null,null,null,null,null,null,null,null,null,null,null,null,null,null,null,null,null,null,null,null,null,null,null,null,null,null,null,null,null,null,null,null,null,null,null,null,null,null,null,null,null,"340-011-100131","SATURN ZEN","2 GANG PLATE","","","CO","CO","M","340","EA"]
[null,null,null,null,null,null,null,null,null,null,null,null,null,null,null,null,null,null,null,null,null,null,null,null,null,null,null,null,null,null,null,null,null,null,null,null,null,null,null,null,null,null,null,null,null,null,null,"340-050-100300","UNDERGROUND MAINS RUN","THREE PHASE 10mm","","","CO","CO","M","340","LM"]
[null,null,null,null,null,null,null,null,null,null,null,null,null,null,null,null,null,null,null,null,null,null,null,null,null,null,null,null,null,null,null,null,null,null,null,null,null,null,null,null,null,null,null,null,null,null,null,"340-050-400200","POLE AND METERBOX","THREE PHASE SWITCHBOARD","","","CO","CO","M","340","EA"]
[null,null,null,null,null,null,null,null,null,null,null,null,null,null,null,null,null,null,null,null,null,null,null,null,null,null,null,null,null,null,null,null,null,null,null,null,null,null,null,null,null,null,null,null,null,null,null,"340-100-100200","MAINS SWITCHBOARD","SINGLE PHASE","","","CO","CO","M","340","EA"]
[null,null,null,null,null,null,null,null,null,null,null,null,null,null,null,null,null,null,null,null,null,null,null,null,null,null,null,null,null,null,null,null,null,null,null,null,null,null,null,null,null,null,null,null,null,null,null,"340-100-400110","STEEL ROOF FRAME.","EXTRA LABOUR INVOLVED PER JOB","","","CO","CO","M","340","JB"]
[null,null,null,null,null,null,null,null,null,null,null,null,null,null,null,null,null,null,null,null,null,null,null,null,null,null,null,null,null,null,null,null,null,null,null,null,null,null,null,null,null,null,null,null,null,null,null,"340-200-200200","LIGHTING BATTEN HOLDER WALL","CLIPSAL 530-WE","530-WE","","CO","CO","M","340","EA"]
[null,null,null,null,null,null,null,null,null,null,null,null,null,null,null,null,null,null,null,null,null,null,null,null,null,null,null,null,null,null,null,null,null,null,null,null,null,null,null,null,null,null,null,null,null,null,null,"340-210-140200","BEACON CITY III GIMBLE LED","DIMMABLE DOWNLIGHT WHITE","170764","","CO","CO","M","340","EA"]
[null,null,null,null,null,null,null,null,null,null,null,null,null,null,null,null,null,null,null,null,null,null,null,null,null,null,null,null,null,null,null,null,null,null,null,null,null,null,null,null,null,null,null,null,null,null,null,"340-210-300200","BEACON 2.4 METRE TRACK BLACK","140058","","","CO","CO","M","340","EA"]
[null,null,null,null,null,null,null,null,null,null,null,null,null,null,null,null,null,null,null,null,null,null,null,null,null,null,null,null,null,null,null,null,null,null,null,null,null,null,null,null,null,null,null,null,null,null,null,"340-220-200060","BEACON SENTINEL 2 UP/DOWN","LIGHT WHITE 23952","239452","","CO","CO","M","340","EA"]
[null,null,null,null,null,null,null,null,null,null,null,null,null,null,null,null,null,null,null,null,null,null,null,null,null,null,null,null,null,null,null,null,null,null,null,null,null,null,null,null,null,null,null,null,null,null,null,"340-220-200310","BEACON LEDLUX TREAD LED 240V","STEPLIGHT WHITE 239333","239333","","CO","CO","M","340","EA"]
[null,null,null,null,null,null,null,null,null,null,null,null,null,null,null,null,null,null,null,null,null,null,null,null,null,null,null,null,null,null,null,null,null,null,null,null,null,null,null,null,null,null,null,null,null,null,null,"340-225-201600","BEACON LEDLUX FIELD 30W LED","EXTERIOR FLOOD LIGHT BLACK","240924","","CO","CO","M","340","EA"]
[null,null,null,null,null,null,null,null,null,null,null,null,null,null,null,null,null,null,null,null,null,null,null,null,null,null,null,null,null,null,null,null,null,null,null,null,null,null,null,null,null,null,null,null,null,null,null,"340-230-200750","BEACON STARLIGHT LED RECESSED","FIXED DOWNLIGHT WHITE 170744","170744","","CO","CO","M","340","EA"]
[null,null,null,null,null,null,null,null,null,null,null,null,null,null,null,null,null,null,null,null,null,null,null,null,null,null,null,null,null,null,null,null,null,null,null,null,null,null,null,null,null,null,null,null,null,null,null,"340-250-200200","SMOKE ALARM INTERCONNECTION","","","","CO","CO","M","340","EA"]
[null,null,null,null,null,null,null,null,null,null,null,null,null,null,null,null,null,null,null,null,null,null,null,null,null,null,null,null,null,null,null,null,null,null,null,null,null,null,null,null,null,null,null,null,null,null,null,"340-300-300300","AIR CONDITIONER 32AMP","SINGLE PHASE CONNECTION","","","CO","CO","M","340","EA"]
[null,null,null,null,null,null,null,null,null,null,null,null,null,null,null,null,null,null,null,null,null,null,null,null,null,null,null,null,null,null,null,null,null,null,null,null,null,null,null,null,null,null,null,null,null,null,null,"340-310-200690","GPO SINGLE DIN MOUNT 10AMP","CLIPSAL 4PSO10","4PSO10","","CO","CO","M","340","EA"]
[null,null,null,null,null,null,null,null,null,null,null,null,null,null,null,null,null,null,null,null,null,null,null,null,null,null,null,null,null,null,null,null,null,null,null,null,null,null,null,null,null,null,null,null,null,null,null,"340-500-100300","TELEPHONE LINE CONDUIT P20","SHARED TRENCH OVER 10m","","","CO","CO","M","340","LM"]
[null,null,null,null,null,null,null,null,null,null,null,null,null,null,null,null,null,null,null,null,null,null,null,null,null,null,null,null,null,null,null,null,null,null,null,null,null,null,null,null,null,null,null,null,null,null,null,"340-500-300100","DATA POINT","","","","CO","CO","M","340","EA"]
[null,null,null,null,null,null,null,null,null,null,null,null,null,null,null,null,null,null,null,null,null,null,null,null,null,null,null,null,null,null,null,null,null,null,null,null,null,null,null,null,null,null,null,null,null,null,null,"340-620-100500","CEILING FAN ZENFAN-ZB","ZEN BLACK","ZENFAN-ZB","","CO","CO","M","340","EA"]
[null,null,null,null,null,null,null,null,null,null,null,null,null,null,null,null,null,null,null,null,null,null,null,null,null,null,null,null,null,null,null,null,null,null,null,null,null,null,null,null,null,null,null,null,null,null,null,"340-650-300600","HEAT PUMP CONNECTION","RHEEM MODELS","","","CO","CO","M","340","EA"]
[null,null,null,null,null,null,null,null,null,null,null,null,null,null,null,null,null,null,null,null,null,null,null,null,null,null,null,null,null,null,null,null,null,null,null,null,null,null,null,null,null,null,null,null,null,null,null,"340-690-200100","ESSENTIAL LIVING PACKAGE","","","","CO","CO","M","340","JB"]
[null,null,null,null,null,null,null,null,null,null,null,null,null,null,null,null,null,null,null,null,null,null,null,null,null,null,null,null,null,null,null,null,null,null,null,null,null,null,null,null,null,null,null,null,null,null,null,"340-700-104400","CONDUIT 25MM WITH BOX & BLANK","PLATE TO ROOF FOR FUTURE","","","CO","CO","S","340","EA"]
[null,null,null,null,null,null,null,null,null,null,null,null,null,null,null,null,null,null,null,null,null,null,null,null,null,null,null,null,null,null,null,null,null,null,null,null,null,null,null,null,null,null,null,null,null,null,null,"340-700-107200","HI LED STRIP LIGHT LENGTH","LENGTH OVER 3.0 METRES","","","CO","CO","S","340","LM"]
[null,null,null,null,null,null,null,null,null,null,null,null,null,null,null,null,null,null,null,null,null,null,null,null,null,null,null,null,null,null,null,null,null,null,null,null,null,null,null,null,null,null,null,null,null,null,null,"340-700-507000","GF SUB BOARD ONLY","","","","CO","CO","M","340","EA"]
[null,null,null,null,null,null,null,null,null,null,null,null,null,null,null,null,null,null,null,null,null,null,null,null,null,null,null,null,null,null,null,null,null,null,null,null,null,null,null,null,null,null,null,null,null,null,null,"340-777-100500","ARIA 132CM FAN AND LED WHITE","","","","CO","CO","M","340","EA"]
[null,null,null,null,null,null,null,null,null,null,null,null,null,null,null,null,null,null,null,null,null,null,null,null,null,null,null,null,null,null,null,null,null,null,null,null,null,null,null,null,null,null,null,null,null,null,null,"340-800-100200","PROJECTS ONLY - CUSTOM POWER","SUPPLY","","","CO","CO","M","340","EA"]
[null,null,null,null,null,null,null,null,null,null,null,null,null,null,null,null,null,null,null,null,null,null,null,null,null,null,null,null,null,null,null,null,null,null,null,null,null,null,null,null,null,null,null,null,null,null,null,"340-850-200100","SEPTIC FLOAT/AUDIO VISUAL","ALARM 240V SUPPLY/10M UG MAX","","","CO","CO","M","340","EA"]
[null,null,null,null,null,null,null,null,null,null,null,null,null,null,null,null,null,null,null,null,null,null,null,null,null,null,null,null,null,null,null,null,null,null,null,null,null,null,null,null,null,null,null,null,null,null,null,"340-900-100200","SUB BOARD FLUSH MOUNTED","THREE PHASE","","","CO","CO","M","340","EA"]
[null,null,null,null,null,null,null,null,null,null,null,null,null,null,null,null,null,null,null,null,null,null,null,null,null,null,null,null,null,null,null,null,null,null,null,null,null,null,null,null,null,null,null,null,null,null,null,"340-999-100100","INSTALL SUPPLIED LIGHT FITTING","CEILING OR WALL MOUNTED","","","CO","CO","M","340","IT"]
[null,null,null,null,null,null,null,null,null,null,null,null,null,null,null,null,null,null,null,null,null,null,null,null,null,null,null,null,null,null,null,null,null,null,null,null,null,null,null,null,null,null,null,null,null,null,null,"340-999-200200","INSTALL SUPPLIED SWEEPFAN WITH","LIGHT.","","","CO","CO","M","340","IT"]
[null,null,null,null,null,null,null,null,null,null,null,null,null,null,null,null,null,null,null,null,null,null,null,null,null,null,null,null,null,null,null,null,null,null,null,null,null,null,null,null,null,null,null,null,null,null,null,"342-100-100900","3 POINT PACK","2 STOREY UPPER STOREY MODULE","","","CO","CO","M","342","IT"]
[]
[null,null,null,null,null,null,null,null,null,null,null,null,null,null,null,null,null,null,null,null,null,null,null,null,null,null,null,null,null,null,null,null,null,null,null,null,null,null,null,null,null,null,null,null,null,null,null,"397-100-100700","PLASTERERS SAND 7m3","METRO AREA","","","CO","CO","M","397","EA"]
[null,null,null,null,null,null,null,null,null,null,null,null,null,null,null,null,null,null,null,null,null,null,null,null,null,null,null,null,null,null,null,null,null,null,null,null,null,null,null,null,null,null,null,null,null,null,null,"397-100-200100","PLASTERERS SAND 1m3","OUTER AREA","","","CO","CO","M","397","EA"]
[null,null,null,null,null,null,null,null,null,null,null,null,null,null,null,null,null,null,null,null,null,null,null,null,null,null,null,null,null,null,null,null,null,null,null,null,null,null,null,null,null,null,null,null,null,null,null,"397-100-200900","PLASTERERS SAND 9m3","OUTER AREA","","","CO","CO","M","397","EA"]
[null,null,null,null,null,null,null,null,null,null,null,null,null,null,null,null,null,null,null,null,null,null,null,null,null,null,null,null,null,null,null,null,null,null,null,null,null,null,null,null,null,null,null,null,null,null,null,"405-100-100200","SAND FINISH RENDER","FIRST FLOOR OVER 19m2","","","CO","CO","S","405","M2"]
[null,null,null,null,null,null,null,null,null,null,null,null,null,null,null,null,null,null,null,null,null,null,null,null,null,null,null,null,null,null,null,null,null,null,null,null,null,null,null,null,null,null,null,null,null,null,null,"405-100-100250","RENDER V-GROOVES","","","","CO","CO","S","405","LM"]
[null,null,null,null,null,null,null,null,null,null,null,null,null,null,null,null,null,null,null,null,null,null,null,null,null,null,null,null,null,null,null,null,null,null,null,null,null,null,null,null,null,null,null,null,null,null,null,"405-200-100350","ACRYLIC BASE COAT","GROUND FLOOR OVER 46m2","","","CO","CO","S","405","M2"]
[]
[null,null,null,null,null,null,null,null,null,null,null,null,null,null,null,null,null,null,null,null,null,null,null,null,null,null,null,null,null,null,null,null,null,null,null,null,null,null,null,null,null,null,null,null,null,null,null,null,"ACRYLIC TEXTURE"]
[null,null,null,null,null,null,null,null,null,null,null,null,null,null,null,null,null,null,null,null,null,null,null,null,null,null,null,null,null,null,null,null,null,null,null,null,null,null,null,null,null,null,null,null,null,null,null,"406-250-100200","ACRYLIC TO DETACHED PIER","","","","CO","CO","S","406","EA"]
[null,null,null,null,null,null,null,null,null,null,null,null,null,null,null,null,null,null,null,null,null,null,null,null,null,null,null,null,null,null,null,null,null,null,null,null,null,null,null,null,null,null,null,null,null,null,null,"406-450-100100","ACRYLIC TOP COAT","CORBEL 2c - ONE COLOUR","","","CO","CO","S","406","LM"]
[null,null,null,null,null,null,null,null,null,null,null,null,null,null,null,null,null,null,null,null,null,null,null,null,null,null,null,null,null,null,null,null,null,null,null,null,null,null,null,null,null,null,null,null,null,null,null,"406-500-100600","ACRYLIC TOP COAT","SPRAY TEXTURE ACRASAND TO","","","CO","CO","S","406","LM"]
[null,null,null,null,null,null,null,null,null,null,null,null,null,null,null,null,null,null,null,null,null,null,null,null,null,null,null,null,null,null,null,null,null,null,null,null,null,null,null,null,null,null,null,null,null,null,null,"406-650-600160","HOME IMPROVEMENTS - ONSITE","INSERT WITH EXPOSED EAVE BAL40","","","CO","CO","S","406","M2"]
[]
[null,null,null,null,null,null,null,null,null,null,null,null,null,null,null,null,null,null,null,null,null,null,null,null,null,null,null,null,null,null,null,null,null,null,null,null,null,null,null,null,null,null,null,null,null,null,null,"415-120-100350","R5.0 ECOWOOL BATTS - SUPPLY &","INSTALL TO RAKING CEILINGS","","","CO","CO","M","415","M2"]
[null,null,null,null,null,null,null,null,null,null,null,null,null,null,null,null,null,null,null,null,null,null,null,null,null,null,null,null,null,null,null,null,null,null,null,null,null,null,null,null,null,null,null,null,null,null,null,"415-300-100102","R2.0 HD 75MM ECOWOOL BATTS","430MM SUPPLY ONLY - 9.98M2 BAG","","","CO","CO","M","415","BG"]
[null,null,null,null,null,null,null,null,null,null,null,null,null,null,null,null,null,null,null,null,null,null,null,null,null,null,null,null,null,null,null,null,null,null,null,null,null,null,null,null,null,null,null,null,null,null,null,"415-777-100100","R2.0 ECOWOOL BATTS 580MM","SUPPLY ONLY - 10.76M2 PER PACK","","","CO","CO","M","415","EA"]
[null,null,null,null,null,null,null,null,null,null,null,null,null,null,null,null,null,null,null,null,null,null,null,null,null,null,null,null,null,null,null,null,null,null,null,null,null,null,null,null,null,null,null,null,null,null,null,"A-CEILING-0010","R4.0 INSULATION BATTS","FLAT CEILING","","2","","42","Z","415","M2"]
[null,null,null,null,null,null,null,null,null,null,null,null,null,null,null,null,null,null,null,null,null,null,null,null,null,null,null,null,null,null,null,null,null,null,null,null,null,null,null,null,null,null,null,null,null,null,null,null,"ROBES AND LINEN"]
[null,null,null,null,null,null,null,null,null,null,null,null,null,null,null,null,null,null,null,null,null,null,null,null,null,null,null,null,null,null,null,null,null,null,null,null,null,null,null,null,null,null,null,null,null,null,null,"420-020-100100","SOFT CLOSE KIT","FOR SLIDING ROBE DOORS","","","CO","CO","M","420","EA"]
[null,null,null,null,null,null,null,null,null,null,null,null,null,null,null,null,null,null,null,null,null,null,null,null,null,null,null,null,null,null,null,null,null,null,null,null,null,null,null,null,null,null,null,null,null,null,null,"420-100-200400","VINYL ROBE","3 DOOR 3300x2400mm","","","CO","CO","M","420","EA"]
[null,null,null,null,null,null,null,null,null,null,null,null,null,null,null,null,null,null,null,null,null,null,null,null,null,null,null,null,null,null,null,null,null,null,null,null,null,null,null,null,null,null,null,null,null,null,null,"420-100-300500","VINYL ROBE","4 DOOR 4800x2400mm","","","CO","CO","M","420","EA"]
[null,null,null,null,null,null,null,null,null,null,null,null,null,null,null,null,null,null,null,null,null,null,null,null,null,null,null,null,null,null,null,null,null,null,null,null,null,null,null,null,null,null,null,null,null,null,null,"420-110-100600","VINYL ROBE","2 DOOR 1800x2700mm","","","CO","CO","M","420","EA"]
[null,null,null,null,null,null,null,null,null,null,null,null,null,null,null,null,null,null,null,null,null,null,null,null,null,null,null,null,null,null,null,null,null,null,null,null,null,null,null,null,null,null,null,null,null,null,null,"420-200-100500","MIRROR/VINYL ROBE","2 DOOR 1500x2400mm","","","CO","CO","M","420","EA"]
[null,null,null,null,null,null,null,null,null,null,null,null,null,null,null,null,null,null,null,null,null,null,null,null,null,null,null,null,null,null,null,null,null,null,null,null,null,null,null,null,null,null,null,null,null,null,null,"420-200-200300","MIRROR/VINYL ROBE","2 DOOR 1800x2700mm","","","CO","CO","M","420","EA"]
[null,null,null,null,null,null,null,null,null,null,null,null,null,null,null,null,null,null,null,null,null,null,null,null,null,null,null,null,null,null,null,null,null,null,null,null,null,null,null,null,null,null,null,null,null,null,null,"420-300-100800","MIRRORED ROBE","2 DOOR 2400x2400mm","","","CO","CO","M","420","EA"]
[null,null,null,null,null,null,null,null,null,null,null,null,null,null,null,null,null,null,null,null,null,null,null,null,null,null,null,null,null,null,null,null,null,null,null,null,null,null,null,null,null,null,null,null,null,null,null,"420-310-100100","MIRRORED ROBE","2 DOOR 1200x2700mm","","","CO","CO","M","420","EA"]
[null,null,null,null,null,null,null,null,null,null,null,null,null,null,null,null,null,null,null,null,null,null,null,null,null,null,null,null,null,null,null,null,null,null,null,null,null,null,null,null,null,null,null,null,null,null,null,"420-310-200600","MIRRORED ROBE","3 DOOR 2700x2700mm","","","CO","CO","M","420","EA"]
[null,null,null,null,null,null,null,null,null,null,null,null,null,null,null,null,null,null,null,null,null,null,null,null,null,null,null,null,null,null,null,null,null,null,null,null,null,null,null,null,null,null,null,null,null,null,null,"420-400-100500","POLYTEC TEXTURE ROBE","2 DOOR - 1500mm W x 2450mm H","","","CO","CO","M","420","EA"]
[null,null,null,null,null,null,null,null,null,null,null,null,null,null,null,null,null,null,null,null,null,null,null,null,null,null,null,null,null,null,null,null,null,null,null,null,null,null,null,null,null,null,null,null,null,null,null,"420-600-100700","COLOURBACK ROBE","2 DOOR - 2100mm W x 2400mm H","","","CO","CO","M","420","EA"]
[null,null,null,null,null,null,null,null,null,null,null,null,null,null,null,null,null,null,null,null,null,null,null,null,null,null,null,null,null,null,null,null,null,null,null,null,null,null,null,null,null,null,null,null,null,null,null,"420-650-100250","BRIGHTBACK ROBE","2 DOOR 2100x2400mm","","","CO","CO","M","420","EA"]
[null,null,null,null,null,null,null,null,null,null,null,null,null,null,null,null,null,null,null,null,null,null,null,null,null,null,null,null,null,null,null,null,null,null,null,null,null,null,null,null,null,null,null,null,null,null,null,"435-100-100100","INTERNAL DOOR ON METAL JAMB","INCLUSIVE OF:","","","CO","CO","S","435","EA"]
[null,null,null,null,null,null,null,null,null,null,null,null,null,null,null,null,null,null,null,null,null,null,null,null,null,null,null,null,null,null,null,null,null,null,null,null,null,null,null,null,null,null,null,null,null,null,null,"435-100-100260","BARN DOOR AND TRACK - SINGLE","","","","CO","CO","S","435","EA"]
[null,null,null,null,null,null,null,null,null,null,null,null,null,null,null,null,null,null,null,null,null,null,null,null,null,null,null,null,null,null,null,null,null,null,null,null,null,null,null,null,null,null,null,null,null,null,null,"435-100-100875","SKIRTING OVER 92mm HIGH","DOUBLE NAILING REQUIRED","","","CO","CO","S","435","LM"]
[null,null,null,null,null,null,null,null,null,null,null,null,null,null,null,null,null,null,null,null,null,null,null,null,null,null,null,null,null,null,null,null,null,null,null,null,null,null,null,null,null,null,null,null,null,null,null,"435-100-101200","GABLE BATTENS","","","","CO","CO","S","435","LM"]
[null,null,null,null,null,null,null,null,null,null,null,null,null,null,null,null,null,null,null,null,null,null,null,null,null,null,null,null,null,null,null,null,null,null,null,null,null,null,null,null,null,null,null,null,null,null,null,"435-100-300500","FIX WEATHER STRIP TO HEAD OF","EXPOSED DOOR JAMBS","","","CO","CO","M","435","EA"]
[null,null,null,null,null,null,null,null,null,null,null,null,null,null,null,null,null,null,null,null,null,null,null,null,null,null,null,null,null,null,null,null,null,null,null,null,null,null,null,null,null,null,null,null,null,null,null,"435-100-301400","CAVITY SLIDER PRIVACY LOCKS","","","","CO","CO","S","435","EA"]
[null,null,null,null,null,null,null,null,null,null,null,null,null,null,null,null,null,null,null,null,null,null,null,null,null,null,null,null,null,null,null,null,null,null,null,null,null,null,null,null,null,null,null,null,null,null,null,"435-400-100300","MELAMINE SHELF VERTICAL PANEL","","","","CO","CO","M","435","EA"]
[null,null,null,null,null,null,null,null,null,null,null,null,null,null,null,null,null,null,null,null,null,null,null,null,null,null,null,null,null,null,null,null,null,null,null,null,null,null,null,null,null,null,null,null,null,null,null,"435-600-100190","HI WEATHERBOARD WALL CLADDING","ON TIMBER STUDWORK","","","CO","CO","S","435","M2"]
[null,null,null,null,null,null,null,null,null,null,null,null,null,null,null,null,null,null,null,null,null,null,null,null,null,null,null,null,null,null,null,null,null,null,null,null,null,null,null,null,null,null,null,null,null,null,null,"435-600-200310","ALUMINIUM EXTERNAL VENT","DOUBLE STOREY JOBS","","","CO","CO","S","435","EA"]
[null,null,null,null,null,null,null,null,null,null,null,null,null,null,null,null,null,null,null,null,null,null,null,null,null,null,null,null,null,null,null,null,null,null,null,null,null,null,null,null,null,null,null,null,null,null,null,"435-777-100200","ENTRY DOOR ON TIMBER OR METAL","FRAME","","","CO","LB","S","435","EA"]
[null,null,null,null,null,null,null,null,null,null,null,null,null,null,null,null,null,null,null,null,null,null,null,null,null,null,null,null,null,null,null,null,null,null,null,null,null,null,null,null,null,null,null,null,null,null,null,"435-777-101400","SIDELITE PANEL TO DOOR","OR HILITE PANEL OVER DOOR","","","CO","CO","M","435","EA"]
[null,null,null,null,null,null,null,null,null,null,null,null,null,null,null,null,null,null,null,null,null,null,null,null,null,null,null,null,null,null,null,null,null,null,null,null,null,null,null,null,null,null,null,null,null,null,null,"435-850-100150","HARDWARE ALLOWANCE INCLUDING","","","","CO","CO","S","435","IT"]
[]
[null,null,null,null,null,null,null,null,null,null,null,null,null,null,null,null,null,null,null,null,null,null,null,null,null,null,null,null,null,null,null,null,null,null,null,null,null,null,null,null,null,null,null,null,null,null,null,"440-100-200280","LEEDERVILLE","2040x820x40mm","LEEDERVILLE","","CO","CO","M","440","EA"]
[null,null,null,null,null,null,null,null,null,null,null,null,null,null,null,null,null,null,null,null,null,null,null,null,null,null,null,null,null,null,null,null,null,null,null,null,null,null,null,null,null,null,null,null,null,null,null,"440-110-100225","FLUSH PANEL EXP","2340x920x35mm SOLIDCORE","","","CO","CO","M","440","EA"]
[null,null,null,null,null,null,null,null,null,null,null,null,null,null,null,null,null,null,null,null,null,null,null,null,null,null,null,null,null,null,null,null,null,null,null,null,null,null,null,null,null,null,null,null,null,null,null,"440-110-200110","BAL40 BUSHFIRE PBUSH 1","2040x820x42mm","PBUSH 1","","CO","CO","M","440","EA"]
[null,null,null,null,null,null,null,null,null,null,null,null,null,null,null,null,null,null,null,null,null,null,null,null,null,null,null,null,null,null,null,null,null,null,null,null,null,null,null,null,null,null,null,null,null,null,null,"440-110-200200","BAL40 BUSHFIRE PBUSHG 101","2040x820x42mm CLEAR GLAZED","PBUSHG 101","","CO","CO","M","440","EA"]
[null,null,null,null,null,null,null,null,null,null,null,null,null,null,null,null,null,null,null,null,null,null,null,null,null,null,null,null,null,null,null,null,null,null,null,null,null,null,null,null,null,null,null,null,null,null,null,"440-201-100100","PLATINUM 4000 CAVITY UNIT","2040x1020mm DOOR","PLATINUM 4000","","CO","CO","M","440","EA"]
[null,null,null,null,null,null,null,null,null,null,null,null,null,null,null,null,null,null,null,null,null,null,null,null,null,null,null,null,null,null,null,null,null,null,null,null,null,null,null,null,null,null,null,null,null,null,null,"440-201-101800","PLATINUM 4000 DBL CAVITY UNIT","2340x620mm TO 820mm DOOR","PLATINUM 4000","","CO","CO","M","440","EA"]
[null,null,null,null,null,null,null,null,null,null,null,null,null,null,null,null,null,null,null,null,null,null,null,null,null,null,null,null,null,null,null,null,null,null,null,null,null,null,null,null,null,null,null,null,null,null,null,"440-250-100170","MADISON PMADIN 104","2040x620x35mm","","","CO","CO","M","440","EA"]
[null,null,null,null,null,null,null,null,null,null,null,null,null,null,null,null,null,null,null,null,null,null,null,null,null,null,null,null,null,null,null,null,null,null,null,null,null,null,null,null,null,null,null,null,null,null,null,"440-280-100081","MADISON PMAD 111","2040x920x40mm CLEAR GLAZED","","","CO","CO","M","440","EA"]
[null,null,null,null,null,null,null,null,null,null,null,null,null,null,null,null,null,null,null,null,null,null,null,null,null,null,null,null,null,null,null,null,null,null,null,null,null,null,null,null,null,null,null,null,null,null,null,"440-320-300200","INFINITY INF 21","2040x820x40mm CLEAR GLAZED","INF 21","","CO","CO","M","440","EA"]
[null,null,null,null,null,null,null,null,null,null,null,null,null,null,null,null,null,null,null,null,null,null,null,null,null,null,null,null,null,null,null,null,null,null,null,null,null,null,null,null,null,null,null,null,null,null,null,"440-325-300400","BLONDE OAK AWOWS 5VG","2040x1200x40mm TRANSLUCENT","AWOWS 5VG","","CO","CO","M","440","EA"]
[null,null,null,null,null,null,null,null,null,null,null,null,null,null,null,null,null,null,null,null,null,null,null,null,null,null,null,null,null,null,null,null,null,null,null,null,null,null,null,null,null,null,null,null,null,null,null,"440-350-100300","URBAN PURB 4","2040x820x40mm","PURB 4","","CO","CO","M","440","EA"]
[null,null,null,null,null,null,null,null,null,null,null,null,null,null,null,null,null,null,null,null,null,null,null,null,null,null,null,null,null,null,null,null,null,null,null,null,null,null,null,null,null,null,null,null,null,null,null,"440-350-100600","URBAN PURB 104","2040x820x40mm","PURB 104","","CO","CO","M","440","EA"]
[null,null,null,null,null,null,null,null,null,null,null,null,null,null,null,null,null,null,null,null,null,null,null,null,null,null,null,null,null,null,null,null,null,null,null,null,null,null,null,null,null,null,null,null,null,null,null,"440-350-200400","URBAN PURB 101","2040x920x40mm","PURB 101","","CO","CO","M","440","EA"]
[null,null,null,null,null,null,null,null,null,null,null,null,null,null,null,null,null,null,null,null,null,null,null,null,null,null,null,null,null,null,null,null,null,null,null,null,null,null,null,null,null,null,null,null,null,null,null,"440-510-200700","BRENTWOOD","2340x820x40mm CLEAR GLAZED","BRENTWOOD","","CO","CO","M","440","EA"]
[null,null,null,null,null,null,null,null,null,null,null,null,null,null,null,null,null,null,null,null,null,null,null,null,null,null,null,null,null,null,null,null,null,null,null,null,null,null,null,null,null,null,null,null,null,null,null,"440-600-300100","DECO 3S","2040x620x35mm","DECO 3S","","CO","CO","M","440","EA"]
[null,null,null,null,null,null,null,null,null,null,null,null,null,null,null,null,null,null,null,null,null,null,null,null,null,null,null,null,null,null,null,null,null,null,null,null,null,null,null,null,null,null,null,null,null,null,null,"440-600-400700","DECO 3S","2015x620x35mm WC","","","CO","CO","M","440","EA"]
[null,null,null,null,null,null,null,null,null,null,null,null,null,null,null,null,null,null,null,null,null,null,null,null,null,null,null,null,null,null,null,null,null,null,null,null,null,null,null,null,null,null,null,null,null,null,null,"440-610-100300","FLUSH PANEL PMDF","2015x820x35mm WC","PMDF","","CO","CO","M","440","EA"]
[null,null,null,null,null,null,null,null,null,null,null,null,null,null,null,null,null,null,null,null,null,null,null,null,null,null,null,null,null,null,null,null,null,null,null,null,null,null,null,null,null,null,null,null,null,null,null,"440-610-200200","FLUSH PANEL PMDF","2040x520x35mm","PMDF","","CO","CO","M","440","EA"]
[null,null,null,null,null,null,null,null,null,null,null,null,null,null,null,null,null,null,null,null,null,null,null,null,null,null,null,null,null,null,null,null,null,null,null,null,null,null,null,null,null,null,null,null,null,null,null,"440-630-100100","IMPRESSIONS CMB","2015x620x35mm WC","CMB","","CO","CO","M","440","EA"]
[null,null,null,null,null,null,null,null,null,null,null,null,null,null,null,null,null,null,null,null,null,null,null,null,null,null,null,null,null,null,null,null,null,null,null,null,null,null,null,null,null,null,null,null,null,null,null,"440-630-200400","IMPRESSIONS CMB","2040x820x35mm","CMB","","CO","CO","M","440","EA"]
[null,null,null,null,null,null,null,null,null,null,null,null,null,null,null,null,null,null,null,null,null,null,null,null,null,null,null,null,null,null,null,null,null,null,null,null,null,null,null,null,null,null,null,null,null,null,null,"440-650-400200","IMPRESSIONS ROC","2040x820x35mm SOLIDCORE","ROC","","CO","CO","M","440","EA"]
[null,null,null,null,null,null,null,null,null,null,null,null,null,null,null,null,null,null,null,null,null,null,null,null,null,null,null,null,null,null,null,null,null,null,null,null,null,null,null,null,null,null,null,null,null,null,null,"440-660-200400","IMPRESSIONS STA","2040x820x35mm","STA","","CO","CO","M","440","EA"]
[null,null,null,null,null,null,null,null,null,null,null,null,null,null,null,null,null,null,null,null,null,null,null,null,null,null,null,null,null,null,null,null,null,null,null,null,null,null,null,null,null,null,null,null,null,null,null,"440-680-700101","MODA PMOD1GT","2040x820x35mm TRANSLUCENT","PMOD1GT","","CO","CO","M","440","EA"]
[null,null,null,null,null,null,null,null,null,null,null,null,null,null,null,null,null,null,null,null,null,null,null,null,null,null,null,null,null,null,null,null,null,null,null,null,null,null,null,null,null,null,null,null,null,null,null,"440-685-002200","BAL29 RURAL PRU 104","2040x1020x40mm CLEAR GLAZED","PRU 104","","CO","CO","M","440","EA"]
[null,null,null,null,null,null,null,null,null,null,null,null,null,null,null,null,null,null,null,null,null,null,null,null,null,null,null,null,null,null,null,null,null,null,null,null,null,null,null,null,null,null,null,null,null,null,null,"445-150-200200","KEYING - CONSTRUCTION","PER CYLINDER","","","CO","CO","M","445","EA"]
[null,null,null,null,null,null,null,null,null,null,null,null,null,null,null,null,null,null,null,null,null,null,null,null,null,null,null,null,null,null,null,null,null,null,null,null,null,null,null,null,null,null,null,null,null,null,null,"445-180-100055","FLUSH PULL - RADIUS 390","SATIN CHROME","","","CO","CO","M","445","EA"]
[null,null,null,null,null,null,null,null,null,null,null,null,null,null,null,null,null,null,null,null,null,null,null,null,null,null,null,null,null,null,null,null,null,null,null,null,null,null,null,null,null,null,null,null,null,null,null,"445-180-200300","CAVITY DOOR 393 RECTAGULAR","PRIVACY SET - SATIN CHROME","","","CO","CO","M","445","EA"]
[null,null,null,null,null,null,null,null,null,null,null,null,null,null,null,null,null,null,null,null,null,null,null,null,null,null,null,null,null,null,null,null,null,null,null,null,null,null,null,null,null,null,null,null,null,null,null,"445-300-101150","TRILOCK 890TLE LEVER","ENTRY SET - BRIGHT CHROME","","","CO","CO","M","445","EA"]
[null,null,null,null,null,null,null,null,null,null,null,null,null,null,null,null,null,null,null,null,null,null,null,null,null,null,null,null,null,null,null,null,null,null,null,null,null,null,null,null,null,null,null,null,null,null,null,"445-300-101470","ANGULAR LEVERSET SQUARE","PRIVACY - MATT BLACK","1815ANGMB","","CO","CO","M","445","EA"]
[null,null,null,null,null,null,null,null,null,null,null,null,null,null,null,null,null,null,null,null,null,null,null,null,null,null,null,null,null,null,null,null,null,null,null,null,null,null,null,null,null,null,null,null,null,null,null,"445-300-102060","TRILOCK CONTOUR DOUBLE","CYLINDER SATIN CHROME KEYED","8901CONSCK","","CO","CO","M","445","EA"]
[null,null,null,null,null,null,null,null,null,null,null,null,null,null,null,null,null,null,null,null,null,null,null,null,null,null,null,null,null,null,null,null,null,null,null,null,null,null,null,null,null,null,null,null,null,null,null,"445-300-102600","TRILOCK OMNI ALLURE MATT BLACK","PULL HANDLE SET","8905ALLMB","","CO","CO","M","445","EA"]
[null,null,null,null,null,null,null,null,null,null,null,null,null,null,null,null,null,null,null,null,null,null,null,null,null,null,null,null,null,null,null,null,null,null,null,null,null,null,null,null,null,null,null,null,null,null,null,"445-300-103500","TRILOCK ECLIPSE ALLURE","ENTRY SET - POLISHED STAINLESS","8904ALLPSK","","CO","CO","M","445","EA"]
[null,null,null,null,null,null,null,null,null,null,null,null,null,null,null,null,null,null,null,null,null,null,null,null,null,null,null,null,null,null,null,null,null,null,null,null,null,null,null,null,null,null,null,null,null,null,null,"445-310-100200","ANGULAR LEVERSET SQUARE","BACKPLATE - PRIVACY SET","","","CO","CO","M","445","EA"]
[null,null,null,null,null,null,null,null,null,null,null,null,null,null,null,null,null,null,null,null,null,null,null,null,null,null,null,null,null,null,null,null,null,null,null,null,null,null,null,null,null,null,null,null,null,null,null,"445-400-100600","GOVERNOR","PASSAGE SET - STAINLESS STEEL","4195312","","CO","CO","M","445","EA"]
[null,null,null,null,null,null,null,null,null,null,null,null,null,null,null,null,null,null,null,null,null,null,null,null,null,null,null,null,null,null,null,null,null,null,null,null,null,null,null,null,null,null,null,null,null,null,null,"445-400-700100","BAILEY LEVER","PASSAGE SET","4020110 & 4020111","","CO","CO","M","445","EA"]
[null,null,null,null,null,null,null,null,null,null,null,null,null,null,null,null,null,null,null,null,null,null,null,null,null,null,null,null,null,null,null,null,null,null,null,null,null,null,null,null,null,null,null,null,null,null,null,"445-400-800400","LIANNA LEVER","PRIVACY SET MB W/ LATCH","115LIAMB","","CO","CO","M","445","EA"]
[null,null,null,null,null,null,null,null,null,null,null,null,null,null,null,null,null,null,null,null,null,null,null,null,null,null,null,null,null,null,null,null,null,null,null,null,null,null,null,null,null,null,null,null,null,null,null,"445-400-810050","HARPER LVR DUMMY SET LEFT HAND","SATIN CHROME","120HARLSC","","CO","CO","M","445","EA"]
[null,null,null,null,null,null,null,null,null,null,null,null,null,null,null,null,null,null,null,null,null,null,null,null,null,null,null,null,null,null,null,null,null,null,null,null,null,null,null,null,null,null,null,null,null,null,null,"445-400-810140","HARPER LVR ROUND CORNER DUMMY","SET RIGHT HAND SATIN CHROME","220HARRSC","","CO","CO","M","445","EA"]
[null,null,null,null,null,null,null,null,null,null,null,null,null,null,null,null,null,null,null,null,null,null,null,null,null,null,null,null,null,null,null,null,null,null,null,null,null,null,null,null,null,null,null,null,null,null,null,"445-400-810190","CONTOUR PRIVACY 65MM SMOOTH","ROUND ROSETTE SATIN CHROME","1915CONSC","","CO","CO","M","445","EA"]
[null,null,null,null,null,null,null,null,null,null,null,null,null,null,null,null,null,null,null,null,null,null,null,null,null,null,null,null,null,null,null,null,null,null,null,null,null,null,null,null,null,null,null,null,null,null,null,"445-400-810310","AURORA DUMMY 65MM SMOOTH ROUND","WHITE","1920AURWH","","CO","CO","M","445","EA"]
[null,null,null,null,null,null,null,null,null,null,null,null,null,null,null,null,null,null,null,null,null,null,null,null,null,null,null,null,null,null,null,null,null,null,null,null,null,null,null,null,null,null,null,null,null,null,null,"445-400-902200","FLORENCE LEVER","PRIVACY SET","4020117 & 4020118","","CO","CO","M","445","EA"]
[null,null,null,null,null,null,null,null,null,null,null,null,null,null,null,null,null,null,null,null,null,null,null,null,null,null,null,null,null,null,null,null,null,null,null,null,null,null,null,null,null,null,null,null,null,null,null,"445-400-902330","FLORENCE LVR DUMMY SET RIGHT","HAND MATT BLACK","120FLORMB","","CO","CO","M","445","EA"]
[null,null,null,null,null,null,null,null,null,null,null,null,null,null,null,null,null,null,null,null,null,null,null,null,null,null,null,null,null,null,null,null,null,null,null,null,null,null,null,null,null,null,null,null,null,null,null,"445-400-906200","OLIVE LEVER","DUMMY SET","","","CO","CO","M","445","EA"]
[null,null,null,null,null,null,null,null,null,null,null,null,null,null,null,null,null,null,null,null,null,null,null,null,null,null,null,null,null,null,null,null,null,null,null,null,null,null,null,null,null,null,null,null,null,null,null,"445-420-110800","AURORA LEVER","PASSAGE SET - MATT BLACK","","","CO","CO","M","445","EA"]
[null,null,null,null,null,null,null,null,null,null,null,null,null,null,null,null,null,null,null,null,null,null,null,null,null,null,null,null,null,null,null,null,null,null,null,null,null,null,null,null,null,null,null,null,null,null,null,"445-450-100900","TRISTAN","PRIVACY SET","4191584","","CO","CO","M","445","EA"]
[null,null,null,null,null,null,null,null,null,null,null,null,null,null,null,null,null,null,null,null,null,null,null,null,null,null,null,null,null,null,null,null,null,null,null,null,null,null,null,null,null,null,null,null,null,null,null,"445-500-200120","CAVITY DOOR 385 SQUARE SET","PRIVACY SET - BRIGHT CHROME","385SCS","","CO","CO","M","445","EA"]
[null,null,null,null,null,null,null,null,null,null,null,null,null,null,null,null,null,null,null,null,null,null,null,null,null,null,null,null,null,null,null,null,null,null,null,null,null,null,null,null,null,null,null,null,null,null,null,"445-700-100100","ADEL DOUBLE CYLINDER","ENTRY SET - SATIN CHROME","4025123","","CO","CO","M","445","EA"]
[null,null,null,null,null,null,null,null,null,null,null,null,null,null,null,null,null,null,null,null,null,null,null,null,null,null,null,null,null,null,null,null,null,null,null,null,null,null,null,null,null,null,null,null,null,null,null,"445-700-101110","ADEL ROUND PASSAGE LEVER SET","SATIN CHROME","1400PROADESC","","CO","CO","M","445","EA"]
[null,null,null,null,null,null,null,null,null,null,null,null,null,null,null,null,null,null,null,null,null,null,null,null,null,null,null,null,null,null,null,null,null,null,null,null,null,null,null,null,null,null,null,null,null,null,null,"445-700-200120","BELA DOUBLE CYLINDER","ENTRY SET - MATT BLACK","","","CO","CO","M","445","EA"]
[null,null,null,null,null,null,null,null,null,null,null,null,null,null,null,null,null,null,null,null,null,null,null,null,null,null,null,null,null,null,null,null,null,null,null,null,null,null,null,null,null,null,null,null,null,null,null,"445-700-201100","BELA ROUND ENTRY LEVER SET","SATIN CHROME","1440PROBELSCK","","CO","CO","M","445","EA"]
[null,null,null,null,null,null,null,null,null,null,null,null,null,null,null,null,null,null,null,null,null,null,null,null,null,null,null,null,null,null,null,null,null,null,null,null,null,null,null,null,null,null,null,null,null,null,null,"445-700-203100","BELA - ROUND ROSE","ENTRY SET - MATT BLACK","","","CO","CO","M","445","EA"]
[null,null,null,null,null,null,null,null,null,null,null,null,null,null,null,null,null,null,null,null,null,null,null,null,null,null,null,null,null,null,null,null,null,null,null,null,null,null,null,null,null,null,null,null,null,null,null,"445-700-213120","BELA - SQUARE ROSE","PRIVACY SET - MATT BLACK","","","CO","CO","M","445","EA"]
[null,null,null,null,null,null,null,null,null,null,null,null,null,null,null,null,null,null,null,null,null,null,null,null,null,null,null,null,null,null,null,null,null,null,null,null,null,null,null,null,null,null,null,null,null,null,null,"445-700-300420","CASS DOUBLE CYLINDER DEADBOLT","MATT BLACK","","","CO","CO","M","445","EA"]
[null,null,null,null,null,null,null,null,null,null,null,null,null,null,null,null,null,null,null,null,null,null,null,null,null,null,null,null,null,null,null,null,null,null,null,null,null,null,null,null,null,null,null,null,null,null,null,"445-773-100200","CAVITY SLIDING PASSAGE SET","SQUARE BLACK 386MBC","","","CO","CO","M","445","EA"]
[]
[]
[]
[]
[]
[]
[null,null,null,null,null,null,null,null,null,null,null,null,null,null,null,null,null,null,null,null,null,null,null,null,null,null,null,null,null,null,null,null,null,null,null,null,null,null,null,null,null,null,null,null,null,null,null,"450-010-100000","FIXING HARDWARE AS PER QUOTE","","","","CO","CO","M","450","QT"]
[null,null,null,null,null,null,null,null,null,null,null,null,null,null,null,null,null,null,null,null,null,null,null,null,null,null,null,null,null,null,null,null,null,null,null,null,null,null,null,null,null,null,null,null,null,null,null,"450-100-100375","HINGE - BALL BEARING 100x75mm","DESIGN 316 SATIN CHROME","D3HNGSCP10075","","CO","CO","M","450","EA"]
[null,null,null,null,null,null,null,null,null,null,null,null,null,null,null,null,null,null,null,null,null,null,null,null,null,null,null,null,null,null,null,null,null,null,null,null,null,null,null,null,null,null,null,null,null,null,null,"450-100-101400","TRACK-S/DOOR ARROW 30KG","SP-3 SPRINT 30 TRACK 1800mm","SL30-16/1BK","","CO","CO","M","450","EA"]
[null,null,null,null,null,null,null,null,null,null,null,null,null,null,null,null,null,null,null,null,null,null,null,null,null,null,null,null,null,null,null,null,null,null,null,null,null,null,null,null,null,null,null,null,null,null,null,"450-100-103570","ANCHOR STUD RAMSET M16x190mm","CHEMSET 10 PACK","2263824","","CO","CO","M","450","PK"]
[null,null,null,null,null,null,null,null,null,null,null,null,null,null,null,null,null,null,null,null,null,null,null,null,null,null,null,null,null,null,null,null,null,null,null,null,null,null,null,null,null,null,null,null,null,null,null,"450-100-104800","ROD-STEEL 19mm 2400LONG CHROME","PLATED","TR19MM24","","CO","CO","M","450","LG"]
[null,null,null,null,null,null,null,null,null,null,null,null,null,null,null,null,null,null,null,null,null,null,null,null,null,null,null,null,null,null,null,null,null,null,null,null,null,null,null,null,null,null,null,null,null,null,null,"450-100-105200","END PILLARS FOR 19mm CIRCULAR","TOWEL RAIL (PER PAIR)","TRENDS19MM","","CO","CO","M","450","PR"]
[null,null,null,null,null,null,null,null,null,null,null,null,null,null,null,null,null,null,null,null,null,null,null,null,null,null,null,null,null,null,null,null,null,null,null,null,null,null,null,null,null,null,null,null,null,null,null,"450-100-200605","COWDROY DOOR SEAL","CM61 GREY 5 METRE ROLL","","","CO","CO","M","450","RL"]
[null,null,null,null,null,null,null,null,null,null,null,null,null,null,null,null,null,null,null,null,null,null,null,null,null,null,null,null,null,null,null,null,null,null,null,null,null,null,null,null,null,null,null,null,null,null,null,"450-100-300610","LIQUID NAILS - SIKABOND","FAST GRAB 420G","1230096","","CO","CO","M","450","EA"]
[null,null,null,null,null,null,null,null,null,null,null,null,null,null,null,null,null,null,null,null,null,null,null,null,null,null,null,null,null,null,null,null,null,null,null,null,null,null,null,null,null,null,null,null,null,null,null,"450-130-029000","GRAB RAIL METLAM ANMB_ML333","900x32mm - STRAIGHT","","","CO","CO","M","450","EA"]
[null,null,null,null,null,null,null,null,null,null,null,null,null,null,null,null,null,null,null,null,null,null,null,null,null,null,null,null,null,null,null,null,null,null,null,null,null,null,null,null,null,null,null,null,null,null,null,"450-200-200500","RP138 THRESHOLD CA 3000mm","","","","CO","CO","M","450","EA"]
[null,null,null,null,null,null,null,null,null,null,null,null,null,null,null,null,null,null,null,null,null,null,null,null,null,null,null,null,null,null,null,null,null,null,null,null,null,null,null,null,null,null,null,null,null,null,null,"450-600-100850","ALDER STAR SINGLE TOWEL RAIL","750mm CHROME (CODE 86991)","STARTRSGL750","","CO","CO","M","450","EA"]
[null,null,null,null,null,null,null,null,null,null,null,null,null,null,null,null,null,null,null,null,null,null,null,null,null,null,null,null,null,null,null,null,null,null,null,null,null,null,null,null,null,null,null,null,null,null,null,"450-600-200300","CAROMA COSMO DOUBLE TOWEL RAIL","600mm CHROME","COSDBLTRMETCP600","","CO","CO","M","450","EA"]
[null,null,null,null,null,null,null,null,null,null,null,null,null,null,null,null,null,null,null,null,null,null,null,null,null,null,null,null,null,null,null,null,null,null,null,null,null,null,null,null,null,null,null,null,null,null,null,"450-600-202300","VITO BERTONI TAYA DOUBLE TOWEL","RAIL 900mm CHROME(CODE 94903)","TAYATRDBL900","","CO","CO","M","450","EA"]
[null,null,null,null,null,null,null,null,null,null,null,null,null,null,null,null,null,null,null,null,null,null,null,null,null,null,null,null,null,null,null,null,null,null,null,null,null,null,null,null,null,null,null,null,null,null,null,"450-600-300450","VITO BERTONI TAYA TOWEL RING","BLACK (CODE 94955)","94955","","CO","CO","M","450","EA"]
[null,null,null,null,null,null,null,null,null,null,null,null,null,null,null,null,null,null,null,null,null,null,null,null,null,null,null,null,null,null,null,null,null,null,null,null,null,null,null,null,null,null,null,null,null,null,null,"450-600-350300","VITO BERTONI TAYA SOAP DISH","(CODE 94909)","","","CO","CO","M","450","EA"]
[null,null,null,null,null,null,null,null,null,null,null,null,null,null,null,null,null,null,null,null,null,null,null,null,null,null,null,null,null,null,null,null,null,null,null,null,null,null,null,null,null,null,null,null,null,null,null,"450-601-100300","BASIS ROBE HOOK","BRUSHED NICKEL","BAS037BN","","CO","CO","M","450","EA"]
[null,null,null,null,null,null,null,null,null,null,null,null,null,null,null,null,null,null,null,null,null,null,null,null,null,null,null,null,null,null,null,null,null,null,null,null,null,null,null,null,null,null,null,null,null,null,null,"450-601-101000","BASIS DOUBLE TOWEL RAIL","600mm CHROME","BAS040C","","CO","CO","M","450","EA"]
[null,null,null,null,null,null,null,null,null,null,null,null,null,null,null,null,null,null,null,null,null,null,null,null,null,null,null,null,null,null,null,null,null,null,null,null,null,null,null,null,null,null,null,null,null,null,null,"450-601-101700","BASIS TOILET ROLL HOLDER","BLACK","BAS042B","","CO","CO","M","450","EA"]
[null,null,null,null,null,null,null,null,null,null,null,null,null,null,null,null,null,null,null,null,null,null,null,null,null,null,null,null,null,null,null,null,null,null,null,null,null,null,null,null,null,null,null,null,null,null,null,"450-601-102500","LUNA TOILET ROLL HOLDER","CHROME","99607C","","CO","CO","M","450","EA"]
[null,null,null,null,null,null,null,null,null,null,null,null,null,null,null,null,null,null,null,null,null,null,null,null,null,null,null,null,null,null,null,null,null,null,null,null,null,null,null,null,null,null,null,null,null,null,null,"450-601-103500","LUNA DBL TOWEL RAIL","630mm BLACK","99614BL","","CO","CO","M","450","EA"]
[null,null,null,null,null,null,null,null,null,null,null,null,null,null,null,null,null,null,null,null,null,null,null,null,null,null,null,null,null,null,null,null,null,null,null,null,null,null,null,null,null,null,null,null,null,null,null,"450-601-103900","LUNA DBL TOWEL RAIL","930mm BLACK","99615BL","","CO","CO","M","450","EA"]
[null,null,null,null,null,null,null,null,null,null,null,null,null,null,null,null,null,null,null,null,null,null,null,null,null,null,null,null,null,null,null,null,null,null,null,null,null,null,null,null,null,null,null,null,null,null,null,"450-601-104400","LUNA SINGLE TOWEL RAIL","630MM BRUSHED BRASS","99612BB","","CO","CO","M","450","EA"]
[null,null,null,null,null,null,null,null,null,null,null,null,null,null,null,null,null,null,null,null,null,null,null,null,null,null,null,null,null,null,null,null,null,null,null,null,null,null,null,null,null,null,null,null,null,null,null,"450-601-105300","URBANE II SINGLE TOWEL RAIL","625MM CHROME","99625C","","CO","CO","M","450","EA"]
[null,null,null,null,null,null,null,null,null,null,null,null,null,null,null,null,null,null,null,null,null,null,null,null,null,null,null,null,null,null,null,null,null,null,null,null,null,null,null,null,null,null,null,null,null,null,null,"450-601-106100","URBANE II SINGLE TOWEL RAIL","825MM BRUSHED BRASS","99617BB","","CO","CO","M","450","EA"]
[null,null,null,null,null,null,null,null,null,null,null,null,null,null,null,null,null,null,null,null,null,null,null,null,null,null,null,null,null,null,null,null,null,null,null,null,null,null,null,null,null,null,null,null,null,null,null,"450-601-107000","URBANE II DOUBLE TOWEL RAIL","825MM BRUSHED NICKEL","99616BN","","CO","CO","M","450","EA"]
[null,null,null,null,null,null,null,null,null,null,null,null,null,null,null,null,null,null,null,null,null,null,null,null,null,null,null,null,null,null,null,null,null,null,null,null,null,null,null,null,null,null,null,null,null,null,null,"450-601-107800","URBANE II HAND TOWEL RAIL","CHROME","99618C","","CO","CO","M","450","EA"]
[null,null,null,null,null,null,null,null,null,null,null,null,null,null,null,null,null,null,null,null,null,null,null,null,null,null,null,null,null,null,null,null,null,null,null,null,null,null,null,null,null,null,null,null,null,null,null,"450-601-108400","URBANE II ROBE HOOK","BLACK","99621B","","CO","CO","M","450","EA"]
[null,null,null,null,null,null,null,null,null,null,null,null,null,null,null,null,null,null,null,null,null,null,null,null,null,null,null,null,null,null,null,null,null,null,null,null,null,null,null,null,null,null,null,null,null,null,null,"450-605-101400","CAROMA ELEGANCE TOILET ROLL","HOLDER CHROME","ELETRH","","CO","CO","M","450","EA"]
[null,null,null,null,null,null,null,null,null,null,null,null,null,null,null,null,null,null,null,null,null,null,null,null,null,null,null,null,null,null,null,null,null,null,null,null,null,null,null,null,null,null,null,null,null,null,null,"450-610-101350","CAROMA QUATRO SOAP HOLDER CP","(90734C)","CARQUATSOAP","","CO","CO","M","450","EA"]
[null,null,null,null,null,null,null,null,null,null,null,null,null,null,null,null,null,null,null,null,null,null,null,null,null,null,null,null,null,null,null,null,null,null,null,null,null,null,null,null,null,null,null,null,null,null,null,"450-620-100500","VITO BERTONI SACHI SOAP DISH","","SACHI31206","","CO","CO","M","450","EA"]
[null,null,null,null,null,null,null,null,null,null,null,null,null,null,null,null,null,null,null,null,null,null,null,null,null,null,null,null,null,null,null,null,null,null,null,null,null,null,null,null,null,null,null,null,null,null,null,"450-630-100100","VITO BERTONI WISH DOUBLE TOWEL","RAIL 750mm - BLACK","","","CO","CO","M","450","EA"]
[null,null,null,null,null,null,null,null,null,null,null,null,null,null,null,null,null,null,null,null,null,null,null,null,null,null,null,null,null,null,null,null,null,null,null,null,null,null,null,null,null,null,null,null,null,null,null,"450-630-100700","VITO BERTONI WISH TOWEL RING","CHROME (CODE SUM40731)","","","CO","CO","M","450","EA"]
[null,null,null,null,null,null,null,null,null,null,null,null,null,null,null,null,null,null,null,null,null,null,null,null,null,null,null,null,null,null,null,null,null,null,null,null,null,null,null,null,null,null,null,null,null,null,null,"450-700-500100","GF GRAB RAIL SHOWER","32 DIA X 600 LONG CHROME","","","CO","CO","M","450","EA"]
[null,null,null,null,null,null,null,null,null,null,null,null,null,null,null,null,null,null,null,null,null,null,null,null,null,null,null,null,null,null,null,null,null,null,null,null,null,null,null,null,null,null,null,null,null,null,null,"450-777-100500","COSMO SOAP DISH","","","","CO","CO","M","450","EA"]
[null,null,null,null,null,null,null,null,null,null,null,null,null,null,null,null,null,null,null,null,null,null,null,null,null,null,null,null,null,null,null,null,null,null,null,null,null,null,null,null,null,null,null,null,null,null,null,"460-100-100205","QUAD - MDF 19mm","LENGTHS: 5.4m","","","CO","CO","M","460","LG"]
[null,null,null,null,null,null,null,null,null,null,null,null,null,null,null,null,null,null,null,null,null,null,null,null,null,null,null,null,null,null,null,null,null,null,null,null,null,null,null,null,null,null,null,null,null,null,null,"460-100-100650","CAPPING - MDF 170x32mm","SQUARE EDGED DRESSED","","","CO","CO","M","460","LG"]
[null,null,null,null,null,null,null,null,null,null,null,null,null,null,null,null,null,null,null,null,null,null,null,null,null,null,null,null,null,null,null,null,null,null,null,null,null,null,null,null,null,null,null,null,null,null,null,"460-200-100100","ARCHITRAVE - MDF 92x18mm","SINGLE BULLNOSED LENGTHS: 5.4m","","","CO","CO","M","460","LG"]
[null,null,null,null,null,null,null,null,null,null,null,null,null,null,null,null,null,null,null,null,null,null,null,null,null,null,null,null,null,null,null,null,null,null,null,null,null,null,null,null,null,null,null,null,null,null,null,"460-200-100305","ARCHITRAVE - MDF 67x18mm","DOUBLE BULLNOSED LENGTHS: 5.4m","","","CO","CO","M","460","LG"]
[null,null,null,null,null,null,null,null,null,null,null,null,null,null,null,null,null,null,null,null,null,null,null,null,null,null,null,null,null,null,null,null,null,null,null,null,null,null,null,null,null,null,null,null,null,null,null,"460-215-100050","ARCHITRAVE - H3 PINE 66x18mm","SINGLE BULLNOSED LENGTHS 5.4m","","","CO","CO","M","460","LG"]
[null,null,null,null,null,null,null,null,null,null,null,null,null,null,null,null,null,null,null,null,null,null,null,null,null,null,null,null,null,null,null,null,null,null,null,null,null,null,null,null,null,null,null,null,null,null,null,"460-250-100230","JARRAH 80F x 40Fmm","LENGTHS: 2.7m","","","CO","CO","M","460","LM"]
[null,null,null,null,null,null,null,null,null,null,null,null,null,null,null,null,null,null,null,null,null,null,null,null,null,null,null,null,null,null,null,null,null,null,null,null,null,null,null,null,null,null,null,null,null,null,null,"460-250-200100","SCOTIA - JARRAH 28mm","DRY DRESSED SELECT GRADE","","","CO","CO","M","460","LM"]
[null,null,null,null,null,null,null,null,null,null,null,null,null,null,null,null,null,null,null,null,null,null,null,null,null,null,null,null,null,null,null,null,null,null,null,null,null,null,null,null,null,null,null,null,null,null,null,"460-300-100105","SKIRTING - MDF 67x18mm","SINGLE BULLNOSED LENGTHS: 5.4m","","","CO","CO","M","460","LG"]
[null,null,null,null,null,null,null,null,null,null,null,null,null,null,null,null,null,null,null,null,null,null,null,null,null,null,null,null,null,null,null,null,null,null,null,null,null,null,null,null,null,null,null,null,null,null,null,"460-300-100505","SKIRTING - MDF 67x18mm","COLONIAL - LENGTHS: 5.4m","","","CO","CO","M","460","LG"]
[null,null,null,null,null,null,null,null,null,null,null,null,null,null,null,null,null,null,null,null,null,null,null,null,null,null,null,null,null,null,null,null,null,null,null,null,null,null,null,null,null,null,null,null,null,null,null,"460-320-100350","STAIR STRINGER - MDF 350x18mm","LENGTHS: 3.6M","","","CO","CO","M","460","LG"]
[null,null,null,null,null,null,null,null,null,null,null,null,null,null,null,null,null,null,null,null,null,null,null,null,null,null,null,null,null,null,null,null,null,null,null,null,null,null,null,null,null,null,null,null,null,null,null,"460-400-100400","WESTERN RED CEDAR 86x10mm","LINING BOARD","","","CO","CO","M","460","LM"]
[null,null,null,null,null,null,null,null,null,null,null,null,null,null,null,null,null,null,null,null,null,null,null,null,null,null,null,null,null,null,null,null,null,null,null,null,null,null,null,null,null,null,null,null,null,null,null,"460-400-100500","QUAD - WESTERN RED CEDAR 18mm","DRESSED","","","CO","CO","M","460","LM"]
[null,null,null,null,null,null,null,null,null,null,null,null,null,null,null,null,null,null,null,null,null,null,null,null,null,null,null,null,null,null,null,null,null,null,null,null,null,null,null,null,null,null,null,null,null,null,null,"460-450-100100","DADO RAIL - PINE 58x28mm","FLAT - LENGTHS: 3.6m","","","CO","CO","M","460","LG"]
[null,null,null,null,null,null,null,null,null,null,null,null,null,null,null,null,null,null,null,null,null,null,null,null,null,null,null,null,null,null,null,null,null,null,null,null,null,null,null,null,null,null,null,null,null,null,null,"460-550-100050","QUAD - DESIGN PINE H3 - 18mm","LENGTHS: 5.4m","LOSPQUAD1854","","CO","CO","M","460","LG"]
[null,null,null,null,null,null,null,null,null,null,null,null,null,null,null,null,null,null,null,null,null,null,null,null,null,null,null,null,null,null,null,null,null,null,null,null,null,null,null,null,null,null,null,null,null,null,null,"460-580-100200","JARRAH 19x19","LENGTHS: 2.4m","","","CO","CO","M","460","LM"]
[null,null,null,null,null,null,null,null,null,null,null,null,null,null,null,null,null,null,null,null,null,null,null,null,null,null,null,null,null,null,null,null,null,null,null,null,null,null,null,null,null,null,null,null,null,null,null,"460-650-100400","MELAMINE SHELVING 1800x450x16","COLOUR: WHITE","","","CO","CO","M","460","SH"]
[null,null,null,null,null,null,null,null,null,null,null,null,null,null,null,null,null,null,null,null,null,null,null,null,null,null,null,null,null,null,null,null,null,null,null,null,null,null,null,null,null,null,null,null,null,null,null,"460-700-100400","MACHINING SET UP FEE","FROM 27.1m TO 100m PER PROFILE","","","CO","CO","M","460","IT"]
[null,null,null,null,null,null,null,null,null,null,null,null,null,null,null,null,null,null,null,null,null,null,null,null,null,null,null,null,null,null,null,null,null,null,null,null,null,null,null,null,null,null,null,null,null,null,null,"460-700-120250","MDF RAW SQUARE - 160x18mm","MOISTURE RESISTANT","","","CO","CO","M","460","LM"]
[null,null,null,null,null,null,null,null,null,null,null,null,null,null,null,null,null,null,null,null,null,null,null,null,null,null,null,null,null,null,null,null,null,null,null,null,null,null,null,null,null,null,null,null,null,null,null,"460-700-140230","MDF RAW SQUARE - 140x32mm","MOISTURE RESISTANT","","","CO","CO","M","460","LM"]
[null,null,null,null,null,null,null,null,null,null,null,null,null,null,null,null,null,null,null,null,null,null,null,null,null,null,null,null,null,null,null,null,null,null,null,null,null,null,null,null,null,null,null,null,null,null,null,"460-800-100100","SURROUND 9mm CLASSIC VJ100","PRIMED 900X1200X9mm MDFMRE0","994347","","CO","CO","M","460","EA"]
[null,null,null,null,null,null,null,null,null,null,null,null,null,null,null,null,null,null,null,null,null,null,null,null,null,null,null,null,null,null,null,null,null,null,null,null,null,null,null,null,null,null,null,null,null,null,null,"460-800-100300","SURROUND 9mm CLASSIC VJ100","PRIMED 2700X1200X9mm MDFMRE0","994349","","CO","CO","M","460","EA"]
[null,null,null,null,null,null,null,null,null,null,null,null,null,null,null,null,null,null,null,null,null,null,null,null,null,null,null,null,null,null,null,null,null,null,null,null,null,null,null,null,null,null,null,null,null,null,null,"460-800-200600","SURROUND 12mm BATTEN 100","PRIMED 2400X1200X12mm MDFMRE0","995840","","CO","CO","M","460","EA"]
[null,null,null,null,null,null,null,null,null,null,null,null,null,null,null,null,null,null,null,null,null,null,null,null,null,null,null,null,null,null,null,null,null,null,null,null,null,null,null,null,null,null,null,null,null,null,null,"460-800-300200","SURROUND 9mm HERITAGE 150","PRIMED 900X1200X9mm MDFMRE0","994351","","CO","CO","M","460","EA"]
[null,null,null,null,null,null,null,null,null,null,null,null,null,null,null,null,null,null,null,null,null,null,null,null,null,null,null,null,null,null,null,null,null,null,null,null,null,null,null,null,null,null,null,null,null,null,null,"460-800-400200","SURROUND 12mm DEMI ROUND 40","PRIMED 900X1200X12mm MDFMRE0","995845","","CO","CO","M","460","EA"]
[null,null,null,null,null,null,null,null,null,null,null,null,null,null,null,null,null,null,null,null,null,null,null,null,null,null,null,null,null,null,null,null,null,null,null,null,null,null,null,null,null,null,null,null,null,null,null,"460-800-500100","SURROUND 12mm SCALLOP 45","PRIMED 3000X1200X12mm MDFMRE0","995853","","CO","CO","M","460","EA"]
[null,null,null,null,null,null,null,null,null,null,null,null,null,null,null,null,null,null,null,null,null,null,null,null,null,null,null,null,null,null,null,null,null,null,null,null,null,null,null,null,null,null,null,null,null,null,null,"510-100-100050","TWO STOREY LOADING","CARRY TILES UPSTAIRS PER HOUSE","","","CO","CO","S","510","EA"]
[null,null,null,null,null,null,null,null,null,null,null,null,null,null,null,null,null,null,null,null,null,null,null,null,null,null,null,null,null,null,null,null,null,null,null,null,null,null,null,null,null,null,null,null,null,null,null,"510-100-200050","E/O HERRINGBONE PATTERN","","","","CO","LB","S","510","M2"]
[null,null,null,null,null,null,null,null,null,null,null,null,null,null,null,null,null,null,null,null,null,null,null,null,null,null,null,null,null,null,null,null,null,null,null,null,null,null,null,null,null,null,null,null,null,null,null,"510-100-400100","MOSAIC WALL TILING","","","","CO","CO","S","510","M2"]
[null,null,null,null,null,null,null,null,null,null,null,null,null,null,null,null,null,null,null,null,null,null,null,null,null,null,null,null,null,null,null,null,null,null,null,null,null,null,null,null,null,null,null,null,null,null,null,"510-200-100250","BRICK UP 2 SIDED SHOWER HOB","","","","CO","CO","S","510","NO"]
[null,null,null,null,null,null,null,null,null,null,null,null,null,null,null,null,null,null,null,null,null,null,null,null,null,null,null,null,null,null,null,null,null,null,null,null,null,null,null,null,null,null,null,null,null,null,null,"510-700-100200","HI TILED NICHE","","","","CO","LB","S","510","EA"]
[null,null,null,null,null,null,null,null,null,null,null,null,null,null,null,null,null,null,null,null,null,null,null,null,null,null,null,null,null,null,null,null,null,null,null,null,null,null,null,null,null,null,null,null,null,null,null,"510-700-100900","HI BATH HOB ALL ROUND","CERAMIC TILE LABOUR","","","CO","CO","S","510","NO"]
[null,null,null,null,null,null,null,null,null,null,null,null,null,null,null,null,null,null,null,null,null,null,null,null,null,null,null,null,null,null,null,null,null,null,null,null,null,null,null,null,null,null,null,null,null,null,null,"510-700-102400","HI TILE LABOUR MINIMUM CHARGE","MINIMUM CHARGE PER JOB","","","CO","CO","S","510","IT"]
[null,null,null,null,null,null,null,null,null,null,null,null,null,null,null,null,null,null,null,null,null,null,null,null,null,null,null,null,null,null,null,null,null,null,null,null,null,null,null,null,null,null,null,null,null,null,null,"510-700-500100","FIX WALL TILES","","","","CO","CO","S","510","M2"]
[null,null,null,null,null,null,null,null,null,null,null,null,null,null,null,null,null,null,null,null,null,null,null,null,null,null,null,null,null,null,null,null,null,null,null,null,null,null,null,null,null,null,null,null,null,null,null,"510-700-520300","LISTELLO BORDER TILE","","","","CO","CO","S","510","EA"]
[null,null,null,null,null,null,null,null,null,null,null,null,null,null,null,null,null,null,null,null,null,null,null,null,null,null,null,null,null,null,null,null,null,null,null,null,null,null,null,null,null,null,null,null,null,null,null,"510-700-540600","BRICK UP SHOWER WALL","METRE HIGH WALL FOR TILING","","","CO","CO","S","510","IT"]
[null,null,null,null,null,null,null,null,null,null,null,null,null,null,null,null,null,null,null,null,null,null,null,null,null,null,null,null,null,null,null,null,null,null,null,null,null,null,null,null,null,null,null,null,null,null,null,"510-700-560200","ACOUSTIC MATTING 4.5MM","SUPPLY AND INSTALL","","","CO","CO","S","510","M2"]
[null,null,null,null,null,null,null,null,null,null,null,null,null,null,null,null,null,null,null,null,null,null,null,null,null,null,null,null,null,null,null,null,null,null,null,null,null,null,null,null,null,null,null,null,null,null,null,"510-850-300100","PROJECTS - NON STANDARD TILE","SIZE EXTRA OVER","","","CO","CO","S","510","M2"]
[null,null,null,null,null,null,null,null,null,null,null,null,null,null,null,null,null,null,null,null,null,null,null,null,null,null,null,null,null,null,null,null,null,null,null,null,null,null,null,null,null,null,null,null,null,null,null,"515-100-100350","ADDITIONAL CAULKING PER JOB","","","","CO","CO","S","515","JB"]
[null,null,null,null,null,null,null,null,null,null,null,null,null,null,null,null,null,null,null,null,null,null,null,null,null,null,null,null,null,null,null,null,null,null,null,null,null,null,null,null,null,null,null,null,null,null,null,"515-100-200400","WATERPROOF TILE JUNCTIONS.","","","","CO","CO","M","515","LM"]
[null,null,null,null,null,null,null,null,null,null,null,null,null,null,null,null,null,null,null,null,null,null,null,null,null,null,null,null,null,null,null,null,null,null,null,null,null,null,null,null,null,null,null,null,null,null,null,"515-200-100060","WAPR WATERPROOF PER HOUSE","","","","CO","CO","M","515","EA"]
[]
[]
[null,null,null,null,null,null,null,null,null,null,null,null,null,null,null,null,null,null,null,null,null,null,null,null,null,null,null,null,null,null,null,null,null,null,null,null,null,null,null,null,null,null,null,null,null,null,null,"520-110-100600","FLOOR & WALL TILES $55.00 p/m2","RETAIL P.C. ALLOWANCE","","","CO","CO","M","520","M2"]
[null,null,null,null,null,null,null,null,null,null,null,null,null,null,null,null,null,null,null,null,null,null,null,null,null,null,null,null,null,null,null,null,null,null,null,null,null,null,null,null,null,null,null,null,null,null,null,"520-120-100200","COMB SOAPH ROBERTS DES","200x100mm","","","CO","CO","M","520","EA"]
[null,null,null,null,null,null,null,null,null,null,null,null,null,null,null,null,null,null,null,null,null,null,null,null,null,null,null,null,null,null,null,null,null,null,null,null,null,null,null,null,null,null,null,null,null,null,null,"520-200-600350","DAVCO ULTRAFLEX ADHESIVE","20kg","","","CO","CO","M","520","BG"]
[null,null,null,null,null,null,null,null,null,null,null,null,null,null,null,null,null,null,null,null,null,null,null,null,null,null,null,null,null,null,null,null,null,null,null,null,null,null,null,null,null,null,null,null,null,null,null,"520-250-100300","ARDEX MULTIPRIME","20 LITRES","","","CO","CO","M","520","EA"]
[null,null,null,null,null,null,null,null,null,null,null,null,null,null,null,null,null,null,null,null,null,null,null,null,null,null,null,null,null,null,null,null,null,null,null,null,null,null,null,null,null,null,null,null,null,null,null,"520-300-100800","ALUMINIUM ANGLE 12mm TO 18.5mm","","","","CO","CO","M","520","LM"]
[null,null,null,null,null,null,null,null,null,null,null,null,null,null,null,null,null,null,null,null,null,null,null,null,null,null,null,null,null,null,null,null,null,null,null,null,null,null,null,null,null,null,null,null,null,null,null,"520-400-100200","COLOURED GROUT","1.5kg","","","CO","CO","M","520","BG"]
[null,null,null,null,null,null,null,null,null,null,null,null,null,null,null,null,null,null,null,null,null,null,null,null,null,null,null,null,null,null,null,null,null,null,null,null,null,null,null,null,null,null,null,null,null,null,null,"520-700-200200","HI COLOURED GROUT","2.0kg","","","CO","CO","M","520","BG"]
[null,null,null,null,null,null,null,null,null,null,null,null,null,null,null,null,null,null,null,null,null,null,null,null,null,null,null,null,null,null,null,null,null,null,null,null,null,null,null,null,null,null,null,null,null,null,null,"520-850-100300","DRYWALL SUPERMASTIC 15LT","(SOUTHWEST)","","","CO","CO","M","520","BG"]
[null,null,null,null,null,null,null,null,null,null,null,null,null,null,null,null,null,null,null,null,null,null,null,null,null,null,null,null,null,null,null,null,null,null,null,null,null,null,null,null,null,null,null,null,null,null,null,"E-TILINGS-0200","CERAMIC SOAP HOLDER","","","","AS","ES","Z","520","IT"]
[null,null,null,null,null,null,null,null,null,null,null,null,null,null,null,null,null,null,null,null,null,null,null,null,null,null,null,null,null,null,null,null,null,null,null,null,null,null,null,null,null,null,null,null,null,null,null,"521-100-100100","DELIVERY CHARGE","","","","CO","CO","M","521","EA"]
[null,null,null,null,null,null,null,null,null,null,null,null,null,null,null,null,null,null,null,null,null,null,null,null,null,null,null,null,null,null,null,null,null,null,null,null,null,null,null,null,null,null,null,null,null,null,null,"521-200-100050","CROSBY PACKAGE MINIMUM CHARGE","UNDER 30m2","","","CO","CO","M","521","EA"]
[null,null,null,null,null,null,null,null,null,null,null,null,null,null,null,null,null,null,null,null,null,null,null,null,null,null,null,null,null,null,null,null,null,null,null,null,null,null,null,null,null,null,null,null,null,null,null,"521-205-100010","CROSBY TILES SUPPLY ONLY","450x450 SILVER/PLATINUM","","","CO","CO","M","521","M2"]
[null,null,null,null,null,null,null,null,null,null,null,null,null,null,null,null,null,null,null,null,null,null,null,null,null,null,null,null,null,null,null,null,null,null,null,null,null,null,null,null,null,null,null,null,null,null,null,"521-206-100060","INSTALL MAIN FLOOR TILES","E/O 45 HERRINGBONE","","","CO","CO","M","521","M2"]
[null,null,null,null,null,null,null,null,null,null,null,null,null,null,null,null,null,null,null,null,null,null,null,null,null,null,null,null,null,null,null,null,null,null,null,null,null,null,null,null,null,null,null,null,null,null,null,"521-210-100300","TILES EXPO SILVER PACKAGE","600x600mm CERAMIC","","","CO","CO","M","521","M2"]
[null,null,null,null,null,null,null,null,null,null,null,null,null,null,null,null,null,null,null,null,null,null,null,null,null,null,null,null,null,null,null,null,null,null,null,null,null,null,null,null,null,null,null,null,null,null,null,"521-300-100300","STONEWORLD MAIN FLOOR PACKAGE","300x600mm RECTIFIED EDGE RANGE","","","CO","CO","M","521","M2"]
[null,null,null,null,null,null,null,null,null,null,null,null,null,null,null,null,null,null,null,null,null,null,null,null,null,null,null,null,null,null,null,null,null,null,null,null,null,null,null,null,null,null,null,null,null,null,null,"521-850-200200","TRIMVIEW FLOOR TILING PACKAGE","S&I 450x450 PRESSED EDGE","","","CO","CO","M","521","M2"]
[null,null,null,null,null,null,null,null,null,null,null,null,null,null,null,null,null,null,null,null,null,null,null,null,null,null,null,null,null,null,null,null,null,null,null,null,null,null,null,null,null,null,null,null,null,null,null,"521-850-200400","TRIMVIEW FLOOR TILING PACKAGE","S&I 600x600 RECTIFIED EDGE","","","CO","CO","M","521","M2"]
[null,null,null,null,null,null,null,null,null,null,null,null,null,null,null,null,null,null,null,null,null,null,null,null,null,null,null,null,null,null,null,null,null,null,null,null,null,null,null,null,null,null,null,null,null,null,null,"525-010-100100","SHOWER SCREENS AS PER QUOTE","","","","CO","CO","M","525","QT"]
[null,null,null,null,null,null,null,null,null,null,null,null,null,null,null,null,null,null,null,null,null,null,null,null,null,null,null,null,null,null,null,null,null,null,null,null,null,null,null,null,null,null,null,null,null,null,null,"525-100-200100","MIRROR UNFRAMED 1 - 1.5m2","POLISHED EDGE / CLIPS","MBLV2 /","","CO","CO","M","525","EA"]
[null,null,null,null,null,null,null,null,null,null,null,null,null,null,null,null,null,null,null,null,null,null,null,null,null,null,null,null,null,null,null,null,null,null,null,null,null,null,null,null,null,null,null,null,null,null,null,"525-100-200400","MIRROR UNFRAMED 2.5 - 3m2","POLISHED EDGE / CLIPS","MBLV5 /","","CO","CO","M","525","EA"]
[null,null,null,null,null,null,null,null,null,null,null,null,null,null,null,null,null,null,null,null,null,null,null,null,null,null,null,null,null,null,null,null,null,null,null,null,null,null,null,null,null,null,null,null,null,null,null,"525-100-500800","MIRROR SLIMLINE 1.5 - 2m2","POLISHED EDGE","","","CO","CO","M","525","EA"]
[null,null,null,null,null,null,null,null,null,null,null,null,null,null,null,null,null,null,null,null,null,null,null,null,null,null,null,null,null,null,null,null,null,null,null,null,null,null,null,null,null,null,null,null,null,null,null,"525-100-800600","MIRROR MAJESTIC UP TO 1m2","POLISHED EDGE","","","CO","CO","M","525","EA"]
[null,null,null,null,null,null,null,null,null,null,null,null,null,null,null,null,null,null,null,null,null,null,null,null,null,null,null,null,null,null,null,null,null,null,null,null,null,null,null,null,null,null,null,null,null,null,null,"525-100-900100","MIRROR MADISON UP TO 1m2","POLISHED EDGE","","","CO","CO","M","525","EA"]
[null,null,null,null,null,null,null,null,null,null,null,null,null,null,null,null,null,null,null,null,null,null,null,null,null,null,null,null,null,null,null,null,null,null,null,null,null,null,null,null,null,null,null,null,null,null,null,"525-200-100400","SCREEN PANEL & ROD 1524 x 760","FULLY FRAMED GLASS PANEL","","","CO","CO","M","525","EA"]
[null,null,null,null,null,null,null,null,null,null,null,null,null,null,null,null,null,null,null,null,null,null,null,null,null,null,null,null,null,null,null,null,null,null,null,null,null,null,null,null,null,null,null,null,null,null,null,"525-200-200300","HUDSON MIRROR 1000X800","","","","CO","CO","M","525","EA"]
[null,null,null,null,null,null,null,null,null,null,null,null,null,null,null,null,null,null,null,null,null,null,null,null,null,null,null,null,null,null,null,null,null,null,null,null,null,null,null,null,null,null,null,null,null,null,null,"525-200-200800","HUDSON MIRROR 1000X1600","","","","CO","CO","M","525","EA"]
[null,null,null,null,null,null,null,null,null,null,null,null,null,null,null,null,null,null,null,null,null,null,null,null,null,null,null,null,null,null,null,null,null,null,null,null,null,null,null,null,null,null,null,null,null,null,null,"525-200-300200","HUDSON MIRROR 1000X2800","","","","CO","CO","M","525","EA"]
[null,null,null,null,null,null,null,null,null,null,null,null,null,null,null,null,null,null,null,null,null,null,null,null,null,null,null,null,null,null,null,null,null,null,null,null,null,null,null,null,null,null,null,null,null,null,null,"525-300-100800","SHOWER SCREEN 1850x1500.","FRAMED PIVOT DOOR AND PANEL","","","CO","CO","M","525","EA"]
[null,null,null,null,null,null,null,null,null,null,null,null,null,null,null,null,null,null,null,null,null,null,null,null,null,null,null,null,null,null,null,null,null,null,null,null,null,null,null,null,null,null,null,null,null,null,null,"525-400-100100","SHOWER SCREEN 1850x900x900.","FRAMED PIVOT DOOR AND PANEL","","","CO","CO","M","525","EA"]
[null,null,null,null,null,null,null,null,null,null,null,null,null,null,null,null,null,null,null,null,null,null,null,null,null,null,null,null,null,null,null,null,null,null,null,null,null,null,null,null,null,null,null,null,null,null,null,"525-400-300200","SHOWER SCREEN 1850Hx1100Wx900R","SEMI FRAMELESS PIVOT 2 RETURN","","","CO","CO","M","525","EA"]
[null,null,null,null,null,null,null,null,null,null,null,null,null,null,null,null,null,null,null,null,null,null,null,null,null,null,null,null,null,null,null,null,null,null,null,null,null,null,null,null,null,null,null,null,null,null,null,"525-500-100400","SHOWER SCREEN 1850x1100","SEMI FRAMELESS PIVOT DOOR &","","","CO","CO","M","525","EA"]
[null,null,null,null,null,null,null,null,null,null,null,null,null,null,null,null,null,null,null,null,null,null,null,null,null,null,null,null,null,null,null,null,null,null,null,null,null,null,null,null,null,null,null,null,null,null,null,"525-500-101100","SHOWER SCREEN 1850x1800","SEMI FRAMELESS PIVOT DOOR &","","","CO","CO","M","525","EA"]
[null,null,null,null,null,null,null,null,null,null,null,null,null,null,null,null,null,null,null,null,null,null,null,null,null,null,null,null,null,null,null,null,null,null,null,null,null,null,null,null,null,null,null,null,null,null,null,"525-500-102700","SHOWER SCREEN 1850x900x1500","SEMI FRAMELESS PIVOT DOOR &","","","CO","CO","M","525","EA"]
[null,null,null,null,null,null,null,null,null,null,null,null,null,null,null,null,null,null,null,null,null,null,null,null,null,null,null,null,null,null,null,null,null,null,null,null,null,null,null,null,null,null,null,null,null,null,null,"525-500-103900","SHOWER SCREEN 1850x1300x1300","SEMI FRAMELESS PIVOT DOOR &","","","CO","CO","M","525","EA"]
[null,null,null,null,null,null,null,null,null,null,null,null,null,null,null,null,null,null,null,null,null,null,null,null,null,null,null,null,null,null,null,null,null,null,null,null,null,null,null,null,null,null,null,null,null,null,null,"525-530-100030","SHOWER SCREEN 1800hx800w PANEL","8mm PROSTYLE SEMI FRAMELESS","","","CO","CO","M","525","EA"]
[null,null,null,null,null,null,null,null,null,null,null,null,null,null,null,null,null,null,null,null,null,null,null,null,null,null,null,null,null,null,null,null,null,null,null,null,null,null,null,null,null,null,null,null,null,null,null,"525-530-100100","SHOWER SCREEN 2000hx900w PANEL","8mm PROSTYLE SEMI FRAMELESS","","","CO","CO","M","525","EA"]
[null,null,null,null,null,null,null,null,null,null,null,null,null,null,null,null,null,null,null,null,null,null,null,null,null,null,null,null,null,null,null,null,null,null,null,null,null,null,null,null,null,null,null,null,null,null,null,"525-570-100300","FRAMELESS SCREEN 10mm PANEL","FOR CLIPS AND CLAMPS","","","CO","CO","M","525","M2"]
[null,null,null,null,null,null,null,null,null,null,null,null,null,null,null,null,null,null,null,null,null,null,null,null,null,null,null,null,null,null,null,null,null,null,null,null,null,null,null,null,null,null,null,null,null,null,null,"525-600-300100","SCREEN PANEL & ROD 1200 x 910","SEMI FRAMELESS GLASS PANEL","","","CO","CO","M","525","EA"]
[null,null,null,null,null,null,null,null,null,null,null,null,null,null,null,null,null,null,null,null,null,null,null,null,null,null,null,null,null,null,null,null,null,null,null,null,null,null,null,null,null,null,null,null,null,null,null,"525-700-100800","HI MIRROR FRAMELESS PER m2","FRAMELESS POLISHED EDGES","","","CO","CO","M","525","M2"]
[null,null,null,null,null,null,null,null,null,null,null,null,null,null,null,null,null,null,null,null,null,null,null,null,null,null,null,null,null,null,null,null,null,null,null,null,null,null,null,null,null,null,null,null,null,null,null,"525-850-200100","AREA LOADING","AS PER QUOTE","","","CO","CO","M","525","QT"]
[null,null,null,null,null,null,null,null,null,null,null,null,null,null,null,null,null,null,null,null,null,null,null,null,null,null,null,null,null,null,null,null,null,null,null,null,null,null,null,null,null,null,null,null,null,null,null,"A-MIRRORS-2000","MIRROR - SLIMLINE POLISHED","UP TO 1M","","2","","76","Z","525","EA"]
[null,null,null,null,null,null,null,null,null,null,null,null,null,null,null,null,null,null,null,null,null,null,null,null,null,null,null,null,null,null,null,null,null,null,null,null,null,null,null,null,null,null,null,null,null,null,null,"A-MIRRORS-2030","MIRROR - SLIMLINE POLISHED","2.0M TO 2.5M","","2","","76","Z","525","EA"]
[null,null,null,null,null,null,null,null,null,null,null,null,null,null,null,null,null,null,null,null,null,null,null,null,null,null,null,null,null,null,null,null,null,null,null,null,null,null,null,null,null,null,null,null,null,null,null,"A-SHOWERS-0300","TILED SHOWER RECESS (NO TAPS)","SEMI FRAMED 2000X1800MM","","1","","72","Z","525","EA"]
[null,null,null,null,null,null,null,null,null,null,null,null,null,null,null,null,null,null,null,null,null,null,null,null,null,null,null,null,null,null,null,null,null,null,null,null,null,null,null,null,null,null,null,null,null,null,null,"535-100-100300","FLAT CEILINGS 2 COATS","","","","CO","CO","S","535","M2"]
[null,null,null,null,null,null,null,null,null,null,null,null,null,null,null,null,null,null,null,null,null,null,null,null,null,null,null,null,null,null,null,null,null,null,null,null,null,null,null,null,null,null,null,null,null,null,null,"535-100-100715","CAVITY SLIDING DOOR ONLY","COLONIAL","","","CO","CO","S","535","EA"]
[null,null,null,null,null,null,null,null,null,null,null,null,null,null,null,null,null,null,null,null,null,null,null,null,null,null,null,null,null,null,null,null,null,null,null,null,null,null,null,null,null,null,null,null,null,null,null,"535-100-100900","ARCHITRAVE PER OPENING","SINGLE & DOUBLE CAVITY SLIDERS","","","CO","CO","S","535","EA"]
[null,null,null,null,null,null,null,null,null,null,null,null,null,null,null,null,null,null,null,null,null,null,null,null,null,null,null,null,null,null,null,null,null,null,null,null,null,null,null,null,null,null,null,null,null,null,null,"535-100-101400","HAND RAILS","","","","CO","CO","S","535","LM"]
[null,null,null,null,null,null,null,null,null,null,null,null,null,null,null,null,null,null,null,null,null,null,null,null,null,null,null,null,null,null,null,null,null,null,null,null,null,null,null,null,null,null,null,null,null,null,null,"535-100-101550","SHELF BATTENS","","","","CO","CO","S","535","LM"]
[null,null,null,null,null,null,null,null,null,null,null,null,null,null,null,null,null,null,null,null,null,null,null,null,null,null,null,null,null,null,null,null,null,null,null,null,null,null,null,null,null,null,null,null,null,null,null,"535-100-102470","WALL (AXON) CLADDING","","","","CO","CO","S","535","M2"]
[null,null,null,null,null,null,null,null,null,null,null,null,null,null,null,null,null,null,null,null,null,null,null,null,null,null,null,null,null,null,null,null,null,null,null,null,null,null,null,null,null,null,null,null,null,null,null,"535-100-102600","2C RENDER 30-60MM PROJECTING","CORBEL ON FACEBRICK","","","CO","CO","S","535","LM"]
[null,null,null,null,null,null,null,null,null,null,null,null,null,null,null,null,null,null,null,null,null,null,null,null,null,null,null,null,null,null,null,null,null,null,null,null,null,null,null,null,null,null,null,null,null,null,null,"535-100-102950","STEEL POSTS","","","","CO","CO","S","535","LM"]
[null,null,null,null,null,null,null,null,null,null,null,null,null,null,null,null,null,null,null,null,null,null,null,null,null,null,null,null,null,null,null,null,null,null,null,null,null,null,null,null,null,null,null,null,null,null,null,"535-100-103330","RECESSED HOT WATER UNIT BOX","","","","CO","CO","S","535","EA"]
[null,null,null,null,null,null,null,null,null,null,null,null,null,null,null,null,null,null,null,null,null,null,null,null,null,null,null,null,null,null,null,null,null,null,null,null,null,null,null,null,null,null,null,null,null,null,null,"535-200-100700","10 LITE DOOR ON METAL FRAME","","","","CO","CO","S","535","NO"]
[null,null,null,null,null,null,null,null,null,null,null,null,null,null,null,null,null,null,null,null,null,null,null,null,null,null,null,null,null,null,null,null,null,null,null,null,null,null,null,null,null,null,null,null,null,null,null,"540-100-100250","GRANO PAD FOR LPG BOTTLES /","AC / HWU","","","CO","CO","M","540","IT"]
[null,null,null,null,null,null,null,null,null,null,null,null,null,null,null,null,null,null,null,null,null,null,null,null,null,null,null,null,null,null,null,null,null,null,null,null,null,null,null,null,null,null,null,null,null,null,null,"540-200-100200","DOUBLE XOVER TO 5m LONG","","","","CO","CO","S","540","EA"]
[null,null,null,null,null,null,null,null,null,null,null,null,null,null,null,null,null,null,null,null,null,null,null,null,null,null,null,null,null,null,null,null,null,null,null,null,null,null,null,null,null,null,null,null,null,null,null,"540-300-100200","F62 MESH","12m2 = 1 SHEET","","","CO","CO","S","540","NO"]
[null,null,null,null,null,null,null,null,null,null,null,null,null,null,null,null,null,null,null,null,null,null,null,null,null,null,null,null,null,null,null,null,null,null,null,null,null,null,null,null,null,null,null,null,null,null,null,"540-777-100200","GRANO SUPPLY COLOURED CCS JAZZ","","","","CO","CO","M","540","M3"]
[null,null,null,null,null,null,null,null,null,null,null,null,null,null,null,null,null,null,null,null,null,null,null,null,null,null,null,null,null,null,null,null,null,null,null,null,null,null,null,null,null,null,null,null,null,null,null,"540-777-100300","GRANO LABOUR ONLY","BUILDER SUPPLIED CONCRETE","","","CO","LB","S","540","M2"]
[null,null,null,null,null,null,null,null,null,null,null,null,null,null,null,null,null,null,null,null,null,null,null,null,null,null,null,null,null,null,null,null,null,null,null,null,null,null,null,null,null,null,null,null,null,null,null,"540-850-300700","CONCRETE N20/14/100 SUPPLY","ONLY - AUGUSTA AREA","","","CO","CO","M","540","M3"]
[null,null,null,null,null,null,null,null,null,null,null,null,null,null,null,null,null,null,null,null,null,null,null,null,null,null,null,null,null,null,null,null,null,null,null,null,null,null,null,null,null,null,null,null,null,null,null,"540-850-301500","CONCRETE N20/14/100 SUPPLY","ONLY - BINNINGUP AREA","","","CO","CO","M","540","M3"]
[null,null,null,null,null,null,null,null,null,null,null,null,null,null,null,null,null,null,null,null,null,null,null,null,null,null,null,null,null,null,null,null,null,null,null,null,null,null,null,null,null,null,null,null,null,null,null,"540-850-500100","EXPANSION FOAM 25M X 100MM","(SOUTHWEST)","","","CO","CO","M","540","RL"]
[null,null,null,null,null,null,null,null,null,null,null,null,null,null,null,null,null,null,null,null,null,null,null,null,null,null,null,null,null,null,null,null,null,null,null,null,null,null,null,null,null,null,null,null,null,null,null,"560-100-100800","MANUAL HANDLING","E/O PAVER MANUAL HANDLING","","","CO","CO","S","560","M2"]
[null,null,null,null,null,null,null,null,null,null,null,null,null,null,null,null,null,null,null,null,null,null,null,null,null,null,null,null,null,null,null,null,null,null,null,null,null,null,null,null,null,null,null,null,null,null,null,"560-800-100100","CONCRETE FOR EDGING PER M3","20/10/80","","","CO","CO","M","560","M3"]
[null,null,null,null,null,null,null,null,null,null,null,null,null,null,null,null,null,null,null,null,null,null,null,null,null,null,null,null,null,null,null,null,null,null,null,null,null,null,null,null,null,null,null,null,null,null,null,"A-GRANOLI-0031","GARAGE STANDARD GREY GRANO","100MM THICK >40m2 (WITH MESH)","","1","","40","Z","560","M2"]
[null,null,null,null,null,null,null,null,null,null,null,null,null,null,null,null,null,null,null,null,null,null,null,null,null,null,null,null,null,null,null,null,null,null,null,null,null,null,null,null,null,null,null,null,null,null,null,"566-100-100300","BUNNINGS DELIVERY CHARGE","","9920133","","CO","CO","M",571,"EA"]
[null,null,null,null,null,null,null,null,null,null,null,null,null,null,null,null,null,null,null,null,null,null,null,null,null,null,null,null,null,null,null,null,null,null,null,null,null,null,null,null,null,null,null,null,null,null,null,"566-200-100100","CROMMELINS WET LOOK PAVING","SEALER 6L TUB","960075","","CO","CO","M","566","EA"]
[null,null,null,null,null,null,null,null,null,null,null,null,null,null,null,null,null,null,null,null,null,null,null,null,null,null,null,null,null,null,null,null,null,null,null,null,null,null,null,null,null,null,null,null,null,null,null,"574-010-300100","CARTAGE ZONE 3","MIDLAND 60mm","","","CO","CO","M","574","TB"]
[null,null,null,null,null,null,null,null,null,null,null,null,null,null,null,null,null,null,null,null,null,null,null,null,null,null,null,null,null,null,null,null,null,null,null,null,null,null,null,null,null,null,null,null,null,null,null,"574-030-200100","CARTAGE ZONE 2","ATLAS 60mm","","","CO","CO","M","574","TB"]
[null,null,null,null,null,null,null,null,null,null,null,null,null,null,null,null,null,null,null,null,null,null,null,null,null,null,null,null,null,null,null,null,null,null,null,null,null,null,null,null,null,null,null,null,null,null,null,"574-030-400200","CARTAGE ZONE 4","ATLAS MINIMUM CHARGE","","","CO","CO","M","574","EA"]
[null,null,null,null,null,null,null,null,null,null,null,null,null,null,null,null,null,null,null,null,null,null,null,null,null,null,null,null,null,null,null,null,null,null,null,null,null,null,null,null,null,null,null,null,null,null,null,null,"FLOOR COVERINGS"]
[null,null,null,null,null,null,null,null,null,null,null,null,null,null,null,null,null,null,null,null,null,null,null,null,null,null,null,null,null,null,null,null,null,null,null,null,null,null,null,null,null,null,null,null,null,null,null,"625-100-000950","10mm FOAM UNDERLAY E/O","STANDARD 7mm FOAM UNDERLAY","","","CO","CO","M","625","M2"]
[null,null,null,null,null,null,null,null,null,null,null,null,null,null,null,null,null,null,null,null,null,null,null,null,null,null,null,null,null,null,null,null,null,null,null,null,null,null,null,null,null,null,null,null,null,null,null,"625-100-340050","HYBRID - CATEGORY 1","SUPPLIED & INSTALLED","","","CO","CO","M","625","M2"]
[null,null,null,null,null,null,null,null,null,null,null,null,null,null,null,null,null,null,null,null,null,null,null,null,null,null,null,null,null,null,null,null,null,null,null,null,null,null,null,null,null,null,null,null,null,null,null,"625-200-100300","SW VINYL PLANK - CATEGORY 1","SUPPLIED & INSTALLED","","","CO","CO","M","625","M2"]
[null,null,null,null,null,null,null,null,null,null,null,null,null,null,null,null,null,null,null,null,null,null,null,null,null,null,null,null,null,null,null,null,null,null,null,null,null,null,null,null,null,null,null,null,null,null,null,"625-500-100400","CARPET - CATEGORY 3","SUPPLY ONLY","","","CO","CO","M","625","M2"]
[null,null,null,null,null,null,null,null,null,null,null,null,null,null,null,null,null,null,null,null,null,null,null,null,null,null,null,null,null,null,null,null,null,null,null,null,null,null,null,null,null,null,null,null,null,null,null,"625-500-100700","CARPET - CATEGORY 6","SUPPLY ONLY","","","CO","CO","M","625","M2"]
[null,null,null,null,null,null,null,null,null,null,null,null,null,null,null,null,null,null,null,null,null,null,null,null,null,null,null,null,null,null,null,null,null,null,null,null,null,null,null,null,null,null,null,null,null,null,null,"625-700-600000","HI T&G FLOOR PREPARATION","PREP & SEAL CONC OR TIMBER","","","CO","CO","M","625","M2"]
[null,null,null,null,null,null,null,null,null,null,null,null,null,null,null,null,null,null,null,null,null,null,null,null,null,null,null,null,null,null,null,null,null,null,null,null,null,null,null,null,null,null,null,null,null,null,null,"625-700-600500","HI T&G BULLNOSING ROUNDING","PER METER NOSING","","","CO","CO","M","625","LM"]
[null,null,null,null,null,null,null,null,null,null,null,null,null,null,null,null,null,null,null,null,null,null,null,null,null,null,null,null,null,null,null,null,null,null,null,null,null,null,null,null,null,null,null,null,null,null,null,"A-FLOORCOV-0200","LAMINATED TIMBER OR","VINYL PLANK FLOORING","","1","","98","Z","625","M2"]
[null,null,null,null,null,null,null,null,null,null,null,null,null,null,null,null,null,null,null,null,null,null,null,null,null,null,null,null,null,null,null,null,null,null,null,null,null,null,null,null,null,null,null,null,null,null,null,"A-TILINGS-0430","600x600 PRESSED EDGE","CROSBY TILES S&I PACKAGE","","1","","98","Z","625","M2"]
[null,null,null,null,null,null,null,null,null,null,null,null,null,null,null,null,null,null,null,null,null,null,null,null,null,null,null,null,null,null,null,null,null,null,null,null,null,null,null,null,null,null,null,null,null,null,null,"626-100-100410","TRAVEL FROM BALCATTA DEPOT","40KM AND ABOVE","","","CO","CO","S","626","KM"]
[null,null,null,null,null,null,null,null,null,null,null,null,null,null,null,null,null,null,null,null,null,null,null,null,null,null,null,null,null,null,null,null,null,null,null,null,null,null,null,null,null,null,null,null,null,null,null,"560-100-100300","90 DEGREE HERRING BONE","","","","CO","CO","S","560","M2"]
[null,null,null,null,null,null,null,null,null,null,null,null,null,null,null,null,null,null,null,null,null,null,null,null,null,null,null,null,null,null,null,null,null,null,null,null,null,null,null,null,null,null,null,null,null,null,null,"560-100-100600","TRAFFICABLE LID","PER LID","","","CO","CO","M","560","EA"]
[null,null,null,null,null,null,null,null,null,null,null,null,null,null,null,null,null,null,null,null,null,null,null,null,null,null,null,null,null,null,null,null,null,null,null,null,null,null,null,null,null,null,null,null,null,null,null,"560-700-100100","BRICK PAVING EXTRAS","","","","CO","CO","S","560","IT"]
[null,null,null,null,null,null,null,null,null,null,null,null,null,null,null,null,null,null,null,null,null,null,null,null,null,null,null,null,null,null,null,null,null,null,null,null,null,null,null,null,null,null,null,null,null,null,null,"560-850-100300","BRICK PAVING 90 DEGREE","HERRINGBONE - SOUTH WEST","","","CO","CO","S","560","M2"]
[]
[null,null,null,null,null,null,null,null,null,null,null,null,null,null,null,null,null,null,null,null,null,null,null,null,null,null,null,null,null,null,null,null,null,null,null,null,null,null,null,null,null,null,null,null,null,null,null,"565-100-100700","PAVING SAND YELLOW 7m3","METRO AREA","","CO",null,"CO","M","565","EA"]
[null,null,null,null,null,null,null,null,null,null,null,null,null,null,null,null,null,null,null,null,null,null,null,null,null,null,null,null,null,null,null,null,null,null,null,null,null,null,null,null,null,null,null,null,null,null,null,"565-100-200300","PAVING SAND YELLOW 2m2","OUTER AREA","","CO",null,"CO","M","565","EA"]
[null,null,null,null,null,null,null,null,null,null,null,null,null,null,null,null,null,null,null,null,null,null,null,null,null,null,null,null,null,null,null,null,null,null,null,null,null,null,null,null,null,null,null,null,null,null,null,"565-100-201300","PAVING SAND YELLOW 12m3","OUTER AREA","","CO",null,"CO","M","565","EA"]
[null,null,null,null,null,null,null,null,null,null,null,null,null,null,null,null,null,null,null,null,null,null,null,null,null,null,null,null,null,null,null,null,null,null,null,null,null,null,null,null,null,null,null,null,null,null,null,"565-200-100500","WHITE WASHED SAND 4 M3","METRO AREA","","CO",null,"CO","M","565","EA"]
[null,null,null,null,null,null,null,null,null,null,null,null,null,null,null,null,null,null,null,null,null,null,null,null,null,null,null,null,null,null,null,null,null,null,null,null,null,null,null,null,null,null,null,null,null,null,null,"565-300-100700","19mm CRUSHED LIMESTONE 7m3","METRO AREA","","CO",null,"CO","M","565","EA"]
[null,null,null,null,null,null,null,null,null,null,null,null,null,null,null,null,null,null,null,null,null,null,null,null,null,null,null,null,null,null,null,null,null,null,null,null,null,null,null,null,null,null,null,null,null,null,null,"565-300-101200","19mm CRUSHED LIMESTONE 12m2","METRO AREA","","CO",null,"CO","M","565","EA"]
[null,null,null,null,null,null,null,null,null,null,null,null,null,null,null,null,null,null,null,null,null,null,null,null,null,null,null,null,null,null,null,null,null,null,null,null,null,null,null,null,null,null,null,null,null,null,null,"571-090-100140","MIDLAND PAVERS MINIMUM CARTAGE","ZONE SW4","","","CO","CO","M","571","IT"]
[null,null,null,null,null,null,null,null,null,null,null,null,null,null,null,null,null,null,null,null,null,null,null,null,null,null,null,null,null,null,null,null,null,null,null,null,null,null,null,null,null,null,null,null,null,null,null,"571-090-100220","MIDLAND PAVERS 60mm CARTAGE","ZONE SW3","","","CO","CO","M","571","M2"]
[null,null,null,null,null,null,null,null,null,null,null,null,null,null,null,null,null,null,null,null,null,null,null,null,null,null,null,null,null,null,null,null,null,null,null,null,null,null,null,null,null,null,null,null,null,null,null,"571-100-200900","MIDLAND FLAGSTONE GRANITE","330x165x60mm","","","CO","CO","M","571","M2"]
[null,null,null,null,null,null,null,null,null,null,null,null,null,null,null,null,null,null,null,null,null,null,null,null,null,null,null,null,null,null,null,null,null,null,null,null,null,null,null,null,null,null,null,null,null,null,null,"571-200-000150","HINDS PAVER CARTAGE","MINIMUM DELIVERY FEE","","","CO","CO","M","571","EA"]
[null,null,null,null,null,null,null,null,null,null,null,null,null,null,null,null,null,null,null,null,null,null,null,null,null,null,null,null,null,null,null,null,null,null,null,null,null,null,null,null,null,null,null,null,null,null,null,"571-200-100050","JHL PAVING CARTAGE 60mm ATLAS","ZONE 1","","","CO","CO","M","571","M2"]
[null,null,null,null,null,null,null,null,null,null,null,null,null,null,null,null,null,null,null,null,null,null,null,null,null,null,null,null,null,null,null,null,null,null,null,null,null,null,null,null,null,null,null,null,null,null,null,"575-100-100450","1C BRICK CLEAN","E/O UPPER STOREY","","","CO","CO","S","575","TB"]
[null,null,null,null,null,null,null,null,null,null,null,null,null,null,null,null,null,null,null,null,null,null,null,null,null,null,null,null,null,null,null,null,null,null,null,null,null,null,null,null,null,null,null,null,null,null,null,"575-700-100300","HI BRICK CLEAN OVER 1000","ALLOWANCE PER JOB PER 1000","","","CO","CO","S","575","TB"]
[null,null,null,null,null,null,null,null,null,null,null,null,null,null,null,null,null,null,null,null,null,null,null,null,null,null,null,null,null,null,null,null,null,null,null,null,null,null,null,null,null,null,null,null,null,null,null,null,null,null,null,null,null,null,null,null,"EA"]
[null,null,null,null,null,null,null,null,null,null,null,null,null,null,null,null,null,null,null,null,null,null,null,null,null,null,null,null,null,null,null,null,null,null,null,null,null,null,null,null,null,null,null,null,null,null,null,"630-105-107200","ROLLER BLIND 7C x 7W","BLOCKOUT (LIMITED RANGE)","","","CO","CO","M","630","EA"]
[null,null,null,null,null,null,null,null,null,null,null,null,null,null,null,null,null,null,null,null,null,null,null,null,null,null,null,null,null,null,null,null,null,null,null,null,null,null,null,null,null,null,null,null,null,null,null,"630-105-108150","ROLLER BLIND 8C x 4W","BLOCKOUT (LIMITED RANGE)","","","CO","CO","M","630","EA"]
[null,null,null,null,null,null,null,null,null,null,null,null,null,null,null,null,null,null,null,null,null,null,null,null,null,null,null,null,null,null,null,null,null,null,null,null,null,null,null,null,null,null,null,null,null,null,null,"630-105-108240","ROLLER BLIND 8C x 9.5W","BLOCKOUT (LIMITED RANGE)","","","CO","CO","M","630","EA"]
[null,null,null,null,null,null,null,null,null,null,null,null,null,null,null,null,null,null,null,null,null,null,null,null,null,null,null,null,null,null,null,null,null,null,null,null,null,null,null,null,null,null,null,null,null,null,null,"630-105-110220","ROLLER BLIND 10C x 8.5W","BLOCKOUT (LIMITED RANGE)","","","CO","CO","M","630","EA"]
[null,null,null,null,null,null,null,null,null,null,null,null,null,null,null,null,null,null,null,null,null,null,null,null,null,null,null,null,null,null,null,null,null,null,null,null,null,null,null,null,null,null,null,null,null,null,null,"630-105-112180","ROLLER BLIND 12C x 6W","BLOCKOUT (LIMITED RANGE)","","","CO","CO","M","630","EA"]
[null,null,null,null,null,null,null,null,null,null,null,null,null,null,null,null,null,null,null,null,null,null,null,null,null,null,null,null,null,null,null,null,null,null,null,null,null,null,null,null,null,null,null,null,null,null,null,"630-105-112220","ROLLER BLIND 12C x 8.5W","BLOCKOUT (LIMITED RANGE)","","","CO","CO","M","630","EA"]
[null,null,null,null,null,null,null,null,null,null,null,null,null,null,null,null,null,null,null,null,null,null,null,null,null,null,null,null,null,null,null,null,null,null,null,null,null,null,null,null,null,null,null,null,null,null,null,"630-105-114180","ROLLER BLIND 14C x 6W","BLOCKOUT (LIMITED RANGE)","","","CO","CO","M","630","EA"]
[null,null,null,null,null,null,null,null,null,null,null,null,null,null,null,null,null,null,null,null,null,null,null,null,null,null,null,null,null,null,null,null,null,null,null,null,null,null,null,null,null,null,null,null,null,null,null,"630-105-115205","ROLLER BLIND 15C x 7.5W","BLOCKOUT (LIMITED RANGE)","","","CO","CO","M","630","EA"]
[null,null,null,null,null,null,null,null,null,null,null,null,null,null,null,null,null,null,null,null,null,null,null,null,null,null,null,null,null,null,null,null,null,null,null,null,null,null,null,null,null,null,null,null,null,null,null,"630-105-115240","ROLLER BLIND 15C x 9.5W","BLOCKOUT (LIMITED RANGE)","","","CO","CO","M","630","EA"]
[null,null,null,null,null,null,null,null,null,null,null,null,null,null,null,null,null,null,null,null,null,null,null,null,null,null,null,null,null,null,null,null,null,null,null,null,null,null,null,null,null,null,null,null,null,null,null,"630-105-116180","ROLLER BLIND 16C x 9W","BLOCKOUT (LIMITED RANGE)","","","CO","CO","M","630","EA"]
[null,null,null,null,null,null,null,null,null,null,null,null,null,null,null,null,null,null,null,null,null,null,null,null,null,null,null,null,null,null,null,null,null,null,null,null,null,null,null,null,null,null,null,null,null,null,null,"630-105-117280","ROLLER BLIND 17C x 12W","BLOCKOUT (LIMITED RANGE)","","","CO","CO","M","630","EA"]
[null,null,null,null,null,null,null,null,null,null,null,null,null,null,null,null,null,null,null,null,null,null,null,null,null,null,null,null,null,null,null,null,null,null,null,null,null,null,null,null,null,null,null,null,null,null,null,"630-105-118140","ROLLER BLIND 18C x 4W","BLOCKOUT (LIMITED RANGE)","","","CO","CO","M","630","EA"]
[null,null,null,null,null,null,null,null,null,null,null,null,null,null,null,null,null,null,null,null,null,null,null,null,null,null,null,null,null,null,null,null,null,null,null,null,null,null,null,null,null,null,null,null,null,null,null,"630-105-119120","ROLLER BLIND 19C x 2W","BLOCKOUT (LIMITED RANGE)","","","CO","CO","M","630","EA"]
[null,null,null,null,null,null,null,null,null,null,null,null,null,null,null,null,null,null,null,null,null,null,null,null,null,null,null,null,null,null,null,null,null,null,null,null,null,null,null,null,null,null,null,null,null,null,null,"630-105-119280","ROLLER BLIND 19C x 12W","BLOCKOUT (LIMITED RANGE)","","","CO","CO","M","630","EA"]
[null,null,null,null,null,null,null,null,null,null,null,null,null,null,null,null,null,null,null,null,null,null,null,null,null,null,null,null,null,null,null,null,null,null,null,null,null,null,null,null,null,null,null,null,null,null,null,"630-105-121120","ROLLER BLIND 21C x 2W","BLOCKOUT (LIMITED RANGE)","","","CO","CO","M","630","EA"]
[null,null,null,null,null,null,null,null,null,null,null,null,null,null,null,null,null,null,null,null,null,null,null,null,null,null,null,null,null,null,null,null,null,null,null,null,null,null,null,null,null,null,null,null,null,null,null,"630-105-121280","ROLLER BLIND 21C x 12W","BLOCKOUT (LIMITED RANGE)","","","CO","CO","M","630","EA"]
[null,null,null,null,null,null,null,null,null,null,null,null,null,null,null,null,null,null,null,null,null,null,null,null,null,null,null,null,null,null,null,null,null,null,null,null,null,null,null,null,null,null,null,null,null,null,null,"630-105-124140","ROLLER BLIND 24C x 3.5W","BLOCKOUT (LIMITED RANGE)","","","CO","CO","M","630","EA"]
[null,null,null,null,null,null,null,null,null,null,null,null,null,null,null,null,null,null,null,null,null,null,null,null,null,null,null,null,null,null,null,null,null,null,null,null,null,null,null,null,null,null,null,null,null,null,null,"630-105-124220","ROLLER BLIND 24C x 8.5W","BLOCKOUT (LIMITED RANGE)","","","CO","CO","M","630","EA"]
[null,null,null,null,null,null,null,null,null,null,null,null,null,null,null,null,null,null,null,null,null,null,null,null,null,null,null,null,null,null,null,null,null,null,null,null,null,null,null,null,null,null,null,null,null,null,null,"630-105-125175","ROLLER BLIND 25C x 7.5W","BLOCKOUT (LIMITED RANGE)","","","CO","CO","M","630","EA"]
[null,null,null,null,null,null,null,null,null,null,null,null,null,null,null,null,null,null,null,null,null,null,null,null,null,null,null,null,null,null,null,null,null,null,null,null,null,null,null,null,null,null,null,null,null,null,null,"630-105-125210","ROLLER BLIND 25C x 11W","BLOCKOUT (LIMITED RANGE)","","","CO","CO","M","630","EA"]
[null,null,null,null,null,null,null,null,null,null,null,null,null,null,null,null,null,null,null,null,null,null,null,null,null,null,null,null,null,null,null,null,null,null,null,null,null,null,null,null,null,null,null,null,null,null,null,"630-105-126200","ROLLER BLIND 26C x 7W","BLOCKOUT (LIMITED RANGE)","","","CO","CO","M","630","EA"]
[null,null,null,null,null,null,null,null,null,null,null,null,null,null,null,null,null,null,null,null,null,null,null,null,null,null,null,null,null,null,null,null,null,null,null,null,null,null,null,null,null,null,null,null,null,null,null,"630-105-128170","ROLLER BLIND 28C x 5.5W","BLOCKOUT (LIMITED RANGE)","","","CO","CO","M","630","EA"]
[null,null,null,null,null,null,null,null,null,null,null,null,null,null,null,null,null,null,null,null,null,null,null,null,null,null,null,null,null,null,null,null,null,null,null,null,null,null,null,null,null,null,null,null,null,null,null,"630-105-128225","ROLLER BLIND 28C x 9W","BLOCKOUT (LIMITED RANGE)","","","CO","CO","M","630","EA"]
[null,null,null,null,null,null,null,null,null,null,null,null,null,null,null,null,null,null,null,null,null,null,null,null,null,null,null,null,null,null,null,null,null,null,null,null,null,null,null,null,null,null,null,null,null,null,null,"630-105-128245","ROLLER BLIND 28C x 10W","BLOCKOUT (LIMITED RANGE)","","","CO","CO","M","630","EA"]
[null,null,null,null,null,null,null,null,null,null,null,null,null,null,null,null,null,null,null,null,null,null,null,null,null,null,null,null,null,null,null,null,null,null,null,null,null,null,null,null,null,null,null,null,null,null,null,"630-105-129260","ROLLER BLIND 29C x 11W","BLOCKOUT (LIMITED RANGE)","","","CO","CO","M","630","EA"]
[null,null,null,null,null,null,null,null,null,null,null,null,null,null,null,null,null,null,null,null,null,null,null,null,null,null,null,null,null,null,null,null,null,null,null,null,null,null,null,null,null,null,null,null,null,null,null,"630-200-100100","VERTICAL BLIND 7C x 9W","STD SLAT 127mm INSTALLED","","","CO","CO","M","630","EA"]
[null,null,null,null,null,null,null,null,null,null,null,null,null,null,null,null,null,null,null,null,null,null,null,null,null,null,null,null,null,null,null,null,null,null,null,null,null,null,null,null,null,null,null,null,null,null,null,"630-200-200100","VERTICAL BLIND 8C x 2.5W","STD SLAT 127mm INSTALLED","","","CO","CO","M","630","EA"]
[null,null,null,null,null,null,null,null,null,null,null,null,null,null,null,null,null,null,null,null,null,null,null,null,null,null,null,null,null,null,null,null,null,null,null,null,null,null,null,null,null,null,null,null,null,null,null,"630-200-200220","VERTICAL BLIND 8C x 11W","STD SLAT 127mm INSTALLED","","","CO","CO","M","630","EA"]
[null,null,null,null,null,null,null,null,null,null,null,null,null,null,null,null,null,null,null,null,null,null,null,null,null,null,null,null,null,null,null,null,null,null,null,null,null,null,null,null,null,null,null,null,null,null,null,"630-200-210210","VERTICAL BLIND 10C x 11W","STD SLAT 127mm INSTALLED","","","CO","CO","M","630","EA"]
[null,null,null,null,null,null,null,null,null,null,null,null,null,null,null,null,null,null,null,null,null,null,null,null,null,null,null,null,null,null,null,null,null,null,null,null,null,null,null,null,null,null,null,null,null,null,null,"630-200-400155","VERTICAL BLIND 12C x 3.5W","STD SLAT 127mm INSTALLED","","","CO","CO","M","630","EA"]
[null,null,null,null,null,null,null,null,null,null,null,null,null,null,null,null,null,null,null,null,null,null,null,null,null,null,null,null,null,null,null,null,null,null,null,null,null,null,null,null,null,null,null,null,null,null,null,"630-200-400250","VERTICAL BLIND 12C x 5W","STD SLAT 127mm INSTALLED","","","CO","CO","M","630","EA"]
[null,null,null,null,null,null,null,null,null,null,null,null,null,null,null,null,null,null,null,null,null,null,null,null,null,null,null,null,null,null,null,null,null,null,null,null,null,null,null,null,null,null,null,null,null,null,null,"630-200-414170","VERTICAL BLIND 14C x 7W","STD SLAT 127mm INSTALLED","","","CO","CO","M","630","EA"]
[null,null,null,null,null,null,null,null,null,null,null,null,null,null,null,null,null,null,null,null,null,null,null,null,null,null,null,null,null,null,null,null,null,null,null,null,null,null,null,null,null,null,null,null,null,null,null,"630-200-415135","VERTICAL BLIND 15C x 3.5W","STD SLAT 127mm INSTALLED","","","CO","CO","M","630","EA"]
[null,null,null,null,null,null,null,null,null,null,null,null,null,null,null,null,null,null,null,null,null,null,null,null,null,null,null,null,null,null,null,null,null,null,null,null,null,null,null,null,null,null,null,null,null,null,null,"630-200-500300","VERTICAL BLIND 15C x 9W","STD SLAT 127mm INSTALLED","","","CO","CO","M","630","EA"]
[null,null,null,null,null,null,null,null,null,null,null,null,null,null,null,null,null,null,null,null,null,null,null,null,null,null,null,null,null,null,null,null,null,null,null,null,null,null,null,null,null,null,null,null,null,null,null,"630-200-600350","VERTICAL BLIND 16C x 10W","STD SLAT 127mm INSTALLED","","","CO","CO","M","630","EA"]
[null,null,null,null,null,null,null,null,null,null,null,null,null,null,null,null,null,null,null,null,null,null,null,null,null,null,null,null,null,null,null,null,null,null,null,null,null,null,null,null,null,null,null,null,null,null,null,"630-200-617210","VERTICAL BLIND 17C x 11W","STD SLAT 127mm INSTALLED","","","CO","CO","M","630","EA"]
[null,null,null,null,null,null,null,null,null,null,null,null,null,null,null,null,null,null,null,null,null,null,null,null,null,null,null,null,null,null,null,null,null,null,null,null,null,null,null,null,null,null,null,null,null,null,null,"630-200-700250","VERTICAL BLIND 18C x 4W","STD SLAT 127mm INSTALLED","","","CO","CO","M","630","EA"]
[null,null,null,null,null,null,null,null,null,null,null,null,null,null,null,null,null,null,null,null,null,null,null,null,null,null,null,null,null,null,null,null,null,null,null,null,null,null,null,null,null,null,null,null,null,null,null,"630-200-700850","VERTICAL BLIND 18C x 10W","STD SLAT 127mm INSTALLED","","","CO","CO","M","630","EA"]
[null,null,null,null,null,null,null,null,null,null,null,null,null,null,null,null,null,null,null,null,null,null,null,null,null,null,null,null,null,null,null,null,null,null,null,null,null,null,null,null,null,null,null,null,null,null,null,"630-200-719170","VERTICAL BLIND 19C x 7W","STD SLAT 127mm INSTALLED","","","CO","CO","M","630","EA"]
[null,null,null,null,null,null,null,null,null,null,null,null,null,null,null,null,null,null,null,null,null,null,null,null,null,null,null,null,null,null,null,null,null,null,null,null,null,null,null,null,null,null,null,null,null,null,null,"630-200-719220","VERTICAL BLIND 19C x 12W","STD SLAT 127mm INSTALLED","","","CO","CO","M","630","EA"]
[null,null,null,null,null,null,null,null,null,null,null,null,null,null,null,null,null,null,null,null,null,null,null,null,null,null,null,null,null,null,null,null,null,null,null,null,null,null,null,null,null,null,null,null,null,null,null,"630-200-722120","VERTICAL BLIND 22C x 2W","STD SLAT 127mm INSTALLED","","","CO","CO","M","630","EA"]
[null,null,null,null,null,null,null,null,null,null,null,null,null,null,null,null,null,null,null,null,null,null,null,null,null,null,null,null,null,null,null,null,null,null,null,null,null,null,null,null,null,null,null,null,null,null,null,"630-200-800150","VERTICAL BLIND 22C x 9W","STD SLAT 127mm INSTALLED","","","CO","CO","M","630","EA"]
[null,null,null,null,null,null,null,null,null,null,null,null,null,null,null,null,null,null,null,null,null,null,null,null,null,null,null,null,null,null,null,null,null,null,null,null,null,null,null,null,null,null,null,null,null,null,null,"630-200-824160","VERTICAL BLIND 24C x 6W","STD SLAT 127mm INSTALLED","","","CO","CO","M","630","EA"]
[null,null,null,null,null,null,null,null,null,null,null,null,null,null,null,null,null,null,null,null,null,null,null,null,null,null,null,null,null,null,null,null,null,null,null,null,null,null,null,null,null,null,null,null,null,null,null,"630-200-900300","VERTICAL BLIND 25C x 6.5W","STD SLAT 127mm INSTALLED","","","CO","CO","M","630","EA"]
[null,null,null,null,null,null,null,null,null,null,null,null,null,null,null,null,null,null,null,null,null,null,null,null,null,null,null,null,null,null,null,null,null,null,null,null,null,null,null,null,null,null,null,null,null,null,null,"630-200-900500","VERTICAL BLIND 25C x 8.5W","STD SLAT 127mm INSTALLED","","","CO","CO","M","630","EA"]
[null,null,null,null,null,null,null,null,null,null,null,null,null,null,null,null,null,null,null,null,null,null,null,null,null,null,null,null,null,null,null,null,null,null,null,null,null,null,null,null,null,null,null,null,null,null,null,"630-200-926170","VERTICAL BLIND 26C x 7W","STD SLAT 127mm INSTALLED","","","CO","CO","M","630","EA"]
[null,null,null,null,null,null,null,null,null,null,null,null,null,null,null,null,null,null,null,null,null,null,null,null,null,null,null,null,null,null,null,null,null,null,null,null,null,null,null,null,null,null,null,null,null,null,null,"630-200-926185","VERTICAL BLIND 26C x 8.5W","STD SLAT 127mm INSTALLED","","","CO","CO","M","630","EA"]
[null,null,null,null,null,null,null,null,null,null,null,null,null,null,null,null,null,null,null,null,null,null,null,null,null,null,null,null,null,null,null,null,null,null,null,null,null,null,null,null,null,null,null,null,null,null,null,"630-200-930150","VERTICAL BLIND 28C x 5W","STD SLAT 127mm INSTALLED","","","CO","CO","M","630","EA"]
[null,null,null,null,null,null,null,null,null,null,null,null,null,null,null,null,null,null,null,null,null,null,null,null,null,null,null,null,null,null,null,null,null,null,null,null,null,null,null,null,null,null,null,null,null,null,null,"630-200-930550","VERTICAL BLIND 28C x 9W","STD SLAT 127mm INSTALLED","","","CO","CO","M","630","EA"]
[null,null,null,null,null,null,null,null,null,null,null,null,null,null,null,null,null,null,null,null,null,null,null,null,null,null,null,null,null,null,null,null,null,null,null,null,null,null,null,null,null,null,null,null,null,null,null,"630-200-930850","VERTICAL BLIND 28C x 12W","STD SLAT 127mm INSTALLED","","","CO","CO","M","630","EA"]
[null,null,null,null,null,null,null,null,null,null,null,null,null,null,null,null,null,null,null,null,null,null,null,null,null,null,null,null,null,null,null,null,null,null,null,null,null,null,null,null,null,null,null,null,null,null,null,"630-300-000100","VENETIAN SLIMLINE 7C x 2W","25mm BLIND INSTALLED","","","CO","CO","M","630","EA"]
[null,null,null,null,null,null,null,null,null,null,null,null,null,null,null,null,null,null,null,null,null,null,null,null,null,null,null,null,null,null,null,null,null,null,null,null,null,null,null,null,null,null,null,null,null,null,null,"630-300-100100","VENETIAN SLIMLINE 7C x 9W","25mm BLIND INSTALLED","","","CO","CO","M","630","EA"]
[null,null,null,null,null,null,null,null,null,null,null,null,null,null,null,null,null,null,null,null,null,null,null,null,null,null,null,null,null,null,null,null,null,null,null,null,null,null,null,null,null,null,null,null,null,null,null,"630-300-200195","VENETIAN SLIMLINE 8C x 8.5W","25mm BLIND INSTALLED","","","CO","CO","M","630","EA"]
[null,null,null,null,null,null,null,null,null,null,null,null,null,null,null,null,null,null,null,null,null,null,null,null,null,null,null,null,null,null,null,null,null,null,null,null,null,null,null,null,null,null,null,null,null,null,null,"630-300-200220","VENETIAN SLIMLINE 8C x 11W","25mm BLIND INSTALLED","","","CO","CO","M","630","EA"]
[null,null,null,null,null,null,null,null,null,null,null,null,null,null,null,null,null,null,null,null,null,null,null,null,null,null,null,null,null,null,null,null,null,null,null,null,null,null,null,null,null,null,null,null,null,null,null,"630-300-210185","VENETIAN SLIMLINE 10C x 8.5W","25mm BLIND INSTALLED","","","CO","CO","M","630","EA"]
[null,null,null,null,null,null,null,null,null,null,null,null,null,null,null,null,null,null,null,null,null,null,null,null,null,null,null,null,null,null,null,null,null,null,null,null,null,null,null,null,null,null,null,null,null,null,null,"630-300-400155","VENETIAN SLIMLINE 12C x 3.5W","25mm BLIND INSTALLED","","","CO","CO","M","630","EA"]
[null,null,null,null,null,null,null,null,null,null,null,null,null,null,null,null,null,null,null,null,null,null,null,null,null,null,null,null,null,null,null,null,null,null,null,null,null,null,null,null,null,null,null,null,null,null,null,"630-300-400320","VENETIAN SLIMLINE 12C x 12W","25mm BLIND INSTALLED","","","CO","CO","M","630","EA"]
[null,null,null,null,null,null,null,null,null,null,null,null,null,null,null,null,null,null,null,null,null,null,null,null,null,null,null,null,null,null,null,null,null,null,null,null,null,null,null,null,null,null,null,null,null,null,null,"630-300-500100","VENETIAN SLIMLINE 15C x 4W","25mm BLIND INSTALLED","","","CO","CO","M","630","EA"]
[null,null,null,null,null,null,null,null,null,null,null,null,null,null,null,null,null,null,null,null,null,null,null,null,null,null,null,null,null,null,null,null,null,null,null,null,null,null,null,null,null,null,null,null,null,null,null,"630-300-500255","VENETIAN SLIMLINE 15C x 7W","25mm BLIND INSTALLED","","","CO","CO","M","630","EA"]
[null,null,null,null,null,null,null,null,null,null,null,null,null,null,null,null,null,null,null,null,null,null,null,null,null,null,null,null,null,null,null,null,null,null,null,null,null,null,null,null,null,null,null,null,null,null,null,"630-300-500395","VENETIAN SLIMLINE 15C x 9.5W","25mm BLIND INSTALLED","","","CO","CO","M","630","EA"]
[null,null,null,null,null,null,null,null,null,null,null,null,null,null,null,null,null,null,null,null,null,null,null,null,null,null,null,null,null,null,null,null,null,null,null,null,null,null,null,null,null,null,null,null,null,null,null,"630-300-500410","VENETIAN SLIMLINE 15C x 11W","25mm BLIND INSTALLED","","","CO","CO","M","630","EA"]
[null,null,null,null,null,null,null,null,null,null,null,null,null,null,null,null,null,null,null,null,null,null,null,null,null,null,null,null,null,null,null,null,null,null,null,null,null,null,null,null,null,null,null,null,null,null,null,"630-300-500420","VENETIAN SLIMLINE 15C x 12W","25mm BLIND INSTALLED","","","CO","CO","M","630","EA"]
[null,null,null,null,null,null,null,null,null,null,null,null,null,null,null,null,null,null,null,null,null,null,null,null,null,null,null,null,null,null,null,null,null,null,null,null,null,null,null,null,null,null,null,null,null,null,null,"630-300-600100","VENETIAN SLIMLINE 16C x 3W","25mm BLIND INSTALLED","","","CO","CO","M","630","EA"]
[null,null,null,null,null,null,null,null,null,null,null,null,null,null,null,null,null,null,null,null,null,null,null,null,null,null,null,null,null,null,null,null,null,null,null,null,null,null,null,null,null,null,null,null,null,null,null,"630-300-600150","VENETIAN SLIMLINE 16C x 5W","25mm BLIND INSTALLED","","","CO","CO","M","630","EA"]
[null,null,null,null,null,null,null,null,null,null,null,null,null,null,null,null,null,null,null,null,null,null,null,null,null,null,null,null,null,null,null,null,null,null,null,null,null,null,null,null,null,null,null,null,null,null,null,"630-300-600200","VENETIAN SLIMLINE 16C x 6W","25mm BLIND INSTALLED","","","CO","CO","M","630","EA"]
[null,null,null,null,null,null,null,null,null,null,null,null,null,null,null,null,null,null,null,null,null,null,null,null,null,null,null,null,null,null,null,null,null,null,null,null,null,null,null,null,null,null,null,null,null,null,null,"630-300-600250","VENETIAN SLIMLINE 16C x 7.5W","25mm BLIND INSTALLED","","","CO","CO","M","630","EA"]
[null,null,null,null,null,null,null,null,null,null,null,null,null,null,null,null,null,null,null,null,null,null,null,null,null,null,null,null,null,null,null,null,null,null,null,null,null,null,null,null,null,null,null,null,null,null,null,"630-300-600300","VENETIAN SLIMLINE 16C x 9W","25mm BLIND INSTALLED","","","CO","CO","M","630","EA"]
[null,null,null,null,null,null,null,null,null,null,null,null,null,null,null,null,null,null,null,null,null,null,null,null,null,null,null,null,null,null,null,null,null,null,null,null,null,null,null,null,null,null,null,null,null,null,null,"630-300-600350","VENETIAN SLIMLINE 16C x 10W","25mm BLIND INSTALLED","","","CO","CO","M","630","EA"]
[null,null,null,null,null,null,null,null,null,null,null,null,null,null,null,null,null,null,null,null,null,null,null,null,null,null,null,null,null,null,null,null,null,null,null,null,null,null,null,null,null,null,null,null,null,null,null,"630-300-617120","VENETIAN SLIMLINE 17C x 2W","25mm BLIND INSTALLED","","","CO","CO","M","630","EA"]
[null,null,null,null,null,null,null,null,null,null,null,null,null,null,null,null,null,null,null,null,null,null,null,null,null,null,null,null,null,null,null,null,null,null,null,null,null,null,null,null,null,null,null,null,null,null,null,"630-300-617135","VENETIAN SLIMLINE 17C x 3.5W","25mm BLIND INSTALLED","","","CO","CO","M","630","EA"]
[null,null,null,null,null,null,null,null,null,null,null,null,null,null,null,null,null,null,null,null,null,null,null,null,null,null,null,null,null,null,null,null,null,null,null,null,null,null,null,null,null,null,null,null,null,null,null,"630-300-617145","VENETIAN SLIMLINE 17C x 4.5W","25mm BLIND INSTALLED","","","CO","CO","M","630","EA"]
[null,null,null,null,null,null,null,null,null,null,null,null,null,null,null,null,null,null,null,null,null,null,null,null,null,null,null,null,null,null,null,null,null,null,null,null,null,null,null,null,null,null,null,null,null,null,null,"630-300-617160","VENETIAN SLIMLINE 17C x 6W","25mm BLIND INSTALLED","","","CO","CO","M","630","EA"]
[null,null,null,null,null,null,null,null,null,null,null,null,null,null,null,null,null,null,null,null,null,null,null,null,null,null,null,null,null,null,null,null,null,null,null,null,null,null,null,null,null,null,null,null,null,null,null,"630-300-617170","VENETIAN SLIMLINE 17C x 7W","25mm BLIND INSTALLED","","","CO","CO","M","630","EA"]
[null,null,null,null,null,null,null,null,null,null,null,null,null,null,null,null,null,null,null,null,null,null,null,null,null,null,null,null,null,null,null,null,null,null,null,null,null,null,null,null,null,null,null,null,null,null,null,"630-300-617185","VENETIAN SLIMLINE 17C x 8.5W","25mm BLIND INSTALLED","","","CO","CO","M","630","EA"]
[null,null,null,null,null,null,null,null,null,null,null,null,null,null,null,null,null,null,null,null,null,null,null,null,null,null,null,null,null,null,null,null,null,null,null,null,null,null,null,null,null,null,null,null,null,null,null,"630-300-617195","VENETIAN SLIMLINE 17C x 9.5W","25mm BLIND INSTALLED","","","CO","CO","M","630","EA"]
[null,null,null,null,null,null,null,null,null,null,null,null,null,null,null,null,null,null,null,null,null,null,null,null,null,null,null,null,null,null,null,null,null,null,null,null,null,null,null,null,null,null,null,null,null,null,null,"630-300-617210","VENETIAN SLIMLINE 17C x 11W","25mm BLIND INSTALLED","","","CO","CO","M","630","EA"]
[null,null,null,null,null,null,null,null,null,null,null,null,null,null,null,null,null,null,null,null,null,null,null,null,null,null,null,null,null,null,null,null,null,null,null,null,null,null,null,null,null,null,null,null,null,null,null,"630-300-617220","VENETIAN SLIMLINE 17C x 12W","25mm BLIND INSTALLED","","","CO","CO","M","630","EA"]
[null,null,null,null,null,null,null,null,null,null,null,null,null,null,null,null,null,null,null,null,null,null,null,null,null,null,null,null,null,null,null,null,null,null,null,null,null,null,null,null,null,null,null,null,null,null,null,"630-300-700100","VENETIAN SLIMLINE 18C x 2.5W","25mm BLIND INSTALLED","","","CO","CO","M","630","EA"]
[null,null,null,null,null,null,null,null,null,null,null,null,null,null,null,null,null,null,null,null,null,null,null,null,null,null,null,null,null,null,null,null,null,null,null,null,null,null,null,null,null,null,null,null,null,null,null,"630-300-700150","VENETIAN SLIMLINE 18C x 3W","25mm BLIND INSTALLED","","","CO","CO","M","630","EA"]
[null,null,null,null,null,null,null,null,null,null,null,null,null,null,null,null,null,null,null,null,null,null,null,null,null,null,null,null,null,null,null,null,null,null,null,null,null,null,null,null,null,null,null,null,null,null,null,"630-300-700200","VENETIAN SLIMLINE 18C x 3.5W","25mm BLIND INSTALLED","","","CO","CO","M","630","EA"]
[null,null,null,null,null,null,null,null,null,null,null,null,null,null,null,null,null,null,null,null,null,null,null,null,null,null,null,null,null,null,null,null,null,null,null,null,null,null,null,null,null,null,null,null,null,null,null,"630-300-700250","VENETIAN SLIMLINE 18C x 4W","25mm BLIND INSTALLED","","","CO","CO","M","630","EA"]
[null,null,null,null,null,null,null,null,null,null,null,null,null,null,null,null,null,null,null,null,null,null,null,null,null,null,null,null,null,null,null,null,null,null,null,null,null,null,null,null,null,null,null,null,null,null,null,"630-300-700300","VENETIAN SLIMLINE 18C x 4.5W","25mm BLIND INSTALLED","","","CO","CO","M","630","EA"]
[null,null,null,null,null,null,null,null,null,null,null,null,null,null,null,null,null,null,null,null,null,null,null,null,null,null,null,null,null,null,null,null,null,null,null,null,null,null,null,null,null,null,null,null,null,null,null,"630-300-700350","VENETIAN SLIMLINE 18C x 5W","25mm BLIND INSTALLED","","","CO","CO","M","630","EA"]
[null,null,null,null,null,null,null,null,null,null,null,null,null,null,null,null,null,null,null,null,null,null,null,null,null,null,null,null,null,null,null,null,null,null,null,null,null,null,null,null,null,null,null,null,null,null,null,"630-300-700400","VENETIAN SLIMLINE 18C x 5.5W","25mm BLIND INSTALLED","","","CO","CO","M","630","EA"]
[null,null,null,null,null,null,null,null,null,null,null,null,null,null,null,null,null,null,null,null,null,null,null,null,null,null,null,null,null,null,null,null,null,null,null,null,null,null,null,null,null,null,null,null,null,null,null,"630-300-700450","VENETIAN SLIMLINE 18C x 6W","25mm BLIND INSTALLED","","","CO","CO","M","630","EA"]
[null,null,null,null,null,null,null,null,null,null,null,null,null,null,null,null,null,null,null,null,null,null,null,null,null,null,null,null,null,null,null,null,null,null,null,null,null,null,null,null,null,null,null,null,null,null,null,"630-300-700500","VENETIAN SLIMLINE 18C x 6.5W","25mm BLIND INSTALLED","","","CO","CO","M","630","EA"]
[null,null,null,null,null,null,null,null,null,null,null,null,null,null,null,null,null,null,null,null,null,null,null,null,null,null,null,null,null,null,null,null,null,null,null,null,null,null,null,null,null,null,null,null,null,null,null,"630-300-700550","VENETIAN SLIMLINE 18C x 7W","25mm BLIND INSTALLED","","","CO","CO","M","630","EA"]
[null,null,null,null,null,null,null,null,null,null,null,null,null,null,null,null,null,null,null,null,null,null,null,null,null,null,null,null,null,null,null,null,null,null,null,null,null,null,null,null,null,null,null,null,null,null,null,"630-300-700600","VENETIAN SLIMLINE 18C x 7.5W","25mm BLIND INSTALLED","","","CO","CO","M","630","EA"]
[null,null,null,null,null,null,null,null,null,null,null,null,null,null,null,null,null,null,null,null,null,null,null,null,null,null,null,null,null,null,null,null,null,null,null,null,null,null,null,null,null,null,null,null,null,null,null,"630-300-700650","VENETIAN SLIMLINE 18C x 8W","25mm BLIND INSTALLED","","","CO","CO","M","630","EA"]
[null,null,null,null,null,null,null,null,null,null,null,null,null,null,null,null,null,null,null,null,null,null,null,null,null,null,null,null,null,null,null,null,null,null,null,null,null,null,null,null,null,null,null,null,null,null,null,"630-300-700700","VENETIAN SLIMLINE 18C x 8.5W","25mm BLIND INSTALLED","","","CO","CO","M","630","EA"]
[null,null,null,null,null,null,null,null,null,null,null,null,null,null,null,null,null,null,null,null,null,null,null,null,null,null,null,null,null,null,null,null,null,null,null,null,null,null,null,null,null,null,null,null,null,null,null,"630-300-700750","VENETIAN SLIMLINE 18C x 9W","25mm BLIND INSTALLED","","","CO","CO","M","630","EA"]
[null,null,null,null,null,null,null,null,null,null,null,null,null,null,null,null,null,null,null,null,null,null,null,null,null,null,null,null,null,null,null,null,null,null,null,null,null,null,null,null,null,null,null,null,null,null,null,"630-300-700800","VENETIAN SLIMLINE 18C x 9.5W","25mm BLIND INSTALLED","","","CO","CO","M","630","EA"]
[null,null,null,null,null,null,null,null,null,null,null,null,null,null,null,null,null,null,null,null,null,null,null,null,null,null,null,null,null,null,null,null,null,null,null,null,null,null,null,null,null,null,null,null,null,null,null,"630-300-700850","VENETIAN SLIMLINE 18C x 10W","25mm BLIND INSTALLED","","","CO","CO","M","630","EA"]
[null,null,null,null,null,null,null,null,null,null,null,null,null,null,null,null,null,null,null,null,null,null,null,null,null,null,null,null,null,null,null,null,null,null,null,null,null,null,null,null,null,null,null,null,null,null,null,"630-300-719120","VENETIAN SLIMLINE 19C x 2W","25mm BLIND INSTALLED","","","CO","CO","M","630","EA"]
[null,null,null,null,null,null,null,null,null,null,null,null,null,null,null,null,null,null,null,null,null,null,null,null,null,null,null,null,null,null,null,null,null,null,null,null,null,null,null,null,null,null,null,null,null,null,null,"630-300-719135","VENETIAN SLIMLINE 19C x 3.5W","25mm BLIND INSTALLED","","","CO","CO","M","630","EA"]
[null,null,null,null,null,null,null,null,null,null,null,null,null,null,null,null,null,null,null,null,null,null,null,null,null,null,null,null,null,null,null,null,null,null,null,null,null,null,null,null,null,null,null,null,null,null,null,"630-300-719145","VENETIAN SLIMLINE 19C x 4.5W","25mm BLIND INSTALLED","","","CO","CO","M","630","EA"]
[null,null,null,null,null,null,null,null,null,null,null,null,null,null,null,null,null,null,null,null,null,null,null,null,null,null,null,null,null,null,null,null,null,null,null,null,null,null,null,null,null,null,null,null,null,null,null,"630-300-719160","VENETIAN SLIMLINE 19C x 6W","25mm BLIND INSTALLED","","","CO","CO","M","630","EA"]
[null,null,null,null,null,null,null,null,null,null,null,null,null,null,null,null,null,null,null,null,null,null,null,null,null,null,null,null,null,null,null,null,null,null,null,null,null,null,null,null,null,null,null,null,null,null,null,"630-300-719170","VENETIAN SLIMLINE 19C x 7W","25mm BLIND INSTALLED","","","CO","CO","M","630","EA"]
[null,null,null,null,null,null,null,null,null,null,null,null,null,null,null,null,null,null,null,null,null,null,null,null,null,null,null,null,null,null,null,null,null,null,null,null,null,null,null,null,null,null,null,null,null,null,null,"630-300-719185","VENETIAN SLIMLINE 19C x 8.5W","25mm BLIND INSTALLED","","","CO","CO","M","630","EA"]
[null,null,null,null,null,null,null,null,null,null,null,null,null,null,null,null,null,null,null,null,null,null,null,null,null,null,null,null,null,null,null,null,null,null,null,null,null,null,null,null,null,null,null,null,null,null,null,"630-300-719195","VENETIAN SLIMLINE 19C x 9.5W","25mm BLIND INSTALLED","","","CO","CO","M","630","EA"]
[null,null,null,null,null,null,null,null,null,null,null,null,null,null,null,null,null,null,null,null,null,null,null,null,null,null,null,null,null,null,null,null,null,null,null,null,null,null,null,null,null,null,null,null,null,null,null,"630-300-719210","VENETIAN SLIMLINE 19C x 11W","25mm BLIND INSTALLED","","","CO","CO","M","630","EA"]
[null,null,null,null,null,null,null,null,null,null,null,null,null,null,null,null,null,null,null,null,null,null,null,null,null,null,null,null,null,null,null,null,null,null,null,null,null,null,null,null,null,null,null,null,null,null,null,"630-300-719220","VENETIAN SLIMLINE 19C x 12W","25mm BLIND INSTALLED","","","CO","CO","M","630","EA"]
[null,null,null,null,null,null,null,null,null,null,null,null,null,null,null,null,null,null,null,null,null,null,null,null,null,null,null,null,null,null,null,null,null,null,null,null,null,null,null,null,null,null,null,null,null,null,null,"630-300-721120","VENETIAN SLIMLINE 21C x 2W","25mm BLIND INSTALLED","","","CO","CO","M","630","EA"]
[null,null,null,null,null,null,null,null,null,null,null,null,null,null,null,null,null,null,null,null,null,null,null,null,null,null,null,null,null,null,null,null,null,null,null,null,null,null,null,null,null,null,null,null,null,null,null,"630-300-721135","VENETIAN SLIMLINE 21C x 3.5W","25mm BLIND INSTALLED","","","CO","CO","M","630","EA"]
[null,null,null,null,null,null,null,null,null,null,null,null,null,null,null,null,null,null,null,null,null,null,null,null,null,null,null,null,null,null,null,null,null,null,null,null,null,null,null,null,null,null,null,null,null,null,null,"630-300-721145","VENETIAN SLIMLINE 21C x 4.5W","25mm BLIND INSTALLED","","","CO","CO","M","630","EA"]
[null,null,null,null,null,null,null,null,null,null,null,null,null,null,null,null,null,null,null,null,null,null,null,null,null,null,null,null,null,null,null,null,null,null,null,null,null,null,null,null,null,null,null,null,null,null,null,"630-300-721160","VENETIAN SLIMLINE 21C x 6W","25mm BLIND INSTALLED","","","CO","CO","M","630","EA"]
[null,null,null,null,null,null,null,null,null,null,null,null,null,null,null,null,null,null,null,null,null,null,null,null,null,null,null,null,null,null,null,null,null,null,null,null,null,null,null,null,null,null,null,null,null,null,null,"630-300-721170","VENETIAN SLIMLINE 21C x 7W","25mm BLIND INSTALLED","","","CO","CO","M","630","EA"]
[null,null,null,null,null,null,null,null,null,null,null,null,null,null,null,null,null,null,null,null,null,null,null,null,null,null,null,null,null,null,null,null,null,null,null,null,null,null,null,null,null,null,null,null,null,null,null,"630-300-721185","VENETIAN SLIMLINE 21C x 8.5W","25mm BLIND INSTALLED","","","CO","CO","M","630","EA"]
[null,null,null,null,null,null,null,null,null,null,null,null,null,null,null,null,null,null,null,null,null,null,null,null,null,null,null,null,null,null,null,null,null,null,null,null,null,null,null,null,null,null,null,null,null,null,null,"630-300-721195","VENETIAN SLIMLINE 21C x 9.5W","25mm BLIND INSTALLED","","","CO","CO","M","630","EA"]
[null,null,null,null,null,null,null,null,null,null,null,null,null,null,null,null,null,null,null,null,null,null,null,null,null,null,null,null,null,null,null,null,null,null,null,null,null,null,null,null,null,null,null,null,null,null,null,"630-300-721210","VENETIAN SLIMLINE 21C x 11W","25mm BLIND INSTALLED","","","CO","CO","M","630","EA"]
[null,null,null,null,null,null,null,null,null,null,null,null,null,null,null,null,null,null,null,null,null,null,null,null,null,null,null,null,null,null,null,null,null,null,null,null,null,null,null,null,null,null,null,null,null,null,null,"630-300-721220","VENETIAN SLIMLINE 21C x 12W","25mm BLIND INSTALLED","","","CO","CO","M","630","EA"]
[null,null,null,null,null,null,null,null,null,null,null,null,null,null,null,null,null,null,null,null,null,null,null,null,null,null,null,null,null,null,null,null,null,null,null,null,null,null,null,null,null,null,null,null,null,null,null,"630-300-722120","VENETIAN SLIMLINE 22C x 2W","25mm BLIND INSTALLED","","","CO","CO","M","630","EA"]
[null,null,null,null,null,null,null,null,null,null,null,null,null,null,null,null,null,null,null,null,null,null,null,null,null,null,null,null,null,null,null,null,null,null,null,null,null,null,null,null,null,null,null,null,null,null,null,"630-300-722135","VENETIAN SLIMLINE 22C x 3.5W","25mm BLIND INSTALLED","","","CO","CO","M","630","EA"]
[null,null,null,null,null,null,null,null,null,null,null,null,null,null,null,null,null,null,null,null,null,null,null,null,null,null,null,null,null,null,null,null,null,null,null,null,null,null,null,null,null,null,null,null,null,null,null,"630-300-722145","VENETIAN SLIMLINE 22C x 4.5W","25mm BLIND INSTALLED","","","CO","CO","M","630","EA"]
[null,null,null,null,null,null,null,null,null,null,null,null,null,null,null,null,null,null,null,null,null,null,null,null,null,null,null,null,null,null,null,null,null,null,null,null,null,null,null,null,null,null,null,null,null,null,null,"630-300-722160","VENETIAN SLIMLINE 22C x 6W","25mm BLIND INSTALLED","","","CO","CO","M","630","EA"]
[null,null,null,null,null,null,null,null,null,null,null,null,null,null,null,null,null,null,null,null,null,null,null,null,null,null,null,null,null,null,null,null,null,null,null,null,null,null,null,null,null,null,null,null,null,null,null,"630-300-722170","VENETIAN SLIMLINE 22C x 7W","25mm BLIND INSTALLED","","","CO","CO","M","630","EA"]
[null,null,null,null,null,null,null,null,null,null,null,null,null,null,null,null,null,null,null,null,null,null,null,null,null,null,null,null,null,null,null,null,null,null,null,null,null,null,null,null,null,null,null,null,null,null,null,"630-300-800100","VENETIAN SLIMLINE 22C x 7.5W","25mm BLIND INSTALLED","","","CO","CO","M","630","EA"]
[null,null,null,null,null,null,null,null,null,null,null,null,null,null,null,null,null,null,null,null,null,null,null,null,null,null,null,null,null,null,null,null,null,null,null,null,null,null,null,null,null,null,null,null,null,null,null,"630-300-800110","VENETIAN SLIMLINE 22C x 8.5W","25mm BLIND INSTALLED","","","CO","CO","M","630","EA"]
[null,null,null,null,null,null,null,null,null,null,null,null,null,null,null,null,null,null,null,null,null,null,null,null,null,null,null,null,null,null,null,null,null,null,null,null,null,null,null,null,null,null,null,null,null,null,null,"630-300-800150","VENETIAN SLIMLINE 22C x 9W","25mm BLIND INSTALLED","","","CO","CO","M","630","EA"]
[null,null,null,null,null,null,null,null,null,null,null,null,null,null,null,null,null,null,null,null,null,null,null,null,null,null,null,null,null,null,null,null,null,null,null,null,null,null,null,null,null,null,null,null,null,null,null,"630-300-822195","VENETIAN SLIMLINE 22C x 9.5W","25mm BLIND INSTALLED","","","CO","CO","M","630","EA"]
[null,null,null,null,null,null,null,null,null,null,null,null,null,null,null,null,null,null,null,null,null,null,null,null,null,null,null,null,null,null,null,null,null,null,null,null,null,null,null,null,null,null,null,null,null,null,null,"630-300-822210","VENETIAN SLIMLINE 22C x 11W","25mm BLIND INSTALLED","","","CO","CO","M","630","EA"]
[null,null,null,null,null,null,null,null,null,null,null,null,null,null,null,null,null,null,null,null,null,null,null,null,null,null,null,null,null,null,null,null,null,null,null,null,null,null,null,null,null,null,null,null,null,null,null,"630-300-822220","VENETIAN SLIMLINE 22C x 12W","25mm BLIND INSTALLED","","","CO","CO","M","630","EA"]
[null,null,null,null,null,null,null,null,null,null,null,null,null,null,null,null,null,null,null,null,null,null,null,null,null,null,null,null,null,null,null,null,null,null,null,null,null,null,null,null,null,null,null,null,null,null,null,"630-300-824120","VENETIAN SLIMLINE 24C x 2W","25mm BLIND INSTALLED","","","CO","CO","M","630","EA"]
[null,null,null,null,null,null,null,null,null,null,null,null,null,null,null,null,null,null,null,null,null,null,null,null,null,null,null,null,null,null,null,null,null,null,null,null,null,null,null,null,null,null,null,null,null,null,null,"630-300-824135","VENETIAN SLIMLINE 24C x 3.5W","25mm BLIND INSTALLED","","","CO","CO","M","630","EA"]
[null,null,null,null,null,null,null,null,null,null,null,null,null,null,null,null,null,null,null,null,null,null,null,null,null,null,null,null,null,null,null,null,null,null,null,null,null,null,null,null,null,null,null,null,null,null,null,"630-300-824145","VENETIAN SLIMLINE 24C x 4.5W","25mm BLIND INSTALLED","","","CO","CO","M","630","EA"]
[null,null,null,null,null,null,null,null,null,null,null,null,null,null,null,null,null,null,null,null,null,null,null,null,null,null,null,null,null,null,null,null,null,null,null,null,null,null,null,null,null,null,null,null,null,null,null,"630-300-824160","VENETIAN SLIMLINE 24C x 6W","25mm BLIND INSTALLED","","","CO","CO","M","630","EA"]
[null,null,null,null,null,null,null,null,null,null,null,null,null,null,null,null,null,null,null,null,null,null,null,null,null,null,null,null,null,null,null,null,null,null,null,null,null,null,null,null,null,null,null,null,null,null,null,"630-300-824170","VENETIAN SLIMLINE 24C x 7W","25mm BLIND INSTALLED","","","CO","CO","M","630","EA"]
[null,null,null,null,null,null,null,null,null,null,null,null,null,null,null,null,null,null,null,null,null,null,null,null,null,null,null,null,null,null,null,null,null,null,null,null,null,null,null,null,null,null,null,null,null,null,null,"630-300-824185","VENETIAN SLIMLINE 24C x 8.5W","25mm BLIND INSTALLED","","","CO","CO","M","630","EA"]
[null,null,null,null,null,null,null,null,null,null,null,null,null,null,null,null,null,null,null,null,null,null,null,null,null,null,null,null,null,null,null,null,null,null,null,null,null,null,null,null,null,null,null,null,null,null,null,"630-300-824195","VENETIAN SLIMLINE 24C x 9.5W","25mm BLIND INSTALLED","","","CO","CO","M","630","EA"]
[null,null,null,null,null,null,null,null,null,null,null,null,null,null,null,null,null,null,null,null,null,null,null,null,null,null,null,null,null,null,null,null,null,null,null,null,null,null,null,null,null,null,null,null,null,null,null,"630-300-824210","VENETIAN SLIMLINE 24C x 11W","25mm BLIND INSTALLED","","","CO","CO","M","630","EA"]
[null,null,null,null,null,null,null,null,null,null,null,null,null,null,null,null,null,null,null,null,null,null,null,null,null,null,null,null,null,null,null,null,null,null,null,null,null,null,null,null,null,null,null,null,null,null,null,"630-300-824220","VENETIAN SLIMLINE 24C x 12W","25mm BLIND INSTALLED","","","CO","CO","M","630","EA"]
[null,null,null,null,null,null,null,null,null,null,null,null,null,null,null,null,null,null,null,null,null,null,null,null,null,null,null,null,null,null,null,null,null,null,null,null,null,null,null,null,null,null,null,null,null,null,null,"630-300-900100","VENETIAN SLIMLINE 25C x 4W","25mm BLIND INSTALLED","","","CO","CO","M","630","EA"]
[null,null,null,null,null,null,null,null,null,null,null,null,null,null,null,null,null,null,null,null,null,null,null,null,null,null,null,null,null,null,null,null,null,null,null,null,null,null,null,null,null,null,null,null,null,null,null,"630-300-900150","VENETIAN SLIMLINE 25C x 5W","25mm BLIND INSTALLED","","","CO","CO","M","630","EA"]
[null,null,null,null,null,null,null,null,null,null,null,null,null,null,null,null,null,null,null,null,null,null,null,null,null,null,null,null,null,null,null,null,null,null,null,null,null,null,null,null,null,null,null,null,null,null,null,"630-300-900200","VENETIAN SLIMLINE  25C x 5.5W","25mm BLIND INSTALLED","","","CO","CO","M","630","EA"]
[null,null,null,null,null,null,null,null,null,null,null,null,null,null,null,null,null,null,null,null,null,null,null,null,null,null,null,null,null,null,null,null,null,null,null,null,null,null,null,null,null,null,null,null,null,null,null,"630-300-900250","VENETIAN SLIMLINE 25C x 6W","25mm BLIND INSTALLED","","","CO","CO","M","630","EA"]
[null,null,null,null,null,null,null,null,null,null,null,null,null,null,null,null,null,null,null,null,null,null,null,null,null,null,null,null,null,null,null,null,null,null,null,null,null,null,null,null,null,null,null,null,null,null,null,"630-300-900300","VENETIAN SLIMLINE 25C x 6.5W","25mm BLIND INSTALLED","","","CO","CO","M","630","EA"]
[null,null,null,null,null,null,null,null,null,null,null,null,null,null,null,null,null,null,null,null,null,null,null,null,null,null,null,null,null,null,null,null,null,null,null,null,null,null,null,null,null,null,null,null,null,null,null,"630-300-900350","VENETIAN SLIMLINE 25C x 7W","25mm BLIND INSTALLED","","","CO","CO","M","630","EA"]
[null,null,null,null,null,null,null,null,null,null,null,null,null,null,null,null,null,null,null,null,null,null,null,null,null,null,null,null,null,null,null,null,null,null,null,null,null,null,null,null,null,null,null,null,null,null,null,"630-300-900400","VENETIAN SLIMLINE 25C x 7.5W","25mm BLIND INSTALLED","","","CO","CO","M","630","EA"]
[null,null,null,null,null,null,null,null,null,null,null,null,null,null,null,null,null,null,null,null,null,null,null,null,null,null,null,null,null,null,null,null,null,null,null,null,null,null,null,null,null,null,null,null,null,null,null,"630-300-900450","VENETIAN SLIMLINE 25C x 8W","25mm BLIND INSTALLED","","","CO","CO","M","630","EA"]
[null,null,null,null,null,null,null,null,null,null,null,null,null,null,null,null,null,null,null,null,null,null,null,null,null,null,null,null,null,null,null,null,null,null,null,null,null,null,null,null,null,null,null,null,null,null,null,"630-300-900500","VENETIAN SLIMLINE 25C x 8.5W","25mm BLIND INSTALLED","","","CO","CO","M","630","EA"]
[null,null,null,null,null,null,null,null,null,null,null,null,null,null,null,null,null,null,null,null,null,null,null,null,null,null,null,null,null,null,null,null,null,null,null,null,null,null,null,null,null,null,null,null,null,null,null,"630-300-900550","VENETIAN SLIMLINE 25C x 9W","25mm BLIND INSTALLED","","","CO","CO","M","630","EA"]
[null,null,null,null,null,null,null,null,null,null,null,null,null,null,null,null,null,null,null,null,null,null,null,null,null,null,null,null,null,null,null,null,null,null,null,null,null,null,null,null,null,null,null,null,null,null,null,"630-300-900600","VENETIAN SLIMLINE 25C x 9.5W","25mm BLIND INSTALLED","","","CO","CO","M","630","EA"]
[null,null,null,null,null,null,null,null,null,null,null,null,null,null,null,null,null,null,null,null,null,null,null,null,null,null,null,null,null,null,null,null,null,null,null,null,null,null,null,null,null,null,null,null,null,null,null,"630-300-900650","VENETIAN SLIMLINE 25C x 10W","25mm BLIND INSTALLED","","","CO","CO","M","630","EA"]
[null,null,null,null,null,null,null,null,null,null,null,null,null,null,null,null,null,null,null,null,null,null,null,null,null,null,null,null,null,null,null,null,null,null,null,null,null,null,null,null,null,null,null,null,null,null,null,"630-300-900700","VENETIAN SLIMLINE 25C x 10.5W","25mm BLIND INSTALLED","","","CO","CO","M","630"]
[null,null,null,null,null,null,null,null,null,null,null,null,null,null,null,null,null,null,null,null,null,null,null,null,null,null,null,null,null,null,null,null,null,null,null,null,null,null,null,null,null,null,null,null,null,null,null,"630-300-900750","VENETIAN SLIMLINE 25C x 11W","25mm BLIND INSTALLED","","","CO","CO","M","630"]
[null,null,null,null,null,null,null,null,null,null,null,null,null,null,null,null,null,null,null,null,null,null,null,null,null,null,null,null,null,null,null,null,null,null,null,null,null,null,null,null,null,null,null,null,null,null,null,"630-300-900800","VENETIAN SLIMLINE 25C x 11.5W","25mm BLIND INSTALLED","","","CO","CO","M","630"]
[null,null,null,null,null,null,null,null,null,null,null,null,null,null,null,null,null,null,null,null,null,null,null,null,null,null,null,null,null,null,null,null,null,null,null,null,null,null,null,null,null,null,null,null,null,null,null,"630-300-900850","VENETIAN SLIMLINE 25C x 12W","25mm BLIND INSTALLED","","","CO","CO","M","630"]
[null,null,null,null,null,null,null,null,null,null,null,null,null,null,null,null,null,null,null,null,null,null,null,null,null,null,null,null,null,null,null,null,null,null,null,null,null,null,null,null,null,null,null,null,null,null,null,"630-300-926120","VENETIAN SLIMLINE 26C x 2W","25mm BLIND INSTALLED","","","CO","CO","M","630"]
[null,null,null,null,null,null,null,null,null,null,null,null,null,null,null,null,null,null,null,null,null,null,null,null,null,null,null,null,null,null,null,null,null,null,null,null,null,null,null,null,null,null,null,null,null,null,null,"630-300-926135","VENETIAN SLIMLINE 26C x 3.5W","25mm BLIND INSTALLED","","","CO","CO","M","630"]
[null,null,null,null,null,null,null,null,null,null,null,null,null,null,null,null,null,null,null,null,null,null,null,null,null,null,null,null,null,null,null,null,null,null,null,null,null,null,null,null,null,null,null,null,null,null,null,"630-300-926145","VENETIAN SLIMLINE 26C x 4.5W","25mm BLIND INSTALLED","","","CO","CO","M","630"]
[null,null,null,null,null,null,null,null,null,null,null,null,null,null,null,null,null,null,null,null,null,null,null,null,null,null,null,null,null,null,null,null,null,null,null,null,null,null,null,null,null,null,null,null,null,null,null,"630-300-926160","VENETIAN SLIMLINE 26C x 6W","25mm BLIND INSTALLED","","","CO","CO","M","630"]
[null,null,null,null,null,null,null,null,null,null,null,null,null,null,null,null,null,null,null,null,null,null,null,null,null,null,null,null,null,null,null,null,null,null,null,null,null,null,null,null,null,null,null,null,null,null,null,"630-300-926170","VENETIAN SLIMLINE 26C x 7W","25mm BLIND INSTALLED","","","CO","CO","M","630"]
[null,null,null,null,null,null,null,null,null,null,null,null,null,null,null,null,null,null,null,null,null,null,null,null,null,null,null,null,null,null,null,null,null,null,null,null,null,null,null,null,null,null,null,null,null,null,null,"630-300-926185","VENETIAN SLIMLINE 26C x 8.5W","25mm BLIND INSTALLED","","","CO","CO","M","630"]
[null,null,null,null,null,null,null,null,null,null,null,null,null,null,null,null,null,null,null,null,null,null,null,null,null,null,null,null,null,null,null,null,null,null,null,null,null,null,null,null,null,null,null,null,null,null,null,"630-300-926195","VENETIAN SLIMLINE 26C x 9.5W","25mm BLIND INSTALLED","","","CO","CO","M","630"]
[null,null,null,null,null,null,null,null,null,null,null,null,null,null,null,null,null,null,null,null,null,null,null,null,null,null,null,null,null,null,null,null,null,null,null,null,null,null,null,null,null,null,null,null,null,null,null,"630-300-926210","VENETIAN SLIMLINE 26C x 11W","25mm BLIND INSTALLED","","","CO","CO","M","630"]
[null,null,null,null,null,null,null,null,null,null,null,null,null,null,null,null,null,null,null,null,null,null,null,null,null,null,null,null,null,null,null,null,null,null,null,null,null,null,null,null,null,null,null,null,null,null,null,"630-300-926220","VENETIAN SLIMLINE 26C x 12W","25mm BLIND INSTALLED","","","CO","CO","M","630"]
[null,null,null,null,null,null,null,null,null,null,null,null,null,null,null,null,null,null,null,null,null,null,null,null,null,null,null,null,null,null,null,null,null,null,null,null,null,null,null,null,null,null,null,null,null,null,null,"630-300-928120","VENETIAN SLIMLINE 28C x 2W","25mm BLIND INSTALLED","","","CO","CO","M","630"]
[null,null,null,null,null,null,null,null,null,null,null,null,null,null,null,null,null,null,null,null,null,null,null,null,null,null,null,null,null,null,null,null,null,null,null,null,null,null,null,null,null,null,null,null,null,null,null,"630-300-928135","VENETIAN SLIMLINE 28C x 3.5W","25mm BLIND INSTALLED","","","CO","CO","M","630"]
[null,null,null,null,null,null,null,null,null,null,null,null,null,null,null,null,null,null,null,null,null,null,null,null,null,null,null,null,null,null,null,null,null,null,null,null,null,null,null,null,null,null,null,null,null,null,null,"630-300-930100","VENETIAN SLIMLINE 28C x 4W","25mm BLIND INSTALLED","","","CO","CO","M","630"]
[null,null,null,null,null,null,null,null,null,null,null,null,null,null,null,null,null,null,null,null,null,null,null,null,null,null,null,null,null,null,null,null,null,null,null,null,null,null,null,null,null,null,null,null,null,null,null,"630-300-930145","VENETIAN SLIMLINE 28C x 4.5W","25mm BLIND INSTALLED","","","CO","CO","M","630"]
[null,null,null,null,null,null,null,null,null,null,null,null,null,null,null,null,null,null,null,null,null,null,null,null,null,null,null,null,null,null,null,null,null,null,null,null,null,null,null,null,null,null,null,null,null,null,null,"630-300-930150","VENETIAN SLIMLINE 28C x 5W","25mm BLIND INSTALLED","","","CO","CO","M","630"]
[null,null,null,null,null,null,null,null,null,null,null,null,null,null,null,null,null,null,null,null,null,null,null,null,null,null,null,null,null,null,null,null,null,null,null,null,null,null,null,null,null,null,null,null,null,null,null,"630-300-930200","VENETIAN SLIMLINE 28C x 5.5W","25mm BLIND INSTALLED","","","CO","CO","M","630"]
[null,null,null,null,null,null,null,null,null,null,null,null,null,null,null,null,null,null,null,null,null,null,null,null,null,null,null,null,null,null,null,null,null,null,null,null,null,null,null,null,null,null,null,null,null,null,null,"630-300-930250","VENETIAN SLIMLINE 28C x 6W","25mm BLIND INSTALLED","","","CO","CO","M","630"]
[null,null,null,null,null,null,null,null,null,null,null,null,null,null,null,null,null,null,null,null,null,null,null,null,null,null,null,null,null,null,null,null,null,null,null,null,null,null,null,null,null,null,null,null,null,null,null,"630-300-930300","VENETIAN SLIMLINE 28C x 6.5W","25mm BLIND INSTALLED","","","CO","CO","M","630"]
[null,null,null,null,null,null,null,null,null,null,null,null,null,null,null,null,null,null,null,null,null,null,null,null,null,null,null,null,null,null,null,null,null,null,null,null,null,null,null,null,null,null,null,null,null,null,null,"630-300-930350","VENETIAN SLIMLINE 28C x 7W","25mm BLIND INSTALLED","","","CO","CO","M","630"]
[null,null,null,null,null,null,null,null,null,null,null,null,null,null,null,null,null,null,null,null,null,null,null,null,null,null,null,null,null,null,null,null,null,null,null,null,null,null,null,null,null,null,null,null,null,null,null,"630-300-930400","VENETIAN SLIMLINE 28C x 7.5W","25mm BLIND INSTALLED","","","CO","CO","M","630"]
[null,null,null,null,null,null,null,null,null,null,null,null,null,null,null,null,null,null,null,null,null,null,null,null,null,null,null,null,null,null,null,null,null,null,null,null,null,null,null,null,null,null,null,null,null,null,null,"630-300-930450","VENETIAN SLIMLINE 28C x 8W","25mm BLIND INSTALLED","","","CO","CO","M","630"]
[null,null,null,null,null,null,null,null,null,null,null,null,null,null,null,null,null,null,null,null,null,null,null,null,null,null,null,null,null,null,null,null,null,null,null,null,null,null,null,null,null,null,null,null,null,null,null,"630-300-930500","VENETIAN SLIMLINE 28C x 8.5W","25mm BLIND INSTALLED","","","CO","CO","M","630"]
[null,null,null,null,null,null,null,null,null,null,null,null,null,null,null,null,null,null,null,null,null,null,null,null,null,null,null,null,null,null,null,null,null,null,null,null,null,null,null,null,null,null,null,null,null,null,null,"630-300-930550","VENETIAN SLIMLINE 28C x 9W","25mm BLIND INSTALLED","","","CO","CO","M","630"]
[null,null,null,null,null,null,null,null,null,null,null,null,null,null,null,null,null,null,null,null,null,null,null,null,null,null,null,null,null,null,null,null,null,null,null,null,null,null,null,null,null,null,null,null,null,null,null,"630-300-930600","VENETIAN SLIMLINE 28C x 9.5W","25mm BLIND INSTALLED","","","CO","CO","M","630"]
[null,null,null,null,null,null,null,null,null,null,null,null,null,null,null,null,null,null,null,null,null,null,null,null,null,null,null,null,null,null,null,null,null,null,null,null,null,null,null,null,null,null,null,null,null,null,null,"630-300-930650","VENETIAN SLIMLINE 28C x 10W","25mm BLIND INSTALLED","","","CO","CO","M","630"]
[null,null,null,null,null,null,null,null,null,null,null,null,null,null,null,null,null,null,null,null,null,null,null,null,null,null,null,null,null,null,null,null,null,null,null,null,null,null,null,null,null,null,null,null,null,null,null,"630-300-930700","VENETIAN SLIMLINE 28C x 10.5W","25mm BLIND INSTALLED","","","CO","CO","M","630"]
[null,null,null,null,null,null,null,null,null,null,null,null,null,null,null,null,null,null,null,null,null,null,null,null,null,null,null,null,null,null,null,null,null,null,null,null,null,null,null,null,null,null,null,null,null,null,null,"630-300-930750","VENETIAN SLIMLINE 28C x 11W","25mm BLIND INSTALLED","","","CO","CO","M","630"]
[null,null,null,null,null,null,null,null,null,null,null,null,null,null,null,null,null,null,null,null,null,null,null,null,null,null,null,null,null,null,null,null,null,null,null,null,null,null,null,null,null,null,null,null,null,null,null,"630-300-930800","VENETIAN SLIMLINE 28C x 11.5W","25mm BLIND INSTALLED","","","CO","CO","M","630"]
[null,null,null,null,null,null,null,null,null,null,null,null,null,null,null,null,null,null,null,null,null,null,null,null,null,null,null,null,null,null,null,null,null,null,null,null,null,null,null,null,null,null,null,null,null,null,null,"630-300-930850","VENETIAN SLIMLINE 28C x 12W","25mm BLIND INSTALLED","","","CO","CO","M","630"]
[null,null,null,null,null,null,null,null,null,null,null,null,null,null,null,null,null,null,null,null,null,null,null,null,null,null,null,null,null,null,null,null,null,null,null,null,null,null,null,null,null,null,null,null,null,null,null,"630-300-932120","VENETIAN SLIMLINE 29C x 2W","25mm BLIND INSTALLED","","","CO","CO","M","630"]
[null,null,null,null,null,null,null,null,null,null,null,null,null,null,null,null,null,null,null,null,null,null,null,null,null,null,null,null,null,null,null,null,null,null,null,null,null,null,null,null,null,null,null,null,null,null,null,"630-300-932135","VENETIAN SLIMLINE 29C x 3.5W","25mm BLIND INSTALLED","","","CO","CO","M","630"]
[null,null,null,null,null,null,null,null,null,null,null,null,null,null,null,null,null,null,null,null,null,null,null,null,null,null,null,null,null,null,null,null,null,null,null,null,null,null,null,null,null,null,null,null,null,null,null,"630-300-932145","VENETIAN SLIMLINE 29C x 4.5W","25mm BLIND INSTALLED","","","CO","CO","M","630"]
[null,null,null,null,null,null,null,null,null,null,null,null,null,null,null,null,null,null,null,null,null,null,null,null,null,null,null,null,null,null,null,null,null,null,null,null,null,null,null,null,null,null,null,null,null,null,null,"630-300-932160","VENETIAN SLIMLINE 29C x 6W","25mm BLIND INSTALLED","","","CO","CO","M","630"]
[null,null,null,null,null,null,null,null,null,null,null,null,null,null,null,null,null,null,null,null,null,null,null,null,null,null,null,null,null,null,null,null,null,null,null,null,null,null,null,null,null,null,null,null,null,null,null,"630-300-932170","VENETIAN SLIMLINE 29C x 7W","25mm BLIND INSTALLED","","","CO","CO","M","630"]
[null,null,null,null,null,null,null,null,null,null,null,null,null,null,null,null,null,null,null,null,null,null,null,null,null,null,null,null,null,null,null,null,null,null,null,null,null,null,null,null,null,null,null,null,null,null,null,"630-300-932185","VENETIAN SLIMLINE 29C x 8.5W","25mm BLIND INSTALLED","","","CO","CO","M","630"]
[null,null,null,null,null,null,null,null,null,null,null,null,null,null,null,null,null,null,null,null,null,null,null,null,null,null,null,null,null,null,null,null,null,null,null,null,null,null,null,null,null,null,null,null,null,null,null,"630-300-932195","VENETIAN SLIMLINE 29C x 9.5W","25mm BLIND INSTALLED","","","CO","CO","M","630"]
[null,null,null,null,null,null,null,null,null,null,null,null,null,null,null,null,null,null,null,null,null,null,null,null,null,null,null,null,null,null,null,null,null,null,null,null,null,null,null,null,null,null,null,null,null,null,null,"630-300-932210","VENETIAN SLIMLINE 29C x 11W","25mm BLIND INSTALLED","","","CO","CO","M","630"]
[null,null,null,null,null,null,null,null,null,null,null,null,null,null,null,null,null,null,null,null,null,null,null,null,null,null,null,null,null,null,null,null,null,null,null,null,null,null,null,null,null,null,null,null,null,null,null,"630-300-932220","VENETIAN SLIMLINE 29C x 12W","25mm BLIND INSTALLED","","","CO","CO","M","630"]

{"sheet":"Tiling","index":26,"n_rows":168,"n_cols":63,"rows_kept":168,"cut":false,"hidden":false,"merged":[[23,3,27,3],[29,3,31,3],[18,2,18,3],[5,1,6,6],[10,6,10,7],[17,2,17,3],[23,6,23,7]]}
[]
[]
[]
[]
[]
[null,"TILING SHEET"]
[]
[]
[null,null,null,null,"1st Supplier Builder Cost",null,"CROSBY  ($26.95)",{"$f":"VLOOKUP(G9,Lists!V5:W7,2,0)","v":26.95}]
[null,null,null,null,"2nd Supplier Builder Cost",null,null,{"$f":"VLOOKUP(G10,Lists!$V$5:$W$6,2,TRUE)","v":{"$error":"#N/A"}},null,null,"Alt",null,"Where","Set your rooms ",null,null,null,null,null,null,null,null,null,null,null,null,null,null,null,null,null,null,null,null,null,null,null,null,null,null,null,null,null,null,null,"Do Takeoffs"]
["MITRED TILES","Mitre Tiling",null,"Lm",null,null,"Name the Types here",null,null,null,null,null,"Locations","Where","Type","Tile Width","Tile Height","Count Tiles","1st S/Cost","2nd S/Cost","1st S/Total","2nd S/Total","Wall Lab","Floor Lab","Fet Lab","Othr Lab","\"-------\"","Wall tile qty","Floor tile qty","Fet tile qty","Other tile qty","Wall Supply in m2","Floor suply in m2","Feat supply in m2","other supply in m2","…","….","Porc m2","EO Std m2","EO Std","Porcl","2nd Supplier","Column1",null,null,"Room","Note","Actual W","Actual H","Mitre W/H","Rectified","Column1","Qty Tiles","Tile Wide","Tile High","Labour","Mitre L","Rectified2","Shower","Formula Trap","Error Trap","Column2","Column3"]
[null,null,"LABOUR","Supply",null,null,"Wall Tiles",null,null,null,null,null,{"$f":"CONCATENATE(roomnames[[#This Row],[Where]],\" - \",roomnames[[#This Row],[Type]])","v":"Ensuite - Wall Tiles"},"Ensuite","Wall Tiles",400,200,{"$f":"SUMIF(Table3[],roomnames[[#This Row],[Locations]],Table3[Qty Tiles])","v":0},{"$f":"IF(roomnames[[#This Row],[2nd Supplier]]=\"No\",$H$9,\"\")","v":26.95},{"$f":"IF(roomnames[[#This Row],[2nd Supplier]]=\"Yes\",$H$10,\"\")","v":""},{"$f":"IF(roomnames[[#This Row],[2nd Supplier]]=\"no\",      SUM((roomnames[[#This Row],[Wall Supply in m2]]+roomnames[[#This Row],[Floor suply in m2]]+roomnames[[#This Row],[Feat supply in m2]]+roomnames[[#This Row],[other supply in m2]])*roomnames[[#This Row],[1st S/Cost]]),\nIF(roomnames[[#This Row],[2nd Supplier]]=\"yes\",   0))","v":0},{"$f":"IF(roomnames[[#This Row],[2nd Supplier]]=\"Yes\",      SUM((roomnames[[#This Row],[Wall Supply in m2]]+roomnames[[#This Row],[Floor suply in m2]]+roomnames[[#This Row],[Feat supply in m2]]+roomnames[[#This Row],[other supply in m2]])*roomnames[[#This Row],[2nd S/Cost]]),\nIF(roomnames[[#This Row],[2nd Supplier]]=\"No\",   0))","v":0},{"$f":"IF(roomnames[[#This Row],[Type]]=$G$12,   SUMIF(Table3[],roomnames[[#This Row],[Locations]],Table3[Labour]),0)","v":0},{"$f":"IF(roomnames[[#This Row],[Type]]=$G$13,   SUMIF(Table3[],roomnames[[#This Row],[Locations]],Table3[Labour]),0)","v":0},{"$f":"IF(roomnames[[#This Row],[Type]]=$G$14,   SUMIF(Table3[],roomnames[[#This Row],[Locations]],Table3[Labour]),0)","v":0},{"$f":"IF(roomnames[[#This Row],[Type]]=$G$15,   SUMIF(Table3[],roomnames[[#This Row],[Locations]],Table3[Labour]),0)","v":0},null,{"$f":"IF(roomnames[[#This Row],[Type]]=$G$12,roomnames[[#This Row],[Count Tiles]],0)","v":0},{"$f":"IF(roomnames[[#This Row],[Type]]=$G$13,roomnames[[#This Row],[Count Tiles]],0)","v":0},{"$f":"IF(roomnames[[#This Row],[Type]]=$G$14,roomnames[[#This Row],[Count Tiles]],0)","v":0},{"$f":"IF(roomnames[[#This Row],[Type]]=$G$15,roomnames[[#This Row],[Count Tiles]],0)","v":0},{"$f":"IF(roomnames[[#This Row],[Wall tile qty]]>0,                   SUM(roomnames[[#This Row],[Count Tiles]]*                   ((roomnames[[#This Row],[Tile Width]]*roomnames[[#This Row],[Tile Height]])))            /1000000,0)","v":0},{"$f":"IF(roomnames[[#This Row],[Floor tile qty]]>0.001,SUM(roomnames[[#This Row],[Count Tiles]]*(roomnames[[#This Row],[Tile Width]]*roomnames[[#This Row],[Tile Height]]))/1000000,0)","v":0},{"$f":"IF(roomnames[[#This Row],[Fet tile qty]]>0.001,SUM(roomnames[[#This Row],[Count Tiles]]*(roomnames[[#This Row],[Tile Width]]*roomnames[[#This Row],[Tile Height]]))/1000000,)","v":0},{"$f":"IF(roomnames[[#This Row],[Other tile qty]]>0.001,SUM(roomnames[[#This Row],[Count Tiles]]*(roomnames[[#This Row],[Tile Width]]*roomnames[[#This Row],[Tile Height]]))/1000000,0)","v":0},null,null,{"$f":"IF(roomnames[[#This Row],[Porcl]]=\"yes\",roomnames[[#This Row],[Wall Lab]]+roomnames[[#This Row],[Floor Lab]]+roomnames[[#This Row],[Fet Lab]]+roomnames[[#This Row],[Othr Lab]]+roomnames[[#This Row],[\"-------\"]],0)","v":0},{"$f":"IF(roomnames[[#This Row],[EO Std]]=\"yes\",roomnames[[#This Row],[Wall Lab]]+roomnames[[#This Row],[Floor Lab]]+roomnames[[#This Row],[Fet Lab]]+roomnames[[#This Row],[Othr Lab]],0)","v":0},"No","No","No",null,null,null,null,null,null,null,null,null,null,{"$f":"IFERROR(SUM(Table3[[#This Row],[Tile Wide]]*Table3[[#This Row],[Tile High]]),\"\")","v":""},{"$f":"IFERROR(ROUNDUP(SUM(Table3[[#This Row],[Actual W]]/VLOOKUP(AT12,roomnames[],4,0)),0),\"\")","v":""},{"$f":"IFERROR(ROUNDUP(SUM(Table3[[#This Row],[Actual H]]/VLOOKUP(AT12,roomnames[],5,0)),0),\"\")","v":""},{"$f":"(Table3[[#This Row],[Actual W]]*Table3[[#This Row],[Actual H]])/1000000","v":0},{"$f":"IFERROR(ROUNDUP(SUM(Table3[[#This Row],[Rectified]]/VLOOKUP(Table3[[#This Row],[Actual W]],roomnames[],5,0)),0),\"\")","v":""},{"$f":"0","v":0},{"$f":"0","v":0},{"$f":"_xlfn.ISFORMULA(Table3[[#This Row],[Qty Tiles]])","v":true},{"$f":"IF(Table3[[#This Row],[Formula Trap]]=TRUE,1,0)","v":1},{"$f":"0","v":0}]
["WALL TILING",{"$f":"CONCATENATE(\" \",G12)","v":" Wall Tiles"},{"$f":"SUM(roomnames[Wall Lab])","v":0},{"$f":"SUM(roomnames[Wall Supply in m2])","v":0},null,null,"Floor Tiles",null,null,null,null,null,{"$f":"CONCATENATE(roomnames[[#This Row],[Where]],\" - \",roomnames[[#This Row],[Type]])","v":"Ensuite - Feature Tiles"},"Ensuite","Feature Tiles",400,200,{"$f":"SUMIF(Table3[],roomnames[[#This Row],[Locations]],Table3[Qty Tiles])","v":0},{"$f":"IF(roomnames[[#This Row],[2nd Supplier]]=\"No\",$H$9,\"\")","v":26.95},{"$f":"IF(roomnames[[#This Row],[2nd Supplier]]=\"Yes\",$H$10,\"\")","v":""},{"$f":"IF(roomnames[[#This Row],[2nd Supplier]]=\"no\",      SUM((roomnames[[#This Row],[Wall Supply in m2]]+roomnames[[#This Row],[Floor suply in m2]]+roomnames[[#This Row],[Feat supply in m2]]+roomnames[[#This Row],[other supply in m2]])*roomnames[[#This Row],[1st S/Cost]]),\nIF(roomnames[[#This Row],[2nd Supplier]]=\"yes\",   0))","v":0},{"$f":"IF(roomnames[[#This Row],[2nd Supplier]]=\"Yes\",      SUM((roomnames[[#This Row],[Wall Supply in m2]]+roomnames[[#This Row],[Floor suply in m2]]+roomnames[[#This Row],[Feat supply in m2]]+roomnames[[#This Row],[other supply in m2]])*roomnames[[#This Row],[2nd S/Cost]]),\nIF(roomnames[[#This Row],[2nd Supplier]]=\"No\",   0))","v":0},{"$f":"IF(roomnames[[#This Row],[Type]]=$G$12,   SUMIF(Table3[],roomnames[[#This Row],[Locations]],Table3[Labour]),0)","v":0},{"$f":"IF(roomnames[[#This Row],[Type]]=$G$13,   SUMIF(Table3[],roomnames[[#This Row],[Locations]],Table3[Labour]),0)","v":0},{"$f":"IF(roomnames[[#This Row],[Type]]=$G$14,   SUMIF(Table3[],roomnames[[#This Row],[Locations]],Table3[Labour]),0)","v":0},{"$f":"IF(roomnames[[#This Row],[Type]]=$G$15,   SUMIF(Table3[],roomnames[[#This Row],[Locations]],Table3[Labour]),0)","v":0},null,{"$f":"IF(roomnames[[#This Row],[Type]]=$G$12,roomnames[[#This Row],[Count Tiles]],0)","v":0},{"$f":"IF(roomnames[[#This Row],[Type]]=$G$13,roomnames[[#This Row],[Count Tiles]],0)","v":0},{"$f":"IF(roomnames[[#This Row],[Type]]=$G$14,roomnames[[#This Row],[Count Tiles]],0)","v":0},{"$f":"IF(roomnames[[#This Row],[Type]]=$G$15,roomnames[[#This Row],[Count Tiles]],0)","v":0},{"$f":"IF(roomnames[[#This Row],[Wall tile qty]]>0,                   SUM(roomnames[[#This Row],[Count Tiles]]*                   ((roomnames[[#This Row],[Tile Width]]*roomnames[[#This Row],[Tile Height]])))            /1000000,0)","v":0},{"$f":"IF(roomnames[[#This Row],[Floor tile qty]]>0.001,SUM(roomnames[[#This Row],[Count Tiles]]*(roomnames[[#This Row],[Tile Width]]*roomnames[[#This Row],[Tile Height]]))/1000000,0)","v":0},{"$f":"IF(roomnames[[#This Row],[Fet tile qty]]>0.001,SUM(roomnames[[#This Row],[Count Tiles]]*(roomnames[[#This Row],[Tile Width]]*roomnames[[#This Row],[Tile Height]]))/1000000,)","v":0},{"$f":"IF(roomnames[[#This Row],[Other tile qty]]>0.001,SUM(roomnames[[#This Row],[Count Tiles]]*(roomnames[[#This Row],[Tile Width]]*roomnames[[#This Row],[Tile Height]]))/1000000,0)","v":0},null,null,{"$f":"IF(roomnames[[#This Row],[Porcl]]=\"yes\",roomnames[[#This Row],[Wall Lab]]+roomnames[[#This Row],[Floor Lab]]+roomnames[[#This Row],[Fet Lab]]+roomnames[[#This Row],[Othr Lab]]+roomnames[[#This Row],[\"-------\"]],0)","v":0},{"$f":"IF(roomnames[[#This Row],[EO Std]]=\"yes\",roomnames[[#This Row],[Wall Lab]]+roomnames[[#This Row],[Floor Lab]]+roomnames[[#This Row],[Fet Lab]]+roomnames[[#This Row],[Othr Lab]],0)","v":0},"No","No","No",null,null,null,null,null,null,null,null,null,null,{"$f":"IFERROR(SUM(Table3[[#This Row],[Tile Wide]]*Table3[[#This Row],[Tile High]]),\"\")","v":""},{"$f":"IFERROR(ROUNDUP(SUM(Table3[[#This Row],[Actual W]]/VLOOKUP(AT13,roomnames[],4,0)),0),\"\")","v":""},{"$f":"IFERROR(ROUNDUP(SUM(Table3[[#This Row],[Actual H]]/VLOOKUP(AT13,roomnames[],5,0)),0),\"\")","v":""},{"$f":"(Table3[[#This Row],[Actual W]]*Table3[[#This Row],[Actual H]])/1000000","v":0},{"$f":"IFERROR(ROUNDUP(SUM(Table3[[#This Row],[Rectified]]/VLOOKUP(Table3[[#This Row],[Actual W]],roomnames[],5,0)),0),\"\")","v":""},{"$f":"0","v":0},{"$f":"0","v":0},{"$f":"_xlfn.ISFORMULA(Table3[[#This Row],[Qty Tiles]])","v":true},{"$f":"IF(Table3[[#This Row],[Formula Trap]]=TRUE,1,0)","v":1},{"$f":"0","v":0}]
["FLOOR TILING WET AREA",{"$f":"CONCATENATE(\" \",G13)","v":" Floor Tiles"},{"$f":"SUM(roomnames[Floor Lab])","v":0},{"$f":"SUM(roomnames[Floor suply in m2])","v":0},null,null,"Feature Tiles",null,null,null,null,null,{"$f":"CONCATENATE(roomnames[[#This Row],[Where]],\" - \",roomnames[[#This Row],[Type]])","v":"Ensuite - Floor Tiles"},"Ensuite","Floor Tiles",300,300,{"$f":"SUMIF(Table3[],roomnames[[#This Row],[Locations]],Table3[Qty Tiles])","v":0},{"$f":"IF(roomnames[[#This Row],[2nd Supplier]]=\"No\",$H$9,\"\")","v":26.95},{"$f":"IF(roomnames[[#This Row],[2nd Supplier]]=\"Yes\",$H$10,\"\")","v":""},{"$f":"IF(roomnames[[#This Row],[2nd Supplier]]=\"no\",      SUM((roomnames[[#This Row],[Wall Supply in m2]]+roomnames[[#This Row],[Floor suply in m2]]+roomnames[[#This Row],[Feat supply in m2]]+roomnames[[#This Row],[other supply in m2]])*roomnames[[#This Row],[1st S/Cost]]),\nIF(roomnames[[#This Row],[2nd Supplier]]=\"yes\",   0))","v":0},{"$f":"IF(roomnames[[#This Row],[2nd Supplier]]=\"Yes\",      SUM((roomnames[[#This Row],[Wall Supply in m2]]+roomnames[[#This Row],[Floor suply in m2]]+roomnames[[#This Row],[Feat supply in m2]]+roomnames[[#This Row],[other supply in m2]])*roomnames[[#This Row],[2nd S/Cost]]),\nIF(roomnames[[#This Row],[2nd Supplier]]=\"No\",   0))","v":0},{"$f":"IF(roomnames[[#This Row],[Type]]=$G$12,   SUMIF(Table3[],roomnames[[#This Row],[Locations]],Table3[Labour]),0)","v":0},{"$f":"IF(roomnames[[#This Row],[Type]]=$G$13,   SUMIF(Table3[],roomnames[[#This Row],[Locations]],Table3[Labour]),0)","v":0},{"$f":"IF(roomnames[[#This Row],[Type]]=$G$14,   SUMIF(Table3[],roomnames[[#This Row],[Locations]],Table3[Labour]),0)","v":0},{"$f":"IF(roomnames[[#This Row],[Type]]=$G$15,   SUMIF(Table3[],roomnames[[#This Row],[Locations]],Table3[Labour]),0)","v":0},null,{"$f":"IF(roomnames[[#This Row],[Type]]=$G$12,roomnames[[#This Row],[Count Tiles]],0)","v":0},{"$f":"IF(roomnames[[#This Row],[Type]]=$G$13,roomnames[[#This Row],[Count Tiles]],0)","v":0},{"$f":"IF(roomnames[[#This Row],[Type]]=$G$14,roomnames[[#This Row],[Count Tiles]],0)","v":0},{"$f":"IF(roomnames[[#This Row],[Type]]=$G$15,roomnames[[#This Row],[Count Tiles]],0)","v":0},{"$f":"IF(roomnames[[#This Row],[Wall tile qty]]>0,                   SUM(roomnames[[#This Row],[Count Tiles]]*                   ((roomnames[[#This Row],[Tile Width]]*roomnames[[#This Row],[Tile Height]])))            /1000000,0)","v":0},{"$f":"IF(roomnames[[#This Row],[Floor tile qty]]>0.001,SUM(roomnames[[#This Row],[Count Tiles]]*(roomnames[[#This Row],[Tile Width]]*roomnames[[#This Row],[Tile Height]]))/1000000,0)","v":0},{"$f":"IF(roomnames[[#This Row],[Fet tile qty]]>0.001,SUM(roomnames[[#This Row],[Count Tiles]]*(roomnames[[#This Row],[Tile Width]]*roomnames[[#This Row],[Tile Height]]))/1000000,)","v":0},{"$f":"IF(roomnames[[#This Row],[Other tile qty]]>0.001,SUM(roomnames[[#This Row],[Count Tiles]]*(roomnames[[#This Row],[Tile Width]]*roomnames[[#This Row],[Tile Height]]))/1000000,0)","v":0},null,null,{"$f":"IF(roomnames[[#This Row],[Porcl]]=\"yes\",roomnames[[#This Row],[Wall Lab]]+roomnames[[#This Row],[Floor Lab]]+roomnames[[#This Row],[Fet Lab]]+roomnames[[#This Row],[Othr Lab]]+roomnames[[#This Row],[\"-------\"]],0)","v":0},{"$f":"IF(roomnames[[#This Row],[EO Std]]=\"yes\",roomnames[[#This Row],[Wall Lab]]+roomnames[[#This Row],[Floor Lab]]+roomnames[[#This Row],[Fet Lab]]+roomnames[[#This Row],[Othr Lab]],0)","v":0},"No","No","No",null,null,null,null,null,null,null,null,null,null,{"$f":"IFERROR(SUM(Table3[[#This Row],[Tile Wide]]*Table3[[#This Row],[Tile High]]),\"\")","v":""},{"$f":"IFERROR(ROUNDUP(SUM(Table3[[#This Row],[Actual W]]/VLOOKUP(AT14,roomnames[],4,0)),0),\"\")","v":""},{"$f":"IFERROR(ROUNDUP(SUM(Table3[[#This Row],[Actual H]]/VLOOKUP(AT14,roomnames[],5,0)),0),\"\")","v":""},{"$f":"(Table3[[#This Row],[Actual W]]*Table3[[#This Row],[Actual H]])/1000000","v":0},{"$f":"IFERROR(ROUNDUP(SUM(Table3[[#This Row],[Rectified]]/VLOOKUP(Table3[[#This Row],[Actual W]],roomnames[],5,0)),0),\"\")","v":""},{"$f":"0","v":0},{"$f":"0","v":0},{"$f":"_xlfn.ISFORMULA(Table3[[#This Row],[Qty Tiles]])","v":true},{"$f":"IF(Table3[[#This Row],[Formula Trap]]=TRUE,1,0)","v":1},{"$f":"0","v":0}]
["FLOOR SCREED WET AREA",{"$f":"CONCATENATE(\" \",G14)","v":" Feature Tiles"},{"$f":"SUM(roomnames[Fet Lab])","v":0},{"$f":"SUM(roomnames[Feat supply in m2])","v":0},null,null,"Feature 2",null,null,null,null,null,{"$f":"CONCATENATE(roomnames[[#This Row],[Where]],\" - \",roomnames[[#This Row],[Type]])","v":"Bathroom - Wall Tiles"},"Bathroom","Wall Tiles",400,200,{"$f":"SUMIF(Table3[],roomnames[[#This Row],[Locations]],Table3[Qty Tiles])","v":0},{"$f":"IF(roomnames[[#This Row],[2nd Supplier]]=\"No\",$H$9,\"\")","v":26.95},{"$f":"IF(roomnames[[#This Row],[2nd Supplier]]=\"Yes\",$H$10,\"\")","v":""},{"$f":"IF(roomnames[[#This Row],[2nd Supplier]]=\"no\",      SUM((roomnames[[#This Row],[Wall Supply in m2]]+roomnames[[#This Row],[Floor suply in m2]]+roomnames[[#This Row],[Feat supply in m2]]+roomnames[[#This Row],[other supply in m2]])*roomnames[[#This Row],[1st S/Cost]]),\nIF(roomnames[[#This Row],[2nd Supplier]]=\"yes\",   0))","v":0},{"$f":"IF(roomnames[[#This Row],[2nd Supplier]]=\"Yes\",      SUM((roomnames[[#This Row],[Wall Supply in m2]]+roomnames[[#This Row],[Floor suply in m2]]+roomnames[[#This Row],[Feat supply in m2]]+roomnames[[#This Row],[other supply in m2]])*roomnames[[#This Row],[2nd S/Cost]]),\nIF(roomnames[[#This Row],[2nd Supplier]]=\"No\",   0))","v":0},{"$f":"IF(roomnames[[#This Row],[Type]]=$G$12,   SUMIF(Table3[],roomnames[[#This Row],[Locations]],Table3[Labour]),0)","v":0},{"$f":"IF(roomnames[[#This Row],[Type]]=$G$13,   SUMIF(Table3[],roomnames[[#This Row],[Locations]],Table3[Labour]),0)","v":0},{"$f":"IF(roomnames[[#This Row],[Type]]=$G$14,   SUMIF(Table3[],roomnames[[#This Row],[Locations]],Table3[Labour]),0)","v":0},{"$f":"IF(roomnames[[#This Row],[Type]]=$G$15,   SUMIF(Table3[],roomnames[[#This Row],[Locations]],Table3[Labour]),0)","v":0},null,{"$f":"IF(roomnames[[#This Row],[Type]]=$G$12,roomnames[[#This Row],[Count Tiles]],0)","v":0},{"$f":"IF(roomnames[[#This Row],[Type]]=$G$13,roomnames[[#This Row],[Count Tiles]],0)","v":0},{"$f":"IF(roomnames[[#This Row],[Type]]=$G$14,roomnames[[#This Row],[Count Tiles]],0)","v":0},{"$f":"IF(roomnames[[#This Row],[Type]]=$G$15,roomnames[[#This Row],[Count Tiles]],0)","v":0},{"$f":"IF(roomnames[[#This Row],[Wall tile qty]]>0,                   SUM(roomnames[[#This Row],[Count Tiles]]*                   ((roomnames[[#This Row],[Tile Width]]*roomnames[[#This Row],[Tile Height]])))            /1000000,0)","v":0},{"$f":"IF(roomnames[[#This Row],[Floor tile qty]]>0.001,SUM(roomnames[[#This Row],[Count Tiles]]*(roomnames[[#This Row],[Tile Width]]*roomnames[[#This Row],[Tile Height]]))/1000000,0)","v":0},{"$f":"IF(roomnames[[#This Row],[Fet tile qty]]>0.001,SUM(roomnames[[#This Row],[Count Tiles]]*(roomnames[[#This Row],[Tile Width]]*roomnames[[#This Row],[Tile Height]]))/1000000,)","v":0},{"$f":"IF(roomnames[[#This Row],[Other tile qty]]>0.001,SUM(roomnames[[#This Row],[Count Tiles]]*(roomnames[[#This Row],[Tile Width]]*roomnames[[#This Row],[Tile Height]]))/1000000,0)","v":0},null,null,{"$f":"IF(roomnames[[#This Row],[Porcl]]=\"yes\",roomnames[[#This Row],[Wall Lab]]+roomnames[[#This Row],[Floor Lab]]+roomnames[[#This Row],[Fet Lab]]+roomnames[[#This Row],[Othr Lab]]+roomnames[[#This Row],[\"-------\"]],0)","v":0},{"$f":"IF(roomnames[[#This Row],[EO Std]]=\"yes\",roomnames[[#This Row],[Wall Lab]]+roomnames[[#This Row],[Floor Lab]]+roomnames[[#This Row],[Fet Lab]]+roomnames[[#This Row],[Othr Lab]],0)","v":0},"No","No","No",null,null,null,null,null,null,null,null,null,null,{"$f":"IFERROR(SUM(Table3[[#This Row],[Tile Wide]]*Table3[[#This Row],[Tile High]]),\"\")","v":""},{"$f":"IFERROR(ROUNDUP(SUM(Table3[[#This Row],[Actual W]]/VLOOKUP(AT15,roomnames[],4,0)),0),\"\")","v":""},{"$f":"IFERROR(ROUNDUP(SUM(Table3[[#This Row],[Actual H]]/VLOOKUP(AT15,roomnames[],5,0)),0),\"\")","v":""},{"$f":"(Table3[[#This Row],[Actual W]]*Table3[[#This Row],[Actual H]])/1000000","v":0},{"$f":"IFERROR(ROUNDUP(SUM(Table3[[#This Row],[Rectified]]/VLOOKUP(Table3[[#This Row],[Actual W]],roomnames[],5,0)),0),\"\")","v":""},{"$f":"0","v":0},{"$f":"0","v":0},{"$f":"_xlfn.ISFORMULA(Table3[[#This Row],[Qty Tiles]])","v":true},{"$f":"IF(Table3[[#This Row],[Formula Trap]]=TRUE,1,0)","v":1},{"$f":"0","v":0}]
[{"$f":"C18","v":""},{"$f":"CONCATENATE(\" \",G15)","v":" Feature 2"},{"$f":"SUM(roomnames[Othr Lab])","v":0},{"$f":"SUM(roomnames[other supply in m2])","v":0},null,null,"Grout 1.5kg",{"$f":"IF(Tiling!$G$9=Lists!$V$5,ROUNDUP(Tiling!$D$17,1)/3+2,IF(Tiling!$G$9=Lists!$V$6,ROUNDUP(Tiling!$D$17,1)/3+2,0))","v":2},"COLOURED GROUT","1.5kg",null,null,{"$f":"CONCATENATE(roomnames[[#This Row],[Where]],\" - \",roomnames[[#This Row],[Type]])","v":"Bathroom - Feature Tiles"},"Bathroom","Feature Tiles",400,200,{"$f":"SUMIF(Table3[],roomnames[[#This Row],[Locations]],Table3[Qty Tiles])","v":0},{"$f":"IF(roomnames[[#This Row],[2nd Supplier]]=\"No\",$H$9,\"\")","v":26.95},{"$f":"IF(roomnames[[#This Row],[2nd Supplier]]=\"Yes\",$H$10,\"\")","v":""},{"$f":"IF(roomnames[[#This Row],[2nd Supplier]]=\"no\",      SUM((roomnames[[#This Row],[Wall Supply in m2]]+roomnames[[#This Row],[Floor suply in m2]]+roomnames[[#This Row],[Feat supply in m2]]+roomnames[[#This Row],[other supply in m2]])*roomnames[[#This Row],[1st S/Cost]]),\nIF(roomnames[[#This Row],[2nd Supplier]]=\"yes\",   0))","v":0},{"$f":"IF(roomnames[[#This Row],[2nd Supplier]]=\"Yes\",      SUM((roomnames[[#This Row],[Wall Supply in m2]]+roomnames[[#This Row],[Floor suply in m2]]+roomnames[[#This Row],[Feat supply in m2]]+roomnames[[#This Row],[other supply in m2]])*roomnames[[#This Row],[2nd S/Cost]]),\nIF(roomnames[[#This Row],[2nd Supplier]]=\"No\",   0))","v":0},{"$f":"IF(roomnames[[#This Row],[Type]]=$G$12,   SUMIF(Table3[],roomnames[[#This Row],[Locations]],Table3[Labour]),0)","v":0},{"$f":"IF(roomnames[[#This Row],[Type]]=$G$13,   SUMIF(Table3[],roomnames[[#This Row],[Locations]],Table3[Labour]),0)","v":0},{"$f":"IF(roomnames[[#This Row],[Type]]=$G$14,   SUMIF(Table3[],roomnames[[#This Row],[Locations]],Table3[Labour]),0)","v":0},{"$f":"IF(roomnames[[#This Row],[Type]]=$G$15,   SUMIF(Table3[],roomnames[[#This Row],[Locations]],Table3[Labour]),0)","v":0},null,{"$f":"IF(roomnames[[#This Row],[Type]]=$G$12,roomnames[[#This Row],[Count Tiles]],0)","v":0},{"$f":"IF(roomnames[[#This Row],[Type]]=$G$13,roomnames[[#This Row],[Count Tiles]],0)","v":0},{"$f":"IF(roomnames[[#This Row],[Type]]=$G$14,roomnames[[#This Row],[Count Tiles]],0)","v":0},{"$f":"IF(roomnames[[#This Row],[Type]]=$G$15,roomnames[[#This Row],[Count Tiles]],0)","v":0},{"$f":"IF(roomnames[[#This Row],[Wall tile qty]]>0,                   SUM(roomnames[[#This Row],[Count Tiles]]*                   ((roomnames[[#This Row],[Tile Width]]*roomnames[[#This Row],[Tile Height]])))            /1000000,0)","v":0},{"$f":"IF(roomnames[[#This Row],[Floor tile qty]]>0.001,SUM(roomnames[[#This Row],[Count Tiles]]*(roomnames[[#This Row],[Tile Width]]*roomnames[[#This Row],[Tile Height]]))/1000000,0)","v":0},{"$f":"IF(roomnames[[#This Row],[Fet tile qty]]>0.001,SUM(roomnames[[#This Row],[Count Tiles]]*(roomnames[[#This Row],[Tile Width]]*roomnames[[#This Row],[Tile Height]]))/1000000,)","v":0},{"$f":"IF(roomnames[[#This Row],[Other tile qty]]>0.001,SUM(roomnames[[#This Row],[Count Tiles]]*(roomnames[[#This Row],[Tile Width]]*roomnames[[#This Row],[Tile Height]]))/1000000,0)","v":0},null,null,{"$f":"IF(roomnames[[#This Row],[Porcl]]=\"yes\",roomnames[[#This Row],[Wall Lab]]+roomnames[[#This Row],[Floor Lab]]+roomnames[[#This Row],[Fet Lab]]+roomnames[[#This Row],[Othr Lab]]+roomnames[[#This Row],[\"-------\"]],0)","v":0},{"$f":"IF(roomnames[[#This Row],[EO Std]]=\"yes\",roomnames[[#This Row],[Wall Lab]]+roomnames[[#This Row],[Floor Lab]]+roomnames[[#This Row],[Fet Lab]]+roomnames[[#This Row],[Othr Lab]],0)","v":0},"No","No","No",null,null,null,null,null,null,null,null,null,null,{"$f":"IFERROR(SUM(Table3[[#This Row],[Tile Wide]]*Table3[[#This Row],[Tile High]]),\"\")","v":""},{"$f":"IFERROR(ROUNDUP(SUM(Table3[[#This Row],[Actual W]]/VLOOKUP(AT16,roomnames[],4,0)),0),\"\")","v":""},{"$f":"IFERROR(ROUNDUP(SUM(Table3[[#This Row],[Actual H]]/VLOOKUP(AT16,roomnames[],5,0)),0),\"\")","v":""},{"$f":"(Table3[[#This Row],[Actual W]]*Table3[[#This Row],[Actual H]])/1000000","v":0},{"$f":"IFERROR(ROUNDUP(SUM(Table3[[#This Row],[Rectified]]/VLOOKUP(Table3[[#This Row],[Actual W]],roomnames[],5,0)),0),\"\")","v":""},{"$f":"0","v":0},{"$f":"0","v":0},{"$f":"_xlfn.ISFORMULA(Table3[[#This Row],[Qty Tiles]])","v":true},{"$f":"IF(Table3[[#This Row],[Formula Trap]]=TRUE,1,0)","v":1},{"$f":"0","v":0}]
[{"$f":"C19","v":0},"Total",{"$f":"SUM(C13:C16)","v":0},{"$f":"SUM(D13:D16)","v":0},null,null,"Grout 2.0kg",{"$f":"IF($G$9=Lists!$V$9,ROUNDUP($D$17,1)/4+2,IF($G$9=Lists!$V$10,ROUNDUP($D$17,1)/4+2,0))","v":0},"COLOURED GROUT","2.0kg",null,null,{"$f":"CONCATENATE(roomnames[[#This Row],[Where]],\" - \",roomnames[[#This Row],[Type]])","v":"Bathroom - Floor Tiles"},"Bathroom","Floor Tiles",300,300,{"$f":"SUMIF(Table3[],roomnames[[#This Row],[Locations]],Table3[Qty Tiles])","v":0},{"$f":"IF(roomnames[[#This Row],[2nd Supplier]]=\"No\",$H$9,\"\")","v":26.95},{"$f":"IF(roomnames[[#This Row],[2nd Supplier]]=\"Yes\",$H$10,\"\")","v":""},{"$f":"IF(roomnames[[#This Row],[2nd Supplier]]=\"no\",      SUM((roomnames[[#This Row],[Wall Supply in m2]]+roomnames[[#This Row],[Floor suply in m2]]+roomnames[[#This Row],[Feat supply in m2]]+roomnames[[#This Row],[other supply in m2]])*roomnames[[#This Row],[1st S/Cost]]),\nIF(roomnames[[#This Row],[2nd Supplier]]=\"yes\",   0))","v":0},{"$f":"IF(roomnames[[#This Row],[2nd Supplier]]=\"Yes\",      SUM((roomnames[[#This Row],[Wall Supply in m2]]+roomnames[[#This Row],[Floor suply in m2]]+roomnames[[#This Row],[Feat supply in m2]]+roomnames[[#This Row],[other supply in m2]])*roomnames[[#This Row],[2nd S/Cost]]),\nIF(roomnames[[#This Row],[2nd Supplier]]=\"No\",   0))","v":0},{"$f":"IF(roomnames[[#This Row],[Type]]=$G$12,   SUMIF(Table3[],roomnames[[#This Row],[Locations]],Table3[Labour]),0)","v":0},{"$f":"IF(roomnames[[#This Row],[Type]]=$G$13,   SUMIF(Table3[],roomnames[[#This Row],[Locations]],Table3[Labour]),0)","v":0},{"$f":"IF(roomnames[[#This Row],[Type]]=$G$14,   SUMIF(Table3[],roomnames[[#This Row],[Locations]],Table3[Labour]),0)","v":0},{"$f":"IF(roomnames[[#This Row],[Type]]=$G$15,   SUMIF(Table3[],roomnames[[#This Row],[Locations]],Table3[Labour]),0)","v":0},null,{"$f":"IF(roomnames[[#This Row],[Type]]=$G$12,roomnames[[#This Row],[Count Tiles]],0)","v":0},{"$f":"IF(roomnames[[#This Row],[Type]]=$G$13,roomnames[[#This Row],[Count Tiles]],0)","v":0},{"$f":"IF(roomnames[[#This Row],[Type]]=$G$14,roomnames[[#This Row],[Count Tiles]],0)","v":0},{"$f":"IF(roomnames[[#This Row],[Type]]=$G$15,roomnames[[#This Row],[Count Tiles]],0)","v":0},{"$f":"IF(roomnames[[#This Row],[Wall tile qty]]>0,                   SUM(roomnames[[#This Row],[Count Tiles]]*                   ((roomnames[[#This Row],[Tile Width]]*roomnames[[#This Row],[Tile Height]])))            /1000000,0)","v":0},{"$f":"IF(roomnames[[#This Row],[Floor tile qty]]>0.001,SUM(roomnames[[#This Row],[Count Tiles]]*(roomnames[[#This Row],[Tile Width]]*roomnames[[#This Row],[Tile Height]]))/1000000,0)","v":0},{"$f":"IF(roomnames[[#This Row],[Fet tile qty]]>0.001,SUM(roomnames[[#This Row],[Count Tiles]]*(roomnames[[#This Row],[Tile Width]]*roomnames[[#This Row],[Tile Height]]))/1000000,)","v":0},{"$f":"IF(roomnames[[#This Row],[Other tile qty]]>0.001,SUM(roomnames[[#This Row],[Count Tiles]]*(roomnames[[#This Row],[Tile Width]]*roomnames[[#This Row],[Tile Height]]))/1000000,0)","v":0},null,null,{"$f":"IF(roomnames[[#This Row],[Porcl]]=\"yes\",roomnames[[#This Row],[Wall Lab]]+roomnames[[#This Row],[Floor Lab]]+roomnames[[#This Row],[Fet Lab]]+roomnames[[#This Row],[Othr Lab]]+roomnames[[#This Row],[\"-------\"]],0)","v":0},{"$f":"IF(roomnames[[#This Row],[EO Std]]=\"yes\",roomnames[[#This Row],[Wall Lab]]+roomnames[[#This Row],[Floor Lab]]+roomnames[[#This Row],[Fet Lab]]+roomnames[[#This Row],[Othr Lab]],0)","v":0},"No","No","No",null,null,null,null,null,null,null,null,null,null,{"$f":"IFERROR(SUM(Table3[[#This Row],[Tile Wide]]*Table3[[#This Row],[Tile High]]),\"\")","v":""},{"$f":"IFERROR(ROUNDUP(SUM(Table3[[#This Row],[Actual W]]/VLOOKUP(AT17,roomnames[],4,0)),0),\"\")","v":""},{"$f":"IFERROR(ROUNDUP(SUM(Table3[[#This Row],[Actual H]]/VLOOKUP(AT17,roomnames[],5,0)),0),\"\")","v":""},{"$f":"(Table3[[#This Row],[Actual W]]*Table3[[#This Row],[Actual H]])/1000000","v":0},{"$f":"IFERROR(ROUNDUP(SUM(Table3[[#This Row],[Rectified]]/VLOOKUP(Table3[[#This Row],[Actual W]],roomnames[],5,0)),0),\"\")","v":""},{"$f":"0","v":0},{"$f":"0","v":0},{"$f":"_xlfn.ISFORMULA(Table3[[#This Row],[Qty Tiles]])","v":true},{"$f":"IF(Table3[[#This Row],[Formula Trap]]=TRUE,1,0)","v":1},{"$f":"0","v":0}]
["WALL & FLOOR TILES AS ATTACHED","Total Value 1st S",{"$f":"IF(SUM(roomnames[1st S/Total])>0,SUM(roomnames[1st S/Total]),\"\")","v":""},null,null,null,"Grout 2.5kg",{"$f":"IF(G9=Lists!V10,ROUNDUP(D17,1)/5+2,0)","v":0},null,null,null,null,{"$f":"CONCATENATE(roomnames[[#This Row],[Where]],\" - \",roomnames[[#This Row],[Type]])","v":"Kitchen - Wall Tiles"},"Kitchen","Wall Tiles",400,200,{"$f":"SUMIF(Table3[],roomnames[[#This Row],[Locations]],Table3[Qty Tiles])","v":0},26.95,{"$f":"IF(roomnames[[#This Row],[2nd Supplier]]=\"Yes\",$H$10,\"\")","v":""},{"$f":"IF(roomnames[[#This Row],[2nd Supplier]]=\"no\",      SUM((roomnames[[#This Row],[Wall Supply in m2]]+roomnames[[#This Row],[Floor suply in m2]]+roomnames[[#This Row],[Feat supply in m2]]+roomnames[[#This Row],[other supply in m2]])*roomnames[[#This Row],[1st S/Cost]]),\nIF(roomnames[[#This Row],[2nd Supplier]]=\"yes\",   0))","v":0},{"$f":"IF(roomnames[[#This Row],[2nd Supplier]]=\"Yes\",      SUM((roomnames[[#This Row],[Wall Supply in m2]]+roomnames[[#This Row],[Floor suply in m2]]+roomnames[[#This Row],[Feat supply in m2]]+roomnames[[#This Row],[other supply in m2]])*roomnames[[#This Row],[2nd S/Cost]]),\nIF(roomnames[[#This Row],[2nd Supplier]]=\"No\",   0))","v":0},{"$f":"IF(roomnames[[#This Row],[Type]]=$G$12,   SUMIF(Table3[],roomnames[[#This Row],[Locations]],Table3[Labour]),0)","v":0},{"$f":"IF(roomnames[[#This Row],[Type]]=$G$13,   SUMIF(Table3[],roomnames[[#This Row],[Locations]],Table3[Labour]),0)","v":0},{"$f":"IF(roomnames[[#This Row],[Type]]=$G$14,   SUMIF(Table3[],roomnames[[#This Row],[Locations]],Table3[Labour]),0)","v":0},{"$f":"IF(roomnames[[#This Row],[Type]]=$G$15,   SUMIF(Table3[],roomnames[[#This Row],[Locations]],Table3[Labour]),0)","v":0},null,{"$f":"IF(roomnames[[#This Row],[Type]]=$G$12,roomnames[[#This Row],[Count Tiles]],0)","v":0},{"$f":"IF(roomnames[[#This Row],[Type]]=$G$13,roomnames[[#This Row],[Count Tiles]],0)","v":0},{"$f":"IF(roomnames[[#This Row],[Type]]=$G$14,roomnames[[#This Row],[Count Tiles]],0)","v":0},{"$f":"IF(roomnames[[#This Row],[Type]]=$G$15,roomnames[[#This Row],[Count Tiles]],0)","v":0},{"$f":"IF(roomnames[[#This Row],[Wall tile qty]]>0,                   SUM(roomnames[[#This Row],[Count Tiles]]*                   ((roomnames[[#This Row],[Tile Width]]*roomnames[[#This Row],[Tile Height]])))            /1000000,0)","v":0},{"$f":"IF(roomnames[[#This Row],[Floor tile qty]]>0.001,SUM(roomnames[[#This Row],[Count Tiles]]*(roomnames[[#This Row],[Tile Width]]*roomnames[[#This Row],[Tile Height]]))/1000000,0)","v":0},{"$f":"IF(roomnames[[#This Row],[Fet tile qty]]>0.001,SUM(roomnames[[#This Row],[Count Tiles]]*(roomnames[[#This Row],[Tile Width]]*roomnames[[#This Row],[Tile Height]]))/1000000,)","v":0},{"$f":"IF(roomnames[[#This Row],[Other tile qty]]>0.001,SUM(roomnames[[#This Row],[Count Tiles]]*(roomnames[[#This Row],[Tile Width]]*roomnames[[#This Row],[Tile Height]]))/1000000,0)","v":0},null,null,{"$f":"IF(roomnames[[#This Row],[Porcl]]=\"yes\",roomnames[[#This Row],[Wall Lab]]+roomnames[[#This Row],[Floor Lab]]+roomnames[[#This Row],[Fet Lab]]+roomnames[[#This Row],[Othr Lab]]+roomnames[[#This Row],[\"-------\"]],0)","v":0},{"$f":"IF(roomnames[[#This Row],[EO Std]]=\"yes\",roomnames[[#This Row],[Wall Lab]]+roomnames[[#This Row],[Floor Lab]]+roomnames[[#This Row],[Fet Lab]]+roomnames[[#This Row],[Othr Lab]],0)","v":0},"No","No","No",null,null,null,null,null,null,null,null,null,null,{"$f":"IFERROR(SUM(Table3[[#This Row],[Tile Wide]]*Table3[[#This Row],[Tile High]]),\"\")","v":""},{"$f":"IFERROR(ROUNDUP(SUM(Table3[[#This Row],[Actual W]]/VLOOKUP(AT18,roomnames[],4,0)),0),\"\")","v":""},{"$f":"IFERROR(ROUNDUP(SUM(Table3[[#This Row],[Actual H]]/VLOOKUP(AT18,roomnames[],5,0)),0),\"\")","v":""},{"$f":"(Table3[[#This Row],[Actual W]]*Table3[[#This Row],[Actual H]])/1000000","v":0},{"$f":"IFERROR(ROUNDUP(SUM(Table3[[#This Row],[Rectified]]/VLOOKUP(Table3[[#This Row],[Actual W]],roomnames[],5,0)),0),\"\")","v":""},{"$f":"0","v":0},{"$f":"0","v":0},{"$f":"_xlfn.ISFORMULA(Table3[[#This Row],[Qty Tiles]])","v":true},{"$f":"IF(Table3[[#This Row],[Formula Trap]]=TRUE,1,0)","v":1},{"$f":"0","v":0}]
["*CAD02","Total Value 2nd S",{"$f":"SUM(roomnames[2nd S/Total])","v":0},null,null,null,"Grout 5.0kg",{"$f":"IF($G$9=Lists!$V$8,ROUNDUP($D$17,1)/10+2,0)","v":0},"COLOURED GROUT","5.0kg",null,null,{"$f":"CONCATENATE(roomnames[[#This Row],[Where]],\" - \",roomnames[[#This Row],[Type]])","v":"Laundry - Wall Tiles"},"Laundry","Wall Tiles",400,200,{"$f":"SUMIF(Table3[],roomnames[[#This Row],[Locations]],Table3[Qty Tiles])","v":0},26.95,{"$f":"IF(roomnames[[#This Row],[2nd Supplier]]=\"Yes\",$H$10,\"\")","v":""},{"$f":"IF(roomnames[[#This Row],[2nd Supplier]]=\"no\",      SUM((roomnames[[#This Row],[Wall Supply in m2]]+roomnames[[#This Row],[Floor suply in m2]]+roomnames[[#This Row],[Feat supply in m2]]+roomnames[[#This Row],[other supply in m2]])*roomnames[[#This Row],[1st S/Cost]]),\nIF(roomnames[[#This Row],[2nd Supplier]]=\"yes\",   0))","v":0},{"$f":"IF(roomnames[[#This Row],[2nd Supplier]]=\"Yes\",      SUM((roomnames[[#This Row],[Wall Supply in m2]]+roomnames[[#This Row],[Floor suply in m2]]+roomnames[[#This Row],[Feat supply in m2]]+roomnames[[#This Row],[other supply in m2]])*roomnames[[#This Row],[2nd S/Cost]]),\nIF(roomnames[[#This Row],[2nd Supplier]]=\"No\",   0))","v":0},{"$f":"IF(roomnames[[#This Row],[Type]]=$G$12,   SUMIF(Table3[],roomnames[[#This Row],[Locations]],Table3[Labour]),0)","v":0},{"$f":"IF(roomnames[[#This Row],[Type]]=$G$13,   SUMIF(Table3[],roomnames[[#This Row],[Locations]],Table3[Labour]),0)","v":0},{"$f":"IF(roomnames[[#This Row],[Type]]=$G$14,   SUMIF(Table3[],roomnames[[#This Row],[Locations]],Table3[Labour]),0)","v":0},{"$f":"IF(roomnames[[#This Row],[Type]]=$G$15,   SUMIF(Table3[],roomnames[[#This Row],[Locations]],Table3[Labour]),0)","v":0},null,{"$f":"IF(roomnames[[#This Row],[Type]]=$G$12,roomnames[[#This Row],[Count Tiles]],0)","v":0},{"$f":"IF(roomnames[[#This Row],[Type]]=$G$13,roomnames[[#This Row],[Count Tiles]],0)","v":0},{"$f":"IF(roomnames[[#This Row],[Type]]=$G$14,roomnames[[#This Row],[Count Tiles]],0)","v":0},{"$f":"IF(roomnames[[#This Row],[Type]]=$G$15,roomnames[[#This Row],[Count Tiles]],0)","v":0},{"$f":"IF(roomnames[[#This Row],[Wall tile qty]]>0,                   SUM(roomnames[[#This Row],[Count Tiles]]*                   ((roomnames[[#This Row],[Tile Width]]*roomnames[[#This Row],[Tile Height]])))            /1000000,0)","v":0},{"$f":"IF(roomnames[[#This Row],[Floor tile qty]]>0.001,SUM(roomnames[[#This Row],[Count Tiles]]*(roomnames[[#This Row],[Tile Width]]*roomnames[[#This Row],[Tile Height]]))/1000000,0)","v":0},{"$f":"IF(roomnames[[#This Row],[Fet tile qty]]>0.001,SUM(roomnames[[#This Row],[Count Tiles]]*(roomnames[[#This Row],[Tile Width]]*roomnames[[#This Row],[Tile Height]]))/1000000,)","v":0},{"$f":"IF(roomnames[[#This Row],[Other tile qty]]>0.001,SUM(roomnames[[#This Row],[Count Tiles]]*(roomnames[[#This Row],[Tile Width]]*roomnames[[#This Row],[Tile Height]]))/1000000,0)","v":0},null,null,{"$f":"IF(roomnames[[#This Row],[Porcl]]=\"yes\",roomnames[[#This Row],[Wall Lab]]+roomnames[[#This Row],[Floor Lab]]+roomnames[[#This Row],[Fet Lab]]+roomnames[[#This Row],[Othr Lab]]+roomnames[[#This Row],[\"-------\"]],0)","v":0},{"$f":"IF(roomnames[[#This Row],[EO Std]]=\"yes\",roomnames[[#This Row],[Wall Lab]]+roomnames[[#This Row],[Floor Lab]]+roomnames[[#This Row],[Fet Lab]]+roomnames[[#This Row],[Othr Lab]],0)","v":0},"No","No","No",null,null,null,null,null,null,null,null,null,null,{"$f":"IFERROR(SUM(Table3[[#This Row],[Tile Wide]]*Table3[[#This Row],[Tile High]]),\"\")","v":""},{"$f":"IFERROR(ROUNDUP(SUM(Table3[[#This Row],[Actual W]]/VLOOKUP(AT19,roomnames[],4,0)),0),\"\")","v":""},{"$f":"IFERROR(ROUNDUP(SUM(Table3[[#This Row],[Actual H]]/VLOOKUP(AT19,roomnames[],5,0)),0),\"\")","v":""},{"$f":"(Table3[[#This Row],[Actual W]]*Table3[[#This Row],[Actual H]])/1000000","v":0},{"$f":"IFERROR(ROUNDUP(SUM(Table3[[#This Row],[Rectified]]/VLOOKUP(Table3[[#This Row],[Actual W]],roomnames[],5,0)),0),\"\")","v":""},{"$f":"0","v":0},{"$f":"0","v":0},{"$f":"_xlfn.ISFORMULA(Table3[[#This Row],[Qty Tiles]])","v":true},{"$f":"IF(Table3[[#This Row],[Formula Trap]]=TRUE,1,0)","v":1},{"$f":"0","v":0}]
[null,null,null,null,null,null,"ULTRAFLEX",{"$f":"SUM(ROUNDUP(SUM(D17/7),0)+1)","v":1},"ULTRAFLEX","20kg",null,null,{"$f":"CONCATENATE(roomnames[[#This Row],[Where]],\" - \",roomnames[[#This Row],[Type]])","v":"Laundry - Floor Tiles"},"Laundry","Floor Tiles",300,300,{"$f":"SUMIF(Table3[],roomnames[[#This Row],[Locations]],Table3[Qty Tiles])","v":0},{"$f":"IF(roomnames[[#This Row],[2nd Supplier]]=\"No\",$H$9,\"\")","v":26.95},{"$f":"IF(roomnames[[#This Row],[2nd Supplier]]=\"Yes\",$H$10,\"\")","v":""},{"$f":"IF(roomnames[[#This Row],[2nd Supplier]]=\"no\",      SUM((roomnames[[#This Row],[Wall Supply in m2]]+roomnames[[#This Row],[Floor suply in m2]]+roomnames[[#This Row],[Feat supply in m2]]+roomnames[[#This Row],[other supply in m2]])*roomnames[[#This Row],[1st S/Cost]]),\nIF(roomnames[[#This Row],[2nd Supplier]]=\"yes\",   0))","v":0},{"$f":"IF(roomnames[[#This Row],[2nd Supplier]]=\"Yes\",      SUM((roomnames[[#This Row],[Wall Supply in m2]]+roomnames[[#This Row],[Floor suply in m2]]+roomnames[[#This Row],[Feat supply in m2]]+roomnames[[#This Row],[other supply in m2]])*roomnames[[#This Row],[2nd S/Cost]]),\nIF(roomnames[[#This Row],[2nd Supplier]]=\"No\",   0))","v":0},{"$f":"IF(roomnames[[#This Row],[Type]]=$G$12,   SUMIF(Table3[],roomnames[[#This Row],[Locations]],Table3[Labour]),0)","v":0},{"$f":"IF(roomnames[[#This Row],[Type]]=$G$13,   SUMIF(Table3[],roomnames[[#This Row],[Locations]],Table3[Labour]),0)","v":0},{"$f":"IF(roomnames[[#This Row],[Type]]=$G$14,   SUMIF(Table3[],roomnames[[#This Row],[Locations]],Table3[Labour]),0)","v":0},{"$f":"IF(roomnames[[#This Row],[Type]]=$G$15,   SUMIF(Table3[],roomnames[[#This Row],[Locations]],Table3[Labour]),0)","v":0},null,{"$f":"IF(roomnames[[#This Row],[Type]]=$G$12,roomnames[[#This Row],[Count Tiles]],0)","v":0},{"$f":"IF(roomnames[[#This Row],[Type]]=$G$13,roomnames[[#This Row],[Count Tiles]],0)","v":0},{"$f":"IF(roomnames[[#This Row],[Type]]=$G$14,roomnames[[#This Row],[Count Tiles]],0)","v":0},{"$f":"IF(roomnames[[#This Row],[Type]]=$G$15,roomnames[[#This Row],[Count Tiles]],0)","v":0},{"$f":"IF(roomnames[[#This Row],[Wall tile qty]]>0,                   SUM(roomnames[[#This Row],[Count Tiles]]*                   ((roomnames[[#This Row],[Tile Width]]*roomnames[[#This Row],[Tile Height]])))            /1000000,0)","v":0},{"$f":"IF(roomnames[[#This Row],[Floor tile qty]]>0.001,SUM(roomnames[[#This Row],[Count Tiles]]*(roomnames[[#This Row],[Tile Width]]*roomnames[[#This Row],[Tile Height]]))/1000000,0)","v":0},{"$f":"IF(roomnames[[#This Row],[Fet tile qty]]>0.001,SUM(roomnames[[#This Row],[Count Tiles]]*(roomnames[[#This Row],[Tile Width]]*roomnames[[#This Row],[Tile Height]]))/1000000,)","v":0},{"$f":"IF(roomnames[[#This Row],[Other tile qty]]>0.001,SUM(roomnames[[#This Row],[Count Tiles]]*(roomnames[[#This Row],[Tile Width]]*roomnames[[#This Row],[Tile Height]]))/1000000,0)","v":0},null,null,{"$f":"IF(roomnames[[#This Row],[Porcl]]=\"yes\",roomnames[[#This Row],[Wall Lab]]+roomnames[[#This Row],[Floor Lab]]+roomnames[[#This Row],[Fet Lab]]+roomnames[[#This Row],[Othr Lab]]+roomnames[[#This Row],[\"-------\"]],0)","v":0},{"$f":"IF(roomnames[[#This Row],[EO Std]]=\"yes\",roomnames[[#This Row],[Wall Lab]]+roomnames[[#This Row],[Floor Lab]]+roomnames[[#This Row],[Fet Lab]]+roomnames[[#This Row],[Othr Lab]],0)","v":0},"No","No","No",null,null,null,null,null,null,null,null,null,null,{"$f":"IFERROR(SUM(Table3[[#This Row],[Tile Wide]]*Table3[[#This Row],[Tile High]]),\"\")","v":""},{"$f":"IFERROR(ROUNDUP(SUM(Table3[[#This Row],[Actual W]]/VLOOKUP(AT20,roomnames[],4,0)),0),\"\")","v":""},{"$f":"IFERROR(ROUNDUP(SUM(Table3[[#This Row],[Actual H]]/VLOOKUP(AT20,roomnames[],5,0)),0),\"\")","v":""},{"$f":"(Table3[[#This Row],[Actual W]]*Table3[[#This Row],[Actual H]])/1000000","v":0},{"$f":"IFERROR(ROUNDUP(SUM(Table3[[#This Row],[Rectified]]/VLOOKUP(Table3[[#This Row],[Actual W]],roomnames[],5,0)),0),\"\")","v":""},{"$f":"0","v":0},{"$f":"0","v":0},{"$f":"_xlfn.ISFORMULA(Table3[[#This Row],[Qty Tiles]])","v":true},{"$f":"IF(Table3[[#This Row],[Formula Trap]]=TRUE,1,0)","v":1},{"$f":"0","v":0}]
["E/O CUTTING PORCELAIN TILES","EO Porc",{"$f":"SUM(roomnames[Porc m2])","v":0},null,null,null,null,"each",null,null,null,null,{"$f":"CONCATENATE(roomnames[[#This Row],[Where]],\" - \",roomnames[[#This Row],[Type]])","v":"WC - Wall Tiles"},"WC","Wall Tiles",400,200,{"$f":"SUMIF(Table3[],roomnames[[#This Row],[Locations]],Table3[Qty Tiles])","v":0},{"$f":"IF(roomnames[[#This Row],[2nd Supplier]]=\"No\",$H$9,\"\")","v":26.95},{"$f":"IF(roomnames[[#This Row],[2nd Supplier]]=\"Yes\",$H$10,\"\")","v":""},{"$f":"IF(roomnames[[#This Row],[2nd Supplier]]=\"no\",      SUM((roomnames[[#This Row],[Wall Supply in m2]]+roomnames[[#This Row],[Floor suply in m2]]+roomnames[[#This Row],[Feat supply in m2]]+roomnames[[#This Row],[other supply in m2]])*roomnames[[#This Row],[1st S/Cost]]),\nIF(roomnames[[#This Row],[2nd Supplier]]=\"yes\",   0))","v":0},{"$f":"IF(roomnames[[#This Row],[2nd Supplier]]=\"Yes\",      SUM((roomnames[[#This Row],[Wall Supply in m2]]+roomnames[[#This Row],[Floor suply in m2]]+roomnames[[#This Row],[Feat supply in m2]]+roomnames[[#This Row],[other supply in m2]])*roomnames[[#This Row],[2nd S/Cost]]),\nIF(roomnames[[#This Row],[2nd Supplier]]=\"No\",   0))","v":0},{"$f":"IF(roomnames[[#This Row],[Type]]=$G$12,   SUMIF(Table3[],roomnames[[#This Row],[Locations]],Table3[Labour]),0)","v":0},{"$f":"IF(roomnames[[#This Row],[Type]]=$G$13,   SUMIF(Table3[],roomnames[[#This Row],[Locations]],Table3[Labour]),0)","v":0},{"$f":"IF(roomnames[[#This Row],[Type]]=$G$14,   SUMIF(Table3[],roomnames[[#This Row],[Locations]],Table3[Labour]),0)","v":0},{"$f":"IF(roomnames[[#This Row],[Type]]=$G$15,   SUMIF(Table3[],roomnames[[#This Row],[Locations]],Table3[Labour]),0)","v":0},null,{"$f":"IF(roomnames[[#This Row],[Type]]=$G$12,roomnames[[#This Row],[Count Tiles]],0)","v":0},{"$f":"IF(roomnames[[#This Row],[Type]]=$G$13,roomnames[[#This Row],[Count Tiles]],0)","v":0},{"$f":"IF(roomnames[[#This Row],[Type]]=$G$14,roomnames[[#This Row],[Count Tiles]],0)","v":0},{"$f":"IF(roomnames[[#This Row],[Type]]=$G$15,roomnames[[#This Row],[Count Tiles]],0)","v":0},{"$f":"IF(roomnames[[#This Row],[Wall tile qty]]>0,                   SUM(roomnames[[#This Row],[Count Tiles]]*                   ((roomnames[[#This Row],[Tile Width]]*roomnames[[#This Row],[Tile Height]])))            /1000000,0)","v":0},{"$f":"IF(roomnames[[#This Row],[Floor tile qty]]>0.001,SUM(roomnames[[#This Row],[Count Tiles]]*(roomnames[[#This Row],[Tile Width]]*roomnames[[#This Row],[Tile Height]]))/1000000,0)","v":0},{"$f":"IF(roomnames[[#This Row],[Fet tile qty]]>0.001,SUM(roomnames[[#This Row],[Count Tiles]]*(roomnames[[#This Row],[Tile Width]]*roomnames[[#This Row],[Tile Height]]))/1000000,)","v":0},{"$f":"IF(roomnames[[#This Row],[Other tile qty]]>0.001,SUM(roomnames[[#This Row],[Count Tiles]]*(roomnames[[#This Row],[Tile Width]]*roomnames[[#This Row],[Tile Height]]))/1000000,0)","v":0},null,null,{"$f":"IF(roomnames[[#This Row],[Porcl]]=\"yes\",roomnames[[#This Row],[Wall Lab]]+roomnames[[#This Row],[Floor Lab]]+roomnames[[#This Row],[Fet Lab]]+roomnames[[#This Row],[Othr Lab]]+roomnames[[#This Row],[\"-------\"]],0)","v":0},{"$f":"IF(roomnames[[#This Row],[EO Std]]=\"yes\",roomnames[[#This Row],[Wall Lab]]+roomnames[[#This Row],[Floor Lab]]+roomnames[[#This Row],[Fet Lab]]+roomnames[[#This Row],[Othr Lab]],0)","v":0},"No","No","No",null,null,null,null,null,null,null,null,null,null,{"$f":"IFERROR(SUM(Table3[[#This Row],[Tile Wide]]*Table3[[#This Row],[Tile High]]),\"\")","v":""},{"$f":"IFERROR(ROUNDUP(SUM(Table3[[#This Row],[Actual W]]/VLOOKUP(AT21,roomnames[],4,0)),0),\"\")","v":""},{"$f":"IFERROR(ROUNDUP(SUM(Table3[[#This Row],[Actual H]]/VLOOKUP(AT21,roomnames[],5,0)),0),\"\")","v":""},{"$f":"(Table3[[#This Row],[Actual W]]*Table3[[#This Row],[Actual H]])/1000000","v":0},{"$f":"IFERROR(ROUNDUP(SUM(Table3[[#This Row],[Rectified]]/VLOOKUP(Table3[[#This Row],[Actual W]],roomnames[],5,0)),0),\"\")","v":""},{"$f":"0","v":0},{"$f":"0","v":0},{"$f":"_xlfn.ISFORMULA(Table3[[#This Row],[Qty Tiles]])","v":true},{"$f":"IF(Table3[[#This Row],[Formula Trap]]=TRUE,1,0)","v":1},{"$f":"0","v":0}]
["E/O PORCELAIN/RECTIFIED TILING","EO Size",{"$f":"SUM(roomnames[EO Std m2])","v":0},null,null,null,"ALUMINIUM ANGLES TO FLOOR",null,null,null,null,null,{"$f":"CONCATENATE(roomnames[[#This Row],[Where]],\" - \",roomnames[[#This Row],[Type]])","v":"WC - Floor Tiles"},"WC","Floor Tiles",300,300,{"$f":"SUMIF(Table3[],roomnames[[#This Row],[Locations]],Table3[Qty Tiles])","v":0},{"$f":"IF(roomnames[[#This Row],[2nd Supplier]]=\"No\",$H$9,\"\")","v":26.95},{"$f":"IF(roomnames[[#This Row],[2nd Supplier]]=\"Yes\",$H$10,\"\")","v":""},{"$f":"IF(roomnames[[#This Row],[2nd Supplier]]=\"no\",      SUM((roomnames[[#This Row],[Wall Supply in m2]]+roomnames[[#This Row],[Floor suply in m2]]+roomnames[[#This Row],[Feat supply in m2]]+roomnames[[#This Row],[other supply in m2]])*roomnames[[#This Row],[1st S/Cost]]),\nIF(roomnames[[#This Row],[2nd Supplier]]=\"yes\",   0))","v":0},{"$f":"IF(roomnames[[#This Row],[2nd Supplier]]=\"Yes\",      SUM((roomnames[[#This Row],[Wall Supply in m2]]+roomnames[[#This Row],[Floor suply in m2]]+roomnames[[#This Row],[Feat supply in m2]]+roomnames[[#This Row],[other supply in m2]])*roomnames[[#This Row],[2nd S/Cost]]),\nIF(roomnames[[#This Row],[2nd Supplier]]=\"No\",   0))","v":0},{"$f":"IF(roomnames[[#This Row],[Type]]=$G$12,   SUMIF(Table3[],roomnames[[#This Row],[Locations]],Table3[Labour]),0)","v":0},{"$f":"IF(roomnames[[#This Row],[Type]]=$G$13,   SUMIF(Table3[],roomnames[[#This Row],[Locations]],Table3[Labour]),0)","v":0},{"$f":"IF(roomnames[[#This Row],[Type]]=$G$14,   SUMIF(Table3[],roomnames[[#This Row],[Locations]],Table3[Labour]),0)","v":0},{"$f":"IF(roomnames[[#This Row],[Type]]=$G$15,   SUMIF(Table3[],roomnames[[#This Row],[Locations]],Table3[Labour]),0)","v":0},null,{"$f":"IF(roomnames[[#This Row],[Type]]=$G$12,roomnames[[#This Row],[Count Tiles]],0)","v":0},{"$f":"IF(roomnames[[#This Row],[Type]]=$G$13,roomnames[[#This Row],[Count Tiles]],0)","v":0},{"$f":"IF(roomnames[[#This Row],[Type]]=$G$14,roomnames[[#This Row],[Count Tiles]],0)","v":0},{"$f":"IF(roomnames[[#This Row],[Type]]=$G$15,roomnames[[#This Row],[Count Tiles]],0)","v":0},{"$f":"IF(roomnames[[#This Row],[Wall tile qty]]>0,                   SUM(roomnames[[#This Row],[Count Tiles]]*                   ((roomnames[[#This Row],[Tile Width]]*roomnames[[#This Row],[Tile Height]])))            /1000000,0)","v":0},{"$f":"IF(roomnames[[#This Row],[Floor tile qty]]>0.001,SUM(roomnames[[#This Row],[Count Tiles]]*(roomnames[[#This Row],[Tile Width]]*roomnames[[#This Row],[Tile Height]]))/1000000,0)","v":0},{"$f":"IF(roomnames[[#This Row],[Fet tile qty]]>0.001,SUM(roomnames[[#This Row],[Count Tiles]]*(roomnames[[#This Row],[Tile Width]]*roomnames[[#This Row],[Tile Height]]))/1000000,)","v":0},{"$f":"IF(roomnames[[#This Row],[Other tile qty]]>0.001,SUM(roomnames[[#This Row],[Count Tiles]]*(roomnames[[#This Row],[Tile Width]]*roomnames[[#This Row],[Tile Height]]))/1000000,0)","v":0},null,null,{"$f":"IF(roomnames[[#This Row],[Porcl]]=\"yes\",roomnames[[#This Row],[Wall Lab]]+roomnames[[#This Row],[Floor Lab]]+roomnames[[#This Row],[Fet Lab]]+roomnames[[#This Row],[Othr Lab]]+roomnames[[#This Row],[\"-------\"]],0)","v":0},{"$f":"IF(roomnames[[#This Row],[EO Std]]=\"yes\",roomnames[[#This Row],[Wall Lab]]+roomnames[[#This Row],[Floor Lab]]+roomnames[[#This Row],[Fet Lab]]+roomnames[[#This Row],[Othr Lab]],0)","v":0},"No","No","No",null,null,null,null,null,null,null,null,null,null,{"$f":"IFERROR(SUM(Table3[[#This Row],[Tile Wide]]*Table3[[#This Row],[Tile High]]),\"\")","v":""},{"$f":"IFERROR(ROUNDUP(SUM(Table3[[#This Row],[Actual W]]/VLOOKUP(AT22,roomnames[],4,0)),0),\"\")","v":""},{"$f":"IFERROR(ROUNDUP(SUM(Table3[[#This Row],[Actual H]]/VLOOKUP(AT22,roomnames[],5,0)),0),\"\")","v":""},{"$f":"(Table3[[#This Row],[Actual W]]*Table3[[#This Row],[Actual H]])/1000000","v":0},{"$f":"IFERROR(ROUNDUP(SUM(Table3[[#This Row],[Rectified]]/VLOOKUP(Table3[[#This Row],[Actual W]],roomnames[],5,0)),0),\"\")","v":""},{"$f":"0","v":0},{"$f":"0","v":0},{"$f":"_xlfn.ISFORMULA(Table3[[#This Row],[Qty Tiles]])","v":true},{"$f":"IF(Table3[[#This Row],[Formula Trap]]=TRUE,1,0)","v":1},{"$f":"0","v":0}]
["E/O NON STANDARD SIZED TILES",null,null,null,null,null,"Cutting List for Angles to Floor ","lm",null,null,"EA",null,{"$f":"CONCATENATE(roomnames[[#This Row],[Where]],\" - \",roomnames[[#This Row],[Type]])","v":" - "},null,null,null,null,{"$f":"SUMIF(Table3[],roomnames[[#This Row],[Locations]],Table3[Qty Tiles])","v":0},{"$f":"IF(roomnames[[#This Row],[2nd Supplier]]=\"No\",$H$9,\"\")","v":26.95},{"$f":"IF(roomnames[[#This Row],[2nd Supplier]]=\"Yes\",$H$10,\"\")","v":""},{"$f":"IF(roomnames[[#This Row],[2nd Supplier]]=\"no\",      SUM((roomnames[[#This Row],[Wall Supply in m2]]+roomnames[[#This Row],[Floor suply in m2]]+roomnames[[#This Row],[Feat supply in m2]]+roomnames[[#This Row],[other supply in m2]])*roomnames[[#This Row],[1st S/Cost]]),\nIF(roomnames[[#This Row],[2nd Supplier]]=\"yes\",   0))","v":0},{"$f":"IF(roomnames[[#This Row],[2nd Supplier]]=\"Yes\",      SUM((roomnames[[#This Row],[Wall Supply in m2]]+roomnames[[#This Row],[Floor suply in m2]]+roomnames[[#This Row],[Feat supply in m2]]+roomnames[[#This Row],[other supply in m2]])*roomnames[[#This Row],[2nd S/Cost]]),\nIF(roomnames[[#This Row],[2nd Supplier]]=\"No\",   0))","v":0},{"$f":"IF(roomnames[[#This Row],[Type]]=$G$12,   SUMIF(Table3[],roomnames[[#This Row],[Locations]],Table3[Labour]),0)","v":0},{"$f":"IF(roomnames[[#This Row],[Type]]=$G$13,   SUMIF(Table3[],roomnames[[#This Row],[Locations]],Table3[Labour]),0)","v":0},{"$f":"IF(roomnames[[#This Row],[Type]]=$G$14,   SUMIF(Table3[],roomnames[[#This Row],[Locations]],Table3[Labour]),0)","v":0},{"$f":"IF(roomnames[[#This Row],[Type]]=$G$15,   SUMIF(Table3[],roomnames[[#This Row],[Locations]],Table3[Labour]),0)","v":0},null,{"$f":"IF(roomnames[[#This Row],[Type]]=$G$12,roomnames[[#This Row],[Count Tiles]],0)","v":0},{"$f":"IF(roomnames[[#This Row],[Type]]=$G$13,roomnames[[#This Row],[Count Tiles]],0)","v":0},{"$f":"IF(roomnames[[#This Row],[Type]]=$G$14,roomnames[[#This Row],[Count Tiles]],0)","v":0},{"$f":"IF(roomnames[[#This Row],[Type]]=$G$15,roomnames[[#This Row],[Count Tiles]],0)","v":0},{"$f":"IF(roomnames[[#This Row],[Wall tile qty]]>0,                   SUM(roomnames[[#This Row],[Count Tiles]]*                   ((roomnames[[#This Row],[Tile Width]]*roomnames[[#This Row],[Tile Height]])))            /1000000,0)","v":0},{"$f":"IF(roomnames[[#This Row],[Floor tile qty]]>0.001,SUM(roomnames[[#This Row],[Count Tiles]]*(roomnames[[#This Row],[Tile Width]]*roomnames[[#This Row],[Tile Height]]))/1000000,0)","v":0},{"$f":"IF(roomnames[[#This Row],[Fet tile qty]]>0.001,SUM(roomnames[[#This Row],[Count Tiles]]*(roomnames[[#This Row],[Tile Width]]*roomnames[[#This Row],[Tile Height]]))/1000000,)","v":0},{"$f":"IF(roomnames[[#This Row],[Other tile qty]]>0.001,SUM(roomnames[[#This Row],[Count Tiles]]*(roomnames[[#This Row],[Tile Width]]*roomnames[[#This Row],[Tile Height]]))/1000000,0)","v":0},null,null,{"$f":"IF(roomnames[[#This Row],[Porcl]]=\"yes\",roomnames[[#This Row],[Wall Lab]]+roomnames[[#This Row],[Floor Lab]]+roomnames[[#This Row],[Fet Lab]]+roomnames[[#This Row],[Othr Lab]]+roomnames[[#This Row],[\"-------\"]],0)","v":0},{"$f":"IF(roomnames[[#This Row],[EO Std]]=\"yes\",roomnames[[#This Row],[Wall Lab]]+roomnames[[#This Row],[Floor Lab]]+roomnames[[#This Row],[Fet Lab]]+roomnames[[#This Row],[Othr Lab]],0)","v":0},"No","No","No",null,null,null,null,null,null,null,null,null,null,{"$f":"IFERROR(SUM(Table3[[#This Row],[Tile Wide]]*Table3[[#This Row],[Tile High]]),\"\")","v":""},{"$f":"IFERROR(ROUNDUP(SUM(Table3[[#This Row],[Actual W]]/VLOOKUP(AT23,roomnames[],4,0)),0),\"\")","v":""},{"$f":"IFERROR(ROUNDUP(SUM(Table3[[#This Row],[Actual H]]/VLOOKUP(AT23,roomnames[],5,0)),0),\"\")","v":""},{"$f":"(Table3[[#This Row],[Actual W]]*Table3[[#This Row],[Actual H]])/1000000","v":0},{"$f":"IFERROR(ROUNDUP(SUM(Table3[[#This Row],[Rectified]]/VLOOKUP(Table3[[#This Row],[Actual W]],roomnames[],5,0)),0),\"\")","v":""},{"$f":"0","v":0},{"$f":"0","v":0},{"$f":"_xlfn.ISFORMULA(Table3[[#This Row],[Qty Tiles]])","v":true},{"$f":"IF(Table3[[#This Row],[Formula Trap]]=TRUE,1,0)","v":1},{"$f":"0","v":0}]
["ALUMINIUM ANGLE 6mm TO 10mm","Ens Low Wall",null,"W/Proof",null,null,null,null,null,null,null,null,{"$f":"CONCATENATE(roomnames[[#This Row],[Where]],\" - \",roomnames[[#This Row],[Type]])","v":" - "},null,null,null,null,{"$f":"SUMIF(Table3[],roomnames[[#This Row],[Locations]],Table3[Qty Tiles])","v":0},{"$f":"IF(roomnames[[#This Row],[2nd Supplier]]=\"No\",$H$9,\"\")","v":26.95},{"$f":"IF(roomnames[[#This Row],[2nd Supplier]]=\"Yes\",$H$10,\"\")","v":""},{"$f":"IF(roomnames[[#This Row],[2nd Supplier]]=\"no\",      SUM((roomnames[[#This Row],[Wall Supply in m2]]+roomnames[[#This Row],[Floor suply in m2]]+roomnames[[#This Row],[Feat supply in m2]]+roomnames[[#This Row],[other supply in m2]])*roomnames[[#This Row],[1st S/Cost]]),\nIF(roomnames[[#This Row],[2nd Supplier]]=\"yes\",   0))","v":0},{"$f":"IF(roomnames[[#This Row],[2nd Supplier]]=\"Yes\",      SUM((roomnames[[#This Row],[Wall Supply in m2]]+roomnames[[#This Row],[Floor suply in m2]]+roomnames[[#This Row],[Feat supply in m2]]+roomnames[[#This Row],[other supply in m2]])*roomnames[[#This Row],[2nd S/Cost]]),\nIF(roomnames[[#This Row],[2nd Supplier]]=\"No\",   0))","v":0},{"$f":"IF(roomnames[[#This Row],[Type]]=$G$12,   SUMIF(Table3[],roomnames[[#This Row],[Locations]],Table3[Labour]),0)","v":0},{"$f":"IF(roomnames[[#This Row],[Type]]=$G$13,   SUMIF(Table3[],roomnames[[#This Row],[Locations]],Table3[Labour]),0)","v":0},{"$f":"IF(roomnames[[#This Row],[Type]]=$G$14,   SUMIF(Table3[],roomnames[[#This Row],[Locations]],Table3[Labour]),0)","v":0},{"$f":"IF(roomnames[[#This Row],[Type]]=$G$15,   SUMIF(Table3[],roomnames[[#This Row],[Locations]],Table3[Labour]),0)","v":0},null,{"$f":"IF(roomnames[[#This Row],[Type]]=$G$12,roomnames[[#This Row],[Count Tiles]],0)","v":0},{"$f":"IF(roomnames[[#This Row],[Type]]=$G$13,roomnames[[#This Row],[Count Tiles]],0)","v":0},{"$f":"IF(roomnames[[#This Row],[Type]]=$G$14,roomnames[[#This Row],[Count Tiles]],0)","v":0},{"$f":"IF(roomnames[[#This Row],[Type]]=$G$15,roomnames[[#This Row],[Count Tiles]],0)","v":0},{"$f":"IF(roomnames[[#This Row],[Wall tile qty]]>0,                   SUM(roomnames[[#This Row],[Count Tiles]]*                   ((roomnames[[#This Row],[Tile Width]]*roomnames[[#This Row],[Tile Height]])))            /1000000,0)","v":0},{"$f":"IF(roomnames[[#This Row],[Floor tile qty]]>0.001,SUM(roomnames[[#This Row],[Count Tiles]]*(roomnames[[#This Row],[Tile Width]]*roomnames[[#This Row],[Tile Height]]))/1000000,0)","v":0},{"$f":"IF(roomnames[[#This Row],[Fet tile qty]]>0.001,SUM(roomnames[[#This Row],[Count Tiles]]*(roomnames[[#This Row],[Tile Width]]*roomnames[[#This Row],[Tile Height]]))/1000000,)","v":0},{"$f":"IF(roomnames[[#This Row],[Other tile qty]]>0.001,SUM(roomnames[[#This Row],[Count Tiles]]*(roomnames[[#This Row],[Tile Width]]*roomnames[[#This Row],[Tile Height]]))/1000000,0)","v":0},null,null,{"$f":"IF(roomnames[[#This Row],[Porcl]]=\"yes\",roomnames[[#This Row],[Wall Lab]]+roomnames[[#This Row],[Floor Lab]]+roomnames[[#This Row],[Fet Lab]]+roomnames[[#This Row],[Othr Lab]]+roomnames[[#This Row],[\"-------\"]],0)","v":0},{"$f":"IF(roomnames[[#This Row],[EO Std]]=\"yes\",roomnames[[#This Row],[Wall Lab]]+roomnames[[#This Row],[Floor Lab]]+roomnames[[#This Row],[Fet Lab]]+roomnames[[#This Row],[Othr Lab]],0)","v":0},"No","No","No",null,null,null,null,null,null,null,null,null,null,{"$f":"IFERROR(SUM(Table3[[#This Row],[Tile Wide]]*Table3[[#This Row],[Tile High]]),\"\")","v":""},{"$f":"IFERROR(ROUNDUP(SUM(Table3[[#This Row],[Actual W]]/VLOOKUP(AT24,roomnames[],4,0)),0),\"\")","v":""},{"$f":"IFERROR(ROUNDUP(SUM(Table3[[#This Row],[Actual H]]/VLOOKUP(AT24,roomnames[],5,0)),0),\"\")","v":""},{"$f":"(Table3[[#This Row],[Actual W]]*Table3[[#This Row],[Actual H]])/1000000","v":0},{"$f":"IFERROR(ROUNDUP(SUM(Table3[[#This Row],[Rectified]]/VLOOKUP(Table3[[#This Row],[Actual W]],roomnames[],5,0)),0),\"\")","v":""},{"$f":"0","v":0},{"$f":"0","v":0},{"$f":"_xlfn.ISFORMULA(Table3[[#This Row],[Qty Tiles]])","v":true},{"$f":"IF(Table3[[#This Row],[Formula Trap]]=TRUE,1,0)","v":1},{"$f":"0","v":0}]
["DAVCO ULTRA PRIME 5 LITRE","Bath Low Wall",null,null,null,null,null,null,null,null,"EA",null,{"$f":"CONCATENATE(roomnames[[#This Row],[Where]],\" - \",roomnames[[#This Row],[Type]])","v":" - "},null,null,null,null,{"$f":"SUMIF(Table3[],roomnames[[#This Row],[Locations]],Table3[Qty Tiles])","v":0},25.95,{"$f":"IF(roomnames[[#This Row],[2nd Supplier]]=\"Yes\",$H$10,\"\")","v":""},{"$f":"IF(roomnames[[#This Row],[2nd Supplier]]=\"no\",      SUM((roomnames[[#This Row],[Wall Supply in m2]]+roomnames[[#This Row],[Floor suply in m2]]+roomnames[[#This Row],[Feat supply in m2]]+roomnames[[#This Row],[other supply in m2]])*roomnames[[#This Row],[1st S/Cost]]),\nIF(roomnames[[#This Row],[2nd Supplier]]=\"yes\",   0))","v":0},{"$f":"IF(roomnames[[#This Row],[2nd Supplier]]=\"Yes\",      SUM((roomnames[[#This Row],[Wall Supply in m2]]+roomnames[[#This Row],[Floor suply in m2]]+roomnames[[#This Row],[Feat supply in m2]]+roomnames[[#This Row],[other supply in m2]])*roomnames[[#This Row],[2nd S/Cost]]),\nIF(roomnames[[#This Row],[2nd Supplier]]=\"No\",   0))","v":0},{"$f":"IF(roomnames[[#This Row],[Type]]=$G$12,   SUMIF(Table3[],roomnames[[#This Row],[Locations]],Table3[Labour]),0)","v":0},{"$f":"IF(roomnames[[#This Row],[Type]]=$G$13,   SUMIF(Table3[],roomnames[[#This Row],[Locations]],Table3[Labour]),0)","v":0},{"$f":"IF(roomnames[[#This Row],[Type]]=$G$14,   SUMIF(Table3[],roomnames[[#This Row],[Locations]],Table3[Labour]),0)","v":0},{"$f":"IF(roomnames[[#This Row],[Type]]=$G$15,   SUMIF(Table3[],roomnames[[#This Row],[Locations]],Table3[Labour]),0)","v":0},null,{"$f":"IF(roomnames[[#This Row],[Type]]=$G$12,roomnames[[#This Row],[Count Tiles]],0)","v":0},{"$f":"IF(roomnames[[#This Row],[Type]]=$G$13,roomnames[[#This Row],[Count Tiles]],0)","v":0},{"$f":"IF(roomnames[[#This Row],[Type]]=$G$14,roomnames[[#This Row],[Count Tiles]],0)","v":0},{"$f":"IF(roomnames[[#This Row],[Type]]=$G$15,roomnames[[#This Row],[Count Tiles]],0)","v":0},{"$f":"IF(roomnames[[#This Row],[Wall tile qty]]>0,                   SUM(roomnames[[#This Row],[Count Tiles]]*                   ((roomnames[[#This Row],[Tile Width]]*roomnames[[#This Row],[Tile Height]])))            /1000000,0)","v":0},{"$f":"IF(roomnames[[#This Row],[Floor tile qty]]>0.001,SUM(roomnames[[#This Row],[Count Tiles]]*(roomnames[[#This Row],[Tile Width]]*roomnames[[#This Row],[Tile Height]]))/1000000,0)","v":0},{"$f":"IF(roomnames[[#This Row],[Fet tile qty]]>0.001,SUM(roomnames[[#This Row],[Count Tiles]]*(roomnames[[#This Row],[Tile Width]]*roomnames[[#This Row],[Tile Height]]))/1000000,)","v":0},{"$f":"IF(roomnames[[#This Row],[Other tile qty]]>0.001,SUM(roomnames[[#This Row],[Count Tiles]]*(roomnames[[#This Row],[Tile Width]]*roomnames[[#This Row],[Tile Height]]))/1000000,0)","v":0},null,null,{"$f":"IF(roomnames[[#This Row],[Porcl]]=\"yes\",roomnames[[#This Row],[Wall Lab]]+roomnames[[#This Row],[Floor Lab]]+roomnames[[#This Row],[Fet Lab]]+roomnames[[#This Row],[Othr Lab]]+roomnames[[#This Row],[\"-------\"]],0)","v":0},{"$f":"IF(roomnames[[#This Row],[EO Std]]=\"yes\",roomnames[[#This Row],[Wall Lab]]+roomnames[[#This Row],[Floor Lab]]+roomnames[[#This Row],[Fet Lab]]+roomnames[[#This Row],[Othr Lab]],0)","v":0},"No","No","No",null,null,null,null,null,null,null,null,null,null,{"$f":"IFERROR(SUM(Table3[[#This Row],[Tile Wide]]*Table3[[#This Row],[Tile High]]),\"\")","v":""},{"$f":"IFERROR(ROUNDUP(SUM(Table3[[#This Row],[Actual W]]/VLOOKUP(AT25,roomnames[],4,0)),0),\"\")","v":""},{"$f":"IFERROR(ROUNDUP(SUM(Table3[[#This Row],[Actual H]]/VLOOKUP(AT25,roomnames[],5,0)),0),\"\")","v":""},{"$f":"(Table3[[#This Row],[Actual W]]*Table3[[#This Row],[Actual H]])/1000000","v":0},{"$f":"IFERROR(ROUNDUP(SUM(Table3[[#This Row],[Rectified]]/VLOOKUP(Table3[[#This Row],[Actual W]],roomnames[],5,0)),0),\"\")","v":""},{"$f":"0","v":0},{"$f":"0","v":0},{"$f":"_xlfn.ISFORMULA(Table3[[#This Row],[Qty Tiles]])","v":true},{"$f":"IF(Table3[[#This Row],[Formula Trap]]=TRUE,1,0)","v":1},{"$f":"0","v":0}]
[null,"Over Bath",null,null,null,null,"E/O TILE NICHE",null,null,null,"EA",null,{"$f":"CONCATENATE(roomnames[[#This Row],[Where]],\" - \",roomnames[[#This Row],[Type]])","v":" - "},null,null,null,null,{"$f":"SUMIF(Table3[],roomnames[[#This Row],[Locations]],Table3[Qty Tiles])","v":0},{"$f":"IF(roomnames[[#This Row],[2nd Supplier]]=\"No\",$H$9,\"\")","v":26.95},{"$f":"IF(roomnames[[#This Row],[2nd Supplier]]=\"Yes\",$H$10,\"\")","v":""},{"$f":"IF(roomnames[[#This Row],[2nd Supplier]]=\"no\",      SUM((roomnames[[#This Row],[Wall Supply in m2]]+roomnames[[#This Row],[Floor suply in m2]]+roomnames[[#This Row],[Feat supply in m2]]+roomnames[[#This Row],[other supply in m2]])*roomnames[[#This Row],[1st S/Cost]]),\nIF(roomnames[[#This Row],[2nd Supplier]]=\"yes\",   0))","v":0},{"$f":"IF(roomnames[[#This Row],[2nd Supplier]]=\"Yes\",      SUM((roomnames[[#This Row],[Wall Supply in m2]]+roomnames[[#This Row],[Floor suply in m2]]+roomnames[[#This Row],[Feat supply in m2]]+roomnames[[#This Row],[other supply in m2]])*roomnames[[#This Row],[2nd S/Cost]]),\nIF(roomnames[[#This Row],[2nd Supplier]]=\"No\",   0))","v":0},{"$f":"IF(roomnames[[#This Row],[Type]]=$G$12,   SUMIF(Table3[],roomnames[[#This Row],[Locations]],Table3[Labour]),0)","v":0},{"$f":"IF(roomnames[[#This Row],[Type]]=$G$13,   SUMIF(Table3[],roomnames[[#This Row],[Locations]],Table3[Labour]),0)","v":0},{"$f":"IF(roomnames[[#This Row],[Type]]=$G$14,   SUMIF(Table3[],roomnames[[#This Row],[Locations]],Table3[Labour]),0)","v":0},{"$f":"IF(roomnames[[#This Row],[Type]]=$G$15,   SUMIF(Table3[],roomnames[[#This Row],[Locations]],Table3[Labour]),0)","v":0},null,{"$f":"IF(roomnames[[#This Row],[Type]]=$G$12,roomnames[[#This Row],[Count Tiles]],0)","v":0},{"$f":"IF(roomnames[[#This Row],[Type]]=$G$13,roomnames[[#This Row],[Count Tiles]],0)","v":0},{"$f":"IF(roomnames[[#This Row],[Type]]=$G$14,roomnames[[#This Row],[Count Tiles]],0)","v":0},{"$f":"IF(roomnames[[#This Row],[Type]]=$G$15,roomnames[[#This Row],[Count Tiles]],0)","v":0},{"$f":"IF(roomnames[[#This Row],[Wall tile qty]]>0,                   SUM(roomnames[[#This Row],[Count Tiles]]*                   ((roomnames[[#This Row],[Tile Width]]*roomnames[[#This Row],[Tile Height]])))            /1000000,0)","v":0},{"$f":"IF(roomnames[[#This Row],[Floor tile qty]]>0.001,SUM(roomnames[[#This Row],[Count Tiles]]*(roomnames[[#This Row],[Tile Width]]*roomnames[[#This Row],[Tile Height]]))/1000000,0)","v":0},{"$f":"IF(roomnames[[#This Row],[Fet tile qty]]>0.001,SUM(roomnames[[#This Row],[Count Tiles]]*(roomnames[[#This Row],[Tile Width]]*roomnames[[#This Row],[Tile Height]]))/1000000,)","v":0},{"$f":"IF(roomnames[[#This Row],[Other tile qty]]>0.001,SUM(roomnames[[#This Row],[Count Tiles]]*(roomnames[[#This Row],[Tile Width]]*roomnames[[#This Row],[Tile Height]]))/1000000,0)","v":0},null,null,{"$f":"IF(roomnames[[#This Row],[Porcl]]=\"yes\",roomnames[[#This Row],[Wall Lab]]+roomnames[[#This Row],[Floor Lab]]+roomnames[[#This Row],[Fet Lab]]+roomnames[[#This Row],[Othr Lab]]+roomnames[[#This Row],[\"-------\"]],0)","v":0},{"$f":"IF(roomnames[[#This Row],[EO Std]]=\"yes\",roomnames[[#This Row],[Wall Lab]]+roomnames[[#This Row],[Floor Lab]]+roomnames[[#This Row],[Fet Lab]]+roomnames[[#This Row],[Othr Lab]],0)","v":0},"No","No","No",null,null,null,null,null,null,null,null,null,null,{"$f":"IFERROR(SUM(Table3[[#This Row],[Tile Wide]]*Table3[[#This Row],[Tile High]]),\"\")","v":""},{"$f":"IFERROR(ROUNDUP(SUM(Table3[[#This Row],[Actual W]]/VLOOKUP(AT26,roomnames[],4,0)),0),\"\")","v":""},{"$f":"IFERROR(ROUNDUP(SUM(Table3[[#This Row],[Actual H]]/VLOOKUP(AT26,roomnames[],5,0)),0),\"\")","v":""},{"$f":"(Table3[[#This Row],[Actual W]]*Table3[[#This Row],[Actual H]])/1000000","v":0},{"$f":"IFERROR(ROUNDUP(SUM(Table3[[#This Row],[Rectified]]/VLOOKUP(Table3[[#This Row],[Actual W]],roomnames[],5,0)),0),\"\")","v":""},{"$f":"0","v":0},{"$f":"0","v":0},{"$f":"_xlfn.ISFORMULA(Table3[[#This Row],[Qty Tiles]])","v":true},{"$f":"IF(Table3[[#This Row],[Formula Trap]]=TRUE,1,0)","v":1},{"$f":"0","v":0}]
["RETURN TRIP WALL FACED TOILETS","Bath Hob",null,null,null,null,"RETURN TRIP WALL FACED",null,null,null,"EA",null,{"$f":"CONCATENATE(roomnames[[#This Row],[Where]],\" - \",roomnames[[#This Row],[Type]])","v":" - "},null,null,null,null,{"$f":"SUMIF(Table3[],roomnames[[#This Row],[Locations]],Table3[Qty Tiles])","v":0},25.95,{"$f":"IF(roomnames[[#This Row],[2nd Supplier]]=\"Yes\",$H$10,\"\")","v":""},{"$f":"IF(roomnames[[#This Row],[2nd Supplier]]=\"no\",      SUM((roomnames[[#This Row],[Wall Supply in m2]]+roomnames[[#This Row],[Floor suply in m2]]+roomnames[[#This Row],[Feat supply in m2]]+roomnames[[#This Row],[other supply in m2]])*roomnames[[#This Row],[1st S/Cost]]),\nIF(roomnames[[#This Row],[2nd Supplier]]=\"yes\",   0))","v":0},{"$f":"IF(roomnames[[#This Row],[2nd Supplier]]=\"Yes\",      SUM((roomnames[[#This Row],[Wall Supply in m2]]+roomnames[[#This Row],[Floor suply in m2]]+roomnames[[#This Row],[Feat supply in m2]]+roomnames[[#This Row],[other supply in m2]])*roomnames[[#This Row],[2nd S/Cost]]),\nIF(roomnames[[#This Row],[2nd Supplier]]=\"No\",   0))","v":0},{"$f":"IF(roomnames[[#This Row],[Type]]=$G$12,   SUMIF(Table3[],roomnames[[#This Row],[Locations]],Table3[Labour]),0)","v":0},{"$f":"IF(roomnames[[#This Row],[Type]]=$G$13,   SUMIF(Table3[],roomnames[[#This Row],[Locations]],Table3[Labour]),0)","v":0},{"$f":"IF(roomnames[[#This Row],[Type]]=$G$14,   SUMIF(Table3[],roomnames[[#This Row],[Locations]],Table3[Labour]),0)","v":0},{"$f":"IF(roomnames[[#This Row],[Type]]=$G$15,   SUMIF(Table3[],roomnames[[#This Row],[Locations]],Table3[Labour]),0)","v":0},null,{"$f":"IF(roomnames[[#This Row],[Type]]=$G$12,roomnames[[#This Row],[Count Tiles]],0)","v":0},{"$f":"IF(roomnames[[#This Row],[Type]]=$G$13,roomnames[[#This Row],[Count Tiles]],0)","v":0},{"$f":"IF(roomnames[[#This Row],[Type]]=$G$14,roomnames[[#This Row],[Count Tiles]],0)","v":0},{"$f":"IF(roomnames[[#This Row],[Type]]=$G$15,roomnames[[#This Row],[Count Tiles]],0)","v":0},{"$f":"IF(roomnames[[#This Row],[Wall tile qty]]>0,                   SUM(roomnames[[#This Row],[Count Tiles]]*                   ((roomnames[[#This Row],[Tile Width]]*roomnames[[#This Row],[Tile Height]])))            /1000000,0)","v":0},{"$f":"IF(roomnames[[#This Row],[Floor tile qty]]>0.001,SUM(roomnames[[#This Row],[Count Tiles]]*(roomnames[[#This Row],[Tile Width]]*roomnames[[#This Row],[Tile Height]]))/1000000,0)","v":0},{"$f":"IF(roomnames[[#This Row],[Fet tile qty]]>0.001,SUM(roomnames[[#This Row],[Count Tiles]]*(roomnames[[#This Row],[Tile Width]]*roomnames[[#This Row],[Tile Height]]))/1000000,)","v":0},{"$f":"IF(roomnames[[#This Row],[Other tile qty]]>0.001,SUM(roomnames[[#This Row],[Count Tiles]]*(roomnames[[#This Row],[Tile Width]]*roomnames[[#This Row],[Tile Height]]))/1000000,0)","v":0},null,null,{"$f":"IF(roomnames[[#This Row],[Porcl]]=\"yes\",roomnames[[#This Row],[Wall Lab]]+roomnames[[#This Row],[Floor Lab]]+roomnames[[#This Row],[Fet Lab]]+roomnames[[#This Row],[Othr Lab]]+roomnames[[#This Row],[\"-------\"]],0)","v":0},{"$f":"IF(roomnames[[#This Row],[EO Std]]=\"yes\",roomnames[[#This Row],[Wall Lab]]+roomnames[[#This Row],[Floor Lab]]+roomnames[[#This Row],[Fet Lab]]+roomnames[[#This Row],[Othr Lab]],0)","v":0},"No","No","No",null,null,null,null,null,null,null,null,null,null,{"$f":"IFERROR(SUM(Table3[[#This Row],[Tile Wide]]*Table3[[#This Row],[Tile High]]),\"\")","v":""},{"$f":"IFERROR(ROUNDUP(SUM(Table3[[#This Row],[Actual W]]/VLOOKUP(AT27,roomnames[],4,0)),0),\"\")","v":""},{"$f":"IFERROR(ROUNDUP(SUM(Table3[[#This Row],[Actual H]]/VLOOKUP(AT27,roomnames[],5,0)),0),\"\")","v":""},{"$f":"(Table3[[#This Row],[Actual W]]*Table3[[#This Row],[Actual H]])/1000000","v":0},{"$f":"IFERROR(ROUNDUP(SUM(Table3[[#This Row],[Rectified]]/VLOOKUP(Table3[[#This Row],[Actual W]],roomnames[],5,0)),0),\"\")","v":""},{"$f":"0","v":0},{"$f":"0","v":0},{"$f":"_xlfn.ISFORMULA(Table3[[#This Row],[Qty Tiles]])","v":true},{"$f":"IF(Table3[[#This Row],[Formula Trap]]=TRUE,1,0)","v":1},{"$f":"0","v":0}]
[null,"Bath Riser",null,null,null,null,"BRICK UP BATH",null,null,null,"EA",null,{"$f":"CONCATENATE(roomnames[[#This Row],[Where]],\" - \",roomnames[[#This Row],[Type]])","v":" - "},null,null,null,null,{"$f":"SUMIF(Table3[],roomnames[[#This Row],[Locations]],Table3[Qty Tiles])","v":0},{"$f":"IF(roomnames[[#This Row],[2nd Supplier]]=\"No\",$H$9,\"\")","v":26.95},{"$f":"IF(roomnames[[#This Row],[2nd Supplier]]=\"Yes\",$H$10,\"\")","v":""},{"$f":"IF(roomnames[[#This Row],[2nd Supplier]]=\"no\",      SUM((roomnames[[#This Row],[Wall Supply in m2]]+roomnames[[#This Row],[Floor suply in m2]]+roomnames[[#This Row],[Feat supply in m2]]+roomnames[[#This Row],[other supply in m2]])*roomnames[[#This Row],[1st S/Cost]]),\nIF(roomnames[[#This Row],[2nd Supplier]]=\"yes\",   0))","v":0},{"$f":"IF(roomnames[[#This Row],[2nd Supplier]]=\"Yes\",      SUM((roomnames[[#This Row],[Wall Supply in m2]]+roomnames[[#This Row],[Floor suply in m2]]+roomnames[[#This Row],[Feat supply in m2]]+roomnames[[#This Row],[other supply in m2]])*roomnames[[#This Row],[2nd S/Cost]]),\nIF(roomnames[[#This Row],[2nd Supplier]]=\"No\",   0))","v":0},{"$f":"IF(roomnames[[#This Row],[Type]]=$G$12,   SUMIF(Table3[],roomnames[[#This Row],[Locations]],Table3[Labour]),0)","v":0},{"$f":"IF(roomnames[[#This Row],[Type]]=$G$13,   SUMIF(Table3[],roomnames[[#This Row],[Locations]],Table3[Labour]),0)","v":0},{"$f":"IF(roomnames[[#This Row],[Type]]=$G$14,   SUMIF(Table3[],roomnames[[#This Row],[Locations]],Table3[Labour]),0)","v":0},{"$f":"IF(roomnames[[#This Row],[Type]]=$G$15,   SUMIF(Table3[],roomnames[[#This Row],[Locations]],Table3[Labour]),0)","v":0},null,{"$f":"IF(roomnames[[#This Row],[Type]]=$G$12,roomnames[[#This Row],[Count Tiles]],0)","v":0},{"$f":"IF(roomnames[[#This Row],[Type]]=$G$13,roomnames[[#This Row],[Count Tiles]],0)","v":0},{"$f":"IF(roomnames[[#This Row],[Type]]=$G$14,roomnames[[#This Row],[Count Tiles]],0)","v":0},{"$f":"IF(roomnames[[#This Row],[Type]]=$G$15,roomnames[[#This Row],[Count Tiles]],0)","v":0},{"$f":"IF(roomnames[[#This Row],[Wall tile qty]]>0,                   SUM(roomnames[[#This Row],[Count Tiles]]*                   ((roomnames[[#This Row],[Tile Width]]*roomnames[[#This Row],[Tile Height]])))            /1000000,0)","v":0},{"$f":"IF(roomnames[[#This Row],[Floor tile qty]]>0.001,SUM(roomnames[[#This Row],[Count Tiles]]*(roomnames[[#This Row],[Tile Width]]*roomnames[[#This Row],[Tile Height]]))/1000000,0)","v":0},{"$f":"IF(roomnames[[#This Row],[Fet tile qty]]>0.001,SUM(roomnames[[#This Row],[Count Tiles]]*(roomnames[[#This Row],[Tile Width]]*roomnames[[#This Row],[Tile Height]]))/1000000,)","v":0},{"$f":"IF(roomnames[[#This Row],[Other tile qty]]>0.001,SUM(roomnames[[#This Row],[Count Tiles]]*(roomnames[[#This Row],[Tile Width]]*roomnames[[#This Row],[Tile Height]]))/1000000,0)","v":0},null,null,{"$f":"IF(roomnames[[#This Row],[Porcl]]=\"yes\",roomnames[[#This Row],[Wall Lab]]+roomnames[[#This Row],[Floor Lab]]+roomnames[[#This Row],[Fet Lab]]+roomnames[[#This Row],[Othr Lab]]+roomnames[[#This Row],[\"-------\"]],0)","v":0},{"$f":"IF(roomnames[[#This Row],[EO Std]]=\"yes\",roomnames[[#This Row],[Wall Lab]]+roomnames[[#This Row],[Floor Lab]]+roomnames[[#This Row],[Fet Lab]]+roomnames[[#This Row],[Othr Lab]],0)","v":0},"No","No","No",null,null,null,null,null,null,null,null,null,null,{"$f":"IFERROR(SUM(Table3[[#This Row],[Tile Wide]]*Table3[[#This Row],[Tile High]]),\"\")","v":""},{"$f":"IFERROR(ROUNDUP(SUM(Table3[[#This Row],[Actual W]]/VLOOKUP(AT28,roomnames[],4,0)),0),\"\")","v":""},{"$f":"IFERROR(ROUNDUP(SUM(Table3[[#This Row],[Actual H]]/VLOOKUP(AT28,roomnames[],5,0)),0),\"\")","v":""},{"$f":"(Table3[[#This Row],[Actual W]]*Table3[[#This Row],[Actual H]])/1000000","v":0},{"$f":"IFERROR(ROUNDUP(SUM(Table3[[#This Row],[Rectified]]/VLOOKUP(Table3[[#This Row],[Actual W]],roomnames[],5,0)),0),\"\")","v":""},{"$f":"0","v":0},{"$f":"0","v":0},{"$f":"_xlfn.ISFORMULA(Table3[[#This Row],[Qty Tiles]])","v":true},{"$f":"IF(Table3[[#This Row],[Formula Trap]]=TRUE,1,0)","v":1},{"$f":"0","v":0}]
["515-100-100500",null,null,null,null,null,null,null,null,null,null,null,{"$f":"CONCATENATE(roomnames[[#This Row],[Where]],\" - \",roomnames[[#This Row],[Type]])","v":" - "},null,null,null,null,{"$f":"SUMIF(Table3[],roomnames[[#This Row],[Locations]],Table3[Qty Tiles])","v":0},{"$f":"IF(roomnames[[#This Row],[2nd Supplier]]=\"No\",$H$9,\"\")","v":26.95},{"$f":"IF(roomnames[[#This Row],[2nd Supplier]]=\"Yes\",$H$10,\"\")","v":""},{"$f":"IF(roomnames[[#This Row],[2nd Supplier]]=\"no\",      SUM((roomnames[[#This Row],[Wall Supply in m2]]+roomnames[[#This Row],[Floor suply in m2]]+roomnames[[#This Row],[Feat supply in m2]]+roomnames[[#This Row],[other supply in m2]])*roomnames[[#This Row],[1st S/Cost]]),\nIF(roomnames[[#This Row],[2nd Supplier]]=\"yes\",   0))","v":0},{"$f":"IF(roomnames[[#This Row],[2nd Supplier]]=\"Yes\",      SUM((roomnames[[#This Row],[Wall Supply in m2]]+roomnames[[#This Row],[Floor suply in m2]]+roomnames[[#This Row],[Feat supply in m2]]+roomnames[[#This Row],[other supply in m2]])*roomnames[[#This Row],[2nd S/Cost]]),\nIF(roomnames[[#This Row],[2nd Supplier]]=\"No\",   0))","v":0},{"$f":"IF(roomnames[[#This Row],[Type]]=$G$12,   SUMIF(Table3[],roomnames[[#This Row],[Locations]],Table3[Labour]),0)","v":0},{"$f":"IF(roomnames[[#This Row],[Type]]=$G$13,   SUMIF(Table3[],roomnames[[#This Row],[Locations]],Table3[Labour]),0)","v":0},{"$f":"IF(roomnames[[#This Row],[Type]]=$G$14,   SUMIF(Table3[],roomnames[[#This Row],[Locations]],Table3[Labour]),0)","v":0},{"$f":"IF(roomnames[[#This Row],[Type]]=$G$15,   SUMIF(Table3[],roomnames[[#This Row],[Locations]],Table3[Labour]),0)","v":0},null,{"$f":"IF(roomnames[[#This Row],[Type]]=$G$12,roomnames[[#This Row],[Count Tiles]],0)","v":0},{"$f":"IF(roomnames[[#This Row],[Type]]=$G$13,roomnames[[#This Row],[Count Tiles]],0)","v":0},{"$f":"IF(roomnames[[#This Row],[Type]]=$G$14,roomnames[[#This Row],[Count Tiles]],0)","v":0},{"$f":"IF(roomnames[[#This Row],[Type]]=$G$15,roomnames[[#This Row],[Count Tiles]],0)","v":0},{"$f":"IF(roomnames[[#This Row],[Wall tile qty]]>0,                   SUM(roomnames[[#This Row],[Count Tiles]]*                   ((roomnames[[#This Row],[Tile Width]]*roomnames[[#This Row],[Tile Height]])))            /1000000,0)","v":0},{"$f":"IF(roomnames[[#This Row],[Floor tile qty]]>0.001,SUM(roomnames[[#This Row],[Count Tiles]]*(roomnames[[#This Row],[Tile Width]]*roomnames[[#This Row],[Tile Height]]))/1000000,0)","v":0},{"$f":"IF(roomnames[[#This Row],[Fet tile qty]]>0.001,SUM(roomnames[[#This Row],[Count Tiles]]*(roomnames[[#This Row],[Tile Width]]*roomnames[[#This Row],[Tile Height]]))/1000000,)","v":0},{"$f":"IF(roomnames[[#This Row],[Other tile qty]]>0.001,SUM(roomnames[[#This Row],[Count Tiles]]*(roomnames[[#This Row],[Tile Width]]*roomnames[[#This Row],[Tile Height]]))/1000000,0)","v":0},null,null,{"$f":"IF(roomnames[[#This Row],[Porcl]]=\"yes\",roomnames[[#This Row],[Wall Lab]]+roomnames[[#This Row],[Floor Lab]]+roomnames[[#This Row],[Fet Lab]]+roomnames[[#This Row],[Othr Lab]]+roomnames[[#This Row],[\"-------\"]],0)","v":0},{"$f":"IF(roomnames[[#This Row],[EO Std]]=\"yes\",roomnames[[#This Row],[Wall Lab]]+roomnames[[#This Row],[Floor Lab]]+roomnames[[#This Row],[Fet Lab]]+roomnames[[#This Row],[Othr Lab]],0)","v":0},"No","No","No",null,null,null,null,null,null,null,null,null,null,{"$f":"IFERROR(SUM(Table3[[#This Row],[Tile Wide]]*Table3[[#This Row],[Tile High]]),\"\")","v":""},{"$f":"IFERROR(ROUNDUP(SUM(Table3[[#This Row],[Actual W]]/VLOOKUP(AT29,roomnames[],4,0)),0),\"\")","v":""},{"$f":"IFERROR(ROUNDUP(SUM(Table3[[#This Row],[Actual H]]/VLOOKUP(AT29,roomnames[],5,0)),0),\"\")","v":""},{"$f":"(Table3[[#This Row],[Actual W]]*Table3[[#This Row],[Actual H]])/1000000","v":0},{"$f":"IFERROR(ROUNDUP(SUM(Table3[[#This Row],[Rectified]]/VLOOKUP(Table3[[#This Row],[Actual W]],roomnames[],5,0)),0),\"\")","v":""},{"$f":"0","v":0},{"$f":"0","v":0},{"$f":"_xlfn.ISFORMULA(Table3[[#This Row],[Qty Tiles]])","v":true},{"$f":"IF(Table3[[#This Row],[Formula Trap]]=TRUE,1,0)","v":1},{"$f":"0","v":0}]
[{"$f":"SUM(waterproofwalls)","v":0},"Laundry Floor",null,"JUNCTIONS",null,null,"BRICK UP VANITY/TROUGH HOB",null,null,null,"EA",null,{"$f":"CONCATENATE(roomnames[[#This Row],[Where]],\" - \",roomnames[[#This Row],[Type]])","v":" - "},null,null,null,null,{"$f":"SUMIF(Table3[],roomnames[[#This Row],[Locations]],Table3[Qty Tiles])","v":0},{"$f":"IF(roomnames[[#This Row],[2nd Supplier]]=\"No\",$H$9,\"\")","v":26.95},{"$f":"IF(roomnames[[#This Row],[2nd Supplier]]=\"Yes\",$H$10,\"\")","v":""},{"$f":"IF(roomnames[[#This Row],[2nd Supplier]]=\"no\",      SUM((roomnames[[#This Row],[Wall Supply in m2]]+roomnames[[#This Row],[Floor suply in m2]]+roomnames[[#This Row],[Feat supply in m2]]+roomnames[[#This Row],[other supply in m2]])*roomnames[[#This Row],[1st S/Cost]]),\nIF(roomnames[[#This Row],[2nd Supplier]]=\"yes\",   0))","v":0},{"$f":"IF(roomnames[[#This Row],[2nd Supplier]]=\"Yes\",      SUM((roomnames[[#This Row],[Wall Supply in m2]]+roomnames[[#This Row],[Floor suply in m2]]+roomnames[[#This Row],[Feat supply in m2]]+roomnames[[#This Row],[other supply in m2]])*roomnames[[#This Row],[2nd S/Cost]]),\nIF(roomnames[[#This Row],[2nd Supplier]]=\"No\",   0))","v":0},{"$f":"IF(roomnames[[#This Row],[Type]]=$G$12,   SUMIF(Table3[],roomnames[[#This Row],[Locations]],Table3[Labour]),0)","v":0},{"$f":"IF(roomnames[[#This Row],[Type]]=$G$13,   SUMIF(Table3[],roomnames[[#This Row],[Locations]],Table3[Labour]),0)","v":0},{"$f":"IF(roomnames[[#This Row],[Type]]=$G$14,   SUMIF(Table3[],roomnames[[#This Row],[Locations]],Table3[Labour]),0)","v":0},{"$f":"IF(roomnames[[#This Row],[Type]]=$G$15,   SUMIF(Table3[],roomnames[[#This Row],[Locations]],Table3[Labour]),0)","v":0},null,{"$f":"IF(roomnames[[#This Row],[Type]]=$G$12,roomnames[[#This Row],[Count Tiles]],0)","v":0},{"$f":"IF(roomnames[[#This Row],[Type]]=$G$13,roomnames[[#This Row],[Count Tiles]],0)","v":0},{"$f":"IF(roomnames[[#This Row],[Type]]=$G$14,roomnames[[#This Row],[Count Tiles]],0)","v":0},{"$f":"IF(roomnames[[#This Row],[Type]]=$G$15,roomnames[[#This Row],[Count Tiles]],0)","v":0},{"$f":"IF(roomnames[[#This Row],[Wall tile qty]]>0,                   SUM(roomnames[[#This Row],[Count Tiles]]*                   ((roomnames[[#This Row],[Tile Width]]*roomnames[[#This Row],[Tile Height]])))            /1000000,0)","v":0},{"$f":"IF(roomnames[[#This Row],[Floor tile qty]]>0.001,SUM(roomnames[[#This Row],[Count Tiles]]*(roomnames[[#This Row],[Tile Width]]*roomnames[[#This Row],[Tile Height]]))/1000000,0)","v":0},{"$f":"IF(roomnames[[#This Row],[Fet tile qty]]>0.001,SUM(roomnames[[#This Row],[Count Tiles]]*(roomnames[[#This Row],[Tile Width]]*roomnames[[#This Row],[Tile Height]]))/1000000,)","v":0},{"$f":"IF(roomnames[[#This Row],[Other tile qty]]>0.001,SUM(roomnames[[#This Row],[Count Tiles]]*(roomnames[[#This Row],[Tile Width]]*roomnames[[#This Row],[Tile Height]]))/1000000,0)","v":0},null,null,{"$f":"IF(roomnames[[#This Row],[Porcl]]=\"yes\",roomnames[[#This Row],[Wall Lab]]+roomnames[[#This Row],[Floor Lab]]+roomnames[[#This Row],[Fet Lab]]+roomnames[[#This Row],[Othr Lab]]+roomnames[[#This Row],[\"-------\"]],0)","v":0},{"$f":"IF(roomnames[[#This Row],[EO Std]]=\"yes\",roomnames[[#This Row],[Wall Lab]]+roomnames[[#This Row],[Floor Lab]]+roomnames[[#This Row],[Fet Lab]]+roomnames[[#This Row],[Othr Lab]],0)","v":0},"No","No","No",null,null,null,null,null,null,null,null,null,null,{"$f":"IFERROR(SUM(Table3[[#This Row],[Tile Wide]]*Table3[[#This Row],[Tile High]]),\"\")","v":""},{"$f":"IFERROR(ROUNDUP(SUM(Table3[[#This Row],[Actual W]]/VLOOKUP(AT30,roomnames[],4,0)),0),\"\")","v":""},{"$f":"IFERROR(ROUNDUP(SUM(Table3[[#This Row],[Actual H]]/VLOOKUP(AT30,roomnames[],5,0)),0),\"\")","v":""},{"$f":"(Table3[[#This Row],[Actual W]]*Table3[[#This Row],[Actual H]])/1000000","v":0},{"$f":"IFERROR(ROUNDUP(SUM(Table3[[#This Row],[Rectified]]/VLOOKUP(Table3[[#This Row],[Actual W]],roomnames[],5,0)),0),\"\")","v":""},{"$f":"0","v":0},{"$f":"0","v":0},{"$f":"_xlfn.ISFORMULA(Table3[[#This Row],[Qty Tiles]])","v":true},{"$f":"IF(Table3[[#This Row],[Formula Trap]]=TRUE,1,0)","v":1},{"$f":"0","v":0}]
["515-100-200400","WC Floor",null,null,null,null,"INSTALL BERMUDA GRATE",null,"510-500-100100",null,"EA",null,{"$f":"CONCATENATE(roomnames[[#This Row],[Where]],\" - \",roomnames[[#This Row],[Type]])","v":" - "},null,null,null,null,{"$f":"SUMIF(Table3[],roomnames[[#This Row],[Locations]],Table3[Qty Tiles])","v":0},{"$f":"IF(roomnames[[#This Row],[2nd Supplier]]=\"No\",$H$9,\"\")","v":26.95},{"$f":"IF(roomnames[[#This Row],[2nd Supplier]]=\"Yes\",$H$10,\"\")","v":""},{"$f":"IF(roomnames[[#This Row],[2nd Supplier]]=\"no\",      SUM((roomnames[[#This Row],[Wall Supply in m2]]+roomnames[[#This Row],[Floor suply in m2]]+roomnames[[#This Row],[Feat supply in m2]]+roomnames[[#This Row],[other supply in m2]])*roomnames[[#This Row],[1st S/Cost]]),\nIF(roomnames[[#This Row],[2nd Supplier]]=\"yes\",   0))","v":0},{"$f":"IF(roomnames[[#This Row],[2nd Supplier]]=\"Yes\",      SUM((roomnames[[#This Row],[Wall Supply in m2]]+roomnames[[#This Row],[Floor suply in m2]]+roomnames[[#This Row],[Feat supply in m2]]+roomnames[[#This Row],[other supply in m2]])*roomnames[[#This Row],[2nd S/Cost]]),\nIF(roomnames[[#This Row],[2nd Supplier]]=\"No\",   0))","v":0},{"$f":"IF(roomnames[[#This Row],[Type]]=$G$12,   SUMIF(Table3[],roomnames[[#This Row],[Locations]],Table3[Labour]),0)","v":0},{"$f":"IF(roomnames[[#This Row],[Type]]=$G$13,   SUMIF(Table3[],roomnames[[#This Row],[Locations]],Table3[Labour]),0)","v":0},{"$f":"IF(roomnames[[#This Row],[Type]]=$G$14,   SUMIF(Table3[],roomnames[[#This Row],[Locations]],Table3[Labour]),0)","v":0},{"$f":"IF(roomnames[[#This Row],[Type]]=$G$15,   SUMIF(Table3[],roomnames[[#This Row],[Locations]],Table3[Labour]),0)","v":0},null,{"$f":"IF(roomnames[[#This Row],[Type]]=$G$12,roomnames[[#This Row],[Count Tiles]],0)","v":0},{"$f":"IF(roomnames[[#This Row],[Type]]=$G$13,roomnames[[#This Row],[Count Tiles]],0)","v":0},{"$f":"IF(roomnames[[#This Row],[Type]]=$G$14,roomnames[[#This Row],[Count Tiles]],0)","v":0},{"$f":"IF(roomnames[[#This Row],[Type]]=$G$15,roomnames[[#This Row],[Count Tiles]],0)","v":0},{"$f":"IF(roomnames[[#This Row],[Wall tile qty]]>0,                   SUM(roomnames[[#This Row],[Count Tiles]]*                   ((roomnames[[#This Row],[Tile Width]]*roomnames[[#This Row],[Tile Height]])))            /1000000,0)","v":0},{"$f":"IF(roomnames[[#This Row],[Floor tile qty]]>0.001,SUM(roomnames[[#This Row],[Count Tiles]]*(roomnames[[#This Row],[Tile Width]]*roomnames[[#This Row],[Tile Height]]))/1000000,0)","v":0},{"$f":"IF(roomnames[[#This Row],[Fet tile qty]]>0.001,SUM(roomnames[[#This Row],[Count Tiles]]*(roomnames[[#This Row],[Tile Width]]*roomnames[[#This Row],[Tile Height]]))/1000000,)","v":0},{"$f":"IF(roomnames[[#This Row],[Other tile qty]]>0.001,SUM(roomnames[[#This Row],[Count Tiles]]*(roomnames[[#This Row],[Tile Width]]*roomnames[[#This Row],[Tile Height]]))/1000000,0)","v":0},null,null,{"$f":"IF(roomnames[[#This Row],[Porcl]]=\"yes\",roomnames[[#This Row],[Wall Lab]]+roomnames[[#This Row],[Floor Lab]]+roomnames[[#This Row],[Fet Lab]]+roomnames[[#This Row],[Othr Lab]]+roomnames[[#This Row],[\"-------\"]],0)","v":0},{"$f":"IF(roomnames[[#This Row],[EO Std]]=\"yes\",roomnames[[#This Row],[Wall Lab]]+roomnames[[#This Row],[Floor Lab]]+roomnames[[#This Row],[Fet Lab]]+roomnames[[#This Row],[Othr Lab]],0)","v":0},"No","No","No",null,null,null,null,null,null,null,null,null,null,{"$f":"IFERROR(SUM(Table3[[#This Row],[Tile Wide]]*Table3[[#This Row],[Tile High]]),\"\")","v":""},{"$f":"IFERROR(ROUNDUP(SUM(Table3[[#This Row],[Actual W]]/VLOOKUP(AT31,roomnames[],4,0)),0),\"\")","v":""},{"$f":"IFERROR(ROUNDUP(SUM(Table3[[#This Row],[Actual H]]/VLOOKUP(AT31,roomnames[],5,0)),0),\"\")","v":""},{"$f":"(Table3[[#This Row],[Actual W]]*Table3[[#This Row],[Actual H]])/1000000","v":0},{"$f":"IFERROR(ROUNDUP(SUM(Table3[[#This Row],[Rectified]]/VLOOKUP(Table3[[#This Row],[Actual W]],roomnames[],5,0)),0),\"\")","v":""},{"$f":"0","v":0},{"$f":"0","v":0},{"$f":"_xlfn.ISFORMULA(Table3[[#This Row],[Qty Tiles]])","v":true},{"$f":"IF(Table3[[#This Row],[Formula Trap]]=TRUE,1,0)","v":1},{"$f":"0","v":0}]
[{"$f":"SUM(C30:C32)","v":0},null,null,null,null,null,"INSTALL CHANNEL GRATE",null,"510-500-100110",null,"EA",null,{"$f":"CONCATENATE(roomnames[[#This Row],[Where]],\" - \",roomnames[[#This Row],[Type]])","v":" - "},null,null,null,null,null,25.95,null,{"$f":"IF(roomnames[[#This Row],[2nd Supplier]]=\"no\",      SUM((roomnames[[#This Row],[Wall Supply in m2]]+roomnames[[#This Row],[Floor suply in m2]]+roomnames[[#This Row],[Feat supply in m2]]+roomnames[[#This Row],[other supply in m2]])*roomnames[[#This Row],[1st S/Cost]]),\nIF(roomnames[[#This Row],[2nd Supplier]]=\"yes\",   0))","v":0},null,null,null,null,null,null,null,null,null,null,null,null,null,null,null,null,{"$f":"IF(roomnames[[#This Row],[Porcl]]=\"yes\",roomnames[[#This Row],[Wall Lab]]+roomnames[[#This Row],[Floor Lab]]+roomnames[[#This Row],[Fet Lab]]+roomnames[[#This Row],[Othr Lab]]+roomnames[[#This Row],[\"-------\"]],0)","v":0},{"$f":"IF(roomnames[[#This Row],[EO Std]]=\"yes\",roomnames[[#This Row],[Wall Lab]]+roomnames[[#This Row],[Floor Lab]]+roomnames[[#This Row],[Fet Lab]]+roomnames[[#This Row],[Othr Lab]],0)","v":0},"No","No","No",null,null,null,null,null,null,null,null,null,null,{"$f":"IFERROR(SUM(Table3[[#This Row],[Tile Wide]]*Table3[[#This Row],[Tile High]]),\"\")","v":""},{"$f":"IFERROR(ROUNDUP(SUM(Table3[[#This Row],[Actual W]]/VLOOKUP(AT32,roomnames[],4,0)),0),\"\")","v":""},{"$f":"IFERROR(ROUNDUP(SUM(Table3[[#This Row],[Actual H]]/VLOOKUP(AT32,roomnames[],5,0)),0),\"\")","v":""},{"$f":"(Table3[[#This Row],[Actual W]]*Table3[[#This Row],[Actual H]])/1000000","v":0},{"$f":"IFERROR(ROUNDUP(SUM(Table3[[#This Row],[Rectified]]/VLOOKUP(Table3[[#This Row],[Actual W]],roomnames[],5,0)),0),\"\")","v":""},{"$f":"0","v":0},{"$f":"0","v":0},{"$f":"_xlfn.ISFORMULA(Table3[[#This Row],[Qty Tiles]])","v":true},{"$f":"IF(Table3[[#This Row],[Formula Trap]]=TRUE,1,0)","v":1},{"$f":"0","v":0}]
["515-100-200300",null,null,null,null,null,"INSTALL CHANNEL GRATE/insert",null,"510-500-100120",null,"EA",null,{"$f":"CONCATENATE(roomnames[[#This Row],[Where]],\" - \",roomnames[[#This Row],[Type]])","v":" - "},null,null,null,null,{"$f":"SUMIF(Table3[],roomnames[[#This Row],[Locations]],Table3[Qty Tiles])","v":0},{"$f":"IF(roomnames[[#This Row],[2nd Supplier]]=\"No\",$H$9,\"\")","v":26.95},{"$f":"IF(roomnames[[#This Row],[2nd Supplier]]=\"Yes\",$H$10,\"\")","v":""},{"$f":"IF(roomnames[[#This Row],[2nd Supplier]]=\"no\",      SUM((roomnames[[#This Row],[Wall Supply in m2]]+roomnames[[#This Row],[Floor suply in m2]]+roomnames[[#This Row],[Feat supply in m2]]+roomnames[[#This Row],[other supply in m2]])*roomnames[[#This Row],[1st S/Cost]]),\nIF(roomnames[[#This Row],[2nd Supplier]]=\"yes\",   0))","v":0},{"$f":"IF(roomnames[[#This Row],[2nd Supplier]]=\"Yes\",      SUM((roomnames[[#This Row],[Wall Supply in m2]]+roomnames[[#This Row],[Floor suply in m2]]+roomnames[[#This Row],[Feat supply in m2]]+roomnames[[#This Row],[other supply in m2]])*roomnames[[#This Row],[2nd S/Cost]]),\nIF(roomnames[[#This Row],[2nd Supplier]]=\"No\",   0))","v":0},{"$f":"IF(roomnames[[#This Row],[Type]]=$G$12,   SUMIF(Table3[],roomnames[[#This Row],[Locations]],Table3[Labour]),0)","v":0},{"$f":"IF(roomnames[[#This Row],[Type]]=$G$13,   SUMIF(Table3[],roomnames[[#This Row],[Locations]],Table3[Labour]),0)","v":0},{"$f":"IF(roomnames[[#This Row],[Type]]=$G$14,   SUMIF(Table3[],roomnames[[#This Row],[Locations]],Table3[Labour]),0)","v":0},{"$f":"IF(roomnames[[#This Row],[Type]]=$G$15,   SUMIF(Table3[],roomnames[[#This Row],[Locations]],Table3[Labour]),0)","v":0},{"$f":"+roomnames[[#This Row],[Wall Lab]]+roomnames[[#This Row],[Floor Lab]]+roomnames[[#This Row],[Fet Lab]]+roomnames[[#This Row],[Othr Lab]]","v":0},{"$f":"IF(roomnames[[#This Row],[Type]]=$G$12,roomnames[[#This Row],[Count Tiles]],0)","v":0},{"$f":"IF(roomnames[[#This Row],[Type]]=$G$13,roomnames[[#This Row],[Count Tiles]],0)","v":0},{"$f":"IF(roomnames[[#This Row],[Type]]=$G$14,roomnames[[#This Row],[Count Tiles]],0)","v":0},{"$f":"IF(roomnames[[#This Row],[Type]]=$G$15,roomnames[[#This Row],[Count Tiles]],0)","v":0},{"$f":"IF(roomnames[[#This Row],[Wall tile qty]]>0,                   SUM(roomnames[[#This Row],[Count Tiles]]*                   ((roomnames[[#This Row],[Tile Width]]*roomnames[[#This Row],[Tile Height]])))            /1000000,0)","v":0},{"$f":"IF(roomnames[[#This Row],[Floor tile qty]]>0.001,SUM(roomnames[[#This Row],[Count Tiles]]*(roomnames[[#This Row],[Tile Width]]*roomnames[[#This Row],[Tile Height]]))/1000000,0)","v":0},{"$f":"IF(roomnames[[#This Row],[Fet tile qty]]>0.001,SUM(roomnames[[#This Row],[Count Tiles]]*(roomnames[[#This Row],[Tile Width]]*roomnames[[#This Row],[Tile Height]]))/1000000,)","v":0},{"$f":"IF(roomnames[[#This Row],[Other tile qty]]>0.001,SUM(roomnames[[#This Row],[Count Tiles]]*(roomnames[[#This Row],[Tile Width]]*roomnames[[#This Row],[Tile Height]]))/1000000,0)","v":0},null,{"$f":"IF(roomnames[[#This Row],[EO Std]]=\"yes\",roomnames[[#This Row],[2nd S/Total]], 0)","v":0},{"$f":"IF(roomnames[[#This Row],[Porcl]]=\"yes\",roomnames[[#This Row],[Wall Lab]]+roomnames[[#This Row],[Floor Lab]]+roomnames[[#This Row],[Fet Lab]]+roomnames[[#This Row],[Othr Lab]]+roomnames[[#This Row],[\"-------\"]],0)","v":0},{"$f":"IF(roomnames[[#This Row],[EO Std]]=\"yes\",roomnames[[#This Row],[Wall Lab]]+roomnames[[#This Row],[Floor Lab]]+roomnames[[#This Row],[Fet Lab]]+roomnames[[#This Row],[Othr Lab]],0)","v":0},"No","No","No",null,null,null,null,null,null,null,null,null,null,{"$f":"IFERROR(SUM(Table3[[#This Row],[Tile Wide]]*Table3[[#This Row],[Tile High]]),\"\")","v":""},{"$f":"IFERROR(ROUNDUP(SUM(Table3[[#This Row],[Actual W]]/VLOOKUP(AT33,roomnames[],4,0)),0),\"\")","v":""},{"$f":"IFERROR(ROUNDUP(SUM(Table3[[#This Row],[Actual H]]/VLOOKUP(AT33,roomnames[],5,0)),0),\"\")","v":""},{"$f":"(Table3[[#This Row],[Actual W]]*Table3[[#This Row],[Actual H]])/1000000","v":0},{"$f":"IFERROR(ROUNDUP(SUM(Table3[[#This Row],[Rectified]]/VLOOKUP(Table3[[#This Row],[Actual W]],roomnames[],5,0)),0),\"\")","v":""},{"$f":"0","v":0},{"$f":"0","v":0},{"$f":"_xlfn.ISFORMULA(Table3[[#This Row],[Qty Tiles]])","v":true},{"$f":"IF(Table3[[#This Row],[Formula Trap]]=TRUE,1,0)","v":1},{"$f":"0","v":0}]
[{"$f":"C14","v":0},"Floor Waterproofing",null,"m2",null,null,"VANITY DEDUCTION",null,null,null,"m2",null,null,null,null,null,null,null,null,null,null,null,null,null,null,null,null,null,null,null,null,null,null,null,null,null,null,null,null,null,null,null,null,null,null,null,null,null,null,null,null,null,{"$f":"IFERROR(SUM(Table3[[#This Row],[Tile Wide]]*Table3[[#This Row],[Tile High]]),\"\")","v":""},{"$f":"IFERROR(ROUNDUP(SUM(Table3[[#This Row],[Actual W]]/VLOOKUP(AT34,roomnames[],4,0)),0),\"\")","v":""},{"$f":"IFERROR(ROUNDUP(SUM(Table3[[#This Row],[Actual H]]/VLOOKUP(AT34,roomnames[],5,0)),0),\"\")","v":""},{"$f":"(Table3[[#This Row],[Actual W]]*Table3[[#This Row],[Actual H]])/1000000","v":0},{"$f":"IFERROR(ROUNDUP(SUM(Table3[[#This Row],[Rectified]]/VLOOKUP(Table3[[#This Row],[Actual W]],roomnames[],5,0)),0),\"\")","v":""},{"$f":"0","v":0},{"$f":"0","v":0},{"$f":"_xlfn.ISFORMULA(Table3[[#This Row],[Qty Tiles]])","v":true},{"$f":"IF(Table3[[#This Row],[Formula Trap]]=TRUE,1,0)","v":1},{"$f":"0","v":0}]
["515-100-200300",null,null,null,null,null,null,null,null,null,null,null,null,null,null,null,null,null,null,null,null,null,null,null,null,null,null,null,null,null,null,null,null,null,null,null,null,null,null,null,null,null,null,null,null,null,null,null,null,null,null,null,{"$f":"IFERROR(SUM(Table3[[#This Row],[Tile Wide]]*Table3[[#This Row],[Tile High]]),\"\")","v":""},{"$f":"IFERROR(ROUNDUP(SUM(Table3[[#This Row],[Actual W]]/VLOOKUP(AT35,roomnames[],4,0)),0),\"\")","v":""},{"$f":"IFERROR(ROUNDUP(SUM(Table3[[#This Row],[Actual H]]/VLOOKUP(AT35,roomnames[],5,0)),0),\"\")","v":""},{"$f":"(Table3[[#This Row],[Actual W]]*Table3[[#This Row],[Actual H]])/1000000","v":0},{"$f":"IFERROR(ROUNDUP(SUM(Table3[[#This Row],[Rectified]]/VLOOKUP(Table3[[#This Row],[Actual W]],roomnames[],5,0)),0),\"\")","v":""},{"$f":"0","v":0},{"$f":"0","v":0},{"$f":"_xlfn.ISFORMULA(Table3[[#This Row],[Qty Tiles]])","v":true},{"$f":"IF(Table3[[#This Row],[Formula Trap]]=TRUE,1,0)","v":1},{"$f":"0","v":0}]
[{"$f":"C34-H34","v":0},null,null,null,null,null,null,null,null,null,null,null,null,null,null,null,null,null,null,null,null,null,null,null,null,null,null,null,null,null,null,null,null,null,null,null,null,null,null,null,null,null,null,null,null,null,null,null,null,null,null,null,{"$f":"IFERROR(SUM(Table3[[#This Row],[Tile Wide]]*Table3[[#This Row],[Tile High]]),\"\")","v":""},{"$f":"IFERROR(ROUNDUP(SUM(Table3[[#This Row],[Actual W]]/VLOOKUP(AT36,roomnames[],4,0)),0),\"\")","v":""},{"$f":"IFERROR(ROUNDUP(SUM(Table3[[#This Row],[Actual H]]/VLOOKUP(AT36,roomnames[],5,0)),0),\"\")","v":""},{"$f":"(Table3[[#This Row],[Actual W]]*Table3[[#This Row],[Actual H]])/1000000","v":0},{"$f":"IFERROR(ROUNDUP(SUM(Table3[[#This Row],[Rectified]]/VLOOKUP(Table3[[#This Row],[Actual W]],roomnames[],5,0)),0),\"\")","v":""},{"$f":"0","v":0},{"$f":"0","v":0},{"$f":"_xlfn.ISFORMULA(Table3[[#This Row],[Qty Tiles]])","v":true},{"$f":"IF(Table3[[#This Row],[Formula Trap]]=TRUE,1,0)","v":1},{"$f":"0","v":0}]
[null,null,null,null,null,null,null,null,null,null,null,null,null,null,null,null,null,null,null,null,null,null,null,null,null,null,null,null,null,null,null,null,null,null,null,null,null,null,null,null,null,null,null,null,null,null,null,null,null,null,null,null,{"$f":"IFERROR(SUM(Table3[[#This Row],[Tile Wide]]*Table3[[#This Row],[Tile High]]),\"\")","v":""},{"$f":"IFERROR(ROUNDUP(SUM(Table3[[#This Row],[Actual W]]/VLOOKUP(AT37,roomnames[],4,0)),0),\"\")","v":""},{"$f":"IFERROR(ROUNDUP(SUM(Table3[[#This Row],[Actual H]]/VLOOKUP(AT37,roomnames[],5,0)),0),\"\")","v":""},{"$f":"(Table3[[#This Row],[Actual W]]*Table3[[#This Row],[Actual H]])/1000000","v":0},{"$f":"IFERROR(ROUNDUP(SUM(Table3[[#This Row],[Rectified]]/VLOOKUP(Table3[[#This Row],[Actual W]],roomnames[],5,0)),0),\"\")","v":""},{"$f":"0","v":0},{"$f":"0","v":0},{"$f":"_xlfn.ISFORMULA(Table3[[#This Row],[Qty Tiles]])","v":true},{"$f":"IF(Table3[[#This Row],[Formula Trap]]=TRUE,1,0)","v":1},{"$f":"0","v":0}]
[null,null,null,null,null,null,null,null,null,null,null,null,null,null,null,null,null,null,null,null,null,null,null,null,null,null,null,null,null,null,null,null,null,null,null,null,null,null,null,null,null,null,null,null,null,null,null,null,null,null,null,null,{"$f":"IFERROR(SUM(Table3[[#This Row],[Tile Wide]]*Table3[[#This Row],[Tile High]]),\"\")","v":""},{"$f":"IFERROR(ROUNDUP(SUM(Table3[[#This Row],[Actual W]]/VLOOKUP(AT38,roomnames[],4,0)),0),\"\")","v":""},{"$f":"IFERROR(ROUNDUP(SUM(Table3[[#This Row],[Actual H]]/VLOOKUP(AT38,roomnames[],5,0)),0),\"\")","v":""},{"$f":"(Table3[[#This Row],[Actual W]]*Table3[[#This Row],[Actual H]])/1000000","v":0},{"$f":"IFERROR(ROUNDUP(SUM(Table3[[#This Row],[Rectified]]/VLOOKUP(Table3[[#This Row],[Actual W]],roomnames[],5,0)),0),\"\")","v":""},{"$f":"0","v":0},{"$f":"0","v":0},{"$f":"_xlfn.ISFORMULA(Table3[[#This Row],[Qty Tiles]])","v":true},{"$f":"IF(Table3[[#This Row],[Formula Trap]]=TRUE,1,0)","v":1},{"$f":"0","v":0}]
[null,null,null,null,null,null,null,null,null,null,null,null,null,null,null,null,null,null,null,null,null,null,null,null,null,null,null,null,null,null,null,null,null,null,null,null,null,null,null,null,null,null,null,null,null,null,null,null,null,null,null,null,{"$f":"IFERROR(SUM(Table3[[#This Row],[Tile Wide]]*Table3[[#This Row],[Tile High]]),\"\")","v":""},{"$f":"IFERROR(ROUNDUP(SUM(Table3[[#This Row],[Actual W]]/VLOOKUP(AT39,roomnames[],4,0)),0),\"\")","v":""},{"$f":"IFERROR(ROUNDUP(SUM(Table3[[#This Row],[Actual H]]/VLOOKUP(AT39,roomnames[],5,0)),0),\"\")","v":""},{"$f":"(Table3[[#This Row],[Actual W]]*Table3[[#This Row],[Actual H]])/1000000","v":0},{"$f":"IFERROR(ROUNDUP(SUM(Table3[[#This Row],[Rectified]]/VLOOKUP(Table3[[#This Row],[Actual W]],roomnames[],5,0)),0),\"\")","v":""},{"$f":"0","v":0},{"$f":"0","v":0},{"$f":"_xlfn.ISFORMULA(Table3[[#This Row],[Qty Tiles]])","v":true},{"$f":"IF(Table3[[#This Row],[Formula Trap]]=TRUE,1,0)","v":1},{"$f":"0","v":0}]
[null,null,null,null,null,null,null,null,null,null,null,null,null,null,null,null,null,null,null,null,null,null,null,null,null,null,null,null,null,null,null,null,null,null,null,null,null,null,null,null,null,null,null,null,null,null,null,null,null,null,null,null,{"$f":"IFERROR(SUM(Table3[[#This Row],[Tile Wide]]*Table3[[#This Row],[Tile High]]),\"\")","v":""},{"$f":"IFERROR(ROUNDUP(SUM(Table3[[#This Row],[Actual W]]/VLOOKUP(AT40,roomnames[],4,0)),0),\"\")","v":""},{"$f":"IFERROR(ROUNDUP(SUM(Table3[[#This Row],[Actual H]]/VLOOKUP(AT40,roomnames[],5,0)),0),\"\")","v":""},{"$f":"(Table3[[#This Row],[Actual W]]*Table3[[#This Row],[Actual H]])/1000000","v":0},{"$f":"IFERROR(ROUNDUP(SUM(Table3[[#This Row],[Rectified]]/VLOOKUP(Table3[[#This Row],[Actual W]],roomnames[],5,0)),0),\"\")","v":""},{"$f":"0","v":0},{"$f":"0","v":0},{"$f":"_xlfn.ISFORMULA(Table3[[#This Row],[Qty Tiles]])","v":true},{"$f":"IF(Table3[[#This Row],[Formula Trap]]=TRUE,1,0)","v":1},{"$f":"0","v":0}]
[null,null,null,null,null,null,null,null,null,null,null,null,null,null,null,null,null,null,null,null,null,null,null,null,null,null,null,null,null,null,null,null,null,null,null,null,null,null,null,null,null,null,null,null,null,null,null,null,null,null,null,null,{"$f":"IFERROR(SUM(Table3[[#This Row],[Tile Wide]]*Table3[[#This Row],[Tile High]]),\"\")","v":""},{"$f":"IFERROR(ROUNDUP(SUM(Table3[[#This Row],[Actual W]]/VLOOKUP(AT41,roomnames[],4,0)),0),\"\")","v":""},{"$f":"IFERROR(ROUNDUP(SUM(Table3[[#This Row],[Actual H]]/VLOOKUP(AT41,roomnames[],5,0)),0),\"\")","v":""},{"$f":"(Table3[[#This Row],[Actual W]]*Table3[[#This Row],[Actual H]])/1000000","v":0},{"$f":"IFERROR(ROUNDUP(SUM(Table3[[#This Row],[Rectified]]/VLOOKUP(Table3[[#This Row],[Actual W]],roomnames[],5,0)),0),\"\")","v":""},{"$f":"0","v":0},{"$f":"0","v":0},{"$f":"_xlfn.ISFORMULA(Table3[[#This Row],[Qty Tiles]])","v":true},{"$f":"IF(Table3[[#This Row],[Formula Trap]]=TRUE,1,0)","v":1},{"$f":"0","v":0}]
[null,null,null,null,null,null,null,null,null,null,null,null,null,null,null,null,null,null,null,null,null,null,null,null,null,null,null,null,null,null,null,null,null,null,null,null,null,null,null,null,null,null,null,null,null,null,null,null,null,null,null,null,{"$f":"IFERROR(SUM(Table3[[#This Row],[Tile Wide]]*Table3[[#This Row],[Tile High]]),\"\")","v":""},{"$f":"IFERROR(ROUNDUP(SUM(Table3[[#This Row],[Actual W]]/VLOOKUP(AT42,roomnames[],4,0)),0),\"\")","v":""},{"$f":"IFERROR(ROUNDUP(SUM(Table3[[#This Row],[Actual H]]/VLOOKUP(AT42,roomnames[],5,0)),0),\"\")","v":""},{"$f":"(Table3[[#This Row],[Actual W]]*Table3[[#This Row],[Actual H]])/1000000","v":0},{"$f":"IFERROR(ROUNDUP(SUM(Table3[[#This Row],[Rectified]]/VLOOKUP(Table3[[#This Row],[Actual W]],roomnames[],5,0)),0),\"\")","v":""},{"$f":"0","v":0},{"$f":"0","v":0},{"$f":"_xlfn.ISFORMULA(Table3[[#This Row],[Qty Tiles]])","v":true},{"$f":"IF(Table3[[#This Row],[Formula Trap]]=TRUE,1,0)","v":1},{"$f":"0","v":0}]
[null,null,null,null,null,null,null,null,null,null,null,null,null,null,null,null,null,null,null,null,null,null,null,null,null,null,null,null,null,null,null,null,null,null,null,null,null,null,null,null,null,null,null,null,null,null,null,null,null,null,null,null,{"$f":"IFERROR(SUM(Table3[[#This Row],[Tile Wide]]*Table3[[#This Row],[Tile High]]),\"\")","v":""},{"$f":"IFERROR(ROUNDUP(SUM(Table3[[#This Row],[Actual W]]/VLOOKUP(AT43,roomnames[],4,0)),0),\"\")","v":""},{"$f":"IFERROR(ROUNDUP(SUM(Table3[[#This Row],[Actual H]]/VLOOKUP(AT43,roomnames[],5,0)),0),\"\")","v":""},{"$f":"(Table3[[#This Row],[Actual W]]*Table3[[#This Row],[Actual H]])/1000000","v":0},{"$f":"IFERROR(ROUNDUP(SUM(Table3[[#This Row],[Rectified]]/VLOOKUP(Table3[[#This Row],[Actual W]],roomnames[],5,0)),0),\"\")","v":""},{"$f":"0","v":0},{"$f":"0","v":0},{"$f":"_xlfn.ISFORMULA(Table3[[#This Row],[Qty Tiles]])","v":true},{"$f":"IF(Table3[[#This Row],[Formula Trap]]=TRUE,1,0)","v":1},{"$f":"0","v":0}]
[null,null,null,null,null,null,null,null,null,null,null,null,null,null,null,null,null,null,null,null,null,null,null,null,null,null,null,null,null,null,null,null,null,null,null,null,null,null,null,null,null,null,null,null,null,null,null,null,null,null,null,null,{"$f":"IFERROR(SUM(Table3[[#This Row],[Tile Wide]]*Table3[[#This Row],[Tile High]]),\"\")","v":""},{"$f":"IFERROR(ROUNDUP(SUM(Table3[[#This Row],[Actual W]]/VLOOKUP(AT44,roomnames[],4,0)),0),\"\")","v":""},{"$f":"IFERROR(ROUNDUP(SUM(Table3[[#This Row],[Actual H]]/VLOOKUP(AT44,roomnames[],5,0)),0),\"\")","v":""},{"$f":"(Table3[[#This Row],[Actual W]]*Table3[[#This Row],[Actual H]])/1000000","v":0},{"$f":"IFERROR(ROUNDUP(SUM(Table3[[#This Row],[Rectified]]/VLOOKUP(Table3[[#This Row],[Actual W]],roomnames[],5,0)),0),\"\")","v":""},{"$f":"0","v":0},{"$f":"0","v":0},{"$f":"_xlfn.ISFORMULA(Table3[[#This Row],[Qty Tiles]])","v":true},{"$f":"IF(Table3[[#This Row],[Formula Trap]]=TRUE,1,0)","v":1},{"$f":"0","v":0}]
[null,null,null,null,null,null,null,null,null,null,null,null,null,null,null,null,null,null,null,null,null,null,null,null,null,null,null,null,null,null,null,null,null,null,null,null,null,null,null,null,null,null,null,null,null,null,null,null,null,null,null,null,{"$f":"IFERROR(SUM(Table3[[#This Row],[Tile Wide]]*Table3[[#This Row],[Tile High]]),\"\")","v":""},{"$f":"IFERROR(ROUNDUP(SUM(Table3[[#This Row],[Actual W]]/VLOOKUP(AT45,roomnames[],4,0)),0),\"\")","v":""},{"$f":"IFERROR(ROUNDUP(SUM(Table3[[#This Row],[Actual H]]/VLOOKUP(AT45,roomnames[],5,0)),0),\"\")","v":""},{"$f":"(Table3[[#This Row],[Actual W]]*Table3[[#This Row],[Actual H]])/1000000","v":0},{"$f":"IFERROR(ROUNDUP(SUM(Table3[[#This Row],[Rectified]]/VLOOKUP(Table3[[#This Row],[Actual W]],roomnames[],5,0)),0),\"\")","v":""},{"$f":"0","v":0},{"$f":"0","v":0},{"$f":"_xlfn.ISFORMULA(Table3[[#This Row],[Qty Tiles]])","v":true},{"$f":"IF(Table3[[#This Row],[Formula Trap]]=TRUE,1,0)","v":1},{"$f":"0","v":0}]
[null,null,null,null,null,null,null,null,null,null,null,null,null,null,null,null,null,null,null,null,null,null,null,null,null,null,null,null,null,null,null,null,null,null,null,null,null,null,null,null,null,null,null,null,null,null,null,null,null,null,null,null,{"$f":"IFERROR(SUM(Table3[[#This Row],[Tile Wide]]*Table3[[#This Row],[Tile High]]),\"\")","v":""},{"$f":"IFERROR(ROUNDUP(SUM(Table3[[#This Row],[Actual W]]/VLOOKUP(AT46,roomnames[],4,0)),0),\"\")","v":""},{"$f":"IFERROR(ROUNDUP(SUM(Table3[[#This Row],[Actual H]]/VLOOKUP(AT46,roomnames[],5,0)),0),\"\")","v":""},{"$f":"(Table3[[#This Row],[Actual W]]*Table3[[#This Row],[Actual H]])/1000000","v":0},{"$f":"IFERROR(ROUNDUP(SUM(Table3[[#This Row],[Rectified]]/VLOOKUP(Table3[[#This Row],[Actual W]],roomnames[],5,0)),0),\"\")","v":""},{"$f":"0","v":0},{"$f":"0","v":0},{"$f":"_xlfn.ISFORMULA(Table3[[#This Row],[Qty Tiles]])","v":true},{"$f":"IF(Table3[[#This Row],[Formula Trap]]=TRUE,1,0)","v":1},{"$f":"0","v":0}]
[null,null,null,null,null,null,null,null,null,null,null,null,null,null,null,null,null,null,null,null,null,null,null,null,null,null,null,null,null,null,null,null,null,null,null,null,null,null,null,null,null,null,null,null,null,null,null,null,null,null,null,null,{"$f":"IFERROR(SUM(Table3[[#This Row],[Tile Wide]]*Table3[[#This Row],[Tile High]]),\"\")","v":""},{"$f":"IFERROR(ROUNDUP(SUM(Table3[[#This Row],[Actual W]]/VLOOKUP(AT47,roomnames[],4,0)),0),\"\")","v":""},{"$f":"IFERROR(ROUNDUP(SUM(Table3[[#This Row],[Actual H]]/VLOOKUP(AT47,roomnames[],5,0)),0),\"\")","v":""},{"$f":"(Table3[[#This Row],[Actual W]]*Table3[[#This Row],[Actual H]])/1000000","v":0},{"$f":"IFERROR(ROUNDUP(SUM(Table3[[#This Row],[Rectified]]/VLOOKUP(Table3[[#This Row],[Actual W]],roomnames[],5,0)),0),\"\")","v":""},{"$f":"0","v":0},{"$f":"0","v":0},{"$f":"_xlfn.ISFORMULA(Table3[[#This Row],[Qty Tiles]])","v":true},{"$f":"IF(Table3[[#This Row],[Formula Trap]]=TRUE,1,0)","v":1},{"$f":"0","v":0}]
[null,null,null,null,null,null,null,null,null,null,null,null,null,null,null,null,null,null,null,null,null,null,null,null,null,null,null,null,null,null,null,null,null,null,null,null,null,null,null,null,null,null,null,null,null,null,null,null,null,null,null,null,{"$f":"IFERROR(SUM(Table3[[#This Row],[Tile Wide]]*Table3[[#This Row],[Tile High]]),\"\")","v":""},{"$f":"IFERROR(ROUNDUP(SUM(Table3[[#This Row],[Actual W]]/VLOOKUP(AT48,roomnames[],4,0)),0),\"\")","v":""},{"$f":"IFERROR(ROUNDUP(SUM(Table3[[#This Row],[Actual H]]/VLOOKUP(AT48,roomnames[],5,0)),0),\"\")","v":""},{"$f":"(Table3[[#This Row],[Actual W]]*Table3[[#This Row],[Actual H]])/1000000","v":0},{"$f":"IFERROR(ROUNDUP(SUM(Table3[[#This Row],[Rectified]]/VLOOKUP(Table3[[#This Row],[Actual W]],roomnames[],5,0)),0),\"\")","v":""},{"$f":"0","v":0},{"$f":"0","v":0},{"$f":"_xlfn.ISFORMULA(Table3[[#This Row],[Qty Tiles]])","v":true},{"$f":"IF(Table3[[#This Row],[Formula Trap]]=TRUE,1,0)","v":1},{"$f":"0","v":0}]
[null,null,null,null,null,null,null,null,null,null,null,null,null,null,null,null,null,null,null,null,null,null,null,null,null,null,null,null,null,null,null,null,null,null,null,null,null,null,null,null,null,null,null,null,null,null,null,null,null,null,null,null,{"$f":"IFERROR(SUM(Table3[[#This Row],[Tile Wide]]*Table3[[#This Row],[Tile High]]),\"\")","v":""},{"$f":"IFERROR(ROUNDUP(SUM(Table3[[#This Row],[Actual W]]/VLOOKUP(AT49,roomnames[],4,0)),0),\"\")","v":""},{"$f":"IFERROR(ROUNDUP(SUM(Table3[[#This Row],[Actual H]]/VLOOKUP(AT49,roomnames[],5,0)),0),\"\")","v":""},{"$f":"(Table3[[#This Row],[Actual W]]*Table3[[#This Row],[Actual H]])/1000000","v":0},{"$f":"IFERROR(ROUNDUP(SUM(Table3[[#This Row],[Rectified]]/VLOOKUP(Table3[[#This Row],[Actual W]],roomnames[],5,0)),0),\"\")","v":""},{"$f":"0","v":0},{"$f":"0","v":0},{"$f":"_xlfn.ISFORMULA(Table3[[#This Row],[Qty Tiles]])","v":true},{"$f":"IF(Table3[[#This Row],[Formula Trap]]=TRUE,1,0)","v":1},{"$f":"0","v":0}]
[null,null,null,null,null,null,null,null,null,null,null,null,null,null,null,null,null,null,null,null,null,null,null,null,null,null,null,null,null,null,null,null,null,null,null,null,null,null,null,null,null,null,null,null,null,null,null,null,null,null,null,null,{"$f":"IFERROR(SUM(Table3[[#This Row],[Tile Wide]]*Table3[[#This Row],[Tile High]]),\"\")","v":""},{"$f":"IFERROR(ROUNDUP(SUM(Table3[[#This Row],[Actual W]]/VLOOKUP(AT50,roomnames[],4,0)),0),\"\")","v":""},{"$f":"IFERROR(ROUNDUP(SUM(Table3[[#This Row],[Actual H]]/VLOOKUP(AT50,roomnames[],5,0)),0),\"\")","v":""},{"$f":"(Table3[[#This Row],[Actual W]]*Table3[[#This Row],[Actual H]])/1000000","v":0},{"$f":"IFERROR(ROUNDUP(SUM(Table3[[#This Row],[Rectified]]/VLOOKUP(Table3[[#This Row],[Actual W]],roomnames[],5,0)),0),\"\")","v":""},{"$f":"0","v":0},{"$f":"0","v":0},{"$f":"_xlfn.ISFORMULA(Table3[[#This Row],[Qty Tiles]])","v":true},{"$f":"IF(Table3[[#This Row],[Formula Trap]]=TRUE,1,0)","v":1},{"$f":"0","v":0}]
[null,null,null,null,null,null,null,null,null,null,null,null,null,null,null,null,null,null,null,null,null,null,null,null,null,null,null,null,null,null,null,null,null,null,null,null,null,null,null,null,null,null,null,null,null,null,null,null,null,null,null,null,{"$f":"IFERROR(SUM(Table3[[#This Row],[Tile Wide]]*Table3[[#This Row],[Tile High]]),\"\")","v":""},{"$f":"IFERROR(ROUNDUP(SUM(Table3[[#This Row],[Actual W]]/VLOOKUP(AT51,roomnames[],4,0)),0),\"\")","v":""},{"$f":"IFERROR(ROUNDUP(SUM(Table3[[#This Row],[Actual H]]/VLOOKUP(AT51,roomnames[],5,0)),0),\"\")","v":""},{"$f":"(Table3[[#This Row],[Actual W]]*Table3[[#This Row],[Actual H]])/1000000","v":0},{"$f":"IFERROR(ROUNDUP(SUM(Table3[[#This Row],[Rectified]]/VLOOKUP(Table3[[#This Row],[Actual W]],roomnames[],5,0)),0),\"\")","v":""},{"$f":"0","v":0},{"$f":"0","v":0},{"$f":"_xlfn.ISFORMULA(Table3[[#This Row],[Qty Tiles]])","v":true},{"$f":"IF(Table3[[#This Row],[Formula Trap]]=TRUE,1,0)","v":1},{"$f":"0","v":0}]
[null,null,null,null,null,null,null,null,null,null,null,null,null,null,null,null,null,null,null,null,null,null,null,null,null,null,null,null,null,null,null,null,null,null,null,null,null,null,null,null,null,null,null,null,null,null,null,null,null,null,null,null,{"$f":"IFERROR(SUM(Table3[[#This Row],[Tile Wide]]*Table3[[#This Row],[Tile High]]),\"\")","v":""},{"$f":"IFERROR(ROUNDUP(SUM(Table3[[#This Row],[Actual W]]/VLOOKUP(AT52,roomnames[],4,0)),0),\"\")","v":""},{"$f":"IFERROR(ROUNDUP(SUM(Table3[[#This Row],[Actual H]]/VLOOKUP(AT52,roomnames[],5,0)),0),\"\")","v":""},{"$f":"(Table3[[#This Row],[Actual W]]*Table3[[#This Row],[Actual H]])/1000000","v":0},{"$f":"IFERROR(ROUNDUP(SUM(Table3[[#This Row],[Rectified]]/VLOOKUP(Table3[[#This Row],[Actual W]],roomnames[],5,0)),0),\"\")","v":""},{"$f":"0","v":0},{"$f":"0","v":0},{"$f":"_xlfn.ISFORMULA(Table3[[#This Row],[Qty Tiles]])","v":true},{"$f":"IF(Table3[[#This Row],[Formula Trap]]=TRUE,1,0)","v":1},{"$f":"0","v":0}]
[null,null,null,null,null,null,null,null,null,null,null,null,null,null,null,null,null,null,null,null,null,null,null,null,null,null,null,null,null,null,null,null,null,null,null,null,null,null,null,null,null,null,null,null,null,null,null,null,null,null,null,null,{"$f":"IFERROR(SUM(Table3[[#This Row],[Tile Wide]]*Table3[[#This Row],[Tile High]]),\"\")","v":""},{"$f":"IFERROR(ROUNDUP(SUM(Table3[[#This Row],[Actual W]]/VLOOKUP(AT53,roomnames[],4,0)),0),\"\")","v":""},{"$f":"IFERROR(ROUNDUP(SUM(Table3[[#This Row],[Actual H]]/VLOOKUP(AT53,roomnames[],5,0)),0),\"\")","v":""},{"$f":"(Table3[[#This Row],[Actual W]]*Table3[[#This Row],[Actual H]])/1000000","v":0},{"$f":"IFERROR(ROUNDUP(SUM(Table3[[#This Row],[Rectified]]/VLOOKUP(Table3[[#This Row],[Actual W]],roomnames[],5,0)),0),\"\")","v":""},{"$f":"0","v":0},{"$f":"0","v":0},{"$f":"_xlfn.ISFORMULA(Table3[[#This Row],[Qty Tiles]])","v":true},{"$f":"IF(Table3[[#This Row],[Formula Trap]]=TRUE,1,0)","v":1},{"$f":"0","v":0}]
[null,null,null,null,null,null,null,null,null,null,null,null,null,null,null,null,null,null,null,null,null,null,null,null,null,null,null,null,null,null,null,null,null,null,null,null,null,null,null,null,null,null,null,null,null,null,null,null,null,null,null,null,{"$f":"IFERROR(SUM(Table3[[#This Row],[Tile Wide]]*Table3[[#This Row],[Tile High]]),\"\")","v":""},{"$f":"IFERROR(ROUNDUP(SUM(Table3[[#This Row],[Actual W]]/VLOOKUP(AT54,roomnames[],4,0)),0),\"\")","v":""},{"$f":"IFERROR(ROUNDUP(SUM(Table3[[#This Row],[Actual H]]/VLOOKUP(AT54,roomnames[],5,0)),0),\"\")","v":""},{"$f":"(Table3[[#This Row],[Actual W]]*Table3[[#This Row],[Actual H]])/1000000","v":0},{"$f":"IFERROR(ROUNDUP(SUM(Table3[[#This Row],[Rectified]]/VLOOKUP(Table3[[#This Row],[Actual W]],roomnames[],5,0)),0),\"\")","v":""},{"$f":"0","v":0},{"$f":"0","v":0},{"$f":"_xlfn.ISFORMULA(Table3[[#This Row],[Qty Tiles]])","v":true},{"$f":"IF(Table3[[#This Row],[Formula Trap]]=TRUE,1,0)","v":1},{"$f":"0","v":0}]
[null,null,null,null,null,null,null,null,null,null,null,null,null,null,null,null,null,null,null,null,null,null,null,null,null,null,null,null,null,null,null,null,null,null,null,null,null,null,null,null,null,null,null,null,null,null,null,null,null,null,null,null,{"$f":"IFERROR(SUM(Table3[[#This Row],[Tile Wide]]*Table3[[#This Row],[Tile High]]),\"\")","v":""},{"$f":"IFERROR(ROUNDUP(SUM(Table3[[#This Row],[Actual W]]/VLOOKUP(AT55,roomnames[],4,0)),0),\"\")","v":""},{"$f":"IFERROR(ROUNDUP(SUM(Table3[[#This Row],[Actual H]]/VLOOKUP(AT55,roomnames[],5,0)),0),\"\")","v":""},{"$f":"(Table3[[#This Row],[Actual W]]*Table3[[#This Row],[Actual H]])/1000000","v":0},{"$f":"IFERROR(ROUNDUP(SUM(Table3[[#This Row],[Rectified]]/VLOOKUP(Table3[[#This Row],[Actual W]],roomnames[],5,0)),0),\"\")","v":""},{"$f":"0","v":0},{"$f":"0","v":0},{"$f":"_xlfn.ISFORMULA(Table3[[#This Row],[Qty Tiles]])","v":true},{"$f":"IF(Table3[[#This Row],[Formula Trap]]=TRUE,1,0)","v":1},{"$f":"0","v":0}]
[null,null,null,null,null,null,null,null,null,null,null,null,null,null,null,null,null,null,null,null,null,null,null,null,null,null,null,null,null,null,null,null,null,null,null,null,null,null,null,null,null,null,null,null,null,null,null,null,null,null,null,null,{"$f":"IFERROR(SUM(Table3[[#This Row],[Tile Wide]]*Table3[[#This Row],[Tile High]]),\"\")","v":""},{"$f":"IFERROR(ROUNDUP(SUM(Table3[[#This Row],[Actual W]]/VLOOKUP(AT56,roomnames[],4,0)),0),\"\")","v":""},{"$f":"IFERROR(ROUNDUP(SUM(Table3[[#This Row],[Actual H]]/VLOOKUP(AT56,roomnames[],5,0)),0),\"\")","v":""},{"$f":"(Table3[[#This Row],[Actual W]]*Table3[[#This Row],[Actual H]])/1000000","v":0},{"$f":"IFERROR(ROUNDUP(SUM(Table3[[#This Row],[Rectified]]/VLOOKUP(Table3[[#This Row],[Actual W]],roomnames[],5,0)),0),\"\")","v":""},{"$f":"0","v":0},{"$f":"0","v":0},{"$f":"_xlfn.ISFORMULA(Table3[[#This Row],[Qty Tiles]])","v":true},{"$f":"IF(Table3[[#This Row],[Formula Trap]]=TRUE,1,0)","v":1},{"$f":"0","v":0}]
[null,null,null,null,null,null,null,null,null,null,null,null,null,null,null,null,null,null,null,null,null,null,null,null,null,null,null,null,null,null,null,null,null,null,null,null,null,null,null,null,null,null,null,null,null,null,null,null,null,null,null,null,{"$f":"IFERROR(SUM(Table3[[#This Row],[Tile Wide]]*Table3[[#This Row],[Tile High]]),\"\")","v":""},{"$f":"IFERROR(ROUNDUP(SUM(Table3[[#This Row],[Actual W]]/VLOOKUP(AT57,roomnames[],4,0)),0),\"\")","v":""},{"$f":"IFERROR(ROUNDUP(SUM(Table3[[#This Row],[Actual H]]/VLOOKUP(AT57,roomnames[],5,0)),0),\"\")","v":""},{"$f":"(Table3[[#This Row],[Actual W]]*Table3[[#This Row],[Actual H]])/1000000","v":0},{"$f":"IFERROR(ROUNDUP(SUM(Table3[[#This Row],[Rectified]]/VLOOKUP(Table3[[#This Row],[Actual W]],roomnames[],5,0)),0),\"\")","v":""},{"$f":"0","v":0},{"$f":"0","v":0},{"$f":"_xlfn.ISFORMULA(Table3[[#This Row],[Qty Tiles]])","v":true},{"$f":"IF(Table3[[#This Row],[Formula Trap]]=TRUE,1,0)","v":1},{"$f":"0","v":0}]
[null,null,null,null,null,null,null,null,null,null,null,null,null,null,null,null,null,null,null,null,null,null,null,null,null,null,null,null,null,null,null,null,null,null,null,null,null,null,null,null,null,null,null,null,null,null,null,null,null,null,null,null,{"$f":"IFERROR(SUM(Table3[[#This Row],[Tile Wide]]*Table3[[#This Row],[Tile High]]),\"\")","v":""},{"$f":"IFERROR(ROUNDUP(SUM(Table3[[#This Row],[Actual W]]/VLOOKUP(AT58,roomnames[],4,0)),0),\"\")","v":""},{"$f":"IFERROR(ROUNDUP(SUM(Table3[[#This Row],[Actual H]]/VLOOKUP(AT58,roomnames[],5,0)),0),\"\")","v":""},{"$f":"(Table3[[#This Row],[Actual W]]*Table3[[#This Row],[Actual H]])/1000000","v":0},{"$f":"IFERROR(ROUNDUP(SUM(Table3[[#This Row],[Rectified]]/VLOOKUP(Table3[[#This Row],[Actual W]],roomnames[],5,0)),0),\"\")","v":""},{"$f":"0","v":0},{"$f":"0","v":0},{"$f":"_xlfn.ISFORMULA(Table3[[#This Row],[Qty Tiles]])","v":true},{"$f":"IF(Table3[[#This Row],[Formula Trap]]=TRUE,1,0)","v":1},{"$f":"0","v":0}]
[null,null,null,null,null,null,null,null,null,null,null,null,null,null,null,null,null,null,null,null,null,null,null,null,null,null,null,null,null,null,null,null,null,null,null,null,null,null,null,null,null,null,null,null,null,null,null,null,null,null,null,null,{"$f":"IFERROR(SUM(Table3[[#This Row],[Tile Wide]]*Table3[[#This Row],[Tile High]]),\"\")","v":""},{"$f":"IFERROR(ROUNDUP(SUM(Table3[[#This Row],[Actual W]]/VLOOKUP(AT59,roomnames[],4,0)),0),\"\")","v":""},{"$f":"IFERROR(ROUNDUP(SUM(Table3[[#This Row],[Actual H]]/VLOOKUP(AT59,roomnames[],5,0)),0),\"\")","v":""},{"$f":"(Table3[[#This Row],[Actual W]]*Table3[[#This Row],[Actual H]])/1000000","v":0},{"$f":"IFERROR(ROUNDUP(SUM(Table3[[#This Row],[Rectified]]/VLOOKUP(Table3[[#This Row],[Actual W]],roomnames[],5,0)),0),\"\")","v":""},{"$f":"0","v":0},{"$f":"0","v":0},{"$f":"_xlfn.ISFORMULA(Table3[[#This Row],[Qty Tiles]])","v":true},{"$f":"IF(Table3[[#This Row],[Formula Trap]]=TRUE,1,0)","v":1},{"$f":"0","v":0}]
[null,null,null,null,null,null,null,null,null,null,null,null,null,null,null,null,null,null,null,null,null,null,null,null,null,null,null,null,null,null,null,null,null,null,null,null,null,null,null,null,null,null,null,null,null,null,null,null,null,null,null,null,{"$f":"IFERROR(SUM(Table3[[#This Row],[Tile Wide]]*Table3[[#This Row],[Tile High]]),\"\")","v":""},{"$f":"IFERROR(ROUNDUP(SUM(Table3[[#This Row],[Actual W]]/VLOOKUP(AT60,roomnames[],4,0)),0),\"\")","v":""},{"$f":"IFERROR(ROUNDUP(SUM(Table3[[#This Row],[Actual H]]/VLOOKUP(AT60,roomnames[],5,0)),0),\"\")","v":""},{"$f":"(Table3[[#This Row],[Actual W]]*Table3[[#This Row],[Actual H]])/1000000","v":0},{"$f":"IFERROR(ROUNDUP(SUM(Table3[[#This Row],[Rectified]]/VLOOKUP(Table3[[#This Row],[Actual W]],roomnames[],5,0)),0),\"\")","v":""},{"$f":"0","v":0},{"$f":"0","v":0},{"$f":"_xlfn.ISFORMULA(Table3[[#This Row],[Qty Tiles]])","v":true},{"$f":"IF(Table3[[#This Row],[Formula Trap]]=TRUE,1,0)","v":1},{"$f":"0","v":0}]
[null,null,null,null,null,null,null,null,null,null,null,null,null,null,null,null,null,null,null,null,null,null,null,null,null,null,null,null,null,null,null,null,null,null,null,null,null,null,null,null,null,null,null,null,null,null,null,null,null,null,null,null,{"$f":"IFERROR(SUM(Table3[[#This Row],[Tile Wide]]*Table3[[#This Row],[Tile High]]),\"\")","v":""},{"$f":"IFERROR(ROUNDUP(SUM(Table3[[#This Row],[Actual W]]/VLOOKUP(AT61,roomnames[],4,0)),0),\"\")","v":""},{"$f":"IFERROR(ROUNDUP(SUM(Table3[[#This Row],[Actual H]]/VLOOKUP(AT61,roomnames[],5,0)),0),\"\")","v":""},{"$f":"(Table3[[#This Row],[Actual W]]*Table3[[#This Row],[Actual H]])/1000000","v":0},{"$f":"IFERROR(ROUNDUP(SUM(Table3[[#This Row],[Rectified]]/VLOOKUP(Table3[[#This Row],[Actual W]],roomnames[],5,0)),0),\"\")","v":""},{"$f":"0","v":0},{"$f":"0","v":0},{"$f":"_xlfn.ISFORMULA(Table3[[#This Row],[Qty Tiles]])","v":true},{"$f":"IF(Table3[[#This Row],[Formula Trap]]=TRUE,1,0)","v":1},{"$f":"0","v":0}]
[null,null,null,null,null,null,null,null,null,null,null,null,null,null,null,null,null,null,null,null,null,null,null,null,null,null,null,null,null,null,null,null,null,null,null,null,null,null,null,null,null,null,null,null,null,null,null,null,null,null,null,null,{"$f":"IFERROR(SUM(Table3[[#This Row],[Tile Wide]]*Table3[[#This Row],[Tile High]]),\"\")","v":""},{"$f":"IFERROR(ROUNDUP(SUM(Table3[[#This Row],[Actual W]]/VLOOKUP(AT62,roomnames[],4,0)),0),\"\")","v":""},{"$f":"IFERROR(ROUNDUP(SUM(Table3[[#This Row],[Actual H]]/VLOOKUP(AT62,roomnames[],5,0)),0),\"\")","v":""},{"$f":"(Table3[[#This Row],[Actual W]]*Table3[[#This Row],[Actual H]])/1000000","v":0},{"$f":"IFERROR(ROUNDUP(SUM(Table3[[#This Row],[Rectified]]/VLOOKUP(Table3[[#This Row],[Actual W]],roomnames[],5,0)),0),\"\")","v":""},{"$f":"0","v":0},{"$f":"0","v":0},{"$f":"_xlfn.ISFORMULA(Table3[[#This Row],[Qty Tiles]])","v":true},{"$f":"IF(Table3[[#This Row],[Formula Trap]]=TRUE,1,0)","v":1},{"$f":"0","v":0}]
[null,null,null,null,null,null,null,null,null,null,null,null,null,null,null,null,null,null,null,null,null,null,null,null,null,null,null,null,null,null,null,null,null,null,null,null,null,null,null,null,null,null,null,null,null,null,null,null,null,null,null,null,{"$f":"IFERROR(SUM(Table3[[#This Row],[Tile Wide]]*Table3[[#This Row],[Tile High]]),\"\")","v":""},{"$f":"IFERROR(ROUNDUP(SUM(Table3[[#This Row],[Actual W]]/VLOOKUP(AT63,roomnames[],4,0)),0),\"\")","v":""},{"$f":"IFERROR(ROUNDUP(SUM(Table3[[#This Row],[Actual H]]/VLOOKUP(AT63,roomnames[],5,0)),0),\"\")","v":""},{"$f":"(Table3[[#This Row],[Actual W]]*Table3[[#This Row],[Actual H]])/1000000","v":0},{"$f":"IFERROR(ROUNDUP(SUM(Table3[[#This Row],[Rectified]]/VLOOKUP(Table3[[#This Row],[Actual W]],roomnames[],5,0)),0),\"\")","v":""},{"$f":"0","v":0},{"$f":"0","v":0},{"$f":"_xlfn.ISFORMULA(Table3[[#This Row],[Qty Tiles]])","v":true},{"$f":"IF(Table3[[#This Row],[Formula Trap]]=TRUE,1,0)","v":1},{"$f":"0","v":0}]
[null,null,null,null,null,null,null,null,null,null,null,null,null,null,null,null,null,null,null,null,null,null,null,null,null,null,null,null,null,null,null,null,null,null,null,null,null,null,null,null,null,null,null,null,null,null,null,null,null,null,null,null,{"$f":"IFERROR(SUM(Table3[[#This Row],[Tile Wide]]*Table3[[#This Row],[Tile High]]),\"\")","v":""},{"$f":"IFERROR(ROUNDUP(SUM(Table3[[#This Row],[Actual W]]/VLOOKUP(AT64,roomnames[],4,0)),0),\"\")","v":""},{"$f":"IFERROR(ROUNDUP(SUM(Table3[[#This Row],[Actual H]]/VLOOKUP(AT64,roomnames[],5,0)),0),\"\")","v":""},{"$f":"(Table3[[#This Row],[Actual W]]*Table3[[#This Row],[Actual H]])/1000000","v":0},{"$f":"IFERROR(ROUNDUP(SUM(Table3[[#This Row],[Rectified]]/VLOOKUP(Table3[[#This Row],[Actual W]],roomnames[],5,0)),0),\"\")","v":""},{"$f":"0","v":0},{"$f":"0","v":0},{"$f":"_xlfn.ISFORMULA(Table3[[#This Row],[Qty Tiles]])","v":true},{"$f":"IF(Table3[[#This Row],[Formula Trap]]=TRUE,1,0)","v":1},{"$f":"0","v":0}]
[null,null,null,null,null,null,null,null,null,null,null,null,null,null,null,null,null,null,null,null,null,null,null,null,null,null,null,null,null,null,null,null,null,null,null,null,null,null,null,null,null,null,null,null,null,null,null,null,null,null,null,null,{"$f":"IFERROR(SUM(Table3[[#This Row],[Tile Wide]]*Table3[[#This Row],[Tile High]]),\"\")","v":""},{"$f":"IFERROR(ROUNDUP(SUM(Table3[[#This Row],[Actual W]]/VLOOKUP(AT65,roomnames[],4,0)),0),\"\")","v":""},{"$f":"IFERROR(ROUNDUP(SUM(Table3[[#This Row],[Actual H]]/VLOOKUP(AT65,roomnames[],5,0)),0),\"\")","v":""},{"$f":"(Table3[[#This Row],[Actual W]]*Table3[[#This Row],[Actual H]])/1000000","v":0},{"$f":"IFERROR(ROUNDUP(SUM(Table3[[#This Row],[Rectified]]/VLOOKUP(Table3[[#This Row],[Actual W]],roomnames[],5,0)),0),\"\")","v":""},{"$f":"0","v":0},{"$f":"0","v":0},{"$f":"_xlfn.ISFORMULA(Table3[[#This Row],[Qty Tiles]])","v":true},{"$f":"IF(Table3[[#This Row],[Formula Trap]]=TRUE,1,0)","v":1},{"$f":"0","v":0}]
[null,null,null,null,null,null,null,null,null,null,null,null,null,null,null,null,null,null,null,null,null,null,null,null,null,null,null,null,null,null,null,null,null,null,null,null,null,null,null,null,null,null,null,null,null,null,null,null,null,null,null,null,{"$f":"IFERROR(SUM(Table3[[#This Row],[Tile Wide]]*Table3[[#This Row],[Tile High]]),\"\")","v":""},{"$f":"IFERROR(ROUNDUP(SUM(Table3[[#This Row],[Actual W]]/VLOOKUP(AT66,roomnames[],4,0)),0),\"\")","v":""},{"$f":"IFERROR(ROUNDUP(SUM(Table3[[#This Row],[Actual H]]/VLOOKUP(AT66,roomnames[],5,0)),0),\"\")","v":""},{"$f":"(Table3[[#This Row],[Actual W]]*Table3[[#This Row],[Actual H]])/1000000","v":0},{"$f":"IFERROR(ROUNDUP(SUM(Table3[[#This Row],[Rectified]]/VLOOKUP(Table3[[#This Row],[Actual W]],roomnames[],5,0)),0),\"\")","v":""},{"$f":"0","v":0},{"$f":"0","v":0},{"$f":"_xlfn.ISFORMULA(Table3[[#This Row],[Qty Tiles]])","v":true},{"$f":"IF(Table3[[#This Row],[Formula Trap]]=TRUE,1,0)","v":1},{"$f":"0","v":0}]
[null,null,null,null,null,null,null,null,null,null,null,null,null,null,null,null,null,null,null,null,null,null,null,null,null,null,null,null,null,null,null,null,null,null,null,null,null,null,null,null,null,null,null,null,null,null,null,null,null,null,null,null,{"$f":"IFERROR(SUM(Table3[[#This Row],[Tile Wide]]*Table3[[#This Row],[Tile High]]),\"\")","v":""},{"$f":"IFERROR(ROUNDUP(SUM(Table3[[#This Row],[Actual W]]/VLOOKUP(AT67,roomnames[],4,0)),0),\"\")","v":""},{"$f":"IFERROR(ROUNDUP(SUM(Table3[[#This Row],[Actual H]]/VLOOKUP(AT67,roomnames[],5,0)),0),\"\")","v":""},{"$f":"(Table3[[#This Row],[Actual W]]*Table3[[#This Row],[Actual H]])/1000000","v":0},{"$f":"IFERROR(ROUNDUP(SUM(Table3[[#This Row],[Rectified]]/VLOOKUP(Table3[[#This Row],[Actual W]],roomnames[],5,0)),0),\"\")","v":""},{"$f":"0","v":0},{"$f":"0","v":0},{"$f":"_xlfn.ISFORMULA(Table3[[#This Row],[Qty Tiles]])","v":true},{"$f":"IF(Table3[[#This Row],[Formula Trap]]=TRUE,1,0)","v":1},{"$f":"0","v":0}]
[null,null,null,null,null,null,null,null,null,null,null,null,null,null,null,null,null,null,null,null,null,null,null,null,null,null,null,null,null,null,null,null,null,null,null,null,null,null,null,null,null,null,null,null,null,null,null,null,null,null,null,null,{"$f":"IFERROR(SUM(Table3[[#This Row],[Tile Wide]]*Table3[[#This Row],[Tile High]]),\"\")","v":""},{"$f":"IFERROR(ROUNDUP(SUM(Table3[[#This Row],[Actual W]]/VLOOKUP(AT68,roomnames[],4,0)),0),\"\")","v":""},{"$f":"IFERROR(ROUNDUP(SUM(Table3[[#This Row],[Actual H]]/VLOOKUP(AT68,roomnames[],5,0)),0),\"\")","v":""},{"$f":"(Table3[[#This Row],[Actual W]]*Table3[[#This Row],[Actual H]])/1000000","v":0},{"$f":"IFERROR(ROUNDUP(SUM(Table3[[#This Row],[Rectified]]/VLOOKUP(Table3[[#This Row],[Actual W]],roomnames[],5,0)),0),\"\")","v":""},{"$f":"0","v":0},{"$f":"0","v":0},{"$f":"_xlfn.ISFORMULA(Table3[[#This Row],[Qty Tiles]])","v":true},{"$f":"IF(Table3[[#This Row],[Formula Trap]]=TRUE,1,0)","v":1},{"$f":"0","v":0}]
[null,null,null,null,null,null,null,null,null,null,null,null,null,null,null,null,null,null,null,null,null,null,null,null,null,null,null,null,null,null,null,null,null,null,null,null,null,null,null,null,null,null,null,null,null,null,null,null,null,null,null,null,{"$f":"IFERROR(SUM(Table3[[#This Row],[Tile Wide]]*Table3[[#This Row],[Tile High]]),\"\")","v":""},{"$f":"IFERROR(ROUNDUP(SUM(Table3[[#This Row],[Actual W]]/VLOOKUP(AT69,roomnames[],4,0)),0),\"\")","v":""},{"$f":"IFERROR(ROUNDUP(SUM(Table3[[#This Row],[Actual H]]/VLOOKUP(AT69,roomnames[],5,0)),0),\"\")","v":""},{"$f":"(Table3[[#This Row],[Actual W]]*Table3[[#This Row],[Actual H]])/1000000","v":0},{"$f":"IFERROR(ROUNDUP(SUM(Table3[[#This Row],[Rectified]]/VLOOKUP(Table3[[#This Row],[Actual W]],roomnames[],5,0)),0),\"\")","v":""},{"$f":"0","v":0},{"$f":"0","v":0},{"$f":"_xlfn.ISFORMULA(Table3[[#This Row],[Qty Tiles]])","v":true},{"$f":"IF(Table3[[#This Row],[Formula Trap]]=TRUE,1,0)","v":1},{"$f":"0","v":0}]
[null,null,null,null,null,null,null,null,null,null,null,null,null,null,null,null,null,null,null,null,null,null,null,null,null,null,null,null,null,null,null,null,null,null,null,null,null,null,null,null,null,null,null,null,null,null,null,null,null,null,null,null,{"$f":"IFERROR(SUM(Table3[[#This Row],[Tile Wide]]*Table3[[#This Row],[Tile High]]),\"\")","v":""},{"$f":"IFERROR(ROUNDUP(SUM(Table3[[#This Row],[Actual W]]/VLOOKUP(AT70,roomnames[],4,0)),0),\"\")","v":""},{"$f":"IFERROR(ROUNDUP(SUM(Table3[[#This Row],[Actual H]]/VLOOKUP(AT70,roomnames[],5,0)),0),\"\")","v":""},{"$f":"(Table3[[#This Row],[Actual W]]*Table3[[#This Row],[Actual H]])/1000000","v":0},{"$f":"IFERROR(ROUNDUP(SUM(Table3[[#This Row],[Rectified]]/VLOOKUP(Table3[[#This Row],[Actual W]],roomnames[],5,0)),0),\"\")","v":""},{"$f":"0","v":0},{"$f":"0","v":0},{"$f":"_xlfn.ISFORMULA(Table3[[#This Row],[Qty Tiles]])","v":true},{"$f":"IF(Table3[[#This Row],[Formula Trap]]=TRUE,1,0)","v":1},{"$f":"0","v":0}]
[null,null,null,null,null,null,null,null,null,null,null,null,null,null,null,null,null,null,null,null,null,null,null,null,null,null,null,null,null,null,null,null,null,null,null,null,null,null,null,null,null,null,null,null,null,null,null,null,null,null,null,null,{"$f":"IFERROR(SUM(Table3[[#This Row],[Tile Wide]]*Table3[[#This Row],[Tile High]]),\"\")","v":""},{"$f":"IFERROR(ROUNDUP(SUM(Table3[[#This Row],[Actual W]]/VLOOKUP(AT71,roomnames[],4,0)),0),\"\")","v":""},{"$f":"IFERROR(ROUNDUP(SUM(Table3[[#This Row],[Actual H]]/VLOOKUP(AT71,roomnames[],5,0)),0),\"\")","v":""},{"$f":"(Table3[[#This Row],[Actual W]]*Table3[[#This Row],[Actual H]])/1000000","v":0},{"$f":"IFERROR(ROUNDUP(SUM(Table3[[#This Row],[Rectified]]/VLOOKUP(Table3[[#This Row],[Actual W]],roomnames[],5,0)),0),\"\")","v":""},{"$f":"0","v":0},{"$f":"0","v":0},{"$f":"_xlfn.ISFORMULA(Table3[[#This Row],[Qty Tiles]])","v":true},{"$f":"IF(Table3[[#This Row],[Formula Trap]]=TRUE,1,0)","v":1},{"$f":"0","v":0}]
[null,null,null,null,null,null,null,null,null,null,null,null,null,null,null,null,null,null,null,null,null,null,null,null,null,null,null,null,null,null,null,null,null,null,null,null,null,null,null,null,null,null,null,null,null,null,null,null,null,null,null,null,{"$f":"IFERROR(SUM(Table3[[#This Row],[Tile Wide]]*Table3[[#This Row],[Tile High]]),\"\")","v":""},{"$f":"IFERROR(ROUNDUP(SUM(Table3[[#This Row],[Actual W]]/VLOOKUP(AT72,roomnames[],4,0)),0),\"\")","v":""},{"$f":"IFERROR(ROUNDUP(SUM(Table3[[#This Row],[Actual H]]/VLOOKUP(AT72,roomnames[],5,0)),0),\"\")","v":""},{"$f":"(Table3[[#This Row],[Actual W]]*Table3[[#This Row],[Actual H]])/1000000","v":0},{"$f":"IFERROR(ROUNDUP(SUM(Table3[[#This Row],[Rectified]]/VLOOKUP(Table3[[#This Row],[Actual W]],roomnames[],5,0)),0),\"\")","v":""},{"$f":"0","v":0},{"$f":"0","v":0},{"$f":"_xlfn.ISFORMULA(Table3[[#This Row],[Qty Tiles]])","v":true},{"$f":"IF(Table3[[#This Row],[Formula Trap]]=TRUE,1,0)","v":1},{"$f":"0","v":0}]
[null,null,null,null,null,null,null,null,null,null,null,null,null,null,null,null,null,null,null,null,null,null,null,null,null,null,null,null,null,null,null,null,null,null,null,null,null,null,null,null,null,null,null,null,null,null,null,null,null,null,null,null,{"$f":"IFERROR(SUM(Table3[[#This Row],[Tile Wide]]*Table3[[#This Row],[Tile High]]),\"\")","v":""},{"$f":"IFERROR(ROUNDUP(SUM(Table3[[#This Row],[Actual W]]/VLOOKUP(AT73,roomnames[],4,0)),0),\"\")","v":""},{"$f":"IFERROR(ROUNDUP(SUM(Table3[[#This Row],[Actual H]]/VLOOKUP(AT73,roomnames[],5,0)),0),\"\")","v":""},{"$f":"(Table3[[#This Row],[Actual W]]*Table3[[#This Row],[Actual H]])/1000000","v":0},{"$f":"IFERROR(ROUNDUP(SUM(Table3[[#This Row],[Rectified]]/VLOOKUP(Table3[[#This Row],[Actual W]],roomnames[],5,0)),0),\"\")","v":""},{"$f":"0","v":0},{"$f":"0","v":0},{"$f":"_xlfn.ISFORMULA(Table3[[#This Row],[Qty Tiles]])","v":true},{"$f":"IF(Table3[[#This Row],[Formula Trap]]=TRUE,1,0)","v":1},{"$f":"0","v":0}]
[null,null,null,null,null,null,null,null,null,null,null,null,null,null,null,null,null,null,null,null,null,null,null,null,null,null,null,null,null,null,null,null,null,null,null,null,null,null,null,null,null,null,null,null,null,null,null,null,null,null,null,null,{"$f":"IFERROR(SUM(Table3[[#This Row],[Tile Wide]]*Table3[[#This Row],[Tile High]]),\"\")","v":""},{"$f":"IFERROR(ROUNDUP(SUM(Table3[[#This Row],[Actual W]]/VLOOKUP(AT74,roomnames[],4,0)),0),\"\")","v":""},{"$f":"IFERROR(ROUNDUP(SUM(Table3[[#This Row],[Actual H]]/VLOOKUP(AT74,roomnames[],5,0)),0),\"\")","v":""},{"$f":"(Table3[[#This Row],[Actual W]]*Table3[[#This Row],[Actual H]])/1000000","v":0},{"$f":"IFERROR(ROUNDUP(SUM(Table3[[#This Row],[Rectified]]/VLOOKUP(Table3[[#This Row],[Actual W]],roomnames[],5,0)),0),\"\")","v":""},{"$f":"0","v":0},{"$f":"0","v":0},{"$f":"_xlfn.ISFORMULA(Table3[[#This Row],[Qty Tiles]])","v":true},{"$f":"IF(Table3[[#This Row],[Formula Trap]]=TRUE,1,0)","v":1},{"$f":"0","v":0}]
[null,null,null,null,null,null,null,null,null,null,null,null,null,null,null,null,null,null,null,null,null,null,null,null,null,null,null,null,null,null,null,null,null,null,null,null,null,null,null,null,null,null,null,null,null,null,null,null,null,null,null,null,{"$f":"IFERROR(SUM(Table3[[#This Row],[Tile Wide]]*Table3[[#This Row],[Tile High]]),\"\")","v":""},{"$f":"IFERROR(ROUNDUP(SUM(Table3[[#This Row],[Actual W]]/VLOOKUP(AT75,roomnames[],4,0)),0),\"\")","v":""},{"$f":"IFERROR(ROUNDUP(SUM(Table3[[#This Row],[Actual H]]/VLOOKUP(AT75,roomnames[],5,0)),0),\"\")","v":""},{"$f":"(Table3[[#This Row],[Actual W]]*Table3[[#This Row],[Actual H]])/1000000","v":0},{"$f":"IFERROR(ROUNDUP(SUM(Table3[[#This Row],[Rectified]]/VLOOKUP(Table3[[#This Row],[Actual W]],roomnames[],5,0)),0),\"\")","v":""},{"$f":"0","v":0},{"$f":"0","v":0},{"$f":"_xlfn.ISFORMULA(Table3[[#This Row],[Qty Tiles]])","v":true},{"$f":"IF(Table3[[#This Row],[Formula Trap]]=TRUE,1,0)","v":1},{"$f":"0","v":0}]
[null,null,null,null,null,null,null,null,null,null,null,null,null,null,null,null,null,null,null,null,null,null,null,null,null,null,null,null,null,null,null,null,null,null,null,null,null,null,null,null,null,null,null,null,null,null,null,null,null,null,null,null,{"$f":"IFERROR(SUM(Table3[[#This Row],[Tile Wide]]*Table3[[#This Row],[Tile High]]),\"\")","v":""},{"$f":"IFERROR(ROUNDUP(SUM(Table3[[#This Row],[Actual W]]/VLOOKUP(AT76,roomnames[],4,0)),0),\"\")","v":""},{"$f":"IFERROR(ROUNDUP(SUM(Table3[[#This Row],[Actual H]]/VLOOKUP(AT76,roomnames[],5,0)),0),\"\")","v":""},{"$f":"(Table3[[#This Row],[Actual W]]*Table3[[#This Row],[Actual H]])/1000000","v":0},{"$f":"IFERROR(ROUNDUP(SUM(Table3[[#This Row],[Rectified]]/VLOOKUP(Table3[[#This Row],[Actual W]],roomnames[],5,0)),0),\"\")","v":""},{"$f":"0","v":0},{"$f":"0","v":0},{"$f":"_xlfn.ISFORMULA(Table3[[#This Row],[Qty Tiles]])","v":true},{"$f":"IF(Table3[[#This Row],[Formula Trap]]=TRUE,1,0)","v":1},{"$f":"0","v":0}]
[null,null,null,null,null,null,null,null,null,null,null,null,null,null,null,null,null,null,null,null,null,null,null,null,null,null,null,null,null,null,null,null,null,null,null,null,null,null,null,null,null,null,null,null,null,null,null,null,null,null,null,null,{"$f":"IFERROR(SUM(Table3[[#This Row],[Tile Wide]]*Table3[[#This Row],[Tile High]]),\"\")","v":""},{"$f":"IFERROR(ROUNDUP(SUM(Table3[[#This Row],[Actual W]]/VLOOKUP(AT77,roomnames[],4,0)),0),\"\")","v":""},{"$f":"IFERROR(ROUNDUP(SUM(Table3[[#This Row],[Actual H]]/VLOOKUP(AT77,roomnames[],5,0)),0),\"\")","v":""},{"$f":"(Table3[[#This Row],[Actual W]]*Table3[[#This Row],[Actual H]])/1000000","v":0},{"$f":"IFERROR(ROUNDUP(SUM(Table3[[#This Row],[Rectified]]/VLOOKUP(Table3[[#This Row],[Actual W]],roomnames[],5,0)),0),\"\")","v":""},{"$f":"0","v":0},{"$f":"0","v":0},{"$f":"_xlfn.ISFORMULA(Table3[[#This Row],[Qty Tiles]])","v":true},{"$f":"IF(Table3[[#This Row],[Formula Trap]]=TRUE,1,0)","v":1},{"$f":"0","v":0}]
[null,null,null,null,null,null,null,null,null,null,null,null,null,null,null,null,null,null,null,null,null,null,null,null,null,null,null,null,null,null,null,null,null,null,null,null,null,null,null,null,null,null,null,null,null,null,null,null,null,null,null,null,{"$f":"IFERROR(SUM(Table3[[#This Row],[Tile Wide]]*Table3[[#This Row],[Tile High]]),\"\")","v":""},{"$f":"IFERROR(ROUNDUP(SUM(Table3[[#This Row],[Actual W]]/VLOOKUP(AT78,roomnames[],4,0)),0),\"\")","v":""},{"$f":"IFERROR(ROUNDUP(SUM(Table3[[#This Row],[Actual H]]/VLOOKUP(AT78,roomnames[],5,0)),0),\"\")","v":""},{"$f":"(Table3[[#This Row],[Actual W]]*Table3[[#This Row],[Actual H]])/1000000","v":0},{"$f":"IFERROR(ROUNDUP(SUM(Table3[[#This Row],[Rectified]]/VLOOKUP(Table3[[#This Row],[Actual W]],roomnames[],5,0)),0),\"\")","v":""},{"$f":"0","v":0},{"$f":"0","v":0},{"$f":"_xlfn.ISFORMULA(Table3[[#This Row],[Qty Tiles]])","v":true},{"$f":"IF(Table3[[#This Row],[Formula Trap]]=TRUE,1,0)","v":1},{"$f":"0","v":0}]
[null,null,null,null,null,null,null,null,null,null,null,null,null,null,null,null,null,null,null,null,null,null,null,null,null,null,null,null,null,null,null,null,null,null,null,null,null,null,null,null,null,null,null,null,null,null,null,null,null,null,null,null,{"$f":"IFERROR(SUM(Table3[[#This Row],[Tile Wide]]*Table3[[#This Row],[Tile High]]),\"\")","v":""},{"$f":"IFERROR(ROUNDUP(SUM(Table3[[#This Row],[Actual W]]/VLOOKUP(AT79,roomnames[],4,0)),0),\"\")","v":""},{"$f":"IFERROR(ROUNDUP(SUM(Table3[[#This Row],[Actual H]]/VLOOKUP(AT79,roomnames[],5,0)),0),\"\")","v":""},{"$f":"(Table3[[#This Row],[Actual W]]*Table3[[#This Row],[Actual H]])/1000000","v":0},{"$f":"IFERROR(ROUNDUP(SUM(Table3[[#This Row],[Rectified]]/VLOOKUP(Table3[[#This Row],[Actual W]],roomnames[],5,0)),0),\"\")","v":""},{"$f":"0","v":0},{"$f":"0","v":0},{"$f":"_xlfn.ISFORMULA(Table3[[#This Row],[Qty Tiles]])","v":true},{"$f":"IF(Table3[[#This Row],[Formula Trap]]=TRUE,1,0)","v":1},{"$f":"0","v":0}]
[null,null,null,null,null,null,null,null,null,null,null,null,null,null,null,null,null,null,null,null,null,null,null,null,null,null,null,null,null,null,null,null,null,null,null,null,null,null,null,null,null,null,null,null,null,null,null,null,null,null,null,null,{"$f":"IFERROR(SUM(Table3[[#This Row],[Tile Wide]]*Table3[[#This Row],[Tile High]]),\"\")","v":""},{"$f":"IFERROR(ROUNDUP(SUM(Table3[[#This Row],[Actual W]]/VLOOKUP(AT80,roomnames[],4,0)),0),\"\")","v":""},{"$f":"IFERROR(ROUNDUP(SUM(Table3[[#This Row],[Actual H]]/VLOOKUP(AT80,roomnames[],5,0)),0),\"\")","v":""},{"$f":"(Table3[[#This Row],[Actual W]]*Table3[[#This Row],[Actual H]])/1000000","v":0},{"$f":"IFERROR(ROUNDUP(SUM(Table3[[#This Row],[Rectified]]/VLOOKUP(Table3[[#This Row],[Actual W]],roomnames[],5,0)),0),\"\")","v":""},{"$f":"0","v":0},{"$f":"0","v":0},{"$f":"_xlfn.ISFORMULA(Table3[[#This Row],[Qty Tiles]])","v":true},{"$f":"IF(Table3[[#This Row],[Formula Trap]]=TRUE,1,0)","v":1},{"$f":"0","v":0}]
[null,null,null,null,null,null,null,null,null,null,null,null,null,null,null,null,null,null,null,null,null,null,null,null,null,null,null,null,null,null,null,null,null,null,null,null,null,null,null,null,null,null,null,null,null,null,null,null,null,null,null,null,{"$f":"IFERROR(SUM(Table3[[#This Row],[Tile Wide]]*Table3[[#This Row],[Tile High]]),\"\")","v":""},{"$f":"IFERROR(ROUNDUP(SUM(Table3[[#This Row],[Actual W]]/VLOOKUP(AT81,roomnames[],4,0)),0),\"\")","v":""},{"$f":"IFERROR(ROUNDUP(SUM(Table3[[#This Row],[Actual H]]/VLOOKUP(AT81,roomnames[],5,0)),0),\"\")","v":""},{"$f":"(Table3[[#This Row],[Actual W]]*Table3[[#This Row],[Actual H]])/1000000","v":0},{"$f":"IFERROR(ROUNDUP(SUM(Table3[[#This Row],[Rectified]]/VLOOKUP(Table3[[#This Row],[Actual W]],roomnames[],5,0)),0),\"\")","v":""},{"$f":"0","v":0},{"$f":"0","v":0},{"$f":"_xlfn.ISFORMULA(Table3[[#This Row],[Qty Tiles]])","v":true},{"$f":"IF(Table3[[#This Row],[Formula Trap]]=TRUE,1,0)","v":1},{"$f":"0","v":0}]
[null,null,null,null,null,null,null,null,null,null,null,null,null,null,null,null,null,null,null,null,null,null,null,null,null,null,null,null,null,null,null,null,null,null,null,null,null,null,null,null,null,null,null,null,null,null,null,null,null,null,null,null,{"$f":"IFERROR(SUM(Table3[[#This Row],[Tile Wide]]*Table3[[#This Row],[Tile High]]),\"\")","v":""},{"$f":"IFERROR(ROUNDUP(SUM(Table3[[#This Row],[Actual W]]/VLOOKUP(AT82,roomnames[],4,0)),0),\"\")","v":""},{"$f":"IFERROR(ROUNDUP(SUM(Table3[[#This Row],[Actual H]]/VLOOKUP(AT82,roomnames[],5,0)),0),\"\")","v":""},{"$f":"(Table3[[#This Row],[Actual W]]*Table3[[#This Row],[Actual H]])/1000000","v":0},{"$f":"IFERROR(ROUNDUP(SUM(Table3[[#This Row],[Rectified]]/VLOOKUP(Table3[[#This Row],[Actual W]],roomnames[],5,0)),0),\"\")","v":""},{"$f":"0","v":0},{"$f":"0","v":0},{"$f":"_xlfn.ISFORMULA(Table3[[#This Row],[Qty Tiles]])","v":true},{"$f":"IF(Table3[[#This Row],[Formula Trap]]=TRUE,1,0)","v":1},{"$f":"0","v":0}]
[null,null,null,null,null,null,null,null,null,null,null,null,null,null,null,null,null,null,null,null,null,null,null,null,null,null,null,null,null,null,null,null,null,null,null,null,null,null,null,null,null,null,null,null,null,null,null,null,null,null,null,null,{"$f":"IFERROR(SUM(Table3[[#This Row],[Tile Wide]]*Table3[[#This Row],[Tile High]]),\"\")","v":""},{"$f":"IFERROR(ROUNDUP(SUM(Table3[[#This Row],[Actual W]]/VLOOKUP(AT83,roomnames[],4,0)),0),\"\")","v":""},{"$f":"IFERROR(ROUNDUP(SUM(Table3[[#This Row],[Actual H]]/VLOOKUP(AT83,roomnames[],5,0)),0),\"\")","v":""},{"$f":"(Table3[[#This Row],[Actual W]]*Table3[[#This Row],[Actual H]])/1000000","v":0},{"$f":"IFERROR(ROUNDUP(SUM(Table3[[#This Row],[Rectified]]/VLOOKUP(Table3[[#This Row],[Actual W]],roomnames[],5,0)),0),\"\")","v":""},{"$f":"0","v":0},{"$f":"0","v":0},{"$f":"_xlfn.ISFORMULA(Table3[[#This Row],[Qty Tiles]])","v":true},{"$f":"IF(Table3[[#This Row],[Formula Trap]]=TRUE,1,0)","v":1},{"$f":"0","v":0}]
[null,null,null,null,null,null,null,null,null,null,null,null,null,null,null,null,null,null,null,null,null,null,null,null,null,null,null,null,null,null,null,null,null,null,null,null,null,null,null,null,null,null,null,null,null,null,null,null,null,null,null,null,{"$f":"IFERROR(SUM(Table3[[#This Row],[Tile Wide]]*Table3[[#This Row],[Tile High]]),\"\")","v":""},{"$f":"IFERROR(ROUNDUP(SUM(Table3[[#This Row],[Actual W]]/VLOOKUP(AT84,roomnames[],4,0)),0),\"\")","v":""},{"$f":"IFERROR(ROUNDUP(SUM(Table3[[#This Row],[Actual H]]/VLOOKUP(AT84,roomnames[],5,0)),0),\"\")","v":""},{"$f":"(Table3[[#This Row],[Actual W]]*Table3[[#This Row],[Actual H]])/1000000","v":0},{"$f":"IFERROR(ROUNDUP(SUM(Table3[[#This Row],[Rectified]]/VLOOKUP(Table3[[#This Row],[Actual W]],roomnames[],5,0)),0),\"\")","v":""},{"$f":"0","v":0},{"$f":"0","v":0},{"$f":"_xlfn.ISFORMULA(Table3[[#This Row],[Qty Tiles]])","v":true},{"$f":"IF(Table3[[#This Row],[Formula Trap]]=TRUE,1,0)","v":1},{"$f":"0","v":0}]
[null,null,null,null,null,null,null,null,null,null,null,null,null,null,null,null,null,null,null,null,null,null,null,null,null,null,null,null,null,null,null,null,null,null,null,null,null,null,null,null,null,null,null,null,null,null,null,null,null,null,null,null,{"$f":"IFERROR(SUM(Table3[[#This Row],[Tile Wide]]*Table3[[#This Row],[Tile High]]),\"\")","v":""},{"$f":"IFERROR(ROUNDUP(SUM(Table3[[#This Row],[Actual W]]/VLOOKUP(AT85,roomnames[],4,0)),0),\"\")","v":""},{"$f":"IFERROR(ROUNDUP(SUM(Table3[[#This Row],[Actual H]]/VLOOKUP(AT85,roomnames[],5,0)),0),\"\")","v":""},{"$f":"(Table3[[#This Row],[Actual W]]*Table3[[#This Row],[Actual H]])/1000000","v":0},{"$f":"IFERROR(ROUNDUP(SUM(Table3[[#This Row],[Rectified]]/VLOOKUP(Table3[[#This Row],[Actual W]],roomnames[],5,0)),0),\"\")","v":""},{"$f":"0","v":0},{"$f":"0","v":0},{"$f":"_xlfn.ISFORMULA(Table3[[#This Row],[Qty Tiles]])","v":true},{"$f":"IF(Table3[[#This Row],[Formula Trap]]=TRUE,1,0)","v":1},{"$f":"0","v":0}]
[null,null,null,null,null,null,null,null,null,null,null,null,null,null,null,null,null,null,null,null,null,null,null,null,null,null,null,null,null,null,null,null,null,null,null,null,null,null,null,null,null,null,null,null,null,null,null,null,null,null,null,null,{"$f":"IFERROR(SUM(Table3[[#This Row],[Tile Wide]]*Table3[[#This Row],[Tile High]]),\"\")","v":""},{"$f":"IFERROR(ROUNDUP(SUM(Table3[[#This Row],[Actual W]]/VLOOKUP(AT86,roomnames[],4,0)),0),\"\")","v":""},{"$f":"IFERROR(ROUNDUP(SUM(Table3[[#This Row],[Actual H]]/VLOOKUP(AT86,roomnames[],5,0)),0),\"\")","v":""},{"$f":"(Table3[[#This Row],[Actual W]]*Table3[[#This Row],[Actual H]])/1000000","v":0},{"$f":"IFERROR(ROUNDUP(SUM(Table3[[#This Row],[Rectified]]/VLOOKUP(Table3[[#This Row],[Actual W]],roomnames[],5,0)),0),\"\")","v":""},{"$f":"0","v":0},{"$f":"0","v":0},{"$f":"_xlfn.ISFORMULA(Table3[[#This Row],[Qty Tiles]])","v":true},{"$f":"IF(Table3[[#This Row],[Formula Trap]]=TRUE,1,0)","v":1},{"$f":"0","v":0}]
[null,null,null,null,null,null,null,null,null,null,null,null,null,null,null,null,null,null,null,null,null,null,null,null,null,null,null,null,null,null,null,null,null,null,null,null,null,null,null,null,null,null,null,null,null,null,null,null,null,null,null,null,{"$f":"IFERROR(SUM(Table3[[#This Row],[Tile Wide]]*Table3[[#This Row],[Tile High]]),\"\")","v":""},{"$f":"IFERROR(ROUNDUP(SUM(Table3[[#This Row],[Actual W]]/VLOOKUP(AT87,roomnames[],4,0)),0),\"\")","v":""},{"$f":"IFERROR(ROUNDUP(SUM(Table3[[#This Row],[Actual H]]/VLOOKUP(AT87,roomnames[],5,0)),0),\"\")","v":""},{"$f":"(Table3[[#This Row],[Actual W]]*Table3[[#This Row],[Actual H]])/1000000","v":0},{"$f":"IFERROR(ROUNDUP(SUM(Table3[[#This Row],[Rectified]]/VLOOKUP(Table3[[#This Row],[Actual W]],roomnames[],5,0)),0),\"\")","v":""},{"$f":"0","v":0},{"$f":"0","v":0},{"$f":"_xlfn.ISFORMULA(Table3[[#This Row],[Qty Tiles]])","v":true},{"$f":"IF(Table3[[#This Row],[Formula Trap]]=TRUE,1,0)","v":1},{"$f":"0","v":0}]
[null,null,null,null,null,null,null,null,null,null,null,null,null,null,null,null,null,null,null,null,null,null,null,null,null,null,null,null,null,null,null,null,null,null,null,null,null,null,null,null,null,null,null,null,null,null,null,null,null,null,null,null,{"$f":"IFERROR(SUM(Table3[[#This Row],[Tile Wide]]*Table3[[#This Row],[Tile High]]),\"\")","v":""},{"$f":"IFERROR(ROUNDUP(SUM(Table3[[#This Row],[Actual W]]/VLOOKUP(AT88,roomnames[],4,0)),0),\"\")","v":""},{"$f":"IFERROR(ROUNDUP(SUM(Table3[[#This Row],[Actual H]]/VLOOKUP(AT88,roomnames[],5,0)),0),\"\")","v":""},{"$f":"(Table3[[#This Row],[Actual W]]*Table3[[#This Row],[Actual H]])/1000000","v":0},{"$f":"IFERROR(ROUNDUP(SUM(Table3[[#This Row],[Rectified]]/VLOOKUP(Table3[[#This Row],[Actual W]],roomnames[],5,0)),0),\"\")","v":""},{"$f":"0","v":0},{"$f":"0","v":0},{"$f":"_xlfn.ISFORMULA(Table3[[#This Row],[Qty Tiles]])","v":true},{"$f":"IF(Table3[[#This Row],[Formula Trap]]=TRUE,1,0)","v":1},{"$f":"0","v":0}]
[null,null,null,null,null,null,null,null,null,null,null,null,null,null,null,null,null,null,null,null,null,null,null,null,null,null,null,null,null,null,null,null,null,null,null,null,null,null,null,null,null,null,null,null,null,null,null,null,null,null,null,null,{"$f":"IFERROR(SUM(Table3[[#This Row],[Tile Wide]]*Table3[[#This Row],[Tile High]]),\"\")","v":""},{"$f":"IFERROR(ROUNDUP(SUM(Table3[[#This Row],[Actual W]]/VLOOKUP(AT89,roomnames[],4,0)),0),\"\")","v":""},{"$f":"IFERROR(ROUNDUP(SUM(Table3[[#This Row],[Actual H]]/VLOOKUP(AT89,roomnames[],5,0)),0),\"\")","v":""},{"$f":"(Table3[[#This Row],[Actual W]]*Table3[[#This Row],[Actual H]])/1000000","v":0},{"$f":"IFERROR(ROUNDUP(SUM(Table3[[#This Row],[Rectified]]/VLOOKUP(Table3[[#This Row],[Actual W]],roomnames[],5,0)),0),\"\")","v":""},{"$f":"0","v":0},{"$f":"0","v":0},{"$f":"_xlfn.ISFORMULA(Table3[[#This Row],[Qty Tiles]])","v":true},{"$f":"IF(Table3[[#This Row],[Formula Trap]]=TRUE,1,0)","v":1},{"$f":"0","v":0}]
[null,null,null,null,null,null,null,null,null,null,null,null,null,null,null,null,null,null,null,null,null,null,null,null,null,null,null,null,null,null,null,null,null,null,null,null,null,null,null,null,null,null,null,null,null,null,null,null,null,null,null,null,{"$f":"IFERROR(SUM(Table3[[#This Row],[Tile Wide]]*Table3[[#This Row],[Tile High]]),\"\")","v":""},{"$f":"IFERROR(ROUNDUP(SUM(Table3[[#This Row],[Actual W]]/VLOOKUP(AT90,roomnames[],4,0)),0),\"\")","v":""},{"$f":"IFERROR(ROUNDUP(SUM(Table3[[#This Row],[Actual H]]/VLOOKUP(AT90,roomnames[],5,0)),0),\"\")","v":""},{"$f":"(Table3[[#This Row],[Actual W]]*Table3[[#This Row],[Actual H]])/1000000","v":0},{"$f":"IFERROR(ROUNDUP(SUM(Table3[[#This Row],[Rectified]]/VLOOKUP(Table3[[#This Row],[Actual W]],roomnames[],5,0)),0),\"\")","v":""},{"$f":"0","v":0},{"$f":"0","v":0},{"$f":"_xlfn.ISFORMULA(Table3[[#This Row],[Qty Tiles]])","v":true},{"$f":"IF(Table3[[#This Row],[Formula Trap]]=TRUE,1,0)","v":1},{"$f":"0","v":0}]
[null,null,null,null,null,null,null,null,null,null,null,null,null,null,null,null,null,null,null,null,null,null,null,null,null,null,null,null,null,null,null,null,null,null,null,null,null,null,null,null,null,null,null,null,null,null,null,null,null,null,null,null,{"$f":"IFERROR(SUM(Table3[[#This Row],[Tile Wide]]*Table3[[#This Row],[Tile High]]),\"\")","v":""},{"$f":"IFERROR(ROUNDUP(SUM(Table3[[#This Row],[Actual W]]/VLOOKUP(AT91,roomnames[],4,0)),0),\"\")","v":""},{"$f":"IFERROR(ROUNDUP(SUM(Table3[[#This Row],[Actual H]]/VLOOKUP(AT91,roomnames[],5,0)),0),\"\")","v":""},{"$f":"(Table3[[#This Row],[Actual W]]*Table3[[#This Row],[Actual H]])/1000000","v":0},{"$f":"IFERROR(ROUNDUP(SUM(Table3[[#This Row],[Rectified]]/VLOOKUP(Table3[[#This Row],[Actual W]],roomnames[],5,0)),0),\"\")","v":""},{"$f":"0","v":0},{"$f":"0","v":0},{"$f":"_xlfn.ISFORMULA(Table3[[#This Row],[Qty Tiles]])","v":true},{"$f":"IF(Table3[[#This Row],[Formula Trap]]=TRUE,1,0)","v":1},{"$f":"0","v":0}]
[null,null,null,null,null,null,null,null,null,null,null,null,null,null,null,null,null,null,null,null,null,null,null,null,null,null,null,null,null,null,null,null,null,null,null,null,null,null,null,null,null,null,null,null,null,null,null,null,null,null,null,null,{"$f":"IFERROR(SUM(Table3[[#This Row],[Tile Wide]]*Table3[[#This Row],[Tile High]]),\"\")","v":""},{"$f":"IFERROR(ROUNDUP(SUM(Table3[[#This Row],[Actual W]]/VLOOKUP(AT92,roomnames[],4,0)),0),\"\")","v":""},{"$f":"IFERROR(ROUNDUP(SUM(Table3[[#This Row],[Actual H]]/VLOOKUP(AT92,roomnames[],5,0)),0),\"\")","v":""},{"$f":"(Table3[[#This Row],[Actual W]]*Table3[[#This Row],[Actual H]])/1000000","v":0},{"$f":"IFERROR(ROUNDUP(SUM(Table3[[#This Row],[Rectified]]/VLOOKUP(Table3[[#This Row],[Actual W]],roomnames[],5,0)),0),\"\")","v":""},{"$f":"0","v":0},{"$f":"0","v":0},{"$f":"_xlfn.ISFORMULA(Table3[[#This Row],[Qty Tiles]])","v":true},{"$f":"IF(Table3[[#This Row],[Formula Trap]]=TRUE,1,0)","v":1},{"$f":"0","v":0}]
[null,null,null,null,null,null,null,null,null,null,null,null,null,null,null,null,null,null,null,null,null,null,null,null,null,null,null,null,null,null,null,null,null,null,null,null,null,null,null,null,null,null,null,null,null,null,null,null,null,null,null,null,{"$f":"IFERROR(SUM(Table3[[#This Row],[Tile Wide]]*Table3[[#This Row],[Tile High]]),\"\")","v":""},{"$f":"IFERROR(ROUNDUP(SUM(Table3[[#This Row],[Actual W]]/VLOOKUP(AT93,roomnames[],4,0)),0),\"\")","v":""},{"$f":"IFERROR(ROUNDUP(SUM(Table3[[#This Row],[Actual H]]/VLOOKUP(AT93,roomnames[],5,0)),0),\"\")","v":""},{"$f":"(Table3[[#This Row],[Actual W]]*Table3[[#This Row],[Actual H]])/1000000","v":0},{"$f":"IFERROR(ROUNDUP(SUM(Table3[[#This Row],[Rectified]]/VLOOKUP(Table3[[#This Row],[Actual W]],roomnames[],5,0)),0),\"\")","v":""},{"$f":"0","v":0},{"$f":"0","v":0},{"$f":"_xlfn.ISFORMULA(Table3[[#This Row],[Qty Tiles]])","v":true},{"$f":"IF(Table3[[#This Row],[Formula Trap]]=TRUE,1,0)","v":1},{"$f":"0","v":0}]
[null,null,null,null,null,null,null,null,null,null,null,null,null,null,null,null,null,null,null,null,null,null,null,null,null,null,null,null,null,null,null,null,null,null,null,null,null,null,null,null,null,null,null,null,null,null,null,null,null,null,null,null,{"$f":"IFERROR(SUM(Table3[[#This Row],[Tile Wide]]*Table3[[#This Row],[Tile High]]),\"\")","v":""},{"$f":"IFERROR(ROUNDUP(SUM(Table3[[#This Row],[Actual W]]/VLOOKUP(AT94,roomnames[],4,0)),0),\"\")","v":""},{"$f":"IFERROR(ROUNDUP(SUM(Table3[[#This Row],[Actual H]]/VLOOKUP(AT94,roomnames[],5,0)),0),\"\")","v":""},{"$f":"(Table3[[#This Row],[Actual W]]*Table3[[#This Row],[Actual H]])/1000000","v":0},{"$f":"IFERROR(ROUNDUP(SUM(Table3[[#This Row],[Rectified]]/VLOOKUP(Table3[[#This Row],[Actual W]],roomnames[],5,0)),0),\"\")","v":""},{"$f":"0","v":0},{"$f":"0","v":0},{"$f":"_xlfn.ISFORMULA(Table3[[#This Row],[Qty Tiles]])","v":true},{"$f":"IF(Table3[[#This Row],[Formula Trap]]=TRUE,1,0)","v":1},{"$f":"0","v":0}]
[null,null,null,null,null,null,null,null,null,null,null,null,null,null,null,null,null,null,null,null,null,null,null,null,null,null,null,null,null,null,null,null,null,null,null,null,null,null,null,null,null,null,null,null,null,null,null,null,null,null,null,null,{"$f":"IFERROR(SUM(Table3[[#This Row],[Tile Wide]]*Table3[[#This Row],[Tile High]]),\"\")","v":""},{"$f":"IFERROR(ROUNDUP(SUM(Table3[[#This Row],[Actual W]]/VLOOKUP(AT95,roomnames[],4,0)),0),\"\")","v":""},{"$f":"IFERROR(ROUNDUP(SUM(Table3[[#This Row],[Actual H]]/VLOOKUP(AT95,roomnames[],5,0)),0),\"\")","v":""},{"$f":"(Table3[[#This Row],[Actual W]]*Table3[[#This Row],[Actual H]])/1000000","v":0},{"$f":"IFERROR(ROUNDUP(SUM(Table3[[#This Row],[Rectified]]/VLOOKUP(Table3[[#This Row],[Actual W]],roomnames[],5,0)),0),\"\")","v":""},{"$f":"0","v":0},{"$f":"0","v":0},{"$f":"_xlfn.ISFORMULA(Table3[[#This Row],[Qty Tiles]])","v":true},{"$f":"IF(Table3[[#This Row],[Formula Trap]]=TRUE,1,0)","v":1},{"$f":"0","v":0}]
[null,null,null,null,null,null,null,null,null,null,null,null,null,null,null,null,null,null,null,null,null,null,null,null,null,null,null,null,null,null,null,null,null,null,null,null,null,null,null,null,null,null,null,null,null,null,null,null,null,null,null,null,{"$f":"IFERROR(SUM(Table3[[#This Row],[Tile Wide]]*Table3[[#This Row],[Tile High]]),\"\")","v":""},{"$f":"IFERROR(ROUNDUP(SUM(Table3[[#This Row],[Actual W]]/VLOOKUP(AT96,roomnames[],4,0)),0),\"\")","v":""},{"$f":"IFERROR(ROUNDUP(SUM(Table3[[#This Row],[Actual H]]/VLOOKUP(AT96,roomnames[],5,0)),0),\"\")","v":""},{"$f":"(Table3[[#This Row],[Actual W]]*Table3[[#This Row],[Actual H]])/1000000","v":0},{"$f":"IFERROR(ROUNDUP(SUM(Table3[[#This Row],[Rectified]]/VLOOKUP(Table3[[#This Row],[Actual W]],roomnames[],5,0)),0),\"\")","v":""},{"$f":"0","v":0},{"$f":"0","v":0},{"$f":"_xlfn.ISFORMULA(Table3[[#This Row],[Qty Tiles]])","v":true},{"$f":"IF(Table3[[#This Row],[Formula Trap]]=TRUE,1,0)","v":1},{"$f":"0","v":0}]
[null,null,null,null,null,null,null,null,null,null,null,null,null,null,null,null,null,null,null,null,null,null,null,null,null,null,null,null,null,null,null,null,null,null,null,null,null,null,null,null,null,null,null,null,null,null,null,null,null,null,null,null,{"$f":"IFERROR(SUM(Table3[[#This Row],[Tile Wide]]*Table3[[#This Row],[Tile High]]),\"\")","v":""},{"$f":"IFERROR(ROUNDUP(SUM(Table3[[#This Row],[Actual W]]/VLOOKUP(AT97,roomnames[],4,0)),0),\"\")","v":""},{"$f":"IFERROR(ROUNDUP(SUM(Table3[[#This Row],[Actual H]]/VLOOKUP(AT97,roomnames[],5,0)),0),\"\")","v":""},{"$f":"(Table3[[#This Row],[Actual W]]*Table3[[#This Row],[Actual H]])/1000000","v":0},{"$f":"IFERROR(ROUNDUP(SUM(Table3[[#This Row],[Rectified]]/VLOOKUP(Table3[[#This Row],[Actual W]],roomnames[],5,0)),0),\"\")","v":""},{"$f":"0","v":0},{"$f":"0","v":0},{"$f":"_xlfn.ISFORMULA(Table3[[#This Row],[Qty Tiles]])","v":true},{"$f":"IF(Table3[[#This Row],[Formula Trap]]=TRUE,1,0)","v":1},{"$f":"0","v":0}]
[null,null,null,null,null,null,null,null,null,null,null,null,null,null,null,null,null,null,null,null,null,null,null,null,null,null,null,null,null,null,null,null,null,null,null,null,null,null,null,null,null,null,null,null,null,null,null,null,null,null,null,null,{"$f":"IFERROR(SUM(Table3[[#This Row],[Tile Wide]]*Table3[[#This Row],[Tile High]]),\"\")","v":""},{"$f":"IFERROR(ROUNDUP(SUM(Table3[[#This Row],[Actual W]]/VLOOKUP(AT98,roomnames[],4,0)),0),\"\")","v":""},{"$f":"IFERROR(ROUNDUP(SUM(Table3[[#This Row],[Actual H]]/VLOOKUP(AT98,roomnames[],5,0)),0),\"\")","v":""},{"$f":"(Table3[[#This Row],[Actual W]]*Table3[[#This Row],[Actual H]])/1000000","v":0},{"$f":"IFERROR(ROUNDUP(SUM(Table3[[#This Row],[Rectified]]/VLOOKUP(Table3[[#This Row],[Actual W]],roomnames[],5,0)),0),\"\")","v":""},{"$f":"0","v":0},{"$f":"0","v":0},{"$f":"_xlfn.ISFORMULA(Table3[[#This Row],[Qty Tiles]])","v":true},{"$f":"IF(Table3[[#This Row],[Formula Trap]]=TRUE,1,0)","v":1},{"$f":"0","v":0}]
[null,null,null,null,null,null,null,null,null,null,null,null,null,null,null,null,null,null,null,null,null,null,null,null,null,null,null,null,null,null,null,null,null,null,null,null,null,null,null,null,null,null,null,null,null,null,null,null,null,null,null,null,{"$f":"IFERROR(SUM(Table3[[#This Row],[Tile Wide]]*Table3[[#This Row],[Tile High]]),\"\")","v":""},{"$f":"IFERROR(ROUNDUP(SUM(Table3[[#This Row],[Actual W]]/VLOOKUP(AT99,roomnames[],4,0)),0),\"\")","v":""},{"$f":"IFERROR(ROUNDUP(SUM(Table3[[#This Row],[Actual H]]/VLOOKUP(AT99,roomnames[],5,0)),0),\"\")","v":""},{"$f":"(Table3[[#This Row],[Actual W]]*Table3[[#This Row],[Actual H]])/1000000","v":0},{"$f":"IFERROR(ROUNDUP(SUM(Table3[[#This Row],[Rectified]]/VLOOKUP(Table3[[#This Row],[Actual W]],roomnames[],5,0)),0),\"\")","v":""},{"$f":"0","v":0},{"$f":"0","v":0},{"$f":"_xlfn.ISFORMULA(Table3[[#This Row],[Qty Tiles]])","v":true},{"$f":"IF(Table3[[#This Row],[Formula Trap]]=TRUE,1,0)","v":1},{"$f":"0","v":0}]
[null,null,null,null,null,null,null,null,null,null,null,null,null,null,null,null,null,null,null,null,null,null,null,null,null,null,null,null,null,null,null,null,null,null,null,null,null,null,null,null,null,null,null,null,null,null,null,null,null,null,null,null,{"$f":"IFERROR(SUM(Table3[[#This Row],[Tile Wide]]*Table3[[#This Row],[Tile High]]),\"\")","v":""},{"$f":"IFERROR(ROUNDUP(SUM(Table3[[#This Row],[Actual W]]/VLOOKUP(AT100,roomnames[],4,0)),0),\"\")","v":""},{"$f":"IFERROR(ROUNDUP(SUM(Table3[[#This Row],[Actual H]]/VLOOKUP(AT100,roomnames[],5,0)),0),\"\")","v":""},{"$f":"(Table3[[#This Row],[Actual W]]*Table3[[#This Row],[Actual H]])/1000000","v":0},{"$f":"IFERROR(ROUNDUP(SUM(Table3[[#This Row],[Rectified]]/VLOOKUP(Table3[[#This Row],[Actual W]],roomnames[],5,0)),0),\"\")","v":""},{"$f":"0","v":0},{"$f":"0","v":0},{"$f":"_xlfn.ISFORMULA(Table3[[#This Row],[Qty Tiles]])","v":true},{"$f":"IF(Table3[[#This Row],[Formula Trap]]=TRUE,1,0)","v":1},{"$f":"0","v":0}]
[null,null,null,null,null,null,null,null,null,null,null,null,null,null,null,null,null,null,null,null,null,null,null,null,null,null,null,null,null,null,null,null,null,null,null,null,null,null,null,null,null,null,null,null,null,null,null,null,null,null,null,null,{"$f":"IFERROR(SUM(Table3[[#This Row],[Tile Wide]]*Table3[[#This Row],[Tile High]]),\"\")","v":""},{"$f":"IFERROR(ROUNDUP(SUM(Table3[[#This Row],[Actual W]]/VLOOKUP(AT101,roomnames[],4,0)),0),\"\")","v":""},{"$f":"IFERROR(ROUNDUP(SUM(Table3[[#This Row],[Actual H]]/VLOOKUP(AT101,roomnames[],5,0)),0),\"\")","v":""},{"$f":"(Table3[[#This Row],[Actual W]]*Table3[[#This Row],[Actual H]])/1000000","v":0},{"$f":"IFERROR(ROUNDUP(SUM(Table3[[#This Row],[Rectified]]/VLOOKUP(Table3[[#This Row],[Actual W]],roomnames[],5,0)),0),\"\")","v":""},{"$f":"0","v":0},{"$f":"0","v":0},{"$f":"_xlfn.ISFORMULA(Table3[[#This Row],[Qty Tiles]])","v":true},{"$f":"IF(Table3[[#This Row],[Formula Trap]]=TRUE,1,0)","v":1},{"$f":"0","v":0}]
[null,null,null,null,null,null,null,null,null,null,null,null,null,null,null,null,null,null,null,null,null,null,null,null,null,null,null,null,null,null,null,null,null,null,null,null,null,null,null,null,null,null,null,null,null,null,null,null,null,null,null,null,{"$f":"IFERROR(SUM(Table3[[#This Row],[Tile Wide]]*Table3[[#This Row],[Tile High]]),\"\")","v":""},{"$f":"IFERROR(ROUNDUP(SUM(Table3[[#This Row],[Actual W]]/VLOOKUP(AT102,roomnames[],4,0)),0),\"\")","v":""},{"$f":"IFERROR(ROUNDUP(SUM(Table3[[#This Row],[Actual H]]/VLOOKUP(AT102,roomnames[],5,0)),0),\"\")","v":""},{"$f":"(Table3[[#This Row],[Actual W]]*Table3[[#This Row],[Actual H]])/1000000","v":0},{"$f":"IFERROR(ROUNDUP(SUM(Table3[[#This Row],[Rectified]]/VLOOKUP(Table3[[#This Row],[Actual W]],roomnames[],5,0)),0),\"\")","v":""},{"$f":"0","v":0},{"$f":"0","v":0},{"$f":"_xlfn.ISFORMULA(Table3[[#This Row],[Qty Tiles]])","v":true},{"$f":"IF(Table3[[#This Row],[Formula Trap]]=TRUE,1,0)","v":1},{"$f":"0","v":0}]
[null,null,null,null,null,null,null,null,null,null,null,null,null,null,null,null,null,null,null,null,null,null,null,null,null,null,null,null,null,null,null,null,null,null,null,null,null,null,null,null,null,null,null,null,null,null,null,null,null,null,null,null,{"$f":"IFERROR(SUM(Table3[[#This Row],[Tile Wide]]*Table3[[#This Row],[Tile High]]),\"\")","v":""},{"$f":"IFERROR(ROUNDUP(SUM(Table3[[#This Row],[Actual W]]/VLOOKUP(AT103,roomnames[],4,0)),0),\"\")","v":""},{"$f":"IFERROR(ROUNDUP(SUM(Table3[[#This Row],[Actual H]]/VLOOKUP(AT103,roomnames[],5,0)),0),\"\")","v":""},{"$f":"(Table3[[#This Row],[Actual W]]*Table3[[#This Row],[Actual H]])/1000000","v":0},{"$f":"IFERROR(ROUNDUP(SUM(Table3[[#This Row],[Rectified]]/VLOOKUP(Table3[[#This Row],[Actual W]],roomnames[],5,0)),0),\"\")","v":""},{"$f":"0","v":0},{"$f":"0","v":0},{"$f":"_xlfn.ISFORMULA(Table3[[#This Row],[Qty Tiles]])","v":true},{"$f":"IF(Table3[[#This Row],[Formula Trap]]=TRUE,1,0)","v":1},{"$f":"0","v":0}]
[null,null,null,null,null,null,null,null,null,null,null,null,null,null,null,null,null,null,null,null,null,null,null,null,null,null,null,null,null,null,null,null,null,null,null,null,null,null,null,null,null,null,null,null,null,null,null,null,null,null,null,null,{"$f":"IFERROR(SUM(Table3[[#This Row],[Tile Wide]]*Table3[[#This Row],[Tile High]]),\"\")","v":""},{"$f":"IFERROR(ROUNDUP(SUM(Table3[[#This Row],[Actual W]]/VLOOKUP(AT104,roomnames[],4,0)),0),\"\")","v":""},{"$f":"IFERROR(ROUNDUP(SUM(Table3[[#This Row],[Actual H]]/VLOOKUP(AT104,roomnames[],5,0)),0),\"\")","v":""},{"$f":"(Table3[[#This Row],[Actual W]]*Table3[[#This Row],[Actual H]])/1000000","v":0},{"$f":"IFERROR(ROUNDUP(SUM(Table3[[#This Row],[Rectified]]/VLOOKUP(Table3[[#This Row],[Actual W]],roomnames[],5,0)),0),\"\")","v":""},{"$f":"0","v":0},{"$f":"0","v":0},{"$f":"_xlfn.ISFORMULA(Table3[[#This Row],[Qty Tiles]])","v":true},{"$f":"IF(Table3[[#This Row],[Formula Trap]]=TRUE,1,0)","v":1},{"$f":"0","v":0}]
[null,null,null,null,null,null,null,null,null,null,null,null,null,null,null,null,null,null,null,null,null,null,null,null,null,null,null,null,null,null,null,null,null,null,null,null,null,null,null,null,null,null,null,null,null,null,null,null,null,null,null,null,{"$f":"IFERROR(SUM(Table3[[#This Row],[Tile Wide]]*Table3[[#This Row],[Tile High]]),\"\")","v":""},{"$f":"IFERROR(ROUNDUP(SUM(Table3[[#This Row],[Actual W]]/VLOOKUP(AT105,roomnames[],4,0)),0),\"\")","v":""},{"$f":"IFERROR(ROUNDUP(SUM(Table3[[#This Row],[Actual H]]/VLOOKUP(AT105,roomnames[],5,0)),0),\"\")","v":""},{"$f":"(Table3[[#This Row],[Actual W]]*Table3[[#This Row],[Actual H]])/1000000","v":0},{"$f":"IFERROR(ROUNDUP(SUM(Table3[[#This Row],[Rectified]]/VLOOKUP(Table3[[#This Row],[Actual W]],roomnames[],5,0)),0),\"\")","v":""},{"$f":"0","v":0},{"$f":"0","v":0},{"$f":"_xlfn.ISFORMULA(Table3[[#This Row],[Qty Tiles]])","v":true},{"$f":"IF(Table3[[#This Row],[Formula Trap]]=TRUE,1,0)","v":1},{"$f":"0","v":0}]
[null,null,null,null,null,null,null,null,null,null,null,null,null,null,null,null,null,null,null,null,null,null,null,null,null,null,null,null,null,null,null,null,null,null,null,null,null,null,null,null,null,null,null,null,null,null,null,null,null,null,null,null,{"$f":"IFERROR(SUM(Table3[[#This Row],[Tile Wide]]*Table3[[#This Row],[Tile High]]),\"\")","v":""},{"$f":"IFERROR(ROUNDUP(SUM(Table3[[#This Row],[Actual W]]/VLOOKUP(AT106,roomnames[],4,0)),0),\"\")","v":""},{"$f":"IFERROR(ROUNDUP(SUM(Table3[[#This Row],[Actual H]]/VLOOKUP(AT106,roomnames[],5,0)),0),\"\")","v":""},{"$f":"(Table3[[#This Row],[Actual W]]*Table3[[#This Row],[Actual H]])/1000000","v":0},{"$f":"IFERROR(ROUNDUP(SUM(Table3[[#This Row],[Rectified]]/VLOOKUP(Table3[[#This Row],[Actual W]],roomnames[],5,0)),0),\"\")","v":""},{"$f":"0","v":0},{"$f":"0","v":0},{"$f":"_xlfn.ISFORMULA(Table3[[#This Row],[Qty Tiles]])","v":true},{"$f":"IF(Table3[[#This Row],[Formula Trap]]=TRUE,1,0)","v":1},{"$f":"0","v":0}]
[null,null,null,null,null,null,null,null,null,null,null,null,null,null,null,null,null,null,null,null,null,null,null,null,null,null,null,null,null,null,null,null,null,null,null,null,null,null,null,null,null,null,null,null,null,null,null,null,null,null,null,null,{"$f":"IFERROR(SUM(Table3[[#This Row],[Tile Wide]]*Table3[[#This Row],[Tile High]]),\"\")","v":""},{"$f":"IFERROR(ROUNDUP(SUM(Table3[[#This Row],[Actual W]]/VLOOKUP(AT107,roomnames[],4,0)),0),\"\")","v":""},{"$f":"IFERROR(ROUNDUP(SUM(Table3[[#This Row],[Actual H]]/VLOOKUP(AT107,roomnames[],5,0)),0),\"\")","v":""},{"$f":"(Table3[[#This Row],[Actual W]]*Table3[[#This Row],[Actual H]])/1000000","v":0},{"$f":"IFERROR(ROUNDUP(SUM(Table3[[#This Row],[Rectified]]/VLOOKUP(Table3[[#This Row],[Actual W]],roomnames[],5,0)),0),\"\")","v":""},{"$f":"0","v":0},{"$f":"0","v":0},{"$f":"_xlfn.ISFORMULA(Table3[[#This Row],[Qty Tiles]])","v":true},{"$f":"IF(Table3[[#This Row],[Formula Trap]]=TRUE,1,0)","v":1},{"$f":"0","v":0}]
[null,null,null,null,null,null,null,null,null,null,null,null,null,null,null,null,null,null,null,null,null,null,null,null,null,null,null,null,null,null,null,null,null,null,null,null,null,null,null,null,null,null,null,null,null,null,null,null,null,null,null,null,{"$f":"IFERROR(SUM(Table3[[#This Row],[Tile Wide]]*Table3[[#This Row],[Tile High]]),\"\")","v":""},{"$f":"IFERROR(ROUNDUP(SUM(Table3[[#This Row],[Actual W]]/VLOOKUP(AT108,roomnames[],4,0)),0),\"\")","v":""},{"$f":"IFERROR(ROUNDUP(SUM(Table3[[#This Row],[Actual H]]/VLOOKUP(AT108,roomnames[],5,0)),0),\"\")","v":""},{"$f":"(Table3[[#This Row],[Actual W]]*Table3[[#This Row],[Actual H]])/1000000","v":0},{"$f":"IFERROR(ROUNDUP(SUM(Table3[[#This Row],[Rectified]]/VLOOKUP(Table3[[#This Row],[Actual W]],roomnames[],5,0)),0),\"\")","v":""},{"$f":"0","v":0},{"$f":"0","v":0},{"$f":"_xlfn.ISFORMULA(Table3[[#This Row],[Qty Tiles]])","v":true},{"$f":"IF(Table3[[#This Row],[Formula Trap]]=TRUE,1,0)","v":1},{"$f":"0","v":0}]
[null,null,null,null,null,null,null,null,null,null,null,null,null,null,null,null,null,null,null,null,null,null,null,null,null,null,null,null,null,null,null,null,null,null,null,null,null,null,null,null,null,null,null,null,null,null,null,null,null,null,null,null,{"$f":"IFERROR(SUM(Table3[[#This Row],[Tile Wide]]*Table3[[#This Row],[Tile High]]),\"\")","v":""},{"$f":"IFERROR(ROUNDUP(SUM(Table3[[#This Row],[Actual W]]/VLOOKUP(AT109,roomnames[],4,0)),0),\"\")","v":""},{"$f":"IFERROR(ROUNDUP(SUM(Table3[[#This Row],[Actual H]]/VLOOKUP(AT109,roomnames[],5,0)),0),\"\")","v":""},{"$f":"(Table3[[#This Row],[Actual W]]*Table3[[#This Row],[Actual H]])/1000000","v":0},{"$f":"IFERROR(ROUNDUP(SUM(Table3[[#This Row],[Rectified]]/VLOOKUP(Table3[[#This Row],[Actual W]],roomnames[],5,0)),0),\"\")","v":""},{"$f":"0","v":0},{"$f":"0","v":0},{"$f":"_xlfn.ISFORMULA(Table3[[#This Row],[Qty Tiles]])","v":true},{"$f":"IF(Table3[[#This Row],[Formula Trap]]=TRUE,1,0)","v":1},{"$f":"0","v":0}]
[null,null,null,null,null,null,null,null,null,null,null,null,null,null,null,null,null,null,null,null,null,null,null,null,null,null,null,null,null,null,null,null,null,null,null,null,null,null,null,null,null,null,null,null,null,null,null,null,null,null,null,null,{"$f":"IFERROR(SUM(Table3[[#This Row],[Tile Wide]]*Table3[[#This Row],[Tile High]]),\"\")","v":""},{"$f":"IFERROR(ROUNDUP(SUM(Table3[[#This Row],[Actual W]]/VLOOKUP(AT110,roomnames[],4,0)),0),\"\")","v":""},{"$f":"IFERROR(ROUNDUP(SUM(Table3[[#This Row],[Actual H]]/VLOOKUP(AT110,roomnames[],5,0)),0),\"\")","v":""},{"$f":"(Table3[[#This Row],[Actual W]]*Table3[[#This Row],[Actual H]])/1000000","v":0},{"$f":"IFERROR(ROUNDUP(SUM(Table3[[#This Row],[Rectified]]/VLOOKUP(Table3[[#This Row],[Actual W]],roomnames[],5,0)),0),\"\")","v":""},{"$f":"0","v":0},{"$f":"0","v":0},{"$f":"_xlfn.ISFORMULA(Table3[[#This Row],[Qty Tiles]])","v":true},{"$f":"IF(Table3[[#This Row],[Formula Trap]]=TRUE,1,0)","v":1},{"$f":"0","v":0}]
[null,null,null,null,null,null,null,null,null,null,null,null,null,null,null,null,null,null,null,null,null,null,null,null,null,null,null,null,null,null,null,null,null,null,null,null,null,null,null,null,null,null,null,null,null,null,null,null,null,null,null,null,{"$f":"IFERROR(SUM(Table3[[#This Row],[Tile Wide]]*Table3[[#This Row],[Tile High]]),\"\")","v":""},{"$f":"IFERROR(ROUNDUP(SUM(Table3[[#This Row],[Actual W]]/VLOOKUP(AT111,roomnames[],4,0)),0),\"\")","v":""},{"$f":"IFERROR(ROUNDUP(SUM(Table3[[#This Row],[Actual H]]/VLOOKUP(AT111,roomnames[],5,0)),0),\"\")","v":""},{"$f":"(Table3[[#This Row],[Actual W]]*Table3[[#This Row],[Actual H]])/1000000","v":0},{"$f":"IFERROR(ROUNDUP(SUM(Table3[[#This Row],[Rectified]]/VLOOKUP(Table3[[#This Row],[Actual W]],roomnames[],5,0)),0),\"\")","v":""},{"$f":"0","v":0},{"$f":"0","v":0},{"$f":"_xlfn.ISFORMULA(Table3[[#This Row],[Qty Tiles]])","v":true},{"$f":"IF(Table3[[#This Row],[Formula Trap]]=TRUE,1,0)","v":1},{"$f":"0","v":0}]
[null,null,null,null,null,null,null,null,null,null,null,null,null,null,null,null,null,null,null,null,null,null,null,null,null,null,null,null,null,null,null,null,null,null,null,null,null,null,null,null,null,null,null,null,null,null,null,null,null,null,null,null,{"$f":"IFERROR(SUM(Table3[[#This Row],[Tile Wide]]*Table3[[#This Row],[Tile High]]),\"\")","v":""},{"$f":"IFERROR(ROUNDUP(SUM(Table3[[#This Row],[Actual W]]/VLOOKUP(AT112,roomnames[],4,0)),0),\"\")","v":""},{"$f":"IFERROR(ROUNDUP(SUM(Table3[[#This Row],[Actual H]]/VLOOKUP(AT112,roomnames[],5,0)),0),\"\")","v":""},{"$f":"(Table3[[#This Row],[Actual W]]*Table3[[#This Row],[Actual H]])/1000000","v":0},{"$f":"IFERROR(ROUNDUP(SUM(Table3[[#This Row],[Rectified]]/VLOOKUP(Table3[[#This Row],[Actual W]],roomnames[],5,0)),0),\"\")","v":""},{"$f":"0","v":0},{"$f":"0","v":0},{"$f":"_xlfn.ISFORMULA(Table3[[#This Row],[Qty Tiles]])","v":true},{"$f":"IF(Table3[[#This Row],[Formula Trap]]=TRUE,1,0)","v":1},{"$f":"0","v":0}]
[null,null,null,null,null,null,null,null,null,null,null,null,null,null,null,null,null,null,null,null,null,null,null,null,null,null,null,null,null,null,null,null,null,null,null,null,null,null,null,null,null,null,null,null,null,null,null,null,null,null,null,null,{"$f":"IFERROR(SUM(Table3[[#This Row],[Tile Wide]]*Table3[[#This Row],[Tile High]]),\"\")","v":""},{"$f":"IFERROR(ROUNDUP(SUM(Table3[[#This Row],[Actual W]]/VLOOKUP(AT113,roomnames[],4,0)),0),\"\")","v":""},{"$f":"IFERROR(ROUNDUP(SUM(Table3[[#This Row],[Actual H]]/VLOOKUP(AT113,roomnames[],5,0)),0),\"\")","v":""},{"$f":"(Table3[[#This Row],[Actual W]]*Table3[[#This Row],[Actual H]])/1000000","v":0},{"$f":"IFERROR(ROUNDUP(SUM(Table3[[#This Row],[Rectified]]/VLOOKUP(Table3[[#This Row],[Actual W]],roomnames[],5,0)),0),\"\")","v":""},{"$f":"0","v":0},{"$f":"0","v":0},{"$f":"_xlfn.ISFORMULA(Table3[[#This Row],[Qty Tiles]])","v":true},{"$f":"IF(Table3[[#This Row],[Formula Trap]]=TRUE,1,0)","v":1},{"$f":"0","v":0}]
[null,null,null,null,null,null,null,null,null,null,null,null,null,null,null,null,null,null,null,null,null,null,null,null,null,null,null,null,null,null,null,null,null,null,null,null,null,null,null,null,null,null,null,null,null,null,null,null,null,null,null,null,{"$f":"IFERROR(SUM(Table3[[#This Row],[Tile Wide]]*Table3[[#This Row],[Tile High]]),\"\")","v":""},{"$f":"IFERROR(ROUNDUP(SUM(Table3[[#This Row],[Actual W]]/VLOOKUP(AT114,roomnames[],4,0)),0),\"\")","v":""},{"$f":"IFERROR(ROUNDUP(SUM(Table3[[#This Row],[Actual H]]/VLOOKUP(AT114,roomnames[],5,0)),0),\"\")","v":""},{"$f":"(Table3[[#This Row],[Actual W]]*Table3[[#This Row],[Actual H]])/1000000","v":0},{"$f":"IFERROR(ROUNDUP(SUM(Table3[[#This Row],[Rectified]]/VLOOKUP(Table3[[#This Row],[Actual W]],roomnames[],5,0)),0),\"\")","v":""},{"$f":"0","v":0},{"$f":"0","v":0},{"$f":"_xlfn.ISFORMULA(Table3[[#This Row],[Qty Tiles]])","v":true},{"$f":"IF(Table3[[#This Row],[Formula Trap]]=TRUE,1,0)","v":1},{"$f":"0","v":0}]
[null,null,null,null,null,null,null,null,null,null,null,null,null,null,null,null,null,null,null,null,null,null,null,null,null,null,null,null,null,null,null,null,null,null,null,null,null,null,null,null,null,null,null,null,null,null,null,null,null,null,null,null,{"$f":"IFERROR(SUM(Table3[[#This Row],[Tile Wide]]*Table3[[#This Row],[Tile High]]),\"\")","v":""},{"$f":"IFERROR(ROUNDUP(SUM(Table3[[#This Row],[Actual W]]/VLOOKUP(AT115,roomnames[],4,0)),0),\"\")","v":""},{"$f":"IFERROR(ROUNDUP(SUM(Table3[[#This Row],[Actual H]]/VLOOKUP(AT115,roomnames[],5,0)),0),\"\")","v":""},{"$f":"(Table3[[#This Row],[Actual W]]*Table3[[#This Row],[Actual H]])/1000000","v":0},{"$f":"IFERROR(ROUNDUP(SUM(Table3[[#This Row],[Rectified]]/VLOOKUP(Table3[[#This Row],[Actual W]],roomnames[],5,0)),0),\"\")","v":""},{"$f":"0","v":0},{"$f":"0","v":0},{"$f":"_xlfn.ISFORMULA(Table3[[#This Row],[Qty Tiles]])","v":true},{"$f":"IF(Table3[[#This Row],[Formula Trap]]=TRUE,1,0)","v":1},{"$f":"0","v":0}]
[null,null,null,null,null,null,null,null,null,null,null,null,null,null,null,null,null,null,null,null,null,null,null,null,null,null,null,null,null,null,null,null,null,null,null,null,null,null,null,null,null,null,null,null,null,null,null,null,null,null,null,null,{"$f":"IFERROR(SUM(Table3[[#This Row],[Tile Wide]]*Table3[[#This Row],[Tile High]]),\"\")","v":""},{"$f":"IFERROR(ROUNDUP(SUM(Table3[[#This Row],[Actual W]]/VLOOKUP(AT116,roomnames[],4,0)),0),\"\")","v":""},{"$f":"IFERROR(ROUNDUP(SUM(Table3[[#This Row],[Actual H]]/VLOOKUP(AT116,roomnames[],5,0)),0),\"\")","v":""},{"$f":"(Table3[[#This Row],[Actual W]]*Table3[[#This Row],[Actual H]])/1000000","v":0},{"$f":"IFERROR(ROUNDUP(SUM(Table3[[#This Row],[Rectified]]/VLOOKUP(Table3[[#This Row],[Actual W]],roomnames[],5,0)),0),\"\")","v":""},{"$f":"0","v":0},{"$f":"0","v":0},{"$f":"_xlfn.ISFORMULA(Table3[[#This Row],[Qty Tiles]])","v":true},{"$f":"IF(Table3[[#This Row],[Formula Trap]]=TRUE,1,0)","v":1},{"$f":"0","v":0}]
[null,null,null,null,null,null,null,null,null,null,null,null,null,null,null,null,null,null,null,null,null,null,null,null,null,null,null,null,null,null,null,null,null,null,null,null,null,null,null,null,null,null,null,null,null,null,null,null,null,null,null,null,{"$f":"IFERROR(SUM(Table3[[#This Row],[Tile Wide]]*Table3[[#This Row],[Tile High]]),\"\")","v":""},{"$f":"IFERROR(ROUNDUP(SUM(Table3[[#This Row],[Actual W]]/VLOOKUP(AT117,roomnames[],4,0)),0),\"\")","v":""},{"$f":"IFERROR(ROUNDUP(SUM(Table3[[#This Row],[Actual H]]/VLOOKUP(AT117,roomnames[],5,0)),0),\"\")","v":""},{"$f":"(Table3[[#This Row],[Actual W]]*Table3[[#This Row],[Actual H]])/1000000","v":0},{"$f":"IFERROR(ROUNDUP(SUM(Table3[[#This Row],[Rectified]]/VLOOKUP(Table3[[#This Row],[Actual W]],roomnames[],5,0)),0),\"\")","v":""},{"$f":"0","v":0},{"$f":"0","v":0},{"$f":"_xlfn.ISFORMULA(Table3[[#This Row],[Qty Tiles]])","v":true},{"$f":"IF(Table3[[#This Row],[Formula Trap]]=TRUE,1,0)","v":1},{"$f":"0","v":0}]
[null,null,null,null,null,null,null,null,null,null,null,null,null,null,null,null,null,null,null,null,null,null,null,null,null,null,null,null,null,null,null,null,null,null,null,null,null,null,null,null,null,null,null,null,null,null,null,null,null,null,null,null,{"$f":"IFERROR(SUM(Table3[[#This Row],[Tile Wide]]*Table3[[#This Row],[Tile High]]),\"\")","v":""},{"$f":"IFERROR(ROUNDUP(SUM(Table3[[#This Row],[Actual W]]/VLOOKUP(AT118,roomnames[],4,0)),0),\"\")","v":""},{"$f":"IFERROR(ROUNDUP(SUM(Table3[[#This Row],[Actual H]]/VLOOKUP(AT118,roomnames[],5,0)),0),\"\")","v":""},{"$f":"(Table3[[#This Row],[Actual W]]*Table3[[#This Row],[Actual H]])/1000000","v":0},{"$f":"IFERROR(ROUNDUP(SUM(Table3[[#This Row],[Rectified]]/VLOOKUP(Table3[[#This Row],[Actual W]],roomnames[],5,0)),0),\"\")","v":""},{"$f":"0","v":0},{"$f":"0","v":0},{"$f":"_xlfn.ISFORMULA(Table3[[#This Row],[Qty Tiles]])","v":true},{"$f":"IF(Table3[[#This Row],[Formula Trap]]=TRUE,1,0)","v":1},{"$f":"0","v":0}]
[null,null,null,null,null,null,null,null,null,null,null,null,null,null,null,null,null,null,null,null,null,null,null,null,null,null,null,null,null,null,null,null,null,null,null,null,null,null,null,null,null,null,null,null,null,null,null,null,null,null,null,null,{"$f":"IFERROR(SUM(Table3[[#This Row],[Tile Wide]]*Table3[[#This Row],[Tile High]]),\"\")","v":""},{"$f":"IFERROR(ROUNDUP(SUM(Table3[[#This Row],[Actual W]]/VLOOKUP(AT119,roomnames[],4,0)),0),\"\")","v":""},{"$f":"IFERROR(ROUNDUP(SUM(Table3[[#This Row],[Actual H]]/VLOOKUP(AT119,roomnames[],5,0)),0),\"\")","v":""},{"$f":"(Table3[[#This Row],[Actual W]]*Table3[[#This Row],[Actual H]])/1000000","v":0},{"$f":"IFERROR(ROUNDUP(SUM(Table3[[#This Row],[Rectified]]/VLOOKUP(Table3[[#This Row],[Actual W]],roomnames[],5,0)),0),\"\")","v":""},{"$f":"0","v":0},{"$f":"0","v":0},{"$f":"_xlfn.ISFORMULA(Table3[[#This Row],[Qty Tiles]])","v":true},{"$f":"IF(Table3[[#This Row],[Formula Trap]]=TRUE,1,0)","v":1},{"$f":"0","v":0}]
[null,null,null,null,null,null,null,null,null,null,null,null,null,null,null,null,null,null,null,null,null,null,null,null,null,null,null,null,null,null,null,null,null,null,null,null,null,null,null,null,null,null,null,null,null,null,null,null,null,null,null,null,{"$f":"IFERROR(SUM(Table3[[#This Row],[Tile Wide]]*Table3[[#This Row],[Tile High]]),\"\")","v":""},{"$f":"IFERROR(ROUNDUP(SUM(Table3[[#This Row],[Actual W]]/VLOOKUP(AT120,roomnames[],4,0)),0),\"\")","v":""},{"$f":"IFERROR(ROUNDUP(SUM(Table3[[#This Row],[Actual H]]/VLOOKUP(AT120,roomnames[],5,0)),0),\"\")","v":""},{"$f":"(Table3[[#This Row],[Actual W]]*Table3[[#This Row],[Actual H]])/1000000","v":0},{"$f":"IFERROR(ROUNDUP(SUM(Table3[[#This Row],[Rectified]]/VLOOKUP(Table3[[#This Row],[Actual W]],roomnames[],5,0)),0),\"\")","v":""},{"$f":"0","v":0},{"$f":"0","v":0},{"$f":"_xlfn.ISFORMULA(Table3[[#This Row],[Qty Tiles]])","v":true},{"$f":"IF(Table3[[#This Row],[Formula Trap]]=TRUE,1,0)","v":1},{"$f":"0","v":0}]
[null,null,null,null,null,null,null,null,null,null,null,null,null,null,null,null,null,null,null,null,null,null,null,null,null,null,null,null,null,null,null,null,null,null,null,null,null,null,null,null,null,null,null,null,null,null,null,null,null,null,null,null,{"$f":"IFERROR(SUM(Table3[[#This Row],[Tile Wide]]*Table3[[#This Row],[Tile High]]),\"\")","v":""},{"$f":"IFERROR(ROUNDUP(SUM(Table3[[#This Row],[Actual W]]/VLOOKUP(AT121,roomnames[],4,0)),0),\"\")","v":""},{"$f":"IFERROR(ROUNDUP(SUM(Table3[[#This Row],[Actual H]]/VLOOKUP(AT121,roomnames[],5,0)),0),\"\")","v":""},{"$f":"(Table3[[#This Row],[Actual W]]*Table3[[#This Row],[Actual H]])/1000000","v":0},{"$f":"IFERROR(ROUNDUP(SUM(Table3[[#This Row],[Rectified]]/VLOOKUP(Table3[[#This Row],[Actual W]],roomnames[],5,0)),0),\"\")","v":""},{"$f":"0","v":0},{"$f":"0","v":0},{"$f":"_xlfn.ISFORMULA(Table3[[#This Row],[Qty Tiles]])","v":true},{"$f":"IF(Table3[[#This Row],[Formula Trap]]=TRUE,1,0)","v":1},{"$f":"0","v":0}]
[null,null,null,null,null,null,null,null,null,null,null,null,null,null,null,null,null,null,null,null,null,null,null,null,null,null,null,null,null,null,null,null,null,null,null,null,null,null,null,null,null,null,null,null,null,null,null,null,null,null,null,null,{"$f":"IFERROR(SUM(Table3[[#This Row],[Tile Wide]]*Table3[[#This Row],[Tile High]]),\"\")","v":""},{"$f":"IFERROR(ROUNDUP(SUM(Table3[[#This Row],[Actual W]]/VLOOKUP(AT122,roomnames[],4,0)),0),\"\")","v":""},{"$f":"IFERROR(ROUNDUP(SUM(Table3[[#This Row],[Actual H]]/VLOOKUP(AT122,roomnames[],5,0)),0),\"\")","v":""},{"$f":"(Table3[[#This Row],[Actual W]]*Table3[[#This Row],[Actual H]])/1000000","v":0},{"$f":"IFERROR(ROUNDUP(SUM(Table3[[#This Row],[Rectified]]/VLOOKUP(Table3[[#This Row],[Actual W]],roomnames[],5,0)),0),\"\")","v":""},{"$f":"0","v":0},{"$f":"0","v":0},{"$f":"_xlfn.ISFORMULA(Table3[[#This Row],[Qty Tiles]])","v":true},{"$f":"IF(Table3[[#This Row],[Formula Trap]]=TRUE,1,0)","v":1},{"$f":"0","v":0}]
[null,null,null,null,null,null,null,null,null,null,null,null,null,null,null,null,null,null,null,null,null,null,null,null,null,null,null,null,null,null,null,null,null,null,null,null,null,null,null,null,null,null,null,null,null,null,null,null,null,null,null,null,{"$f":"IFERROR(SUM(Table3[[#This Row],[Tile Wide]]*Table3[[#This Row],[Tile High]]),\"\")","v":""},{"$f":"IFERROR(ROUNDUP(SUM(Table3[[#This Row],[Actual W]]/VLOOKUP(AT123,roomnames[],4,0)),0),\"\")","v":""},{"$f":"IFERROR(ROUNDUP(SUM(Table3[[#This Row],[Actual H]]/VLOOKUP(AT123,roomnames[],5,0)),0),\"\")","v":""},{"$f":"(Table3[[#This Row],[Actual W]]*Table3[[#This Row],[Actual H]])/1000000","v":0},{"$f":"IFERROR(ROUNDUP(SUM(Table3[[#This Row],[Rectified]]/VLOOKUP(Table3[[#This Row],[Actual W]],roomnames[],5,0)),0),\"\")","v":""},{"$f":"0","v":0},{"$f":"0","v":0},{"$f":"_xlfn.ISFORMULA(Table3[[#This Row],[Qty Tiles]])","v":true},{"$f":"IF(Table3[[#This Row],[Formula Trap]]=TRUE,1,0)","v":1},{"$f":"0","v":0}]
[null,null,null,null,null,null,null,null,null,null,null,null,null,null,null,null,null,null,null,null,null,null,null,null,null,null,null,null,null,null,null,null,null,null,null,null,null,null,null,null,null,null,null,null,null,null,null,null,null,null,null,null,{"$f":"IFERROR(SUM(Table3[[#This Row],[Tile Wide]]*Table3[[#This Row],[Tile High]]),\"\")","v":""},{"$f":"IFERROR(ROUNDUP(SUM(Table3[[#This Row],[Actual W]]/VLOOKUP(AT124,roomnames[],4,0)),0),\"\")","v":""},{"$f":"IFERROR(ROUNDUP(SUM(Table3[[#This Row],[Actual H]]/VLOOKUP(AT124,roomnames[],5,0)),0),\"\")","v":""},{"$f":"(Table3[[#This Row],[Actual W]]*Table3[[#This Row],[Actual H]])/1000000","v":0},{"$f":"IFERROR(ROUNDUP(SUM(Table3[[#This Row],[Rectified]]/VLOOKUP(Table3[[#This Row],[Actual W]],roomnames[],5,0)),0),\"\")","v":""},{"$f":"0","v":0},{"$f":"0","v":0},{"$f":"_xlfn.ISFORMULA(Table3[[#This Row],[Qty Tiles]])","v":true},{"$f":"IF(Table3[[#This Row],[Formula Trap]]=TRUE,1,0)","v":1},{"$f":"0","v":0}]
[null,null,null,null,null,null,null,null,null,null,null,null,null,null,null,null,null,null,null,null,null,null,null,null,null,null,null,null,null,null,null,null,null,null,null,null,null,null,null,null,null,null,null,null,null,null,null,null,null,null,null,null,{"$f":"IFERROR(SUM(Table3[[#This Row],[Tile Wide]]*Table3[[#This Row],[Tile High]]),\"\")","v":""},{"$f":"IFERROR(ROUNDUP(SUM(Table3[[#This Row],[Actual W]]/VLOOKUP(AT125,roomnames[],4,0)),0),\"\")","v":""},{"$f":"IFERROR(ROUNDUP(SUM(Table3[[#This Row],[Actual H]]/VLOOKUP(AT125,roomnames[],5,0)),0),\"\")","v":""},{"$f":"(Table3[[#This Row],[Actual W]]*Table3[[#This Row],[Actual H]])/1000000","v":0},{"$f":"IFERROR(ROUNDUP(SUM(Table3[[#This Row],[Rectified]]/VLOOKUP(Table3[[#This Row],[Actual W]],roomnames[],5,0)),0),\"\")","v":""},{"$f":"0","v":0},{"$f":"0","v":0},{"$f":"_xlfn.ISFORMULA(Table3[[#This Row],[Qty Tiles]])","v":true},{"$f":"IF(Table3[[#This Row],[Formula Trap]]=TRUE,1,0)","v":1},{"$f":"0","v":0}]
[null,null,null,null,null,null,null,null,null,null,null,null,null,null,null,null,null,null,null,null,null,null,null,null,null,null,null,null,null,null,null,null,null,null,null,null,null,null,null,null,null,null,null,null,null,null,null,null,null,null,null,null,{"$f":"IFERROR(SUM(Table3[[#This Row],[Tile Wide]]*Table3[[#This Row],[Tile High]]),\"\")","v":""},{"$f":"IFERROR(ROUNDUP(SUM(Table3[[#This Row],[Actual W]]/VLOOKUP(AT126,roomnames[],4,0)),0),\"\")","v":""},{"$f":"IFERROR(ROUNDUP(SUM(Table3[[#This Row],[Actual H]]/VLOOKUP(AT126,roomnames[],5,0)),0),\"\")","v":""},{"$f":"(Table3[[#This Row],[Actual W]]*Table3[[#This Row],[Actual H]])/1000000","v":0},{"$f":"IFERROR(ROUNDUP(SUM(Table3[[#This Row],[Rectified]]/VLOOKUP(Table3[[#This Row],[Actual W]],roomnames[],5,0)),0),\"\")","v":""},{"$f":"0","v":0},{"$f":"0","v":0},{"$f":"_xlfn.ISFORMULA(Table3[[#This Row],[Qty Tiles]])","v":true},{"$f":"IF(Table3[[#This Row],[Formula Trap]]=TRUE,1,0)","v":1},{"$f":"0","v":0}]
[null,null,null,null,null,null,null,null,null,null,null,null,null,null,null,null,null,null,null,null,null,null,null,null,null,null,null,null,null,null,null,null,null,null,null,null,null,null,null,null,null,null,null,null,null,null,null,null,null,null,null,null,{"$f":"IFERROR(SUM(Table3[[#This Row],[Tile Wide]]*Table3[[#This Row],[Tile High]]),\"\")","v":""},{"$f":"IFERROR(ROUNDUP(SUM(Table3[[#This Row],[Actual W]]/VLOOKUP(AT127,roomnames[],4,0)),0),\"\")","v":""},{"$f":"IFERROR(ROUNDUP(SUM(Table3[[#This Row],[Actual H]]/VLOOKUP(AT127,roomnames[],5,0)),0),\"\")","v":""},{"$f":"(Table3[[#This Row],[Actual W]]*Table3[[#This Row],[Actual H]])/1000000","v":0},{"$f":"IFERROR(ROUNDUP(SUM(Table3[[#This Row],[Rectified]]/VLOOKUP(Table3[[#This Row],[Actual W]],roomnames[],5,0)),0),\"\")","v":""},{"$f":"0","v":0},{"$f":"0","v":0},{"$f":"_xlfn.ISFORMULA(Table3[[#This Row],[Qty Tiles]])","v":true},{"$f":"IF(Table3[[#This Row],[Formula Trap]]=TRUE,1,0)","v":1},{"$f":"0","v":0}]
[null,null,null,null,null,null,null,null,null,null,null,null,null,null,null,null,null,null,null,null,null,null,null,null,null,null,null,null,null,null,null,null,null,null,null,null,null,null,null,null,null,null,null,null,null,null,null,null,null,null,null,null,{"$f":"IFERROR(SUM(Table3[[#This Row],[Tile Wide]]*Table3[[#This Row],[Tile High]]),\"\")","v":""},{"$f":"IFERROR(ROUNDUP(SUM(Table3[[#This Row],[Actual W]]/VLOOKUP(AT128,roomnames[],4,0)),0),\"\")","v":""},{"$f":"IFERROR(ROUNDUP(SUM(Table3[[#This Row],[Actual H]]/VLOOKUP(AT128,roomnames[],5,0)),0),\"\")","v":""},{"$f":"(Table3[[#This Row],[Actual W]]*Table3[[#This Row],[Actual H]])/1000000","v":0},{"$f":"IFERROR(ROUNDUP(SUM(Table3[[#This Row],[Rectified]]/VLOOKUP(Table3[[#This Row],[Actual W]],roomnames[],5,0)),0),\"\")","v":""},{"$f":"0","v":0},{"$f":"0","v":0},{"$f":"_xlfn.ISFORMULA(Table3[[#This Row],[Qty Tiles]])","v":true},{"$f":"IF(Table3[[#This Row],[Formula Trap]]=TRUE,1,0)","v":1},{"$f":"0","v":0}]
[null,null,null,null,null,null,null,null,null,null,null,null,null,null,null,null,null,null,null,null,null,null,null,null,null,null,null,null,null,null,null,null,null,null,null,null,null,null,null,null,null,null,null,null,null,null,null,null,null,null,null,null,{"$f":"IFERROR(SUM(Table3[[#This Row],[Tile Wide]]*Table3[[#This Row],[Tile High]]),\"\")","v":""},{"$f":"IFERROR(ROUNDUP(SUM(Table3[[#This Row],[Actual W]]/VLOOKUP(AT129,roomnames[],4,0)),0),\"\")","v":""},{"$f":"IFERROR(ROUNDUP(SUM(Table3[[#This Row],[Actual H]]/VLOOKUP(AT129,roomnames[],5,0)),0),\"\")","v":""},{"$f":"(Table3[[#This Row],[Actual W]]*Table3[[#This Row],[Actual H]])/1000000","v":0},{"$f":"IFERROR(ROUNDUP(SUM(Table3[[#This Row],[Rectified]]/VLOOKUP(Table3[[#This Row],[Actual W]],roomnames[],5,0)),0),\"\")","v":""},{"$f":"0","v":0},{"$f":"0","v":0},{"$f":"_xlfn.ISFORMULA(Table3[[#This Row],[Qty Tiles]])","v":true},{"$f":"IF(Table3[[#This Row],[Formula Trap]]=TRUE,1,0)","v":1},{"$f":"0","v":0}]
[null,null,null,null,null,null,null,null,null,null,null,null,null,null,null,null,null,null,null,null,null,null,null,null,null,null,null,null,null,null,null,null,null,null,null,null,null,null,null,null,null,null,null,null,null,null,null,null,null,null,null,null,{"$f":"IFERROR(SUM(Table3[[#This Row],[Tile Wide]]*Table3[[#This Row],[Tile High]]),\"\")","v":""},{"$f":"IFERROR(ROUNDUP(SUM(Table3[[#This Row],[Actual W]]/VLOOKUP(AT130,roomnames[],4,0)),0),\"\")","v":""},{"$f":"IFERROR(ROUNDUP(SUM(Table3[[#This Row],[Actual H]]/VLOOKUP(AT130,roomnames[],5,0)),0),\"\")","v":""},{"$f":"(Table3[[#This Row],[Actual W]]*Table3[[#This Row],[Actual H]])/1000000","v":0},{"$f":"IFERROR(ROUNDUP(SUM(Table3[[#This Row],[Rectified]]/VLOOKUP(Table3[[#This Row],[Actual W]],roomnames[],5,0)),0),\"\")","v":""},{"$f":"0","v":0},{"$f":"0","v":0},{"$f":"_xlfn.ISFORMULA(Table3[[#This Row],[Qty Tiles]])","v":true},{"$f":"IF(Table3[[#This Row],[Formula Trap]]=TRUE,1,0)","v":1},{"$f":"0","v":0}]
[null,null,null,null,null,null,null,null,null,null,null,null,null,null,null,null,null,null,null,null,null,null,null,null,null,null,null,null,null,null,null,null,null,null,null,null,null,null,null,null,null,null,null,null,null,null,null,null,null,null,null,null,{"$f":"IFERROR(SUM(Table3[[#This Row],[Tile Wide]]*Table3[[#This Row],[Tile High]]),\"\")","v":""},{"$f":"IFERROR(ROUNDUP(SUM(Table3[[#This Row],[Actual W]]/VLOOKUP(AT131,roomnames[],4,0)),0),\"\")","v":""},{"$f":"IFERROR(ROUNDUP(SUM(Table3[[#This Row],[Actual H]]/VLOOKUP(AT131,roomnames[],5,0)),0),\"\")","v":""},{"$f":"(Table3[[#This Row],[Actual W]]*Table3[[#This Row],[Actual H]])/1000000","v":0},{"$f":"IFERROR(ROUNDUP(SUM(Table3[[#This Row],[Rectified]]/VLOOKUP(Table3[[#This Row],[Actual W]],roomnames[],5,0)),0),\"\")","v":""},{"$f":"0","v":0},{"$f":"0","v":0},{"$f":"_xlfn.ISFORMULA(Table3[[#This Row],[Qty Tiles]])","v":true},{"$f":"IF(Table3[[#This Row],[Formula Trap]]=TRUE,1,0)","v":1},{"$f":"0","v":0}]
[null,null,null,null,null,null,null,null,null,null,null,null,null,null,null,null,null,null,null,null,null,null,null,null,null,null,null,null,null,null,null,null,null,null,null,null,null,null,null,null,null,null,null,null,null,null,null,null,null,null,null,null,{"$f":"IFERROR(SUM(Table3[[#This Row],[Tile Wide]]*Table3[[#This Row],[Tile High]]),\"\")","v":""},{"$f":"IFERROR(ROUNDUP(SUM(Table3[[#This Row],[Actual W]]/VLOOKUP(AT132,roomnames[],4,0)),0),\"\")","v":""},{"$f":"IFERROR(ROUNDUP(SUM(Table3[[#This Row],[Actual H]]/VLOOKUP(AT132,roomnames[],5,0)),0),\"\")","v":""},{"$f":"(Table3[[#This Row],[Actual W]]*Table3[[#This Row],[Actual H]])/1000000","v":0},{"$f":"IFERROR(ROUNDUP(SUM(Table3[[#This Row],[Rectified]]/VLOOKUP(Table3[[#This Row],[Actual W]],roomnames[],5,0)),0),\"\")","v":""},{"$f":"0","v":0},{"$f":"0","v":0},{"$f":"_xlfn.ISFORMULA(Table3[[#This Row],[Qty Tiles]])","v":true},{"$f":"IF(Table3[[#This Row],[Formula Trap]]=TRUE,1,0)","v":1},{"$f":"0","v":0}]
[null,null,null,null,null,null,null,null,null,null,null,null,null,null,null,null,null,null,null,null,null,null,null,null,null,null,null,null,null,null,null,null,null,null,null,null,null,null,null,null,null,null,null,null,null,null,null,null,null,null,null,null,{"$f":"IFERROR(SUM(Table3[[#This Row],[Tile Wide]]*Table3[[#This Row],[Tile High]]),\"\")","v":""},{"$f":"IFERROR(ROUNDUP(SUM(Table3[[#This Row],[Actual W]]/VLOOKUP(AT133,roomnames[],4,0)),0),\"\")","v":""},{"$f":"IFERROR(ROUNDUP(SUM(Table3[[#This Row],[Actual H]]/VLOOKUP(AT133,roomnames[],5,0)),0),\"\")","v":""},{"$f":"(Table3[[#This Row],[Actual W]]*Table3[[#This Row],[Actual H]])/1000000","v":0},{"$f":"IFERROR(ROUNDUP(SUM(Table3[[#This Row],[Rectified]]/VLOOKUP(Table3[[#This Row],[Actual W]],roomnames[],5,0)),0),\"\")","v":""},{"$f":"0","v":0},{"$f":"0","v":0},{"$f":"_xlfn.ISFORMULA(Table3[[#This Row],[Qty Tiles]])","v":true},{"$f":"IF(Table3[[#This Row],[Formula Trap]]=TRUE,1,0)","v":1},{"$f":"0","v":0}]
[null,null,null,null,null,null,null,null,null,null,null,null,null,null,null,null,null,null,null,null,null,null,null,null,null,null,null,null,null,null,null,null,null,null,null,null,null,null,null,null,null,null,null,null,null,null,null,null,null,null,null,null,{"$f":"IFERROR(SUM(Table3[[#This Row],[Tile Wide]]*Table3[[#This Row],[Tile High]]),\"\")","v":""},{"$f":"IFERROR(ROUNDUP(SUM(Table3[[#This Row],[Actual W]]/VLOOKUP(AT134,roomnames[],4,0)),0),\"\")","v":""},{"$f":"IFERROR(ROUNDUP(SUM(Table3[[#This Row],[Actual H]]/VLOOKUP(AT134,roomnames[],5,0)),0),\"\")","v":""},{"$f":"(Table3[[#This Row],[Actual W]]*Table3[[#This Row],[Actual H]])/1000000","v":0},{"$f":"IFERROR(ROUNDUP(SUM(Table3[[#This Row],[Rectified]]/VLOOKUP(Table3[[#This Row],[Actual W]],roomnames[],5,0)),0),\"\")","v":""},{"$f":"0","v":0},{"$f":"0","v":0},{"$f":"_xlfn.ISFORMULA(Table3[[#This Row],[Qty Tiles]])","v":true},{"$f":"IF(Table3[[#This Row],[Formula Trap]]=TRUE,1,0)","v":1},{"$f":"0","v":0}]
[null,null,null,null,null,null,null,null,null,null,null,null,null,null,null,null,null,null,null,null,null,null,null,null,null,null,null,null,null,null,null,null,null,null,null,null,null,null,null,null,null,null,null,null,null,null,null,null,null,null,null,null,{"$f":"IFERROR(SUM(Table3[[#This Row],[Tile Wide]]*Table3[[#This Row],[Tile High]]),\"\")","v":""},{"$f":"IFERROR(ROUNDUP(SUM(Table3[[#This Row],[Actual W]]/VLOOKUP(AT135,roomnames[],4,0)),0),\"\")","v":""},{"$f":"IFERROR(ROUNDUP(SUM(Table3[[#This Row],[Actual H]]/VLOOKUP(AT135,roomnames[],5,0)),0),\"\")","v":""},{"$f":"(Table3[[#This Row],[Actual W]]*Table3[[#This Row],[Actual H]])/1000000","v":0},{"$f":"IFERROR(ROUNDUP(SUM(Table3[[#This Row],[Rectified]]/VLOOKUP(Table3[[#This Row],[Actual W]],roomnames[],5,0)),0),\"\")","v":""},{"$f":"0","v":0},{"$f":"0","v":0},{"$f":"_xlfn.ISFORMULA(Table3[[#This Row],[Qty Tiles]])","v":true},{"$f":"IF(Table3[[#This Row],[Formula Trap]]=TRUE,1,0)","v":1},{"$f":"0","v":0}]
[null,null,null,null,null,null,null,null,null,null,null,null,null,null,null,null,null,null,null,null,null,null,null,null,null,null,null,null,null,null,null,null,null,null,null,null,null,null,null,null,null,null,null,null,null,null,null,null,null,null,null,null,{"$f":"IFERROR(SUM(Table3[[#This Row],[Tile Wide]]*Table3[[#This Row],[Tile High]]),\"\")","v":""},{"$f":"IFERROR(ROUNDUP(SUM(Table3[[#This Row],[Actual W]]/VLOOKUP(AT136,roomnames[],4,0)),0),\"\")","v":""},{"$f":"IFERROR(ROUNDUP(SUM(Table3[[#This Row],[Actual H]]/VLOOKUP(AT136,roomnames[],5,0)),0),\"\")","v":""},{"$f":"(Table3[[#This Row],[Actual W]]*Table3[[#This Row],[Actual H]])/1000000","v":0},{"$f":"IFERROR(ROUNDUP(SUM(Table3[[#This Row],[Rectified]]/VLOOKUP(Table3[[#This Row],[Actual W]],roomnames[],5,0)),0),\"\")","v":""},{"$f":"0","v":0},{"$f":"0","v":0},{"$f":"_xlfn.ISFORMULA(Table3[[#This Row],[Qty Tiles]])","v":true},{"$f":"IF(Table3[[#This Row],[Formula Trap]]=TRUE,1,0)","v":1},{"$f":"0","v":0}]
[null,null,null,null,null,null,null,null,null,null,null,null,null,null,null,null,null,null,null,null,null,null,null,null,null,null,null,null,null,null,null,null,null,null,null,null,null,null,null,null,null,null,null,null,null,null,null,null,null,null,null,null,{"$f":"IFERROR(SUM(Table3[[#This Row],[Tile Wide]]*Table3[[#This Row],[Tile High]]),\"\")","v":""},{"$f":"IFERROR(ROUNDUP(SUM(Table3[[#This Row],[Actual W]]/VLOOKUP(AT137,roomnames[],4,0)),0),\"\")","v":""},{"$f":"IFERROR(ROUNDUP(SUM(Table3[[#This Row],[Actual H]]/VLOOKUP(AT137,roomnames[],5,0)),0),\"\")","v":""},{"$f":"(Table3[[#This Row],[Actual W]]*Table3[[#This Row],[Actual H]])/1000000","v":0},{"$f":"IFERROR(ROUNDUP(SUM(Table3[[#This Row],[Rectified]]/VLOOKUP(Table3[[#This Row],[Actual W]],roomnames[],5,0)),0),\"\")","v":""},{"$f":"0","v":0},{"$f":"0","v":0},{"$f":"_xlfn.ISFORMULA(Table3[[#This Row],[Qty Tiles]])","v":true},{"$f":"IF(Table3[[#This Row],[Formula Trap]]=TRUE,1,0)","v":1},{"$f":"0","v":0}]
[null,null,null,null,null,null,null,null,null,null,null,null,null,null,null,null,null,null,null,null,null,null,null,null,null,null,null,null,null,null,null,null,null,null,null,null,null,null,null,null,null,null,null,null,null,null,null,null,null,null,null,null,{"$f":"IFERROR(SUM(Table3[[#This Row],[Tile Wide]]*Table3[[#This Row],[Tile High]]),\"\")","v":""},{"$f":"IFERROR(ROUNDUP(SUM(Table3[[#This Row],[Actual W]]/VLOOKUP(AT138,roomnames[],4,0)),0),\"\")","v":""},{"$f":"IFERROR(ROUNDUP(SUM(Table3[[#This Row],[Actual H]]/VLOOKUP(AT138,roomnames[],5,0)),0),\"\")","v":""},{"$f":"(Table3[[#This Row],[Actual W]]*Table3[[#This Row],[Actual H]])/1000000","v":0},{"$f":"IFERROR(ROUNDUP(SUM(Table3[[#This Row],[Rectified]]/VLOOKUP(Table3[[#This Row],[Actual W]],roomnames[],5,0)),0),\"\")","v":""},{"$f":"0","v":0},{"$f":"0","v":0},{"$f":"_xlfn.ISFORMULA(Table3[[#This Row],[Qty Tiles]])","v":true},{"$f":"IF(Table3[[#This Row],[Formula Trap]]=TRUE,1,0)","v":1},{"$f":"0","v":0}]
[null,null,null,null,null,null,null,null,null,null,null,null,null,null,null,null,null,null,null,null,null,null,null,null,null,null,null,null,null,null,null,null,null,null,null,null,null,null,null,null,null,null,null,null,null,null,null,null,null,null,null,null,{"$f":"IFERROR(SUM(Table3[[#This Row],[Tile Wide]]*Table3[[#This Row],[Tile High]]),\"\")","v":""},{"$f":"IFERROR(ROUNDUP(SUM(Table3[[#This Row],[Actual W]]/VLOOKUP(AT139,roomnames[],4,0)),0),\"\")","v":""},{"$f":"IFERROR(ROUNDUP(SUM(Table3[[#This Row],[Actual H]]/VLOOKUP(AT139,roomnames[],5,0)),0),\"\")","v":""},{"$f":"(Table3[[#This Row],[Actual W]]*Table3[[#This Row],[Actual H]])/1000000","v":0},{"$f":"IFERROR(ROUNDUP(SUM(Table3[[#This Row],[Rectified]]/VLOOKUP(Table3[[#This Row],[Actual W]],roomnames[],5,0)),0),\"\")","v":""},{"$f":"0","v":0},{"$f":"0","v":0},{"$f":"_xlfn.ISFORMULA(Table3[[#This Row],[Qty Tiles]])","v":true},{"$f":"IF(Table3[[#This Row],[Formula Trap]]=TRUE,1,0)","v":1},{"$f":"0","v":0}]
[null,null,null,null,null,null,null,null,null,null,null,null,null,null,null,null,null,null,null,null,null,null,null,null,null,null,null,null,null,null,null,null,null,null,null,null,null,null,null,null,null,null,null,null,null,null,null,null,null,null,null,null,{"$f":"IFERROR(SUM(Table3[[#This Row],[Tile Wide]]*Table3[[#This Row],[Tile High]]),\"\")","v":""},{"$f":"IFERROR(ROUNDUP(SUM(Table3[[#This Row],[Actual W]]/VLOOKUP(AT140,roomnames[],4,0)),0),\"\")","v":""},{"$f":"IFERROR(ROUNDUP(SUM(Table3[[#This Row],[Actual H]]/VLOOKUP(AT140,roomnames[],5,0)),0),\"\")","v":""},{"$f":"(Table3[[#This Row],[Actual W]]*Table3[[#This Row],[Actual H]])/1000000","v":0},{"$f":"IFERROR(ROUNDUP(SUM(Table3[[#This Row],[Rectified]]/VLOOKUP(Table3[[#This Row],[Actual W]],roomnames[],5,0)),0),\"\")","v":""},{"$f":"0","v":0},{"$f":"0","v":0},{"$f":"_xlfn.ISFORMULA(Table3[[#This Row],[Qty Tiles]])","v":true},{"$f":"IF(Table3[[#This Row],[Formula Trap]]=TRUE,1,0)","v":1},{"$f":"0","v":0}]
[null,null,null,null,null,null,null,null,null,null,null,null,null,null,null,null,null,null,null,null,null,null,null,null,null,null,null,null,null,null,null,null,null,null,null,null,null,null,null,null,null,null,null,null,null,null,null,null,null,null,null,null,{"$f":"IFERROR(SUM(Table3[[#This Row],[Tile Wide]]*Table3[[#This Row],[Tile High]]),\"\")","v":""},{"$f":"IFERROR(ROUNDUP(SUM(Table3[[#This Row],[Actual W]]/VLOOKUP(AT141,roomnames[],4,0)),0),\"\")","v":""},{"$f":"IFERROR(ROUNDUP(SUM(Table3[[#This Row],[Actual H]]/VLOOKUP(AT141,roomnames[],5,0)),0),\"\")","v":""},{"$f":"(Table3[[#This Row],[Actual W]]*Table3[[#This Row],[Actual H]])/1000000","v":0},{"$f":"IFERROR(ROUNDUP(SUM(Table3[[#This Row],[Rectified]]/VLOOKUP(Table3[[#This Row],[Actual W]],roomnames[],5,0)),0),\"\")","v":""},{"$f":"0","v":0},{"$f":"0","v":0},{"$f":"_xlfn.ISFORMULA(Table3[[#This Row],[Qty Tiles]])","v":true},{"$f":"IF(Table3[[#This Row],[Formula Trap]]=TRUE,1,0)","v":1},{"$f":"0","v":0}]
[null,null,null,null,null,null,null,null,null,null,null,null,null,null,null,null,null,null,null,null,null,null,null,null,null,null,null,null,null,null,null,null,null,null,null,null,null,null,null,null,null,null,null,null,null,null,null,null,null,null,null,null,{"$f":"IFERROR(SUM(Table3[[#This Row],[Tile Wide]]*Table3[[#This Row],[Tile High]]),\"\")","v":""},{"$f":"IFERROR(ROUNDUP(SUM(Table3[[#This Row],[Actual W]]/VLOOKUP(AT142,roomnames[],4,0)),0),\"\")","v":""},{"$f":"IFERROR(ROUNDUP(SUM(Table3[[#This Row],[Actual H]]/VLOOKUP(AT142,roomnames[],5,0)),0),\"\")","v":""},{"$f":"(Table3[[#This Row],[Actual W]]*Table3[[#This Row],[Actual H]])/1000000","v":0},{"$f":"IFERROR(ROUNDUP(SUM(Table3[[#This Row],[Rectified]]/VLOOKUP(Table3[[#This Row],[Actual W]],roomnames[],5,0)),0),\"\")","v":""},{"$f":"0","v":0},{"$f":"0","v":0},{"$f":"_xlfn.ISFORMULA(Table3[[#This Row],[Qty Tiles]])","v":true},{"$f":"IF(Table3[[#This Row],[Formula Trap]]=TRUE,1,0)","v":1},{"$f":"0","v":0}]
[null,null,null,null,null,null,null,null,null,null,null,null,null,null,null,null,null,null,null,null,null,null,null,null,null,null,null,null,null,null,null,null,null,null,null,null,null,null,null,null,null,null,null,null,null,null,null,null,null,null,null,null,{"$f":"IFERROR(SUM(Table3[[#This Row],[Tile Wide]]*Table3[[#This Row],[Tile High]]),\"\")","v":""},{"$f":"IFERROR(ROUNDUP(SUM(Table3[[#This Row],[Actual W]]/VLOOKUP(AT143,roomnames[],4,0)),0),\"\")","v":""},{"$f":"IFERROR(ROUNDUP(SUM(Table3[[#This Row],[Actual H]]/VLOOKUP(AT143,roomnames[],5,0)),0),\"\")","v":""},{"$f":"(Table3[[#This Row],[Actual W]]*Table3[[#This Row],[Actual H]])/1000000","v":0},{"$f":"IFERROR(ROUNDUP(SUM(Table3[[#This Row],[Rectified]]/VLOOKUP(Table3[[#This Row],[Actual W]],roomnames[],5,0)),0),\"\")","v":""},{"$f":"0","v":0},{"$f":"0","v":0},{"$f":"_xlfn.ISFORMULA(Table3[[#This Row],[Qty Tiles]])","v":true},{"$f":"IF(Table3[[#This Row],[Formula Trap]]=TRUE,1,0)","v":1},{"$f":"0","v":0}]
[null,null,null,null,null,null,null,null,null,null,null,null,null,null,null,null,null,null,null,null,null,null,null,null,null,null,null,null,null,null,null,null,null,null,null,null,null,null,null,null,null,null,null,null,null,null,null,null,null,null,null,null,{"$f":"IFERROR(SUM(Table3[[#This Row],[Tile Wide]]*Table3[[#This Row],[Tile High]]),\"\")","v":""},{"$f":"IFERROR(ROUNDUP(SUM(Table3[[#This Row],[Actual W]]/VLOOKUP(AT144,roomnames[],4,0)),0),\"\")","v":""},{"$f":"IFERROR(ROUNDUP(SUM(Table3[[#This Row],[Actual H]]/VLOOKUP(AT144,roomnames[],5,0)),0),\"\")","v":""},{"$f":"(Table3[[#This Row],[Actual W]]*Table3[[#This Row],[Actual H]])/1000000","v":0},{"$f":"IFERROR(ROUNDUP(SUM(Table3[[#This Row],[Rectified]]/VLOOKUP(Table3[[#This Row],[Actual W]],roomnames[],5,0)),0),\"\")","v":""},{"$f":"0","v":0},{"$f":"0","v":0},{"$f":"_xlfn.ISFORMULA(Table3[[#This Row],[Qty Tiles]])","v":true},{"$f":"IF(Table3[[#This Row],[Formula Trap]]=TRUE,1,0)","v":1},{"$f":"0","v":0}]
[null,null,null,null,null,null,null,null,null,null,null,null,null,null,null,null,null,null,null,null,null,null,null,null,null,null,null,null,null,null,null,null,null,null,null,null,null,null,null,null,null,null,null,null,null,null,null,null,null,null,null,null,{"$f":"IFERROR(SUM(Table3[[#This Row],[Tile Wide]]*Table3[[#This Row],[Tile High]]),\"\")","v":""},{"$f":"IFERROR(ROUNDUP(SUM(Table3[[#This Row],[Actual W]]/VLOOKUP(AT145,roomnames[],4,0)),0),\"\")","v":""},{"$f":"IFERROR(ROUNDUP(SUM(Table3[[#This Row],[Actual H]]/VLOOKUP(AT145,roomnames[],5,0)),0),\"\")","v":""},{"$f":"(Table3[[#This Row],[Actual W]]*Table3[[#This Row],[Actual H]])/1000000","v":0},{"$f":"IFERROR(ROUNDUP(SUM(Table3[[#This Row],[Rectified]]/VLOOKUP(Table3[[#This Row],[Actual W]],roomnames[],5,0)),0),\"\")","v":""},{"$f":"0","v":0},{"$f":"0","v":0},{"$f":"_xlfn.ISFORMULA(Table3[[#This Row],[Qty Tiles]])","v":true},{"$f":"IF(Table3[[#This Row],[Formula Trap]]=TRUE,1,0)","v":1},{"$f":"0","v":0}]
[]
[]
[]
[]
[]
[]
[]
[]
[]
[]
[]
[]
[]
[]
[null,null,null,null,null,null,null,null,null,null,null,null,null,null,null,null,null,null,null,null,null,null,null,null,null,null,null,null,null,null,null,null,null,null,null,null,null,null,null,null,null,null,null,null,null,null,null,null,null,null,null,null,null,null,null,{"$f":"IFERROR(ROUNDUP(SUM(Table3[[#This Row],[Mitre W/H]]/VLOOKUP(Table3[[#This Row],[Actual W]],roomnames[],4,0)),0),\"\")","v":""},{"$f":"IFERROR(ROUNDUP(SUM(Table3[[#This Row],[Rectified]]/VLOOKUP(Table3[[#This Row],[Actual W]],roomnames[],5,0)),0),\"\")","v":""},null,null,{"$f":"IFERROR(SUM(Table3[[#This Row],[Labour]]*Table3[[#This Row],[Mitre L]]),\"\")","v":""},null,{"$f":"IFERROR(SUM(Table3[[#This Row],[Labour]]*Table3[[#This Row],[Mitre L]]),\"\")","v":""}]
[null,null,null,null,null,null,null,null,null,null,null,null,null,null,null,null,null,null,null,null,null,null,null,null,null,null,null,null,null,null,null,null,null,null,null,null,null,null,null,null,null,null,null,null,null,null,null,null,null,null,null,null,null,null,null,{"$f":"IFERROR(ROUNDUP(SUM(Table3[[#This Row],[Mitre W/H]]/VLOOKUP(Table3[[#This Row],[Actual W]],roomnames[],4,0)),0),\"\")","v":""},{"$f":"IFERROR(ROUNDUP(SUM(Table3[[#This Row],[Rectified]]/VLOOKUP(Table3[[#This Row],[Actual W]],roomnames[],5,0)),0),\"\")","v":""},null,null,{"$f":"IFERROR(SUM(Table3[[#This Row],[Labour]]*Table3[[#This Row],[Mitre L]]),\"\")","v":""},null,{"$f":"IFERROR(SUM(Table3[[#This Row],[Labour]]*Table3[[#This Row],[Mitre L]]),\"\")","v":""}]
[null,null,null,null,null,null,null,null,null,null,null,null,null,null,null,null,null,null,null,null,null,null,null,null,null,null,null,null,null,null,null,null,null,null,null,null,null,null,null,null,null,null,null,null,null,null,null,null,null,null,null,null,null,null,null,{"$f":"IFERROR(ROUNDUP(SUM(Table3[[#This Row],[Mitre W/H]]/VLOOKUP(Table3[[#This Row],[Actual W]],roomnames[],4,0)),0),\"\")","v":""},{"$f":"IFERROR(ROUNDUP(SUM(Table3[[#This Row],[Rectified]]/VLOOKUP(Table3[[#This Row],[Actual W]],roomnames[],5,0)),0),\"\")","v":""},null,null,{"$f":"IFERROR(SUM(Table3[[#This Row],[Labour]]*Table3[[#This Row],[Mitre L]]),\"\")","v":""},null,{"$f":"IFERROR(SUM(Table3[[#This Row],[Labour]]*Table3[[#This Row],[Mitre L]]),\"\")","v":""}]
[null,null,null,null,null,null,null,null,null,null,null,null,null,null,null,null,null,null,null,null,null,null,null,null,null,null,null,null,null,null,null,null,null,null,null,null,null,null,null,null,null,null,null,null,null,null,null,null,null,null,null,null,null,null,null,{"$f":"IFERROR(ROUNDUP(SUM(Table3[[#This Row],[Mitre W/H]]/VLOOKUP(Table3[[#This Row],[Actual W]],roomnames[],4,0)),0),\"\")","v":""},{"$f":"IFERROR(ROUNDUP(SUM(Table3[[#This Row],[Rectified]]/VLOOKUP(Table3[[#This Row],[Actual W]],roomnames[],5,0)),0),\"\")","v":""},null,null,{"$f":"IFERROR(SUM(Table3[[#This Row],[Labour]]*Table3[[#This Row],[Mitre L]]),\"\")","v":""},null,{"$f":"IFERROR(SUM(Table3[[#This Row],[Labour]]*Table3[[#This Row],[Mitre L]]),\"\")","v":""}]
[null,null,null,null,null,null,null,null,null,null,null,null,null,null,null,null,null,null,null,null,null,null,null,null,null,null,null,null,null,null,null,null,null,null,null,null,null,null,null,null,null,null,null,null,null,null,null,null,null,null,null,null,null,null,null,{"$f":"IFERROR(ROUNDUP(SUM(Table3[[#This Row],[Mitre W/H]]/VLOOKUP(Table3[[#This Row],[Actual W]],roomnames[],4,0)),0),\"\")","v":""},{"$f":"IFERROR(ROUNDUP(SUM(Table3[[#This Row],[Rectified]]/VLOOKUP(Table3[[#This Row],[Actual W]],roomnames[],5,0)),0),\"\")","v":""},null,null,{"$f":"IFERROR(SUM(Table3[[#This Row],[Labour]]*Table3[[#This Row],[Mitre L]]),\"\")","v":""},null,{"$f":"IFERROR(SUM(Table3[[#This Row],[Labour]]*Table3[[#This Row],[Mitre L]]),\"\")","v":""}]
[null,null,null,null,null,null,null,null,null,null,null,null,null,null,null,null,null,null,null,null,null,null,null,null,null,null,null,null,null,null,null,null,null,null,null,null,null,null,null,null,null,null,null,null,null,null,null,null,null,null,null,null,null,null,null,{"$f":"IFERROR(ROUNDUP(SUM(Table3[[#This Row],[Mitre W/H]]/VLOOKUP(Table3[[#This Row],[Actual W]],roomnames[],4,0)),0),\"\")","v":""},{"$f":"IFERROR(ROUNDUP(SUM(Table3[[#This Row],[Rectified]]/VLOOKUP(Table3[[#This Row],[Actual W]],roomnames[],5,0)),0),\"\")","v":""},null,null,{"$f":"IFERROR(SUM(Table3[[#This Row],[Labour]]*Table3[[#This Row],[Mitre L]]),\"\")","v":""},null,{"$f":"IFERROR(SUM(Table3[[#This Row],[Labour]]*Table3[[#This Row],[Mitre L]]),\"\")","v":""}]
[null,null,null,null,null,null,null,null,null,null,null,null,null,null,null,null,null,null,null,null,null,null,null,null,null,null,null,null,null,null,null,null,null,null,null,null,null,null,null,null,null,null,null,null,null,null,null,null,null,null,null,null,null,null,null,{"$f":"IFERROR(ROUNDUP(SUM(Table3[[#This Row],[Mitre W/H]]/VLOOKUP(Table3[[#This Row],[Actual W]],roomnames[],4,0)),0),\"\")","v":""},{"$f":"IFERROR(ROUNDUP(SUM(Table3[[#This Row],[Rectified]]/VLOOKUP(Table3[[#This Row],[Actual W]],roomnames[],5,0)),0),\"\")","v":""},null,null,{"$f":"IFERROR(SUM(Table3[[#This Row],[Labour]]*Table3[[#This Row],[Mitre L]]),\"\")","v":""},null,{"$f":"IFERROR(SUM(Table3[[#This Row],[Labour]]*Table3[[#This Row],[Mitre L]]),\"\")","v":""}]
[null,null,null,null,null,null,null,null,null,null,null,null,null,null,null,null,null,null,null,null,null,null,null,null,null,null,null,null,null,null,null,null,null,null,null,null,null,null,null,null,null,null,null,null,null,null,null,null,null,null,null,null,null,null,null,{"$f":"IFERROR(ROUNDUP(SUM(Table3[[#This Row],[Mitre W/H]]/VLOOKUP(Table3[[#This Row],[Actual W]],roomnames[],4,0)),0),\"\")","v":""},{"$f":"IFERROR(ROUNDUP(SUM(Table3[[#This Row],[Rectified]]/VLOOKUP(Table3[[#This Row],[Actual W]],roomnames[],5,0)),0),\"\")","v":""},null,null,{"$f":"IFERROR(SUM(Table3[[#This Row],[Labour]]*Table3[[#This Row],[Mitre L]]),\"\")","v":""},null,{"$f":"IFERROR(SUM(Table3[[#This Row],[Labour]]*Table3[[#This Row],[Mitre L]]),\"\")","v":""}]
[null,null,null,null,null,null,null,null,null,null,null,null,null,null,null,null,null,null,null,null,null,null,null,null,null,null,null,null,null,null,null,null,null,null,null,null,null,null,null,null,null,null,null,null,null,null,null,null,null,null,null,null,null,null,null,{"$f":"IFERROR(ROUNDUP(SUM(Table3[[#This Row],[Mitre W/H]]/VLOOKUP(Table3[[#This Row],[Actual W]],roomnames[],4,0)),0),\"\")","v":""},{"$f":"IFERROR(ROUNDUP(SUM(Table3[[#This Row],[Rectified]]/VLOOKUP(Table3[[#This Row],[Actual W]],roomnames[],5,0)),0),\"\")","v":""},null,null,{"$f":"IFERROR(SUM(Table3[[#This Row],[Labour]]*Table3[[#This Row],[Mitre L]]),\"\")","v":""},null,{"$f":"IFERROR(SUM(Table3[[#This Row],[Labour]]*Table3[[#This Row],[Mitre L]]),\"\")","v":""}]

{"sheet":"BUILDERS SETTINGS","index":27,"n_rows":103,"n_cols":13,"rows_kept":103,"cut":false,"hidden":true,"merged":[[100,4,100,5],[100,6,100,8],[101,4,101,5],[101,6,101,8],[102,4,102,5],[102,6,102,8],[97,4,97,5],[97,6,97,8],[98,4,98,5],[98,6,98,8],[99,4,99,5],[99,6,99,8],[6,1,6,4],[95,4,95,5],[95,6,95,8],[96,4,96,5],[96,6,96,8]]}
[null,"SUMMITS STANDARD TAKEOFF REQUIREMENTS"]
[]
[]
[]
[null,"Lintel Span Charts As Per"]
[null,"Structerre For Square/Raking Bulkheads",null,null,null,null,null,null,null,null,null,null,"Scheduler Names"]
[null,"(no longer in use for lintels)",null,null,null,null,null,null,null,null,null,null,"Brett Cornwill"]
[null,null,null,"mm",null,null,null,null,null,null,null,1,"Bradley Rocke"]
[null,"75x75x6     75x75x8     90x90x8",200,"mm",null,null,null,null,null,null,null,2,"Billy Moi"]
[null,"100x75x8     100x100x8",240,"mm",null,null,null,null,null,null,null,3,"Scott Kenyon"]
[null,"127x75x8",260,"mm",null,null,null,null,null,null,null,4,"Dan Bedford"]
[null,"150x90x8",300,"mm",null,null,null,null,null,null,null,5,"Jin Huang"]
[null,"150x100x10",350,"mm",null,null,null,null,null,null,null,6,"Holly Apelu"]
[null,"200x100x10",400,"mm",null,null,null,null,null,null,null,7,"Allen Wong"]
[null,"T-BARS",500,"mm",null,null,null,null,null,null,null,8,"Vincent Wee"]
[null,null,null,"mm",null,null,null,null,null,null,null,9,"Mostafe Noori"]
[null,null,null,"mm",null,null,null,null,null,null,null,10,"Sam Lee"]
[null,null,null,"mm",null,null,null,null,null,null,null,11]
[null,"Tiling Purchase Allowance",44,null,null,null,null,null,null,null,null,12]
[null,"Face Brick Wastage Std Brick",0,"%",null,null,null,null,null,null,null,13]
[null,"Bricks per Cubic Metre Sand",1000,"no",null,null,null,null,null,null,null,14]
[null,"Cement Brickies Grey /1000 Bricks",10.8,"bags",0,"BAGS EXTRA",null,null,null,null,null,15]
[null,"Cement Brickies Lite  /1000 Bricks",11.2,"bags",0,"BAGS EXTRA",null,null,null,null,null,16]
[null,"Cement Lime Hydro",0,"bags",0,"BAGS EXTRA",null,null,null,null,null,17]
[null,"Cement Coastal Lite  /1000 Bricks",0,"bags",0,"BAGS EXTRA",null,null,null,null,null,18]
[null,"Wire Ties /1000 Bricks",83,"no",null,null,null,null,null,null,null,19]
[null,"Wire Ties Pack Size",50,"no",null,null,null,null,null,null,null,20]
[null,"Hoop Iron Spacing",1.2,"L/m",3,"EXTRA HOOP IRONS"]
[null,"Frame Straps per Ext Frame",10,"no"]
[null,"Reinforcement Overlap Length",0.5,"L/m"]
[null,"Reinforcement 3mm Mesh Length Size",3.6,"L/m"]
[null,"Reinforcement 6mm Rod Length Size",6,"L/m"]
[null,"Reinforcement Y12 Spacing",0.5,"L/m"]
[null,"Reinforecment F8 Trench Mesh Sheet Size",6,"L/m"]
[null,"Wall Plate Length",6,"L/m"]
[null,"Std Ext face per m2",48.5,"/m2"]
[null,"limestone thickness",0.15,"ht"]
[null,"Paving sand thickness",0.05,"ht"]
[null,"Paving Waste multiplier",1.3,"multiply"]
[null,"limestone waste",1.05,"multiply"]
[null,null,null,"Structerre Footing Details",null,2]
[null,"Internal Blocks Wastage Percent",0,"Type","Description","Slab","Mesh Type",null,null,"Footing",null,null,"Trench Mesh?"]
[null,null,null,"A","Slab Type \"A\"",100,"SL63",280,"x",300,"=",{"$f":"(H43/1000)*(J43/1000)","v":8.4000000000000005E-2},"NO"]
[null,null,null,"B","Slab Type \"B\"",100,"SL63",280,"x",300,"=",{"$f":"(H44/1000)*(J44/1000)","v":8.4000000000000005E-2},"YES"]
[null,null,null,"B1","Slab Type \"B1\"",100,"SL63",280,"x",300,"=",8.4000000000000005E-2,"YES"]
[null,null,null,"C1","Slab Type \"C1\"",100,"SL63",280,"x",300,"=",8.4000000000000005E-2,"YES"]
[null,null,null,"C2","Slab Type \"C2\"",100,"SL63",280,"x",300,"=",8.4000000000000005E-2,"YES"]
[null,null,null,"C3","Slab Type \"C3\"",100,"SL62",280,"x",300,"=",8.4000000000000005E-2,"YES"]
[null,null,null,"C4","Slab Type \"C4\"",100,"SL62",350,"x",300,"=",0.105,"YES"]
[null,null,null,"C5","Slab Type \"C5\"",100,"SL72",350,"x",350,"=",0.12249999999999998,"YES"]
[null,null,null,"C6","Slab Type \"C6\"",100,"SL72",400,"x",350,"=",0.13999999999999999,"YES"]
[null,null,null,"C7","Slab Type \"C7\"",100,"SL72",450,"x",350,"=",0.1575,"YES"]
[null,null,null,"C8","Slab Type \"C8\"",100,"SL72",500,"x",350,"=",0.17499999999999999,"YES"]
[null,null,null,"C9","Slab Type \"C9\"",100,"SL82",600,"x",350,"=",0.21,"YES"]
[null,null,null,"C10","Slab Type \"C10\"",100,"SL92",650,"x",300,"=",0.19500000000000001,"YES"]
[null,null,null,"D10","Slab Type \"D10\"",85,"SL53",200,"x",300,"=",0.06,"NO"]
[null,null,null,"D13","Slab Type \"D13\"",85,"SL63",280,"x",300,"=",8.4000000000000005E-2,"NO"]
[null,null,null,"E","Slab Type \"E\"",100,"SL63",280,"x",300,"=",8.4000000000000005E-2,"YES"]
[null,null,null,"E1","Slab Type \"E1\"",100,"SL63",280,"x",300,"=",8.4000000000000005E-2,"YES"]
[null,null,null,"E2","Slab Type \"E2\"",100,"SL62",350,"x",400,"=",0.13999999999999999,"YES"]
[null,null,null,"E3","Slab Type \"E3\"",100,"SL62",350,"x",400,"=",0.13999999999999999,"YES"]
[null,null,null,"E9","Slab Type \"E9\"",100,"SL63",280,"x",300,"=",8.4000000000000005E-2,"YES"]
[null,null,null,"F","Slab Type \"F\"",100,"SL62",350,"x",350,"=",0.12249999999999998,"YES"]
[null,null,null,"G2","Slab Type \"G2\"",100,"SL62",375,"x",200,"=",7.5000000000000011E-2,"YES"]
[null,null,null,"S1","Slab Type \"S1\"",100,"SL63",280,"x",300,"=",8.4000000000000005E-2,"YES"]
[null,null,null,"S2","Slab Type \"S2\"",100,"SL63",280,"x",300,"=",8.4000000000000005E-2,"YES"]
[null,null,null,"M1","Slab Type \"M1\"",100,"SL72",350,"x",350,"=",0.12249999999999998,"YES"]
[null,null,null,"M2","Slab Type \"M2\"",100,"SL72",400,"x",350,"=",0.13999999999999999,"YES"]
[null,null,null,"S4","Slab Type \"S4\"",100,"SL62",350,"x",300,"=",0.105,"YES"]
[null,null,null,null,null,null,null,null,null,null,"="]
[null,null,null,"Prompt",null,null,null,null,null,null,"="]
[null,null,null,"A85","Slab Type \"A85\"",85,"SL53",200,"x",300,"=",0.06,"NO"]
[null,null,null,"A100","Slab Type \"A100\"",100,"SL53",280,"x",300,"=",8.4000000000000005E-2,"NO"]
[null,null,null,"BV-A100TM","Slab Type \"A100\"",100,"SL53",280,"x",300,"=",8.4000000000000005E-2,"YES"]
[null,null,null,"DB -A100 TM","Slab Type \"A100\"",100,"SL53",280,"x",300,"=",8.4000000000000005E-2,"YES"]
[null,null,null,"DF-A3POD","Slab Type \"DF-A3POD\"",85,"SL63",280,"x",400,"=",0.11200000000000002,"NO"]
[null,null,null,"M25","Slab Type \"M25\"",100,"SL62",450,"x",350,"=",{"$f":"(H77/1000)*(J77/1000)","v":0.1575},"YES"]
[null,null,null,"M25 BV","Slab Type \"M25\"",100,"SL62",300,null,280,null,8.4000000000000005E-2,"YES"]
[null,null,null,"M30","Slab Type \"M30\"",100,"SL62",500,"x",350,"=",0.17499999999999999,"YES"]
[null,null,null,"M35","Slab Type \"M35\"",100,"SL82",550,"x",350,"=",0.1925,"YES"]
[null,null,null,"M40","Slab Type \"M40\"",100,"SL82",600,"x",340,"=",0.20400000000000001,"YES"]
[null,null,null,"S6","Slab Type \"S6\"",100,"SL52",250,"x",300,"=",7.4999999999999997E-2,"YES"]
[null,null,null,"S6 BV","Slab Type \"S6\"",100,"SL52",200,null,300,null,0.06,"YES"]
[null,null,null,"S10","Slab Type \"S10\"",100,"SL52",280,"x",300,"=",8.4000000000000005E-2,"YES"]
[null,null,null,"S10 BV","Slab Type \"S10\"",100,"SL52",200,null,300,null,0.06,"YES"]
[null,null,null,"S15 DB","Slab Type \"S15\"",100,"SL62",280,"x",300,"=",8.4000000000000005E-2,"YES"]
[null,null,null,"S15 BV","Slab Type \"S15\"",100,"SL62",300,null,250,null,7.4999999999999997E-2,"YES"]
[null,null,null,"S20","Slab Type \"S20\"",100,"SL62",280,"x",300,"=",8.4000000000000005E-2,"YES"]
[null,null,null,null,null,null,null,null,"x",null,"=",0]
[null,null,null,null,null,null,null,null,"x",null,"=",0]
[null,null,null,null,null,null,null,null,"x",null,"=",0]
[null,null,null,null,null,null,null,null,"x",null,"=",0]
[null,null,null,null,null,null,null,null,"x",null,"=",0]
[]
[]
[null,null,null,null,"1course DROPPED FOOTING",null,"FOOTING AT -3course",null,null,null,0.01]
[null,null,null,null,"2course DROPPED FOOTING",null,"FOOTING AT -4course",null,null,null,0.02]
[null,null,null,null,"3course DROPPED FOOTING",null,"FOOTING AT -5course",null,null,null,0.03]
[null,null,null,null,"4course DROPPED FOOTING",null,"FOOTING AT -6course",null,null,null,0.04]
[null,null,null,null,"5course DROPPED FOOTING",null,"FOOTING AT -7course",null,null,null,0.05]
[null,null,null,null,"6course DROPPED FOOTING",null,"FOOTING AT -8course",null,null,null,0.06]
[null,null,null,null,"7course DROPPED FOOTING",null,"FOOTING AT -9course",null,null,null,7.0000000000000007E-2]
[null,null,null,null,"8course DROPPED FOOTING",null,"FOOTING AT -10course",null,null,null,0.08]

{"sheet":"Paving&Grano","index":28,"n_rows":72,"n_cols":32,"rows_kept":72,"cut":false,"hidden":false,"merged":[[2,1,3,3],[21,1,22,3],[0,1,0,3],[7,4,7,7],[14,4,14,7],[2,4,3,4],[2,5,3,5],[2,6,3,6],[5,4,5,7],[6,4,6,7],[8,4,8,7],[9,4,9,7],[12,4,12,7],[10,4,10,7],[13,4,13,7],[0,17,0,19],[5,20,5,23],[6,20,6,23],[7,20,7,23],[9,20,9,23],[62,14,62,15],[63,14,63,15],[11,20,11,24],[35,4,35,9],[19,1,19,3],[16,4,18,7],[26,4,28,7],[33,4,33,7],[12,8,12,9],[14,8,14,9],[31,4,31,7],[21,4,22,4],[21,5,22,5],[21,6,22,6],[24,4,24,7],[24,17,24,18]]}
[null,"MAIN PAVING",null,null,null,null,null,null,null,null,null,null,null,null,null,null,null,"GRANO"]
[null,null,null,null,null,null,null,null,null,null,null,null,"No/m2","Pack Size","leaves"]
[null,"MIDLAND PAVESTONE ORIGINAL",null,null,{"$f":"_xlfn.XLOOKUP(B3,'BUILDERS BRICK SELECTION'!U:U,'BUILDERS BRICK SELECTION'!X:X)","v":230},"x",{"$f":"_xlfn.XLOOKUP(B3,'BUILDERS BRICK SELECTION'!U:U,'BUILDERS BRICK SELECTION'!Z:Z)","v":114},null,null,null,null,null,{"$f":"_xlfn.XLOOKUP(B3,'BUILDERS BRICK SELECTION'!U:U,'BUILDERS BRICK SELECTION'!W:W)","v":38.138825324180011},{"$f":"_xlfn.XLOOKUP($B$3,'BUILDERS BRICK SELECTION'!$U:$U,'BUILDERS BRICK SELECTION'!V:V)","v":330},{"$f":"_xlfn.XLOOKUP($B$3,'BUILDERS BRICK SELECTION'!$U:$U,'BUILDERS BRICK SELECTION'!AC:AC)","v":5},{"$f":"_xlfn.XLOOKUP(B3,Lists!AW:AW,Lists!AV:AV)","v":"571-100-200550"}]
[]
[null,null,null,null,null,null,null,null,null,null,null,null,"ZONE 1","571-090-100160",{"$f":"IF($E$15=\"ZONE 1\",N5,0)","v":0}]
[null,"AREAS","M2",null,"TRAFFICABLE LID",null,null,null,null,"EA",null,null,"ZONE 2","571-090-100170",{"$f":"IF($E$15=\"ZONE 2\",N6,0)","v":0},{"$f":"_xlfn.XLOOKUP(E6,Lists!AW:AW,Lists!AV:AV)","v":"560-100-100600"},null,"AREAS","M2",null,"GRANO PAD FOR LPG /HWU /AC",null,null,null,null,null,"EA",null,null,"Grano Pad","540-100-100250"]
[null,"Driveway",null,null,"RETICULATION PIPE UNDER PAVING",null,null,null,null,"EA",null,null,"ZONE 3","571-090-100180",{"$f":"IF($E$15=\"ZONE 31\",N7,0)","v":0},{"$f":"_xlfn.XLOOKUP(E7,Lists!AW:AW,Lists!AV:AV)","v":"560-100-100700"},null,"Garage",null,null,"GRANO E/O 100MM",null,null,null,null,null,"m2"]
[null,"Crossover",null,null,"CUT PAVING OUT OF SQUARE",null,null,null,null,"LM",null,null,"ZONE 4","571-090-100190",{"$f":"IF($E$15=\"ZONE 4\",N8,0)","v":0},{"$f":"_xlfn.XLOOKUP(E8,Lists!AW:AW,Lists!AV:AV)","v":"560-100-100500"},null,null,null,null,"F62 MESH (GARAGE ON BOUNDARY)",null,null,null,null,null,"sheets",null,null,"Area Loading"]
[null,"Porch/Portico",null,null,"19mm CRUSHED LIMESTONE",null,null,null,{"$f":"ROUNDUP(((IF(AND(C7=\"\",C8=\"\"),0,((C7)+(C8)))*'BUILDERS SETTINGS'!C37)*'BUILDERS SETTINGS'!C40),0)","v":0},"m3",null,null,null,null,null,null,null,null,null,null,null,null,null,null,null,null,null,null,null,{"$f":"IF(Z12>0,\"YES\",0)","v":"YES"}]
[null,"Verandah",null,null,"PLASTERERS SAND ",null,null,null,{"$f":"ROUNDUP((IF(C18=\"0\",0,C18*'BUILDERS SETTINGS'!C38)*'BUILDERS SETTINGS'!C39),0)","v":0},"m3",null,null,null,null,null,null,null,null,null,null,"MESH TO AREAS",null,null,null,null,null,"M2"]
[null,"Path",null,null,"INFILL SAND",null,null,null,{"$f":"ROUND(I32/5.2,0)","v":0},"bags",null,null,"METRO AREA"]
[null,"Alfresco",null,null,null,null,null,null,null,null,null,null,"OUTER AREA",null,null,null,null,null,null,null,"MANDURAH AREA LOADING",null,null,null,null,{"$f":"_xlfn.XLOOKUP(U12,AE:AE,AD:AD)","v":"540-980-100100"},"EA",null,null,null,"AREA LOADING"]
[null,"Clothes line",null,null,"METRO AREA",null,null,null,"SAND",null,null,null,null,null,null,null,null,null,null,null,null,null,null,null,null,null,null,null,null,"540-980-100100","MANDURAH AREA LOADING"]
[null,"Bin Pad",null,null,null,null,null,null,null,null,null,null,null,null,null,"Main calc",null,null,null,null,null,null,null,null,null,null,null,null,null,"540-980-100300","TWO ROCKS AREA LOADING"]
[null,null,null,null,{"$f":"'Main Details'!AC14","v":0},null,null,null,"PAVING"]
[null,null,null,null,null,null,null,null,null,null,null,null,null,null,null,null,null,"Total",{"$f":"SUM(S7:S15)","v":0},null,null,null,null,null,null,null,null,null,null,"Mesh Areas",{"$f":"ROUNDUP(Y10/12+Y8,0)","v":0},"540-300-100200"]
[null,null,null,null,"MAIN PAVING",null,null,null,{"$f":"N19","v":0},"PACKS",null,null,{"$f":"C18*M3","v":0},null,"m2 per pack",null,null,null,null,null,null,null,null,null,null,null,null,null,null,"Mesh Delivery",{"$f":"IF(AE16>0,1,0)","v":0},"540-300-100100"]
[null,"Total",{"$f":"SUM(C7:C17)-C36","v":0},null,null,null,null,null,{"$f":"I17*N3","v":0},"PAVERS",null,null,{"$f":"M17*N18","v":0},0.1,{"$f":"_xlfn.XLOOKUP($B$3,'BUILDERS BRICK SELECTION'!$U:$U,'BUILDERS BRICK SELECTION'!AE:AE)","v":8.66},null,null,null,null,null,null,null,null,null,null,null,null,null,null,"Grano 80mm",{"$f":"IF(AE17>0,1,0)","v":0},"540-100-100300"]
[null,null,null,null,null,null,null,null,{"$f":"I17*O18","v":0},"m2",null,null,{"$f":"M17+M18","v":0},{"$f":"(ROUNDUP(SUM((M19)/(N3/O3)),0)/O3)","v":0}]
[null,"CONTRAST PAVING"]
[null,null,null,null,null,null,null,null,null,null,null,null,"No/m2","Pack Size","leaves"]
[null,null,null,null,{"$f":"_xlfn.XLOOKUP(B22,'BUILDERS BRICK SELECTION'!U:U,'BUILDERS BRICK SELECTION'!X:X)","v":0},"x",{"$f":"_xlfn.XLOOKUP(B22,'BUILDERS BRICK SELECTION'!U:U,'BUILDERS BRICK SELECTION'!Z:Z)","v":0},null,null,null,null,null,{"$f":"_xlfn.XLOOKUP(B22,'BUILDERS BRICK SELECTION'!U:U,'BUILDERS BRICK SELECTION'!W:W)","v":0},{"$f":"_xlfn.XLOOKUP($B$3,'BUILDERS BRICK SELECTION'!$U:$U,'BUILDERS BRICK SELECTION'!V:V)","v":330},{"$f":"_xlfn.XLOOKUP($B$3,'BUILDERS BRICK SELECTION'!$U:$U,'BUILDERS BRICK SELECTION'!AC:AC)","v":5},{"$f":"_xlfn.XLOOKUP(B22,Lists!AW:AW,Lists!AV:AV)","v":0}]
[]
[]
[null,"AREAS","M2",null,"CONTRAST BORDER",null,null,null,null,"LM",null,null,null,null,null,null,null,"Note - Contract Paving"]
[null,"Contrast Border",{"$f":"(I25*E22)/1000","v":0},null,null,null,null,null,null,null,null,null,null,null,null,"Contrast Calc",null,"Contrast Border -enter the LM in the contrast boarder cell."]
[null,null,null,null,"CONTRAST PAVING",null,null,null,{"$f":"N29","v":0},"PACKS",null,null,{"$f":"C36*M22","v":0},null,"m2 per pack",null,null,"Contrast Main Paving - Enter the m2 in both the main paving and the contrast paving m2"]
[null,null,null,null,null,null,null,null,{"$f":"I27*N3","v":0},"PAVERS",null,null,{"$f":"M27*N28","v":0},0.1,{"$f":"_xlfn.XLOOKUP($B$3,'BUILDERS BRICK SELECTION'!$U:$U,'BUILDERS BRICK SELECTION'!AE:AE)","v":8.66}]
[null,null,null,null,null,null,null,null,{"$f":"I27*O28","v":0},"m2",null,null,{"$f":"M27+M28","v":0},{"$f":"(ROUNDUP(SUM((M29)/(N3/O3)),0)/O3)","v":0}]
[]
[]
[null,null,null,null,"GRAND TOTAL   LABOUR  M2",null,null,null,{"$f":"C36+C18","v":0},"m2",null,null,"MIDLAND 60mm"]
[null,null,null,null,null,null,null,null,null,null,null,null,"MIDLAND SAND BAGS","MIDLAND ",{"$f":"IF(OR(B3=\"MIDLAND PAVESTONE ORIGINAL\",B3=\"MIDLAND MASTERPAVE CLASSIC\",B3=\"MIDLAND PROMENADE classic\",B3=\"MIDLAND MASTERPAVE GRANITE\",B3=\"MIDLAND FLAGSTONE GRANITE\",B3=\"MIDLAND MASTERPAVE GEO\",B3=\"MIDLAND FLAGSTONE GEO\"),M33,M35)","v":"MIDLAND SAND BAGS"}]
[null,null,null,null,"GRAND TOTAL   PAVERS  M2",null,null,null,{"$f":"I29+I19","v":0},"m2",null,null,"ATLAS 60mm","ATLAS",{"$f":"IF(OR(B3=\"MIDLAND PAVESTONE ORIGINAL\",B3=\"MIDLAND MASTERPAVE CLASSIC\",B3=\"MIDLAND PROMENADE classic\",B3=\"MIDLAND MASTERPAVE GRANITE\",B3=\"MIDLAND FLAGSTONE GRANITE\",B3=\"MIDLAND MASTERPAVE GEO\",B3=\"MIDLAND FLAGSTONE GEO\"),M32,M34)","v":"MIDLAND 60mm"}]
[null,null,null,null,null,null,null,null,null,null,null,null,"ATLAS SAND BAGS","CARTAGE"]
[null,"Total",{"$f":"SUM(C26:C35)","v":0},null,"NOTE - CHECK PAVING PATTERN"]
[null,null,null,null,null,null,null,null,null,null,null,null,"WS30 WHITE WASHED SAND 20KGS","MIDLAND DELIVERY CHARGE",1]
[]
[null,null,null,null,null,null,null,null,null,null,null,null,"19mm CRUSHED LIMESTONE 1m3",{"$f":"IF($I$9=1,1,0)","v":0},{"$f":"IF(N39=1,_xlfn.XLOOKUP(M39,Lists!AW:AW,Lists!AV:AV),0)","v":0}]
[null,null,null,null,null,null,null,null,null,null,null,null,"19mm CRUSHED LIMESTONE 2m2",{"$f":"IF($I$9=2,1,0)","v":0},{"$f":"IF(N40=1,_xlfn.XLOOKUP(M40,Lists!AW:AW,Lists!AV:AV),0)","v":0}]
[null,null,null,null,null,null,null,null,null,null,null,null,"19mm CRUSHED LIMESTONE 3m3",{"$f":"IF($I$9=3,1,0)","v":0},{"$f":"IF(N41=1,_xlfn.XLOOKUP(M41,Lists!AW:AW,Lists!AV:AV),0)","v":0}]
[null,null,null,null,null,null,null,null,null,null,null,null,"19mm CRUSHED LIMESTONE 4m3",{"$f":"IF($I$9=4,1,0)","v":0},{"$f":"IF(N42=1,_xlfn.XLOOKUP(M42,Lists!AW:AW,Lists!AV:AV),0)","v":0}]
[null,null,null,null,null,null,null,null,null,null,null,null,"19mm CRUSHED LIMESTONE 5m3",{"$f":"IF($I$9=5,1,0)","v":0},{"$f":"IF(N43=1,_xlfn.XLOOKUP(M43,Lists!AW:AW,Lists!AV:AV),0)","v":0}]
[null,null,null,null,null,null,null,null,null,null,null,null,"19mm CRUSHED LIMESTONE 6m3",{"$f":"IF($I$9=6,1,0)","v":0},{"$f":"IF(N44=1,_xlfn.XLOOKUP(M44,Lists!AW:AW,Lists!AV:AV),0)","v":0}]
[null,null,null,null,null,null,null,null,null,null,null,null,"19mm CRUSHED LIMESTONE 7m3",{"$f":"IF($I$9=7,1,0)","v":0},{"$f":"IF(N45=1,_xlfn.XLOOKUP(M45,Lists!AW:AW,Lists!AV:AV),0)","v":0}]
[null,null,null,null,null,null,null,null,null,null,null,null,"19mm CRUSHED LIMESTONE 8m3",{"$f":"IF($I$9=8,1,0)","v":0},{"$f":"IF(N46=1,_xlfn.XLOOKUP(M46,Lists!AW:AW,Lists!AV:AV),0)","v":0}]
[null,null,null,null,null,null,null,null,null,null,null,null,"19mm CRUSHED LIMESTONE 9m3",{"$f":"IF($I$9=9,1,0)","v":0},{"$f":"IF(N47=1,_xlfn.XLOOKUP(M47,Lists!AW:AW,Lists!AV:AV),0)","v":0}]
[null,null,null,null,null,null,null,null,null,null,null,null,"19mm CRUSHED LIMESTONE 10m3",{"$f":"IF($I$9=10,1,0)","v":0},{"$f":"IF(N48=1,_xlfn.XLOOKUP(M48,Lists!AW:AW,Lists!AV:AV),0)","v":0}]
[null,null,null,null,null,null,null,null,null,null,null,null,"19mm CRUSHED LIMESTONE 11m3",{"$f":"IF($I$9=11,1,0)","v":0},{"$f":"IF(N49=1,_xlfn.XLOOKUP(M49,Lists!AW:AW,Lists!AV:AV),0)","v":0}]
[null,null,null,null,null,null,null,null,null,null,null,null,"19mm CRUSHED LIMESTONE 12m2",{"$f":"IF($I$9=12,1,0)","v":0},{"$f":"IF(N50=1,_xlfn.XLOOKUP(M50,Lists!AW:AW,Lists!AV:AV),0)","v":0}]
[]
[null,null,null,null,null,null,null,null,null,null,null,null,"PLASTERERS SAND 1m3",{"$f":"IF($I$10=1,1,0)","v":0},{"$f":"IF(N52>0,$E$13,)","v":0}]
[null,null,null,null,null,null,null,null,null,null,null,null,"PLASTERERS SAND 2m3",{"$f":"IF($I$10=2,1,0)","v":0},{"$f":"IF(N53>0,$E$13,)","v":0}]
[null,null,null,null,null,null,null,null,null,null,null,null,"PLASTERERS SAND 3m3",{"$f":"IF($I$10=3,1,0)","v":0},0]
[null,null,null,null,null,null,null,null,null,null,null,null,"PLASTERERS SAND 4m3",{"$f":"IF($I$10=4,1,0)","v":0},0]
[null,null,null,null,null,null,null,null,null,null,null,null,"PLASTERERS SAND 5m3",{"$f":"IF($I$10=5,1,0)","v":0},0]
[null,null,null,null,null,null,null,null,null,null,null,null,"PLASTERERS SAND 6m3",{"$f":"IF($I$10=6,1,0)","v":0},0]
[null,null,null,null,null,null,null,null,null,null,null,null,"PLASTERERS SAND 7m3",{"$f":"IF($I$10=7,1,0)","v":0},0]
[null,null,null,null,null,null,null,null,null,null,null,null,"PLASTERERS SAND 8m3",{"$f":"IF($I$10=8,1,0)","v":0},0]
[null,null,null,null,null,null,null,null,null,null,null,null,"PLASTERERS SAND 9m3",{"$f":"IF($I$10=9,1,0)","v":0},0]
[null,null,null,null,null,null,null,null,null,null,null,null,"PLASTERERS SAND 10m3",{"$f":"IF($I$10=10,1,0)","v":0},0]
[]
[null,null,null,null,null,null,null,null,null,null,null,null,{"$f":"IF(I32>60,60,I32)","v":0},{"$f":"IF(M63>0,\"BRICK PAVING UP TO 60m2\",0)","v":0}]
[null,null,null,null,null,null,null,null,null,null,null,null,{"$f":"IF(M63>59,M65,0)","v":0},{"$f":"IF(I32>60,\"BRICK PAVING OVER 60m2\",0)","v":0}]
[null,null,null,null,null,null,null,null,null,null,null,null,{"$f":"I32-60","v":-60}]
[]
[]
[null,null,null,null,null,null,null,null,null,null,null,null,"CARTAGE ZONE 1"]
[null,null,null,null,null,null,null,null,null,null,null,null,"CARTAGE ZONE 2"]
[null,null,null,null,null,null,null,null,null,null,null,null,"CARTAGE ZONE 3"]
[null,null,null,null,null,null,null,null,null,null,null,null,"CARTAGE ZONE 4"]
[null,null,null,null,null,null,null,null,null,null,null,null,"CARTAGE ZONE 5"]

{"sheet":"Additional Items","index":29,"n_rows":166,"n_cols":38,"rows_kept":166,"cut":false,"hidden":false,"merged":[[31,26,31,28],[28,24,29,31],[3,24,4,31],[10,26,10,28],[11,26,11,28],[15,26,15,28],[16,26,16,28],[13,26,13,28],[11,1,11,3],[11,6,11,8],[11,9,11,11],[8,9,8,11],[3,14,3,22],[7,1,7,3],[8,1,8,3],[7,6,7,8],[8,6,8,8],[10,1,10,3],[10,6,10,8],[3,1,4,11],[5,1,5,11],[31,1,31,3],[31,6,31,8],[31,9,31,11],[18,1,18,3],[18,6,18,8],[19,1,19,3],[19,6,19,8],[24,1,24,3],[24,6,24,8],[21,1,21,3],[22,1,22,3],[21,6,21,8],[19,9,19,11],[25,1,25,3],[25,6,25,8],[22,6,22,8],[13,37,13,39],[12,37,12,39],[13,1,13,11],[28,1,28,11],[30,1,30,3],[30,6,30,8],[27,14,27,16],[15,1,15,3],[15,6,15,8],[16,1,16,3],[16,6,16,8],[16,9,16,11],[20,26,20,28],[21,26,21,28],[18,26,18,28],[24,26,24,28]]}
[]
[]
[]
[null,"SHOWER SCREENS AND MIRRORS",null,null,null,null,null,null,null,null,null,null,null,null,"MIRROR SELECTIONS",null,null,null,null,null,null,null,null,null,"FLOOR COVERINGS",null,null,null,null,null,null,null,null,"SUPPLIED & INSTALLED","SUPPLY ONLY"]
[null,null,null,null,null,null,null,null,null,null,null,null,null,null,"FRAMED","UNFRAMED","UNFRAMED. ","SLIMLINE","MAJESTIC","MADISON","HUDSON","HUDSON (PERTH CITY GLASS)","SPECIAL",null,null,null,null,null,null,null,null,null,null,"CARPET - INVESTOR RANGE"]
[null,"MIRRORS",null,null,null,null,null,null,null,null,null,null,null,null,"MIRROR FRAMED UP TO 1m2","MIRROR UNFRAMED UP TO 1m2","MIRROR UNFRAMED UP TO 1m2","MIRROR SLIMLINE UP TO 1m2","MIRROR MAJESTIC UP TO 1m2","MIRROR MADISON UP TO 1m2","HUDSON MIRROR 1000 x 600","HUDSON MIRROR UP TO 1000X1000","MIRROR AS PER QUOTE",null,null,null,null,null,null,null,null,null,null,"CARPET - CATEGORY 1"]
[null,null,null,null,null,null,null,null,null,null,null,null,null,null,"MIRROR FRAMED 1 - 1.5m2","MIRROR UNFRAMED 1 - 1.5m2","MIRROR UNFRAMED 1 - 1.5m2","MIRROR SLIMLINE 1 - 1.5m2","MIRROR MAJESTIC 1 - 1.5m2","MIRROR MADISON 1 - 1.5m2","HUDSON MIRROR 1000X700","HUDSON MIRROR UP TO 1000X1500","OVAL MAJESTIC FLOATING MIRROR",null,null,"CARPET measurements","Perimeter",null,"M2",null,null,null,null,"CARPET - CATEGORY 2"]
[null,"MIRROR TYPE 1",null,null,"Quantity",null,"MIRROR SIZE 1",null,null,null,null,null,null,null,"MIRROR FRAMED 1.5 - 2m2","MIRROR UNFRAMED 1.5 - 2m2","MIRROR UNFRAMED 2 - 2.5m2","MIRROR SLIMLINE 1.5 - 2m2","MIRROR MAJESTIC 1.5 - 2m2","MIRROR MADISON 1.5 - 2m2","HUDSON MIRROR 1000X800","HUDSON MIRROR UP TO 1000X2000","MIRROR ROUND 800mm DIAMETER",null,null,null,null,null,null,null,null,null,null,"CARPET - CATEGORY 3"]
[null,null,null,null,null,"EA",null,null,null,{"$f":"_xlfn.XLOOKUP(1,\n($O$29:$O$52=B9)*\n($P$29:$P$52=G9),\n($Q$29:$Q$52),0)","v":0},null,null,null,null,"MIRROR FRAMED 2 - 2.5m2","MIRROR UNFRAMED 2 - 2.5m2",null,"MIRROR SLIMLINE 2 - 2.5m2","MIRROR MAJESTIC 2 - 2.5m2","MIRROR MADISON 2 - 2.5m2","HUDSON MIRROR 1000X900","HUDSON MIRROR UP TO 1000X2500","FRINGE OVAL MIRROR 1150mm",null,null,"HARDFLOOR measuerments","Perimeter",null,"M2",null,null,null,null,"CARPET - CATEGORY 4"]
[null,null,null,null,null,null,null,null,null,null,null,null,null,null,"MIRROR FRAMED 2.5 - 3m2","MIRROR UNFRAMED 2.5 - 3m2",null,"MIRROR SLIMLINE 2.5 - 3m2","MIRROR MAJESTIC 2.5 - 3m2","MIRROR MADISON 2.5 - 3m2"," HUDSON MIRROR 1000X1000",null,"FRINGE ROUND MIRROR 600mm",null,null,null,null,null,null,null,null,null,null,"CARPET - CATEGORY 5"]
[null,"MIRROR TYPE 2",null,null,null,null,"MIRROR SIZE 2",null,null,null,null,null,null,null,null,null,null,null,"MIRROR MAJESTIC UP TO 1m2",null,"HUDSON MIRROR 1000X1200",null,"FRINGE ROUND MIRROR 700mm",null,null,"CARPET","SUPPLY ONLY",null,null,"Quantity",null,null,null,"CARPET - CATEGORY 6"]
[null,null,null,null,null,"EA",null,null,null,{"$f":"_xlfn.XLOOKUP(1,\n($O$29:$O$52=B12)*\n($P$29:$P$52=G12),\n($Q$29:$Q$52),0)","v":0},null,null,null,null,null,null,null,null,"MIRROR MAJESTIC 1 - 1.5m2",null,"HUDSON MIRROR 1000X1400",null,"FRINGE ROUND MIRROR 900mm",null,null,null,"CARPET - INVESTOR RANGE",null,null,{"$f":"AD7","v":0},"M2"]
[null,null,null,null,null,null,null,null,null,null,null,null,null,null,null,null,null,null,"MIRROR MAJESTIC 1.5 - 2m2",null,"HUDSON MIRROR 1000X1600",null,null,null,null,null,null,null,null,null,null,null,null,null,null,null,null,"No Foam underlay"]
[null,"SHOWER SCREENS",null,null,null,null,null,null,null,null,null,null,null,null,null,null,null,null,"MIRROR MAJESTIC 2.5 - 3m2",null,"HUDSON MIRROR 1000X2100",null,null,null,null,null,"10mm FOAM UNDERLAY E/O",null,null,{"$f":"IF(AA14=AL14,AD12,)","v":0},"M2",null,null,"VINYL SHEET - CATEGORY 1",null,null,null,"10mm FOAM UNDERLAY E/O"]
[null,null,null,null,null,null,null,null,null,null,null,null,null,null,null,null,null,null,null,null,"HUDSON MIRROR 1000X2400",null,null,null,null,null,null,null,null,null,null,null,null,"VINYL PLANK - CATEGORY 1"]
[null,"SHOWER TYPE 1",null,null,"Quantity",null,"SHOWER SIZE 1",null,null,null,null,null,null,null,null,null,null,null,null,null,"HUDSON MIRROR 1000X2800",null,null,null,null,"HARDFLOOR","SUPPLY ONLY",null,null,"Quantity",null,null,null,"VINYL PLANK - CATEGORY 2"]
[null,null,null,null,null,"EA",null,null,null,{"$f":"_xlfn.XLOOKUP(1,\n($O$86:$O$162=B17)*\n($P$86:$P$162=G17),\n($Q$86:$Q$162),0)","v":0},null,null,null,null,null,null,null,null,null,null,"HUDSON MIRROR 1000X3100",null,null,null,null,null,"VINYL SHEET - CATEGORY 1",null,null,{"$f":"AD9","v":0},"M2",null,null,"LAMINATE - CATEGORY 1"]
[null,null,null,null,null,null,null,null,null,null,null,null,null,null,null,null,null,null,null,null,null,null,null,null,null,null,null,null,null,null,null,null,null,"LAMINATE - CATEGORY 2"]
[null,"SHOWER TYPE 2",null,null,null,null,"SHOWER SIZE 2",null,null,null,null,null,null,null,null,null,null,null,null,null,null,null,null,null,null,"CARPET LABOUR","CARPET INSTALL",null,null,{"$f":"IF(AA11=\"SUPPLY ONLY\",(AB7*0.1)+AD7,\"\")","v":0},"M2",null,null,"LAMINATE - CATEGORY 3"]
[null,null,null,null,null,"EA",null,null,null,{"$f":"_xlfn.XLOOKUP(1,\n($O$86:$O$162=B20)*\n($P$86:$P$162=G20),\n($Q$86:$Q$162),0)","v":0},null,null,null,null,"SHOWER SCREEN E/O 100mm WIDE","E/O FOR DOG LEG CUT OUT","E/O HEIGHT PER",null,null,null,null,null,null,null,null,null,null,null,null,null,null,null,null,"HYBRID - CATEGORY 1"]
[null,null,null,null,null,null,null,null,null,null,null,null,null,null,"FRAMED","TO FIXED PANEL","100mm HIGH SEMI-FRAMED",null,null,null,null,null,null,null,null,"HARDFLOOR LABOUR","HARD FLOORING INSTALL",null,null,{"$f":"IF(AA16=\"SUPPLY ONLY\",(AB9*0.1)+AD9,\"\")","v":0},"M2",null,null,"HYBRID - CATEGORY 2"]
[null,"SHOWER EXTRAS",null,null,null,null,"SHOWER EXTRAS",null,null,null,null,null,null,null,"SEMI FRAMELESS",null,null,null,null,null,null,null,null,null,null,null,"INCLUDES SCOTIA",null,null,null,null,null,null,"HYBRID - CATEGORY 3"]
[null,null,null,null,null,"EA",null,null,null,null,"EA",null,null,null,null,null,null,null,null,null,null,null,null,null,null,null,null,null,null,null,null,null,null,"HYBRID - CATEGORY 4"]
[]
[null,"ADDITIONAL NOTES",null,null,null,null,"ADDITIONAL NOTES",null,null,null,null,null,null,null,null,null,null,null,null,null,null,null,null,null,null,"TRAVEL ","TRAVEL FROM BALCATTA DEPOT",null,null,null,"KM"]
[null,null,null,null,null,null,null,null,null,null,null,null,null,null,null,null,null,null,null,null,null,null,null,null,null,null,null,null,null,null,null,null,null,"CARPET INSTALL","HARD FLOORING INSTALL","NO SCOTIA"]
[null,null,null,null,null,null,null,null,null,null,null,null,null,null,null,null,null,null,null,null,null,null,null,null,null,null,null,null,null,null,null,null,null,null,"HARD FLOORING INSTALL","INCLUDES SCOTIA"]
[null,null,null,null,null,null,null,null,null,null,null,null,null,null,"EXTENDED MIRROR DESCRIPTIONS",null,null,null,null,null,null,null,null,null,null,null,null,null,null,null,null,null,null,null,"WASTAGE/TRIMS/TRAVEL","PER CARPET JOB"]
[null,"SIDELIGHT GLAZING",null,null,null,null,null,null,null,null,null,null,null,null,"UNFRAMED","MIRROR UNFRAMED UP TO 1m2","POLISHED EDGE / CLIPS",null,null,null,null,null,null,null,"MAIN FLOOR TILING",null,null,null,null,null,null,null,null,null,"TRAVEL FROM BALCATTA DEPOT","40KM AND ABOVE"]
[null,null,null,null,null,null,null,null,null,null,null,null,null,null,"UNFRAMED","MIRROR UNFRAMED 1 - 1.5m2","POLISHED EDGE / CLIPS"]
[null,"GLAZING TYPE 1",null,null,"Quantity",null,"GLAZING SIZE 1",null,null,null,null,null,null,null,"UNFRAMED","MIRROR UNFRAMED 1.5 - 2m2","POLISHED EDGE / CLIPS",null,null,null,null,null,null,null,null,null,null,null,null,null,null,null,null,"521-100-100100","TILING PACKAGE",""]
[null,null,null,null,null,"M2",null,null,null,{"$f":"_xlfn.XLOOKUP(1,\n($O$29:$O$47=B32)*\n($P$29:$P$47=G32),\n($Q$29:$Q$47),0)","v":0},null,null,null,null,"UNFRAMED","MIRROR UNFRAMED 2 - 2.5m2","POLISHED EDGE / CLIPS",null,null,null,null,null,null,null,null,"MAIN FLOOR ONLY","TILING PACKAGE",null,null,null,"M2",null,null,"521-200-100050","CROSBY PACKAGE MINIMUM CHARGE","UNDER 30m2"]
[null,null,null,null,null,null,null,null,null,null,null,null,null,null,"UNFRAMED","MIRROR UNFRAMED 2.5 - 3m2","POLISHED EDGE / CLIPS",null,null,null,null,null,null,null,null,null,null,null,null,null,null,null,null,"521-200-100075","CROSBY CONCRETE SERIES PACKAGE","450x450mm"]
[null,null,null,null,null,null,null,null,null,null,null,null,null,null,"UNFRAMED. ","MIRROR UNFRAMED 1 - 1.5m2","POLISHED EDGE / CHROME DOMES",null,null,null,null,null,null,null,null,null,null,null,null,null,null,null,null,"521-200-100100","CROSBY PLATINUM PACKAGE","450x450mm"]
[null,null,null,null,null,null,null,null,null,null,null,null,null,null,"UNFRAMED. ","MIRROR UNFRAMED 2 - 2.5m2","POLISHED EDGE / CHROME DOMES",null,null,null,null,null,null,null,null,null,null,null,null,null,null,null,null,"521-200-100400","CROSBY TITANIUM PACKAGE","600x600mm"]
[null,null,null,null,null,null,null,null,null,null,null,null,null,null,"SPECIAL","MIRROR AS PER QUOTE","WOVEN VINYL BACKED SAFETY",null,null,null,null,null,null,null,null,null,null,null,null,null,null,null,null,"521-200-100500","CROSBY ESSENCE PACKAGE","300x600mm"]
[null,null,null,null,null,null,null,null,null,null,null,null,null,null,"SPECIAL","OVAL MAJESTIC FLOATING MIRROR","1150x600mm",null,null,null,null,null,null,null,null,null,null,null,null,null,null,null,null,"521-200-100800","CROSBY PACKAGE","E/O STAGGERED/DIAMOND PATTERN"]
[null,null,null,null,null,null,null,null,null,null,null,null,null,null,"SPECIAL","MIRROR ROUND 800mm DIAMETER","POLISHED EDGE / CLIPS",null,null,null,null,null,null,null,null,null,null,null,null,null,null,null,null,"521-200-100850","CROSBY RECTIFIED PACKAGE","600x600mm"]
[null,null,null,null,null,null,null,null,null,null,null,null,null,null,"SPECIAL","FRINGE OVAL MIRROR 1150mm","BLACK FRAME",null,null,null,null,null,null,null,null,null,null,null,null,null,null,null,null,"521-200-100900","CROSBY RECTIFIED PLUS PACKAGE","600x600mm"]
[null,null,null,null,null,null,null,null,null,null,null,null,null,null,"SPECIAL","FRINGE ROUND MIRROR 600mm","BLACK FRAME"]
[null,null,null,null,null,null,null,null,null,null,null,null,null,null,"SLIMLINE","MIRROR SLIMLINE UP TO 1m2","POLISHED EDGE"]
[null,null,null,null,null,null,null,null,null,null,null,null,null,null,"SLIMLINE","MIRROR SLIMLINE 1 - 1.5m2","POLISHED EDGE"]
[null,null,null,null,null,null,null,null,null,null,null,null,null,null,"SLIMLINE","MIRROR SLIMLINE 1.5 - 2m2","POLISHED EDGE"]
[null,null,null,null,null,null,null,null,null,null,null,null,null,null,"SLIMLINE","MIRROR SLIMLINE 2 - 2.5m2","POLISHED EDGE"]
[null,null,null,null,null,null,null,null,null,null,null,null,null,null,"SLIMLINE","MIRROR SLIMLINE 2.5 - 3m2","POLISHED EDGE"]
[null,null,null,null,null,null,null,null,null,null,null,null,null,null,"SPECIAL","FRINGE ROUND MIRROR 700mm","BLACK FRAME"]
[null,null,null,null,null,null,null,null,null,null,null,null,null,null,"SPECIAL","FRINGE ROUND MIRROR 900mm","BLACK FRAME"]
[null,null,null,null,null,null,null,null,null,null,null,null,null,null,"framed","MIRROR FRAMED UP TO 1m2","."]
[null,null,null,null,null,null,null,null,null,null,null,null,null,null,"framed","MIRROR FRAMED 1 - 1.5m2","."]
[null,null,null,null,null,null,null,null,null,null,null,null,null,null,"framed","MIRROR FRAMED 1.5 - 2m2","."]
[null,null,null,null,null,null,null,null,null,null,null,null,null,null,"framed","MIRROR FRAMED 2 - 2.5m2","."]
[null,null,null,null,null,null,null,null,null,null,null,null,null,null,"framed","MIRROR FRAMED 2.5 - 3m2","."]
[]
[]
[]
[null,null,null,null,null,null,null,null,null,null,null,null,null,null,"FULLY FRAMED GLASS PANEL","FRAMED PIVOT DOOR AND PANEL","SEMI FRAMELESS PIVOT DOOR &","8mm PROSTYLE SEMI FRAMELESS","FRAMELESS CLEAR TOUGHENED","SPECIAL"]
[null,null,null,null,null,null,null,null,null,null,null,null,null,null,"SCREEN PANEL & ROD 950 x 550","SHOWER SCREEN 1850x1000","SHOWER SCREEN 1850x800","SHOWER SCREEN 1800hx600w PANEL","SHOWER DOOR 2400 x 600-700","SHOWER SCREENS AS PER QUOTE"]
[null,null,null,null,null,null,null,null,null,null,null,null,null,null,"SCREEN PANEL & ROD 1524 x 760","SHOWER SCREEN 1850x1100","SHOWER SCREEN 1850x900","SHOWER SCREEN 1800hx700w PANEL","SHOWER DOOR 2400 x 701-800","CURTAIN RAIL"]
[null,null,null,null,null,null,null,null,null,null,null,null,null,null,"SCREEN PANEL & ROD 1800 x 900","SHOWER SCREEN 1850x1200","SHOWER SCREEN 1850x1000","SHOWER SCREEN 1800hx800w PANEL","SHOWER DOOR 2400 x 801-900","SCREEN PANEL & ROD 1850 x 1300"]
[null,null,null,null,null,null,null,null,null,null,null,null,null,null,"SCREEN PANEL & ROD 1850 x 600","SHOWER SCREEN 1850x1500","SHOWER SCREEN 1850x1100","SHOWER SCREEN 1800hx900w PANEL",null,"CLIPS AND CLAMPS TO SUIT"]
[null,null,null,null,null,null,null,null,null,null,null,null,null,null,"SCREEN PANEL & ROD 1850 x 700","SHOWER SCREEN 1850x1700","SHOWER SCREEN 1850x1200","SHOWER SCREEN 2000hx600w PANEL",null,"FRAMELESS SCREEN CLIPS & CLAMP"]
[null,null,null,null,null,null,null,null,null,null,null,null,null,null,"SCREEN PANEL & ROD 1850 x 900","SHOWER SCREEN 1850x1800","SHOWER SCREEN 1850x1300","SHOWER SCREEN 2000hx700w PANEL",null,"FRAMELESS SCREEN 10mm PANEL"]
[null,null,null,null,null,null,null,null,null,null,null,null,null,null,"SCREEN PANEL & ROD 1850 x 1000","SHOWER SCREEN 1850x2000","SHOWER SCREEN 1850x1400","SHOWER SCREEN 2000hx800w PANEL",null,"WALL CHANNEL SUPPLY & INSTALL"]
[null,null,null,null,null,null,null,null,null,null,null,null,null,null,null,"SHOWER SCREEN 1850x900x900","SHOWER SCREEN 1850x1500","SHOWER SCREEN 2000hx900w PANEL"]
[null,null,null,null,null,null,null,null,null,null,null,null,null,null,null,"SHOWER SCREEN 1850x900x1000","SHOWER SCREEN 1850x1600","SHOWER SCREEN 2000hx1000w PANE"]
[null,null,null,null,null,null,null,null,null,null,null,null,null,null,null,"SHOWER SCREEN 1850x900x1200","SHOWER SCREEN 1850x1700","SHOWER SCREEN 2200hx600w PANEL"]
[null,null,null,null,null,null,null,null,null,null,null,null,null,null,null,"SHOWER SCREEN 1850x1000x1000","SHOWER SCREEN 1850x1800","SHOWER SCREEN 2200hx700w PANEL"]
[null,null,null,null,null,null,null,null,null,null,null,null,null,null,null,"SHOWER SCREEN 1850x1200x1200","SHOWER SCREEN 1850x1900","SHOWER SCREEN 2200hx800w PANEL"]
[null,null,null,null,null,null,null,null,null,null,null,null,null,null,null,null,"SHOWER SCREEN 1850x2000"]
[null,null,null,null,null,null,null,null,null,null,null,null,null,null,null,null,"SHOWER SCREEN 1850x900x800"]
[null,null,null,null,null,null,null,null,null,null,null,null,null,null,null,null,"SHOWER SCREEN 1850x900x900"]
[null,null,null,null,null,null,null,null,null,null,null,null,null,null,null,null,"SHOWER SCREEN 1850x900x1000"]
[null,null,null,null,null,null,null,null,null,null,null,null,null,null,null,null,"SHOWER SCREEN 1850x900x1100"]
[null,null,null,null,null,null,null,null,null,null,null,null,null,null,null,null,"SHOWER SCREEN 1850x900x1200"]
[null,null,null,null,null,null,null,null,null,null,null,null,null,null,null,null,"SHOWER SCREEN 1850x900x1300"]
[null,null,null,null,null,null,null,null,null,null,null,null,null,null,null,null,"SHOWER SCREEN 1850x900x1400"]
[null,null,null,null,null,null,null,null,null,null,null,null,null,null,null,null,"SHOWER SCREEN 1850x900x1500"]
[null,null,null,null,null,null,null,null,null,null,null,null,null,null,null,null,"SHOWER SCREEN 1850x1000x1000"]
[null,null,null,null,null,null,null,null,null,null,null,null,null,null,null,null,"SHOWER SCREEN 1850x1100x1100"]
[null,null,null,null,null,null,null,null,null,null,null,null,null,null,null,null,"SHOWER SCREEN 1850x1200x1200"]
[null,null,null,null,null,null,null,null,null,null,null,null,null,null,null,null,"SHOWER SCREEN 1850x1300x1300"]
[null,null,null,null,null,null,null,null,null,null,null,null,null,null,null,null,"SHOWER SCREEN 1850hx1600w"]
[null,null,null,null,null,null,null,null,null,null,null,null,null,null,null,null,"SHOWER SCREEN 1850hx1800w"]
[]
[]
[null,null,null,null,null,null,null,null,null,null,null,null,null,null,"FULLY FRAME PANEL","SCREEN PANEL & ROD 950 x 550","FULLY FRAMED GLASS PANEL"]
[null,null,null,null,null,null,null,null,null,null,null,null,null,null,"FULLY FRAME PANEL","SCREEN PANEL & ROD 1524 x 760","FULLY FRAMED GLASS PANEL"]
[null,null,null,null,null,null,null,null,null,null,null,null,null,null,"FULLY FRAME PANEL","SCREEN PANEL & ROD 1800 x 900","FULLY FRAMED GLASS PANEL"]
[null,null,null,null,null,null,null,null,null,null,null,null,null,null,"FULLY FRAME PANEL","SCREEN PANEL & ROD 1850 x 600","FULLY FRAMED GLASS PANEL"]
[null,null,null,null,null,null,null,null,null,null,null,null,null,null,"FULLY FRAME PANEL","SCREEN PANEL & ROD 1850 x 700","FULLY FRAMED GLASS PANEL",null,"SHOWER SCREEN E/O 100mm WIDE","FRAMED"]
[null,null,null,null,null,null,null,null,null,null,null,null,null,null,"FULLY FRAME PANEL","SCREEN PANEL & ROD 1850 x 900","FULLY FRAMED GLASS PANEL",null,"SHOWER SCREEN E/O 100mm WIDE","SEMI FRAMELESS"]
[null,null,null,null,null,null,null,null,null,null,null,null,null,null,"FULLY FRAME PANEL","SCREEN PANEL & ROD 1850 x 1000","FULLY FRAMED GLASS PANEL",null,"E/O FOR DOG LEG CUT OUT","TO FIXED PANEL"]
[null,null,null,null,null,null,null,null,null,null,null,null,null,null,"FRAMED PIVOT DOOR AND PANEL","SHOWER SCREEN 1850x1000","FRAMED PIVOT DOOR AND PANEL",null,"E/O HEIGHT PER","100mm HIGH SEMI-FRAMED"]
[null,null,null,null,null,null,null,null,null,null,null,null,null,null,"FRAMED PIVOT DOOR AND PANEL","SHOWER SCREEN 1850x1100","FRAMED PIVOT DOOR AND PANEL",null,"E/O HEIGHT PER","100mm HIGH SEMI-FRAMED"]
[null,null,null,null,null,null,null,null,null,null,null,null,null,null,"FRAMED PIVOT DOOR AND PANEL","SHOWER SCREEN 1850x1200","FRAMED PIVOT DOOR AND PANEL"]
[null,null,null,null,null,null,null,null,null,null,null,null,null,null,"FRAMED PIVOT DOOR AND PANEL","SHOWER SCREEN 1850x1500","FRAMED PIVOT DOOR AND PANEL"]
[null,null,null,null,null,null,null,null,null,null,null,null,null,null,"FRAMED PIVOT DOOR AND PANEL","SHOWER SCREEN 1850x1700","FRAMED PIVOT DOOR AND PANEL"]
[null,null,null,null,null,null,null,null,null,null,null,null,null,null,"FRAMED PIVOT DOOR AND PANEL","SHOWER SCREEN 1850x1800","FRAMED PIVOT DOOR AND PANEL"]
[null,null,null,null,null,null,null,null,null,null,null,null,null,null,"FRAMED PIVOT DOOR AND PANEL","SHOWER SCREEN 1850x2000","FRAMED PIVOT DOOR AND PANEL"]
[null,null,null,null,null,null,null,null,null,null,null,null,null,null,"FRAMED PIVOT DOOR AND PANEL","SHOWER SCREEN 1850x900x900","FRAMED PIVOT DOOR AND PANEL"]
[null,null,null,null,null,null,null,null,null,null,null,null,null,null,"FRAMED PIVOT DOOR AND PANEL","SHOWER SCREEN 1850x900x1000","FRAMED PIVOT DOOR AND PANEL"]
[null,null,null,null,null,null,null,null,null,null,null,null,null,null,"FRAMED PIVOT DOOR AND PANEL","SHOWER SCREEN 1850x900x1200","FRAMED PIVOT DOOR AND PANEL"]
[null,null,null,null,null,null,null,null,null,null,null,null,null,null,"FRAMED PIVOT DOOR AND PANEL","SHOWER SCREEN 1850x1000x1000","FRAMED PIVOT DOOR AND PANEL"]
[null,null,null,null,null,null,null,null,null,null,null,null,null,null,"FRAMED PIVOT DOOR AND PANEL","SHOWER SCREEN 1850x1200x1200","FRAMED PIVOT DOOR AND PANEL"]
[null,null,null,null,null,null,null,null,null,null,null,null,null,null,"FRAMED PIVOT DOOR AND PANEL","E/O WIDTH PER 100mm FDP","FRAMED PIVOT DOOR AND PANEL"]
[null,null,null,null,null,null,null,null,null,null,null,null,null,null,"FRAMED PIVOT DOOR AND PANEL","E/O WIDTH PER 100mm FDP2RP","FRAMED PIVOT DOOR AND PANEL"]
[null,null,null,null,null,null,null,null,null,null,null,null,null,null,"FRAMED PIVOT DOOR & RETURNS","SHOWER SCREEN 1850Hx900Wx900R","FRAMED PIVOT DOOR & 2 RETURN"]
[null,null,null,null,null,null,null,null,null,null,null,null,null,null,"FRAMED PIVOT DOOR & RETURNS","SHOWER SCREEN 1850Hx1100Wx900R","FRAMED PIVOT DOOR & 2 RETURN"]
[null,null,null,null,null,null,null,null,null,null,null,null,null,null,"SEMI FRAMELESS PIVOT AND RETURNS","SHOWER SCREEN 1850Hx1000Wx900R","SEMI FRAMELESS PIVOT 2 RETURN"]
[null,null,null,null,null,null,null,null,null,null,null,null,null,null,"SEMI FRAMELESS PIVOT AND RETURNS","SHOWER SCREEN 1850Hx1100Wx900R","SEMI FRAMELESS PIVOT 2 RETURN"]
[null,null,null,null,null,null,null,null,null,null,null,null,null,null,"SEMI FRAMELESS PIVOT AND RETURNS","SHOWER SCREEN 1850Hx1200Wx900R","SEMI FRAMELESS PIVOT 2 RETURN"]
[null,null,null,null,null,null,null,null,null,null,null,null,null,null,"SEMI FRAMELESS PIVOT AND RETURNS","SHOWER SCREEN 1850Hx1400Wx900R","SEMI FRAMELESS PIVOT 2 RETURN"]
[null,null,null,null,null,null,null,null,null,null,null,null,null,null,"SEMI FRAMELESS PIVOT AND RETURNS","SHOWER SCREEN 1850Hx1500Wx900R","SEMI FRAMELESS PIVOT 2 RETURN"]
[null,null,null,null,null,null,null,null,null,null,null,null,null,null,"SEMI FRAMELESS PIVOT DOOR AND PANEL","SHOWER SCREEN 1850x800","SEMI FRAMELESS PIVOT DOOR &"]
[null,null,null,null,null,null,null,null,null,null,null,null,null,null,"SEMI FRAMELESS PIVOT DOOR AND PANEL","SHOWER SCREEN 1850x900","SEMI FRAMELESS PIVOT DOOR &"]
[null,null,null,null,null,null,null,null,null,null,null,null,null,null,"SEMI FRAMELESS PIVOT DOOR AND PANEL","SHOWER SCREEN 1850x1000","SEMI FRAMELESS PIVOT DOOR &"]
[null,null,null,null,null,null,null,null,null,null,null,null,null,null,"SEMI FRAMELESS PIVOT DOOR AND PANEL","SHOWER SCREEN 1850x1100","SEMI FRAMELESS PIVOT DOOR &"]
[null,null,null,null,null,null,null,null,null,null,null,null,null,null,"SEMI FRAMELESS PIVOT DOOR AND PANEL","SHOWER SCREEN 1850x1200","SEMI FRAMELESS PIVOT DOOR &"]
[null,null,null,null,null,null,null,null,null,null,null,null,null,null,"SEMI FRAMELESS PIVOT DOOR AND PANEL","SHOWER SCREEN 1850x1300","SEMI FRAMELESS PIVOT DOOR &"]
[null,null,null,null,null,null,null,null,null,null,null,null,null,null,"SEMI FRAMELESS PIVOT DOOR AND PANEL","SHOWER SCREEN 1850x1400","SEMI FRAMELESS PIVOT DOOR &"]
[null,null,null,null,null,null,null,null,null,null,null,null,null,null,"SEMI FRAMELESS PIVOT DOOR AND PANEL","SHOWER SCREEN 1850x1500","SEMI FRAMELESS PIVOT DOOR &"]
[null,null,null,null,null,null,null,null,null,null,null,null,null,null,"SEMI FRAMELESS PIVOT DOOR AND PANEL","SHOWER SCREEN 1850x1600","SEMI FRAMELESS PIVOT DOOR &"]
[null,null,null,null,null,null,null,null,null,null,null,null,null,null,"SEMI FRAMELESS PIVOT DOOR AND PANEL","SHOWER SCREEN 1850x1700","SEMI FRAMELESS PIVOT DOOR &"]
[null,null,null,null,null,null,null,null,null,null,null,null,null,null,"SEMI FRAMELESS PIVOT DOOR AND PANEL","SHOWER SCREEN 1850x1800","SEMI FRAMELESS PIVOT DOOR &"]
[null,null,null,null,null,null,null,null,null,null,null,null,null,null,"SEMI FRAMELESS PIVOT DOOR AND PANEL","SHOWER SCREEN 1850x1900","SEMI FRAMELESS PIVOT DOOR &"]
[null,null,null,null,null,null,null,null,null,null,null,null,null,null,"SEMI FRAMELESS PIVOT DOOR AND PANEL","SHOWER SCREEN 1850x2000","SEMI FRAMELESS PIVOT DOOR &"]
[null,null,null,null,null,null,null,null,null,null,null,null,null,null,"SEMI FRAMELESS PIVOT DOOR AND PANEL","SHOWER SCREEN 1850x900x800","SEMI FRAMELESS PIVOT DOOR &"]
[null,null,null,null,null,null,null,null,null,null,null,null,null,null,"SEMI FRAMELESS PIVOT DOOR AND PANEL","SHOWER SCREEN 1850x900x900","SEMI FRAMELESS PIVOT DOOR &"]
[null,null,null,null,null,null,null,null,null,null,null,null,null,null,"SEMI FRAMELESS PIVOT DOOR AND PANEL","SHOWER SCREEN 1850x900x1000","SEMI FRAMELESS PIVOT DOOR &"]
[null,null,null,null,null,null,null,null,null,null,null,null,null,null,"SEMI FRAMELESS PIVOT DOOR AND PANEL","SHOWER SCREEN 1850x900x1100","SEMI FRAMELESS PIVOT DOOR &"]
[null,null,null,null,null,null,null,null,null,null,null,null,null,null,"SEMI FRAMELESS PIVOT DOOR AND PANEL","SHOWER SCREEN 1850x900x1200","SEMI FRAMELESS PIVOT DOOR &"]
[null,null,null,null,null,null,null,null,null,null,null,null,null,null,"SEMI FRAMELESS PIVOT DOOR AND PANEL","SHOWER SCREEN 1850x900x1300","SEMI FRAMELESS PIVOT DOOR &"]
[null,null,null,null,null,null,null,null,null,null,null,null,null,null,"SEMI FRAMELESS PIVOT DOOR AND PANEL","SHOWER SCREEN 1850x900x1400","SEMI FRAMELESS PIVOT DOOR &"]
[null,null,null,null,null,null,null,null,null,null,null,null,null,null,"SEMI FRAMELESS PIVOT DOOR AND PANEL","SHOWER SCREEN 1850x900x1500","SEMI FRAMELESS PIVOT DOOR &"]
[null,null,null,null,null,null,null,null,null,null,null,null,null,null,"SEMI FRAMELESS PIVOT DOOR AND PANEL","SHOWER SCREEN 1850x1000x1000","SEMI FRAMELESS PIVOT DOOR &"]
[null,null,null,null,null,null,null,null,null,null,null,null,null,null,"SEMI FRAMELESS PIVOT DOOR AND PANEL","SHOWER SCREEN 1850x1100x1100","SEMI FRAMELESS PIVOT DOOR &"]
[null,null,null,null,null,null,null,null,null,null,null,null,null,null,"SEMI FRAMELESS PIVOT DOOR AND PANEL","SHOWER SCREEN 1850x1200x1200","SEMI FRAMELESS PIVOT DOOR &"]
[null,null,null,null,null,null,null,null,null,null,null,null,null,null,"SEMI FRAMELESS PIVOT DOOR AND PANEL","SHOWER SCREEN 1850x1300x1300","SEMI FRAMELESS PIVOT DOOR &"]
[null,null,null,null,null,null,null,null,null,null,null,null,null,null,"SEMI FRAMELESS PIVOT DOOR AND PANEL","SHOWER SCREEN 1850hx1600w","SEMI FRAMELESS PIVOT DOOR &"]
[null,null,null,null,null,null,null,null,null,null,null,null,null,null,"SEMI FRAMELESS PIVOT DOOR AND PANEL","SHOWER SCREEN 1850hx1800w","SEMI FRAMELESS PIVOT DOOR &"]
[null,null,null,null,null,null,null,null,null,null,null,null,null,null,"8MM PROSTYLE","SHOWER SCREEN 1800hx600w PANEL","8mm PROSTYLE SEMI FRAMELESS"]
[null,null,null,null,null,null,null,null,null,null,null,null,null,null,"8MM PROSTYLE","SHOWER SCREEN 1800hx700w PANEL","8mm PROSTYLE SEMI FRAMELESS"]
[null,null,null,null,null,null,null,null,null,null,null,null,null,null,"8MM PROSTYLE","SHOWER SCREEN 1800hx800w PANEL","8mm PROSTYLE SEMI FRAMELESS"]
[null,null,null,null,null,null,null,null,null,null,null,null,null,null,"8MM PROSTYLE","SHOWER SCREEN 1800hx900w PANEL","8mm PROSTYLE SEMI FRAMELESS"]
[null,null,null,null,null,null,null,null,null,null,null,null,null,null,"8MM PROSTYLE","SHOWER SCREEN 2000hx600w PANEL","8mm PROSTYLE SEMI FRAMELESS"]
[null,null,null,null,null,null,null,null,null,null,null,null,null,null,"8MM PROSTYLE","SHOWER SCREEN 2000hx700w PANEL","8mm PROSTYLE SEMI FRAMELESS"]
[null,null,null,null,null,null,null,null,null,null,null,null,null,null,"8MM PROSTYLE","SHOWER SCREEN 2000hx800w PANEL","8mm PROSTYLE SEMI FRAMELESS"]
[null,null,null,null,null,null,null,null,null,null,null,null,null,null,"8MM PROSTYLE","SHOWER SCREEN 2000hx900w PANEL","8mm PROSTYLE SEMI FRAMELESS"]
[null,null,null,null,null,null,null,null,null,null,null,null,null,null,"8MM PROSTYLE","SHOWER SCREEN 2000hx1000w PANE","8mm PROSTYLE SEMI FRAMELESS"]
[null,null,null,null,null,null,null,null,null,null,null,null,null,null,"8MM PROSTYLE","SHOWER SCREEN 2200hx600w PANEL","8mm PROSTYLE SEMI FRAMELESS"]
[null,null,null,null,null,null,null,null,null,null,null,null,null,null,"8MM PROSTYLE","SHOWER SCREEN 2200hx700w PANEL","8mm PROSTYLE SEMI FRAMELESS"]
[null,null,null,null,null,null,null,null,null,null,null,null,null,null,"8MM PROSTYLE","SHOWER SCREEN 2200hx800w PANEL","8mm PROSTYLE SEMI FRAMELESS"]
[null,null,null,null,null,null,null,null,null,null,null,null,null,null,"FRAMELESS CLEAR TOUGHENED","SHOWER DOOR 2400 x 600-700","FRAMELESS CLEAR TOUGHENED"]
[null,null,null,null,null,null,null,null,null,null,null,null,null,null,"FRAMELESS CLEAR TOUGHENED","SHOWER DOOR 2400 x 701-800","FRAMELESS CLEAR TOUGHENED"]
[null,null,null,null,null,null,null,null,null,null,null,null,null,null,"FRAMELESS CLEAR TOUGHENED","SHOWER DOOR 2400 x 801-900","FRAMELESS CLEAR TOUGHENED"]
[null,null,null,null,null,null,null,null,null,null,null,null,null,null,"SPECIAL","SHOWER SCREENS AS PER QUOTE"]
[null,null,null,null,null,null,null,null,null,null,null,null,null,null,"SPECIAL","CURTAIN RAIL"]
[null,null,null,null,null,null,null,null,null,null,null,null,null,null,"SPECIAL","SCREEN PANEL & ROD 1850 x 1300","SEMI FRAMELESS GLASS PANEL"]
[null,null,null,null,null,null,null,null,null,null,null,null,null,null,"SPECIAL","CLIPS AND CLAMPS TO SUIT","10mm FRAMELESS SCREEN"]
[null,null,null,null,null,null,null,null,null,null,null,null,null,null,"SPECIAL","FRAMELESS SCREEN CLIPS & CLAMP","FOR CLIPS AND CLAMPS"]
[null,null,null,null,null,null,null,null,null,null,null,null,null,null,"SPECIAL","FRAMELESS SCREEN 10mm PANEL","FOR WALL CHANNEL"]
[null,null,null,null,null,null,null,null,null,null,null,null,null,null,"SPECIAL","WALL CHANNEL SUPPLY & INSTALL","TO SUIT 10mm FRAMELESS SCREEN"]
[]
[]
[null,null,null,null,null,null,null,null,null,null,null,null,null,null,"SIDELIGHT GLAZING","CLEAR LAMINATED 6.38mm GLASS"]
[null,null,null,null,null,null,null,null,null,null,null,null,null,null,"SIDELIGHT GLAZING","WHITE TRANSLUCENT 6.38mm GLASS"]

{"sheet":"Blinds2","index":30,"n_rows":54,"n_cols":37,"rows_kept":54,"cut":false,"hidden":false,"merged":[[2,4,2,5],[3,33,3,36],[3,38,3,41],[25,4,25,5],[28,33,28,36]]}
[]
[]
[null,null,null,null,"Roller"]
["STANDARD BRICK",null,null,null,"Height",null,null,null,null,null,null,null,null,null,null,null,null,null,null,null,null,null,null,null,null,null,null,null,null,null,null,"Location","NO","ROLLER"]
[1,250,{"$f":"A5","v":1},null,"height","2","2.5","3","3.5","4","4.5","5","5.5","6","6.5","7","7.5","8","8.5","9","9.5","10","10.5","11","11.5","12","NA",null,null,null,null,null,null,"Height ","Width","Courcing W","IMF"]
[1.5,370,{"$f":"A6","v":1.5},null,null,2,2.5,3,{"$f":"+Table105110[[#This Row],[3]]+0.5","v":3.5},4,4.5,5,5.5,6,6.5,7,7.5,8,8.5,9,9.5,10,10.5,11,11.5,12,null,null,null,null,null,null,null,null,null,{"$f":"IFERROR(VLOOKUP(AI6,widths,2,0),\"\")","v":""},{"$f":"IFERROR(IF($AH$4=\"ROLLER\",(INDEX(Table105110[#All],MATCH(AH6,Table105110[[#All],[height]],0),MATCH(AJ6,$E$6:$Z$6,0))),\n  IF($AH$4=\"VERTICALS\",(INDEX(Table1051109[#All],MATCH(AH6,Table1051109[[#All],[height]],0),MATCH(AJ6,$E$6:$Z$6,0))))),\"\")","v":""}]
[2,{"$f":"+B6+120","v":490},2,null,7,"630-105-107120","Next W=  3.5   Next H= 8","Next W=  3.5   Next H= 11","630-105-107140","630-105-108150","630-105-107160","Next W=  6   Next H= 12","Next W=  6   Next H= 18","630-105-107180","Next W= 7   Next H= 15","630-105-107200","Next W=  8.5   Next H= 16","Next W=  8.5   Next H= 18","630-105-107220","Next W=  9.5   Next H= 15","630-105-107240","Next W=  11   Next H= 16","Next W=  11   Next H= 25","630-105-107260","Next W=  12   Next H= 25","630-105-107280","",null,null,null,null,null,null,null,null,"",{"$f":"IFERROR(IF($AH$4=\"ROLLER\",(INDEX(Table105110[#All],MATCH(AH7,Table105110[[#All],[height]],0),MATCH(AJ7,$E$6:$Z$6,0))),\n  IF($AH$4=\"VERTICALS\",(INDEX(Table1051109[#All],MATCH(AH7,Table1051109[[#All],[height]],0),MATCH(AJ7,$E$6:$Z$6,0))))),\"\")","v":""}]
[2.5,{"$f":"+B7+120","v":610},2.5,null,8,"630-105-108120","630-105-108125","Next W=  3.5   Next H= 11","630-105-108140","630-105-108150","630-105-108160","Next W=  6   Next H= 12","Next W=  6   Next H= 18","630-105-108180","Next W= 7   Next H= 15","630-105-108200","Next W=  8.5   Next H= 16","Next W=  8.5   Next H= 18","630-105-108220","Next W=  9.5   Next H= 15","630-105-108240","Next W=  11   Next H= 16","Next W=  11   Next H= 25","630-105-108260","Next W=  12   Next H= 25","630-105-108280","",null,null,null,null,null,null,null,null,"",{"$f":"IFERROR(IF($AH$4=\"ROLLER\",(INDEX(Table105110[#All],MATCH(AH8,Table105110[[#All],[height]],0),MATCH(AJ8,$E$6:$Z$6,0))),\n  IF($AH$4=\"VERTICALS\",(INDEX(Table1051109[#All],MATCH(AH8,Table1051109[[#All],[height]],0),MATCH(AJ8,$E$6:$Z$6,0))))),\"\")","v":""}]
[3,{"$f":"+B8+120","v":730},3,null,10,"630-105-110120","Next W=  3.5   Next H= 12","Next W=  3.5   Next H= 11","630-105-110140","Next W=  4.5   Next H= 12","630-105-110160","Next W=  6   Next H= 12","Next W=  6   Next H= 18","630-105-110180","Next W= 7   Next H= 15","630-105-110200","Next W=  8.5   Next H= 16","Next W=  8.5   Next H= 18","630-105-110220","Next W=  9.5   Next H= 15","630-105-110240","Next W=  11   Next H= 16","Next W=  12   Next H= 25","Next W=  12   Next H= 11","Next W=  12   Next H= 25","630-105-110280","",null,null,null,null,null,null,null,null,"",{"$f":"IFERROR(IF($AH$4=\"ROLLER\",(INDEX(Table105110[#All],MATCH(AH9,Table105110[[#All],[height]],0),MATCH(AJ9,$E$6:$Z$6,0))),\n  IF($AH$4=\"VERTICALS\",(INDEX(Table1051109[#All],MATCH(AH9,Table1051109[[#All],[height]],0),MATCH(AJ9,$E$6:$Z$6,0))))),\"\")","v":""}]
[3.5,850,3.5,null,11,"Next W=  3   Next H= 12","Next W=  3   Next H= 12","630-105-111130","Next W=  5   Next H= 12","Next W=  11   Next H= 12","Next W=  11   Next H= 12","Next W=  11   Next H= 12","Next W=  6   Next H= 18","Next W=  11   Next H= 12","Next W=  11   Next H= 15","Next W=  11   Next H= 12","Next W=  11   Next H= 15","Next W=  11   Next H= 18","Next W=  11   Next H= 12","Next W=  11   Next H= 15","Next W=  11   Next H= 12","Next W=  11   Next H= 16","Next W=  11   Next H= 25","630-105-110260","Next W=  Not Available   Next H= 25","Next W=  Not Available   Next H= 12","",null,null,null,null,null,null,null,null,"",{"$f":"IFERROR(IF($AH$4=\"ROLLER\",(INDEX(Table105110[#All],MATCH(AH10,Table105110[[#All],[height]],0),MATCH(AJ10,$E$6:$Z$6,0))),\n  IF($AH$4=\"VERTICALS\",(INDEX(Table1051109[#All],MATCH(AH10,Table1051109[[#All],[height]],0),MATCH(AJ10,$E$6:$Z$6,0))))),\"\")","v":""}]
[4,970,4,null,12,"630-105-112120","630-105-112125","630-105-112130","630-105-112140","630-105-112145","630-105-112160","630-105-112165","Next W=  6   Next H= 18","630-105-112180","Next W= 7   Next H= 15","630-105-112200","Next W=  8.5   Next H= 16","Next W=  8.5   Next H= 18","630-105-112220","Next W=  9.5   Next H= 15","630-105-112240","Next W=  11   Next H= 16","Next W=  11   Next H= 25","630-105-112260","Next W=  12   Next H= 25","630-105-112280","",null,null,null,null,null,null,null,null,"",{"$f":"IFERROR(IF($AH$4=\"ROLLER\",(INDEX(Table105110[#All],MATCH(AH11,Table105110[[#All],[height]],0),MATCH(AJ11,$E$6:$Z$6,0))),\n  IF($AH$4=\"VERTICALS\",(INDEX(Table1051109[#All],MATCH(AH11,Table1051109[[#All],[height]],0),MATCH(AJ11,$E$6:$Z$6,0))))),\"\")","v":""}]
[4.5,1090,4.5,null,14,"630-105-114120","Next W=  3.5   Next H= 18","Next W=  3.5   Next H= 16","630-105-114140","Next W=  4.5   Next H= 15","630-105-114160","Next W=  6   Next H= 15","Next W=  6   Next H= 18","630-105-114180","Next W= 7   Next H= 15","630-105-114200","Next W=  8.5   Next H= 16","Next W=  8.5   Next H= 18","630-105-114220","Next W=  9.5   Next H= 15","630-105-114240","Next W=  11   Next H= 16","Next W=  11   Next H= 25","630-105-114260","Next W=  12   Next H= 25","630-105-114280","",null,null,null,null,null,null,null,null,"",{"$f":"IFERROR(IF($AH$4=\"ROLLER\",(INDEX(Table105110[#All],MATCH(AH12,Table105110[[#All],[height]],0),MATCH(AJ12,$E$6:$Z$6,0))),\n  IF($AH$4=\"VERTICALS\",(INDEX(Table1051109[#All],MATCH(AH12,Table1051109[[#All],[height]],0),MATCH(AJ12,$E$6:$Z$6,0))))),\"\")","v":""}]
[5,1210,5,null,15,"630-105-115120","Next W=  3.5   Next H= 18","Next W=  3.5   Next H= 16","630-105-115140","630-105-115145","630-105-115160","630-105-115165","Next W=  6   Next H= 18","630-105-115180","630-105-115185","630-105-115200","630-105-115205","Next W=  8.5   Next H= 18","630-105-115220","630-105-115225","630-105-115240","Next W=  11   Next H= 16","Next W=  11   Next H= 25","630-105-115260","Next W=  12   Next H= 25","630-105-115280","",null,null,null,null,null,null,null,null,"",{"$f":"IFERROR(IF($AH$4=\"ROLLER\",(INDEX(Table105110[#All],MATCH(AH13,Table105110[[#All],[height]],0),MATCH(AJ13,$E$6:$Z$6,0))),\n  IF($AH$4=\"VERTICALS\",(INDEX(Table1051109[#All],MATCH(AH13,Table1051109[[#All],[height]],0),MATCH(AJ13,$E$6:$Z$6,0))))),\"\")","v":""}]
[5.5,1330,5.5,null,16,"Next W=  3   Next H= 16","Next W=  3   Next H= 18","630-105-116130","Next W=  5   Next H= 17","Next W=  5   Next H= 18","Next W=  5   Next H= 17","630-105-116145","Next W=  6   Next H= 18","630-105-116155","Next W= 7   Next H= 18","Next W=  7.5   Next H= 17","630-105-116165","Next W=  9   Next H= 18","Next W=  9   Next H= 17","630-105-116180","Next W=  10   Next H= 17","630-105-116190","Next W=  11   Next H= 25","630-105-117260","Next W=  Not Available   Next H= 25","Next W=  Not Available   Next H= 17","",null,null,null,null,null,null,null,null,"",{"$f":"IFERROR(IF($AH$4=\"ROLLER\",(INDEX(Table105110[#All],MATCH(AH14,Table105110[[#All],[height]],0),MATCH(AJ14,$E$6:$Z$6,0))),\n  IF($AH$4=\"VERTICALS\",(INDEX(Table1051109[#All],MATCH(AH14,Table1051109[[#All],[height]],0),MATCH(AJ14,$E$6:$Z$6,0))))),\"\")","v":""}]
[6,1450,6,null,17,"630-105-117120","Next W=  3.5   Next H= 18","Next W=  3.5   Next H= Not available","630-105-117140","Next W=  4.5   Next H= 18","630-105-117160","Next W=  6   Next H= 18","Next W=  6   Next H= 18","630-105-117180","Next W= 7   Next H= 18","630-105-117200","Next W=  8.5   Next H= 18","Next W=  8.5   Next H= 18","630-105-117220","Next W=  9.5   Next H= 19","630-105-117240","Next W=  12   Next H= 18","Next W=  12   Next H= 25","Next W=  12   Next H= 19","Next W=  12   Next H= 25","630-105-117280","",null,null,null,null,null,null,null,null,"",{"$f":"IFERROR(IF($AH$4=\"ROLLER\",(INDEX(Table105110[#All],MATCH(AH15,Table105110[[#All],[height]],0),MATCH(AJ15,$E$6:$Z$6,0))),\n  IF($AH$4=\"VERTICALS\",(INDEX(Table1051109[#All],MATCH(AH15,Table1051109[[#All],[height]],0),MATCH(AJ15,$E$6:$Z$6,0))))),\"\")","v":""}]
[6.5,1570,6.5,null,18,"Next W=  2.5  Next H= 19","630-105-118125","630-105-118130","630-105-118135","630-105-118140","630-105-118145","630-105-118150","630-105-118155","630-105-118160","630-105-118165","630-105-118170","630-105-118175","630-105-118180","630-105-118185","630-105-118190","Next W=  10   Next H= 19","630-105-118200","Next W=  12   Next H= 25","Next W=  Not Available   Next H= 19","Next W=  Not Available   Next H= 25","Next W=  Not Available   Next H= 19","",null,null,null,null,null,null,null,null,"",{"$f":"IFERROR(IF($AH$4=\"ROLLER\",(INDEX(Table105110[#All],MATCH(AH16,Table105110[[#All],[height]],0),MATCH(AJ16,$E$6:$Z$6,0))),\n  IF($AH$4=\"VERTICALS\",(INDEX(Table1051109[#All],MATCH(AH16,Table1051109[[#All],[height]],0),MATCH(AJ16,$E$6:$Z$6,0))))),\"\")","v":""}]
[7,1690,7,null,19,"630-105-119120","Next W=  3.5   Next H= Not available","Next W=  3.5   Next H= Not available","630-105-119140","Next W=  4.5   Next H= 25","630-105-119160","Next W=  6   Next H= 25","Next W=  6   Next H= 25","630-105-119180","Next W= 7   Next H= 25","630-105-119200","Next W=  8.5   Next H= 22","Next W=  8.5   Next H= 25","630-105-119220","Next W=  9.5   Next H= 22","630-105-119240","Next W=  11   Next H= 25","Next W=  11   Next H= 25","630-105-119260","Next W=  12   Next H= 25","630-105-119280","",null,null,null,null,null,null,null,null,"",{"$f":"IFERROR(IF($AH$4=\"ROLLER\",(INDEX(Table105110[#All],MATCH(AH17,Table105110[[#All],[height]],0),MATCH(AJ17,$E$6:$Z$6,0))),\n  IF($AH$4=\"VERTICALS\",(INDEX(Table1051109[#All],MATCH(AH17,Table1051109[[#All],[height]],0),MATCH(AJ17,$E$6:$Z$6,0))))),\"\")","v":""}]
[7.5,1810,7.5,null,21,"630-105-121120","Next W=  3.5   Next H= Not available","Next W=  3.5   Next H= Not available","630-105-121140","Next W=  4.5   Next H= 25","630-105-121160","Next W=  6   Next H= 25","Next W=  6   Next H= 25","630-105-121180","Next W= 7   Next H= 25","630-105-121200","Next W=  8.5   Next H= 22","Next W=  8.5   Next H= 25","630-105-121220","Next W=  9.5   Next H= 22","630-105-121240","Next W=  11   Next H= 25","Next W=  11   Next H= 25","630-105-121260","Next W=  12   Next H= 25","630-105-121280","",null,null,null,null,null,null,null,null,"",{"$f":"IFERROR(IF($AH$4=\"ROLLER\",(INDEX(Table105110[#All],MATCH(AH18,Table105110[[#All],[height]],0),MATCH(AJ18,$E$6:$Z$6,0))),\n  IF($AH$4=\"VERTICALS\",(INDEX(Table1051109[#All],MATCH(AH18,Table1051109[[#All],[height]],0),MATCH(AJ18,$E$6:$Z$6,0))))),\"\")","v":""}]
[8,1930,8,null,22,"630-105-122120","Next W=  3.5   Next H= Not available","Next W=  3.5   Next H= Not available","630-105-122140","Next W=  4.5   Next H= 25","630-105-122160","Next W=  6   Next H= 25","Next W=  6   Next H= 25","630-105-122180","Next W= 7   Next H= 25","630-105-122200","630-105-122205","Next W=  8.5   Next H= 25","630-105-122220","630-105-122225","630-105-122240","Next W=  11   Next H= 25","Next W=  11   Next H= 25","630-105-122260","Next W=  12   Next H= 25","630-105-122280","",null,null,null,null,null,null,null,null,"",{"$f":"IFERROR(IF($AH$4=\"ROLLER\",(INDEX(Table105110[#All],MATCH(AH19,Table105110[[#All],[height]],0),MATCH(AJ19,$E$6:$Z$6,0))),\n  IF($AH$4=\"VERTICALS\",(INDEX(Table1051109[#All],MATCH(AH19,Table1051109[[#All],[height]],0),MATCH(AJ19,$E$6:$Z$6,0))))),\"\")","v":""}]
[8.5,2050,8.5,null,24,"630-105-124120","Next W=  3.5   Next H= Not available","Next W=  3.5   Next H= Not available","630-105-124140","Next W=  4.5   Next H= 25","630-105-124160","Next W=  6   Next H= 25","Next W=  6   Next H= 25","630-105-124180","Next W= 7   Next H= 25","630-105-124200","Next W=  8.5   Next H= 25","Next W=  8.5   Next H= 25","630-105-124220","Next W=  9.5   Next H= 25","630-105-124240","Next W=  11   Next H= 25","Next W=  11   Next H= 25","630-105-124260","Next W=  12   Next H= 25","630-105-124280","",null,null,null,null,null,null,null,null,"",{"$f":"IFERROR(IF($AH$4=\"ROLLER\",(INDEX(Table105110[#All],MATCH(AH20,Table105110[[#All],[height]],0),MATCH(AJ20,$E$6:$Z$6,0))),\n  IF($AH$4=\"VERTICALS\",(INDEX(Table1051109[#All],MATCH(AH20,Table1051109[[#All],[height]],0),MATCH(AJ20,$E$6:$Z$6,0))))),\"\")","v":""}]
[9,2170,9,null,25,"Next W=  4   Next H= 26","Next W=  4   Next H= Not available","Next W=  4   Next H= Not available","Next W=  4   Next H= 26","630-105-125140","Next W=  5   Next H= 26","630-105-125150","630-105-125155","630-105-125160","630-105-125165","630-105-125170","630-105-125175","630-105-125180","630-105-125185","630-105-125190","630-105-125195","630-105-125200","630-105-125205","630-105-125210","630-105-125215","630-105-125220","",null,null,null,null,null,null,null,null,"",{"$f":"IFERROR(IF($AH$4=\"ROLLER\",(INDEX(Table105110[#All],MATCH(AH21,Table105110[[#All],[height]],0),MATCH(AJ21,$E$6:$Z$6,0))),\n  IF($AH$4=\"VERTICALS\",(INDEX(Table1051109[#All],MATCH(AH21,Table1051109[[#All],[height]],0),MATCH(AJ21,$E$6:$Z$6,0))))),\"\")","v":""}]
[9.5,{"$f":"+B21+120","v":2290},9.5,null,26,"630-105-126120","Next W=  3.5   Next H= Not available","Next W=  3.5   Next H= Not available","630-105-126140","Next W=  4.5   Next H= 28","630-105-126160","Next W=  6   Next H= 28","Next W=  6   Next H= 28","630-105-126180","Next W= 7   Next H= 28","630-105-126200","Next W=  8.5   Next H= 28","Next W=  8.5   Next H= 28","630-105-126220","Next W=  9.5   Next H= 28","630-105-126240","Next W=  11   Next H= 28","Next W=  11   Next H= 28","630-105-126260","Next W=  12   Next H= 28","630-105-126280","",null,null,null,null,null,null,null,null,{"$f":"IFERROR(VLOOKUP(AI22,widths,2,0),\"\")","v":""},{"$f":"IFERROR(IF($AH$4=\"ROLLER\",(INDEX(Table105110[#All],MATCH(AH22,Table105110[[#All],[height]],0),MATCH(AJ22,$E$6:$Z$6,0))),\n  IF($AH$4=\"VERTICALS\",(INDEX(Table1051109[#All],MATCH(AH22,Table1051109[[#All],[height]],0),MATCH(AJ22,$E$6:$Z$6,0))))),\"\")","v":""}]
[10,{"$f":"+B22+120","v":2410},10,null,28,"630-105-128120","Next W=  3.5   Next H= Not available","Next W=  3.5   Next H= Not available","630-105-128140","630-105-128145","630-105-128160","630-105-128165","630-105-128170","630-105-128180","630-105-128185","630-105-128200","630-105-128205","630-105-128210","630-105-128220","630-105-128225","630-105-128240","630-105-128245","630-105-128250","630-105-128260","630-105-128265","630-105-128280",""]
[10.5,{"$f":"+B23+120","v":2530},10.5,null,29,"630-105-129120","Next W=  3.5   Next H= Not available","Next W=  3.5   Next H= Not available","630-105-129140","Next W=  4.5   Next H= Not available","630-105-129160","Next W=  6  Next H= Not available","Next W=  6  Next H= Not available","630-105-129180","Next W=  7  Next H= Not available","630-105-129200","Next W=  8.5  Next H= Not available","Next W=  8.5  Next H= Not available","630-105-129220","Next W=  9.5  Next H= Not available","630-105-129240","Next W=  11  Next H= Not available","Next W=  11  Next H= Not available","630-105-129260","Next W=  12  Next H= Not available","630-105-129280","",null,null,null,null,null,null,null,null,"",{"$f":"IFERROR(IF($AH$4=\"ROLLER\",(INDEX(Table105110[#All],MATCH(AH24,Table105110[[#All],[height]],0),MATCH(AJ24,$E$6:$Z$6,0))),\n  IF($AH$4=\"VERTICALS\",(INDEX(Table1051109[#All],MATCH(AH24,Table1051109[[#All],[height]],0),MATCH(AJ24,$E$6:$Z$6,0))))),\"\")","v":""}]
[11,2650,11,null,null,null,null,null,null,null,null,null,null,null,null,null,null,null,null,null,null,null,null,null,null,null,null,null,null,null,null,null,null,null,null,"",{"$f":"IFERROR(IF($AH$4=\"ROLLER\",(INDEX(Table105110[#All],MATCH(AH25,Table105110[[#All],[height]],0),MATCH(AJ25,$E$6:$Z$6,0))),\n  IF($AH$4=\"VERTICALS\",(INDEX(Table1051109[#All],MATCH(AH25,Table1051109[[#All],[height]],0),MATCH(AJ25,$E$6:$Z$6,0))))),\"\")","v":""}]
[11.5,2770,11.5,null,"Verticals",null,null,null,null,null,null,null,null,null,null,null,null,null,null,null,null,null,null,null,null,null,null,null,null,null,null,null,null,null,null,"",{"$f":"IFERROR(IF($AH$4=\"ROLLER\",(INDEX(Table105110[#All],MATCH(AH26,Table105110[[#All],[height]],0),MATCH(AJ26,$E$6:$Z$6,0))),\n  IF($AH$4=\"VERTICALS\",(INDEX(Table1051109[#All],MATCH(AH26,Table1051109[[#All],[height]],0),MATCH(AJ26,$E$6:$Z$6,0))))),\"\")","v":""}]
[12,2890,12,null,"Height",null,null,null,null,null,null,null,null,null,null,null,null,null,null,null,null,null,null,null,null,null,null,null,null,null,null,null,null,null,null,"",{"$f":"IFERROR(IF($AH$4=\"ROLLER\",(INDEX(Table105110[#All],MATCH(AH27,Table105110[[#All],[height]],0),MATCH(AJ27,$E$6:$Z$6,0))),\n  IF($AH$4=\"VERTICALS\",(INDEX(Table1051109[#All],MATCH(AH27,Table1051109[[#All],[height]],0),MATCH(AJ27,$E$6:$Z$6,0))))),\"\")","v":""}]
[12.5,3010,12.5,null,"height","2","2.5","3","3.5","4","4.5","5","5.5","6","6.5","7","7.5","8","8.5","9","9.5","10","10.5","11","11.5","12","13",null,null,null,null,null,null,null,null,"",{"$f":"IFERROR(IF($AH$4=\"ROLLER\",(INDEX(Table105110[#All],MATCH(AH28,Table105110[[#All],[height]],0),MATCH(AJ28,$E$6:$Z$6,0))),\n  IF($AH$4=\"VERTICALS\",(INDEX(Table1051109[#All],MATCH(AH28,Table1051109[[#All],[height]],0),MATCH(AJ28,$E$6:$Z$6,0))))),\"\")","v":""}]
[13,3130,13,null,null,2,2.5,3,{"$f":"+Table1051109[[#This Row],[3]]+0.5","v":3.5},4,4.5,5,5.5,6,6.5,7,7.5,8,8.5,9,9.5,10,10.5,11,11.5,12,null,null,null,null,null,null,null,"VERTICALS"]
[13.5,3250,13.5,null,7,"630-200-000100","Next W=  3.5   Next H= 8","Next W=  3.5   Next H= 11","630-200-000105","Next W=  4.5   Next H= 8","630-200-000110","Next W=  6   Next H= 12","Next W=  6   Next H= 18","630-200-000120","Next W= 7   Next H= 18","630-200-000130","Next W= 8.5   Next H= 11","Next W= 8.5   Next H= 11","630-200-000145","630-200-100100","630-200-100105","Next W= 11   Next H= 11","Next W= 11   Next H= 25","630-200-100120","Next W= 12   Next H= 11","630-200-100130","",null,null,null,null,null,null,null,null,"",{"$f":"IFERROR(IF($AH$4=\"ROLLER\",(INDEX(Table105110[#All],MATCH(AH30,Table105110[[#All],[height]],0),MATCH(AJ30,$E$6:$Z$6,0))),\n  IF($AH$4=\"VERTICALS\",(INDEX(Table1051109[#All],MATCH(AH30,Table1051109[[#All],[height]],0),MATCH(AJ30,$E$6:$Z$6,0))))),\"\")","v":""}]
[14,3370,14,null,8,"630-200-200090","630-200-200100","Next W=  3.5   Next H= 11","630-200-200110","630-200-200150","630-200-200155","Next W= 5.5   Next H= 12","Next W=  6   Next H= 18","630-200-200170","Next W= 7   Next H= 18","630-200-200180","Next W= 8.5   Next H= 11","Next W= 8.5   Next H= 11","630-200-200195","Next W= 9.5   Next H= 15","630-200-200205","Next W= 11   Next H= 11","Next W= 11   Next H= 25","630-200-200220","Next W= 12   Next H= 11","630-200-200200","",null,null,null,null,null,null,null,null,"",{"$f":"IFERROR(IF($AH$4=\"ROLLER\",(INDEX(Table105110[#All],MATCH(AH31,Table105110[[#All],[height]],0),MATCH(AJ31,$E$6:$Z$6,0))),\n  IF($AH$4=\"VERTICALS\",(INDEX(Table1051109[#All],MATCH(AH31,Table1051109[[#All],[height]],0),MATCH(AJ31,$E$6:$Z$6,0))))),\"\")","v":""}]
[14.5,3490,14.5,null,10,"630-200-210120","Next W=  3.5   Next H= 12","Next W=  3.5   Next H= 11","630-200-210135","Next W= 4.5   Next H= 12","630-200-210145","Next W= 5.5   Next H= 12","Next W=  6   Next H= 18","630-200-210160","Next W= 8.5   Next H= 18","Next W= 8.5   Next H= 11","Next W= 8.5   Next H= 11","Next W= 8.5   Next H= 11","630-200-210185","Next W= 9.5   Next H= 15","630-200-210195","Next W= 11   Next H= 11","Next W= 11   Next H= 25","630-200-210210","Next W= 12   Next H= 11","630-200-210220","",null,null,null,null,null,null,null,null,"",{"$f":"IFERROR(IF($AH$4=\"ROLLER\",(INDEX(Table105110[#All],MATCH(AH32,Table105110[[#All],[height]],0),MATCH(AJ32,$E$6:$Z$6,0))),\n  IF($AH$4=\"VERTICALS\",(INDEX(Table1051109[#All],MATCH(AH32,Table1051109[[#All],[height]],0),MATCH(AJ32,$E$6:$Z$6,0))))),\"\")","v":""}]
[null,null,null,null,{"$f":"CONCATENATE(F33, \" \",G33, \" \",H33,\" mm Wide x \",I33, \" mm High\")","v":" 0.5  mm Wide x  mm High"},null,{"$f":"+Table1051109[[#This Row],[2]]+0.5","v":0.5}]
[null,null,null,null,{"$f":"CONCATENATE(F34, \" \",G34, \" \",H34,\" mm Wide x \",I34, \" mm High\")","v":" 0.5  mm Wide x  mm High"},null,{"$f":"+Table1051109[[#This Row],[2]]+0.5","v":0.5}]
[null,null,null,null," 0.5  mm Wide x  mm High",null,{"$f":"+Table1051109[[#This Row],[2]]+0.5","v":0.5}]
[null,null,null,null," 0.5  mm Wide x  mm High",null,{"$f":"+Table1051109[[#This Row],[2]]+0.5","v":0.5}]
[null,null,null,null," 0.5  mm Wide x  mm High",null,{"$f":"+Table1051109[[#This Row],[2]]+0.5","v":0.5}]
[null,null,null,null," 0.5  mm Wide x  mm High",null,{"$f":"+Table1051109[[#This Row],[2]]+0.5","v":0.5}]
[null,null,null,null," 0.5  mm Wide x  mm High",null,{"$f":"+Table1051109[[#This Row],[2]]+0.5","v":0.5}]
[null,null,null,null,11,"Next W=  3   Next H= 22","Next W=  3   Next H= 12","630-200-300100","Next W= Not Available   Next H= 14","Next W= Not Available   Next H= 12","Next W= Not Available   Next H= 14","Next W= Not Available   Next H= 12","Next W= Not Available   Next H= 18","Next W= Not Available   Next H= 12","Next W= Not Available   Next H= 18","Next W= Not Available   Next H= 14","Next W= Not Available   Next H=15","Next W= Not Available   Next H= 18","Next W= Not Available   Next H= 12","Next W= Not Available   Next H= 15","Next W= Not Available   Next H= 14","Next W= Not Available   Next H= 16","Next W= Not Available   Next H= 25","Next W= Not Available   Next H= 15","Next W= Not Available   Next H= 25","Next W= Not Available   Next H= 12",null,null,null,null,null,null,null,null,null,"",{"$f":"IFERROR(IF($AH$4=\"ROLLER\",(INDEX(Table105110[#All],MATCH(AH40,Table105110[[#All],[height]],0),MATCH(AJ40,$E$6:$Z$6,0))),\n  IF($AH$4=\"VERTICALS\",(INDEX(Table1051109[#All],MATCH(AH40,Table1051109[[#All],[height]],0),MATCH(AJ40,$E$6:$Z$6,0))))),\"\")","v":""}]
[null,null,null,null,12,"Next W= 2.5   Next H= 22","630-200-400100","630-200-400150","Next W= 4   Next H= 14","630-200-400200","Next W= 5   Next H= 14","630-200-400250","Next W=  6   Next H= 18","630-200-400260","Next W= 7   Next H= 18","630-200-400270","Next W= 8.5  Next H=15","Next W= 8.5  Next H=18","630-200-400285","Next W=  12  Next H= 15","Next W=  12  Next H= 14","Next W= 12   Next H= 16","Next W= 12   Next H= 25","Next W= 12  Next H= 15","Next W= 12   Next H= 25","630-200-400320","",null,null,null,null,null,null,null,null,"",{"$f":"IFERROR(IF($AH$4=\"ROLLER\",(INDEX(Table105110[#All],MATCH(AH41,Table105110[[#All],[height]],0),MATCH(AJ41,$E$6:$Z$6,0))),\n  IF($AH$4=\"VERTICALS\",(INDEX(Table1051109[#All],MATCH(AH41,Table1051109[[#All],[height]],0),MATCH(AJ41,$E$6:$Z$6,0))))),\"\")","v":""}]
[null,null,null,null,14,"Next W=  3.5   Next H= 22","Next W=  3.5   Next H= 18","Next W=  3.5   Next H= 18","630-200-414135","Next W=  4.5   Next H= 18","630-200-414145","Next W=  5.5   Next H= 18","Next W=  6   Next H= 18","630-200-414160","Next W= 7   Next H= 18","630-200-414170","Next W= 8.5  Next H=15","Next W= 8.5  Next H=18","630-200-414185","Next W= 11   Next H= 15","630-200-414195","Next W= 11   Next H= 16","Next W= 11   Next H= 25","630-200-414210","Next W= 12   Next H= 25","630-200-414220","",null,null,null,null,null,null,null,null,"",{"$f":"IFERROR(IF($AH$4=\"ROLLER\",(INDEX(Table105110[#All],MATCH(AH42,Table105110[[#All],[height]],0),MATCH(AJ42,$E$6:$Z$6,0))),\n  IF($AH$4=\"VERTICALS\",(INDEX(Table1051109[#All],MATCH(AH42,Table1051109[[#All],[height]],0),MATCH(AJ42,$E$6:$Z$6,0))))),\"\")","v":""}]
[null,null,null,null,15,"Next W=  3.5   Next H= 22","Next W=  3.5   Next H= 18","Next W=  3.5   Next H= 18","630-200-415135","630-200-500100","Next W=  5   Next H= 18","630-200-500150","Next W=  7.5   Next H= 18","Next W=  7.5   Next H= 16","Next W= 7 .5  Next H= 18","Next W= 7 .5  Next H= 18","630-200-500250","Next W= 8.5  Next H=18","630-200-500260","630-200-500300","Next W= Not Available   Next H= 18","Next W= Not Available   Next H= 16","Next W= Not Available   Next H= 25","Next W= Not Available   Next H= 21","Next W= Not Available   Next H= 25","Next W= Not Available   Next H= 19","",null,null,null,null,null,null,null,null,"",{"$f":"IFERROR(IF($AH$4=\"ROLLER\",(INDEX(Table105110[#All],MATCH(AH43,Table105110[[#All],[height]],0),MATCH(AJ43,$E$6:$Z$6,0))),\n  IF($AH$4=\"VERTICALS\",(INDEX(Table1051109[#All],MATCH(AH43,Table1051109[[#All],[height]],0),MATCH(AJ43,$E$6:$Z$6,0))))),\"\")","v":""}]
[null,null,null,null,16,"Next W=  3   Next H= 22","Next W=  3   Next H= 18","630-200-600100","Next W=  5   Next H= 18","Next W=  5   Next H= 18","Next W=  5   Next H= 18","630-200-600150","Next W=  6   Next H= 18","630-200-600200","Next W= 7 .5  Next H= 18","Next W= 7 .5  Next H= 18","630-200-600250","Next W= 9  Next H=18","Next W= 9  Next H=17","630-200-600300","Next W= 10   Next H= 18","630-200-600350","Next W= Not Available   Next H= 25","Next W= Not Available   Next H= 21","Next W= Not Available   Next H= 25","Next W= Not Available   Next H= 19","",null,null,null,null,null,null,null,null,"",{"$f":"IFERROR(IF($AH$4=\"ROLLER\",(INDEX(Table105110[#All],MATCH(AH44,Table105110[[#All],[height]],0),MATCH(AJ44,$E$6:$Z$6,0))),\n  IF($AH$4=\"VERTICALS\",(INDEX(Table1051109[#All],MATCH(AH44,Table1051109[[#All],[height]],0),MATCH(AJ44,$E$6:$Z$6,0))))),\"\")","v":""}]
[null,null,null,null,17,"Next W=  6   Next H= 22","Next W=  6   Next H= 18","Next W=  6   Next H= 18","Next W=  6   Next H= 18","Next W=  6   Next H= 18","Next W=  6   Next H= 18","Next W=  6   Next H= 18","Next W=  6   Next H= 18","630-200-617160","Next W= 8  Next H= 18","Next W= 8  Next H= 18","Next W= 8  Next H= 18","Next W= 8.5  Next H=18","630-200-617185","Next W= Not Available   Next H= 18","Next W= Not Available   Next H= 18","Next W= Not Available   Next H= 18","Next W= Not Available   Next H= 25","Next W= Not Available   Next H= 21","Next W= Not Available   Next H= 25","Next W= Not Available   Next H= 19","",null,null,null,null,null,null,null,null,{"$f":"IFERROR(VLOOKUP(AI45,widths,2,0),\"\")","v":""},{"$f":"IFERROR(IF($AH$4=\"ROLLER\",(INDEX(Table105110[#All],MATCH(AH45,Table105110[[#All],[height]],0),MATCH(AJ45,$E$6:$Z$6,0))),\n  IF($AH$4=\"VERTICALS\",(INDEX(Table1051109[#All],MATCH(AH45,Table1051109[[#All],[height]],0),MATCH(AJ45,$E$6:$Z$6,0))))),\"\")","v":""}]
[null,null,null,null,18,"Next W=  2.5   Next H= 22","630-200-700100","630-200-700150","630-200-700200","630-200-700250","630-200-700300","630-200-700350","630-200-700400","630-200-700450","630-200-700500","630-200-700550","630-200-700600","630-200-700650","630-200-700700","630-200-700750","630-200-700800","630-200-700850","Next W= Not Available   Next H= 25","Next W= Not Available   Next H= 21","Next W= Not Available   Next H= 25","Next W= Not Available   Next H= 19",""]
[null,null,null,null,19,"Next W=  3.5   Next H= 22","Next W= 3.5   Next H= Not Available ","Next W= 3.5   Next H= Not Available ","630-200-719135","Next W=  6   Next H= 25","Next W=  6   Next H= 21","Next W=  6   Next H= 25","Next W=  6   Next H= 25","630-200-719160","Next W=  12  Next H= 25","Next W=  12  Next H= 21","Next W=  12  Next H= 25","Next W=  12  Next H= 25","Next W=  12  Next H=21","Next W=  12  Next H= 25","Next W=  12  Next H= 21","Next W=  12  Next H= 25","Next W=  12  Next H= 25","Next W= 12   Next H= 21","Next W= 12   Next H= 25","630-200-719220",""]
[null,null,null,null,21,"Next W=  3.5   Next H= 22","Next W= 3.5   Next H= Not Available ","Next W= 3.5   Next H= Not Available ","630-200-721135","Next W=  4.5   Next H= 25","630-200-721145","Next W=  6   Next H= 25","Next W=  6   Next H= 25","630-200-721160","Next W=  7   Next H= 25","630-200-721170","Next W=  8.5   Next H= 25","Next W=  8.5   Next H= 25","630-200-721185","Next W=  9.5   Next H= 25","630-200-721195","Next W= 11   Next H= 25","Next W= 11   Next H= 25","630-200-721210","Next W= Not Available   Next H= 25","Next W= Not Available   Next H= 25",""]
[null,null,null,null,22,"630-200-722120","Next W= 3.5   Next H= Not Available ","Next W= 3.5   Next H= Not Available ","630-200-722135","Next W=  4.5   Next H= 25","630-200-722145","Next W=  6   Next H= 25","Next W=  6   Next H= 25","630-200-722160","Next W=  9.5   Next H= 25","Next W=  9.5   Next H= 25","Next W=  9.5   Next H= 25","Next W=  9.5   Next H= 25","Next W=  9.5   Next H= 24","Next W=  9.5   Next H= 25","630-200-822195","Next W= 11   Next H= 25","Next W= 11   Next H= 25","630-200-822210","Next W= Not Available   Next H= 25","Next W= Not Available   Next H= 25",""]
[null,null,null,null,24,"630-200-824120","Next W= 3.5   Next H= Not Available ","Next W= 3.5   Next H= Not Available ","630-200-824135","Next W=  4.5   Next H= 25","630-200-824145","Next W=  8.5   Next H= 25","Next W=  8.5   Next H= 25","Next W=  8.5   Next H= 25","Next W=  8.5   Next H= 25","Next W=  8.5   Next H= 25","Next W=  8.5   Next H= 25","Next W=  8.5   Next H= 25","630-200-824185","Next W=  9.5   Next H= 25","630-200-824195","Next W= 11   Next H= 25","Next W= 11   Next H= 25","630-200-824210","Next W= Not Available   Next H= 25","Next W= Not Available   Next H= 25",""]
[null,null,null,null,25,"Next W=  4   Next H= 28","Next W=  4   Next H= Not Available ","Next W=  4   Next H= Not Available ","Next W=  4   Next H= 26","630-200-900100","Next W= 5   Next H= 28","630-200-900150","630-200-900200","630-200-900250","630-200-900300","630-200-900350","630-200-900400","630-200-900450","630-200-900500","630-200-900550","630-200-900600","630-200-900650","630-200-900700","630-200-900750","630-200-900800","630-200-900850","630-200-900900"]
[null,null,null,null,26,"Next W=  3.5   Next H= 28","Next W= 3.5   Next H= Not Available ","Next W= 3.5   Next H= Not Available ","630-200-926135","Next W= 8.5   Next H= 28","Next W= 8.5   Next H= 28","Next W= 8.5   Next H= 28","Next W= 8.5   Next H= 28","Next W= 8.5   Next H= Not Available ","Next W= 8.5   Next H= 28","Next W= 8.5   Next H= 28","Next W= 8.5   Next H= 28","Next W= 8.5   Next H= 28","630-200-926185","Next W= Not Available   Next H= Not Available ","Next W= Not Available   Next H= 28","Next W= Not Available   Next H= 28","Next W= Not Available   Next H= 28","Next W= Not Available   Next H= 28","Next W= Not Available   Next H= Not Available ","Next W= Not Available   Next H= 28",""]
[null,null,null,null,28,"630-200-928120","Next W= 3.5   Next H= Not Available ","Next W= 3.5   Next H= Not Available ","630-200-928135","630-200-930100","630-200-930145","630-200-930150","630-200-930200","Next W= 6.5   Next H= Not Available ","630-200-930300","630-200-930350","630-200-930375","630-200-930450","630-200-930500","Next W= 9.5   Next H= Not Available ","630-200-930600","630-200-930650","630-200-930700","630-200-930750","Next W= 12   Next H= Not Available ","630-200-930850","630-200-930900"]
[null,null,null,null,29,"Next W= Not Available   Next H= Not Available ","Next W= Not Available   Next H= Not Available ","Next W= Not Available   Next H= Not Available ","Next W= Not Available   Next H= Not Available ","Next W= Not Available   Next H= Not Available ","Next W= Not Available   Next H= Not Available ","Next W= Not Available   Next H= Not Available ","Next W= Not Available   Next H= Not Available ","Next W= Not Available   Next H= Not Available ","Next W= Not Available   Next H= Not Available ","Next W= Not Available   Next H= Not Available ","Next W= Not Available   Next H= Not Available ","Next W= Not Available   Next H= Not Available ","Next W= Not Available   Next H= Not Available ","Next W= Not Available   Next H= Not Available ","Next W= Not Available   Next H= Not Available ","Next W= Not Available   Next H= Not Available ","Next W= Not Available   Next H= Not Available ","Next W= Not Available   Next H= Not Available ","Next W= Not Available   Next H= Not Available ","Next W= Not Available   Next H= Not Available ",""]

{"sheet":"QUOTES","index":31,"n_rows":54,"n_cols":19,"rows_kept":54,"cut":false,"hidden":false,"merged":[[0,7,1,12],[4,22,5,27]]}
[null,null,null,null,null,null,null,"QUOTES"]
[]
[null,null,"QUOTES",null,null,null,null,null,null,null,"QUOTE AMOUNT","QUOTE NUMBER"]
[null,null,"080","080-010-100100","SITEWORKS",null,"QT",null,null,"SITEWORKS"]
[]
[null,null,100,"100-010-100100","PLUMBING AS PER QUOTE",null,"QT",null,null,"PLUMBING"]
[null,null,100,"000-010-200000","LATE QUOTE ALLOWANCE",null,"AL",null,null,"LATE QUOTE"]
[]
[null,null,180,"180-010-100100","WINDOWS AS PER QUOTE",null,"QT",null,null,"WINDOWS"]
[null,null,180,"000-010-200000","LATE QUOTE ALLOWANCE",null,"AL",null,null,"LATE QUOTE"]
[]
[null,null,"215","215-010-100100","SCAFFOLDING AS PER QUOTE",null,"QT",null,null,"SCAFFOLD"]
[]
[]
[null,null,240,"240-010-100100","WALL FRAMING","AS PER QUOTE","QT",null,null,"WALL FRAME"]
[null,null,240,"000-010-200000","LATE QUOTE ALLOWANCE",null,"AL",null,null,"LATE QUOTE"]
[]
[null,null,280,"280-010-100500","SUPPLY STEEL ROOF TRUSSES","AS PER QUOTE","QT",null,null,"ROOF FRAME"]
[null,null,280,"000-010-200000","LATE QUOTE ALLOWANCE",null,"AL",null,null,"LATE QUOTE"]
[]
[null,null,315,"315-010-100100","ROOF AS PER QUOTE","COLOURBOND","QT",null,null,"ROOF COVER"]
[null,null,315,"000-010-200000","LATE QUOTE ALLOWANCE",null,"AL",null,null,"LATE QUOTE"]
[]
[null,null,410,"410-010-100100","CEILINGS AS PER QUOTE",null,"QT",null,null,"CEILINGS"]
[null,null,410,"000-010-200000","LATE QUOTE ALLOWANCE",null,"AL",null,null,"LATE QUOTE"]
[]
[null,null,"400","400-010-100100","HEBEL PRODUCTS AS PER QUOTE",null,"QT",null,null,"HEBEL MOULDING"]
[]
[null,null,"417","417-010-100100","STONE CLADDING",null,"QT",null,null,"STONE CLADDING"]
[]
[null,null,"425","425-010-100100","CABINETS AS PER QUOTE",null,"QT",null,null,"CABINETMAKERS"]
[]
[null,null,545,"545-010-100100","FENCING/GATES AS PER QUOTE",null,"QT",null,null,"FENCING AND GATES"]
[]
[null,null,527,"527-010-100100","GLASS SPLASHBACK",null,"QT",null,null,"GLASS SPLASHBACK"]
[null,null,342]
[]
[null,null,null,null,null,null,null,null,null,null,null,null,null,null,null,"termite"]
[null,null,null,null,null,null,null,null,null,null,null,null,null,null,null,"105-100-100200","PART A & B CHEMICAL TREATMENT",{"$f":"'Main Details'!D36","v":296.601}]
[null,null,null,null,null,null,null,null,null,null,null,null,null,null,null,"105-100-100300","CHEMICAL TREATMENT <40m2 GRANO",{"$f":"IF('Paving&Grano'!S7<41,1,0)","v":1}]
[null,null,null,null,null,null,null,null,null,null,null,null,null,null,null,"105-100-100400","EXTRA OVER FOR CHEMICAL",{"$f":"IF('Paving&Grano'!S7>40,'Paving&Grano'!S7,0)","v":0}]
[]
[]
[]
[]
[]
[]
[]
[]
[]
[null,null,527,"527-010-100100","GLASS SPLASHBACK","AS PER QUOTE","QT",null,null,null,null,null,null,null,null,"575-100-100100","1C BRICK CLEAN","",{"$f":"'Brick Final Sheet '!M58","v":0.32553199999999999}]
[null,null,null,null,null,null,null,null,null,null,null,null,null,null,null,"575-100-100125","1C BRICK CLEAN","E/O RED OR DARK BRICK",{"$f":"IF('Brick Final Sheet '!M61=\"REQUIRED\",'Brick Final Sheet '!M58,0)","v":0}]
[null,null,null,null,null,null,null,null,null,null,null,null,null,null,null,"575-800-100100","2C BRICK CLEAN","",{"$f":"'Brick Final Sheet '!M59","v":3.5699981749999989}]
[null,null,null,null,null,null,null,null,null,null,null,null,null,null,null,"575-800-100200","2C BRICK CLEAN","E/O RED OR DARK BRICK",{"$f":"IF('Brick Final Sheet '!M61=\"REQUIRED\",'Brick Final Sheet '!M59,0)","v":0}]

{"sheet":"Test without gaps","index":32,"n_rows":490,"n_cols":22,"rows_kept":490,"cut":false,"hidden":false,"merged":[[70,9,70,10],[62,9,62,10],[66,9,66,10],[67,9,67,10],[68,9,68,10],[69,9,69,10]]}
[{"$f":"IF(G1>0,QUOTES!C4,0)","v":0},{"$f":"IF(G1>0,QUOTES!D4,0)","v":0},{"$f":"_xlfn.XLOOKUP(B1,QUOTES!D:D,QUOTES!E:E,0)","v":0},null,null,null,{"$f":"IF(J1>0,1,0)","v":0},null,{"$f":"QUOTES!L4","v":0},{"$f":"QUOTES!K4","v":0}]
[{"$f":"IF(G2>0,QUOTES!C6,0)","v":0},{"$f":"IF(G2>0,QUOTES!D6,0)","v":0},{"$f":"_xlfn.XLOOKUP(B2,QUOTES!D:D,QUOTES!E:E,0)","v":0},{"$f":"IF(G2>0,QUOTES!F6,0)","v":0},null,null,{"$f":"IF(J2>0,1,0)","v":0},null,{"$f":"QUOTES!L6","v":0},{"$f":"QUOTES!K6","v":0}]
[{"$f":"IF(J3>0,QUOTES!C7,0)","v":0},{"$f":"IF(J3>0,QUOTES!D7,0)","v":0},{"$f":"_xlfn.XLOOKUP(B3,QUOTES!D:D,QUOTES!E:E,0)","v":0},{"$f":"IF(J3>0,QUOTES!F7,0)","v":0},{"$f":"IF(J3>0,\"*CAD02\",0)","v":0},null,{"$f":"IF(J3>0,1,0)","v":0},null,{"$f":"QUOTES!L7","v":0},{"$f":"QUOTES!K7","v":0}]
[{"$f":"_xlfn.XLOOKUP(B4,Lists!AV:AV,Lists!BD:BD,0)","v":"105"},{"$f":"IF(G4>0,QUOTES!P39,0)","v":"105-100-100200"},{"$f":"_xlfn.XLOOKUP(B4,Lists!AV:AV,Lists!AW:AW,0)","v":"PART A & B CHEMICAL TREATMENT"},{"$f":"_xlfn.XLOOKUP(B4,Lists!AV:AV,Lists!AX:AX,0)","v":"TO SECTION 8.6.2 AS 3660.1"},null,null,{"$f":"QUOTES!R39","v":296.601}]
[{"$f":"_xlfn.XLOOKUP(B5,Lists!AV:AV,Lists!BD:BD,0)","v":"105"},{"$f":"IF(G5>0,QUOTES!P40,0)","v":"105-100-100300"},{"$f":"_xlfn.XLOOKUP(B5,Lists!AV:AV,Lists!AW:AW,0)","v":"CHEMICAL TREATMENT <40m2 GRANO"},{"$f":"_xlfn.XLOOKUP(B5,Lists!AV:AV,Lists!AX:AX,0)","v":"AREAS CARPORTS, GARAGES, STORE"},null,null,{"$f":"QUOTES!R40","v":1}]
[{"$f":"_xlfn.XLOOKUP(B6,Lists!AV:AV,Lists!BD:BD,0)","v":0},{"$f":"IF(G6>0,QUOTES!P41,0)","v":0},{"$f":"_xlfn.XLOOKUP(B6,Lists!AV:AV,Lists!AW:AW,0)","v":0},{"$f":"_xlfn.XLOOKUP(B6,Lists!AV:AV,Lists!AX:AX,0)","v":0},null,null,{"$f":"QUOTES!R41","v":0}]
[{"$f":"_xlfn.XLOOKUP(C7,Lists!AW:AW,Lists!BD:BD,0)","v":"110"},{"$f":"_xlfn.XLOOKUP(C7,Lists!AW:AW,Lists!AV:AV,0,)","v":"110-100-100200"},{"$f":"'Concrete & Reo'!B48","v":"RF63 MESH - 6 x 2.4m"},{"$f":"_xlfn.XLOOKUP(C7,Lists!AW:AW,Lists!AX:AX,0)","v":""},null,null,{"$f":"'Concrete & Reo'!C46","v":26}]
[{"$f":"_xlfn.XLOOKUP(C8,Lists!AW:AW,Lists!BD:BD,0)","v":0},{"$f":"_xlfn.XLOOKUP(C8,Lists!AW:AW,Lists!AV:AV,0,)","v":0},{"$f":"IF(G8>0,'Concrete & Reo'!B42,0)","v":0},{"$f":"_xlfn.XLOOKUP(C8,Lists!AW:AW,Lists!AX:AX,0)","v":0},null,null,{"$f":"'Concrete & Reo'!C42","v":0}]
[{"$f":"_xlfn.XLOOKUP(C9,Lists!AW:AW,Lists!BD:BD,0)","v":0},{"$f":"_xlfn.XLOOKUP(C9,Lists!AW:AW,Lists!AV:AV,0,)","v":0},{"$f":"IF(G9>0,'Concrete & Reo'!B43,0)","v":0},{"$f":"_xlfn.XLOOKUP(C9,Lists!AW:AW,Lists!AX:AX,0)","v":0},null,null,{"$f":"'Concrete & Reo'!C43","v":0}]
[{"$f":"_xlfn.XLOOKUP(C10,Lists!AW:AW,Lists!BD:BD,0)","v":0},{"$f":"_xlfn.XLOOKUP(C10,Lists!AW:AW,Lists!AV:AV,0,)","v":0},{"$f":"IF(G10>0,'Concrete & Reo'!B44,0)","v":0},{"$f":"_xlfn.XLOOKUP(C10,Lists!AW:AW,Lists!AX:AX,0)","v":0},null,null,{"$f":"'Concrete & Reo'!C44","v":0}]
[{"$f":"_xlfn.XLOOKUP(C11,Lists!AW:AW,Lists!BD:BD,0)","v":0},{"$f":"_xlfn.XLOOKUP(C11,Lists!AW:AW,Lists!AV:AV,0,)","v":0},{"$f":"IF(G11>0,'Concrete & Reo'!H22,0)","v":0},{"$f":"_xlfn.XLOOKUP(C11,Lists!AW:AW,Lists!AX:AX,0)","v":0},null,null,{"$f":"'Concrete & Reo'!I22","v":0}]
[{"$f":"_xlfn.XLOOKUP(C12,Lists!AW:AW,Lists!BD:BD,0)","v":0},{"$f":"_xlfn.XLOOKUP(C12,Lists!AW:AW,Lists!AV:AV,0,)","v":0},{"$f":"IF(G12>0,'Concrete & Reo'!B39,0)","v":0},{"$f":"_xlfn.XLOOKUP(C12,Lists!AW:AW,Lists!AX:AX,0)","v":0},null,null,{"$f":"'Concrete & Reo'!C40","v":" "}]
[{"$f":"_xlfn.XLOOKUP(B13,Lists!AV:AV,Lists!BD:BD,0)","v":"110"},{"$f":"IF(G13>0,Lists!AV59,0)","v":"110-300-100100"},{"$f":"_xlfn.XLOOKUP(B13,Lists!AV:AV,Lists!AW:AW,0)","v":"SOG PL BAR CHAIR 25-40mm"},{"$f":"_xlfn.XLOOKUP(C13,Lists!AW:AW,Lists!AX:AX,0)","v":"SOG2540 - BAG LOTS 100"},null,null,{"$f":"IF(G14>1,1,\"\")","v":1}]
[{"$f":"_xlfn.XLOOKUP(C14,Lists!AW:AW,Lists!BD:BD,0)","v":"110"},{"$f":"_xlfn.XLOOKUP(C14,Lists!AW:AW,Lists!AV:AV,0,)","v":"110-300-100200"},{"$f":"IF(G14>0,'Concrete & Reo'!Lists_AP75,0)","v":"SOG PL BAR CHAIR 50-65mm"},{"$f":"_xlfn.XLOOKUP(C14,Lists!AW:AW,Lists!AX:AX,0)","v":"SOG5065 - BAG LOTS 100"},null,null,{"$f":"'Concrete & Reo'!C47-1","v":6}]
[]
[{"$f":"_xlfn.XLOOKUP(C16,Lists!AW:AW,Lists!BD:BD,0)","v":"115"},{"$f":"_xlfn.XLOOKUP(C16,Lists!AW:AW,Lists!AV:AV,0,)","v":"115-050-100100"},{"$f":"'Concrete & Reo'!H32","v":"GROUND FLOOR SLAB & FOOTINGS"},{"$f":"_xlfn.XLOOKUP(C16,Lists!AW:AW,Lists!AX:AX,0)","v":"CONCRETE INSTALLATION"},null,null,{"$f":"'Concrete & Reo'!M32","v":29.799999999999997}]
[null,null,{"$f":"IF(G17>=1,'Concrete & Reo'!G43,0)","v":0},null,null,null,{"$f":"'Concrete & Reo'!I43","v":0}]
[{"$f":"_xlfn.XLOOKUP(C18,Lists!AW:AW,Lists!BD:BD,0)","v":0},{"$f":"_xlfn.XLOOKUP(C18,Lists!AW:AW,Lists!AV:AV,0,)","v":0},{"$f":"IF(G18>=1,'Concrete & Reo'!G44,0)","v":0},{"$f":"_xlfn.XLOOKUP(C18,Lists!AW:AW,Lists!AX:AX,0)","v":0},null,null,{"$f":"'Concrete & Reo'!I44","v":0}]
[{"$f":"_xlfn.XLOOKUP(C19,Lists!AW:AW,Lists!BD:BD,0)","v":0},{"$f":"_xlfn.XLOOKUP(C19,Lists!AW:AW,Lists!AV:AV,0,)","v":0},{"$f":"IF(G19>=1,'Concrete & Reo'!G45,0)","v":0},{"$f":"_xlfn.XLOOKUP(C19,Lists!AW:AW,Lists!AX:AX,0)","v":0},null,null,{"$f":"'Concrete & Reo'!I45","v":0}]
[{"$f":"_xlfn.XLOOKUP(C20,Lists!AW:AW,Lists!BD:BD,0)","v":0},{"$f":"_xlfn.XLOOKUP(C20,Lists!AW:AW,Lists!AV:AV,0,)","v":0},{"$f":"IF(G20>0,'Concrete & Reo'!H12,0)","v":0},{"$f":"_xlfn.XLOOKUP(C20,Lists!AW:AW,Lists!AX:AX,0)","v":0},null,null,{"$f":"'Concrete & Reo'!I12","v":0}]
[{"$f":"_xlfn.XLOOKUP(C21,Lists!AW:AW,Lists!BD:BD,0)","v":0},{"$f":"_xlfn.XLOOKUP(C21,Lists!AW:AW,Lists!AV:AV,0,)","v":0},{"$f":"IF(G21>0,'Concrete & Reo'!H13,0)","v":0},{"$f":"_xlfn.XLOOKUP(C21,Lists!AW:AW,Lists!AX:AX,0)","v":0},null,null,{"$f":"'Concrete & Reo'!I13","v":0}]
[{"$f":"_xlfn.XLOOKUP(C22,Lists!AW:AW,Lists!BD:BD,0)","v":0},{"$f":"_xlfn.XLOOKUP(C22,Lists!AW:AW,Lists!AV:AV,0,)","v":0},{"$f":"IF(G22>0,'Concrete & Reo'!H14,0)","v":0},{"$f":"_xlfn.XLOOKUP(C22,Lists!AW:AW,Lists!AX:AX,0)","v":0},null,null,{"$f":"'Concrete & Reo'!I14","v":0}]
[{"$f":"_xlfn.XLOOKUP(C23,Lists!AW:AW,Lists!BD:BD,0)","v":0},{"$f":"_xlfn.XLOOKUP(C23,Lists!AW:AW,Lists!AV:AV,0,)","v":0},{"$f":"IF(G23>0,'Concrete & Reo'!H15,0)","v":0},{"$f":"_xlfn.XLOOKUP(C23,Lists!AW:AW,Lists!AX:AX,0)","v":0},null,null,{"$f":"'Concrete & Reo'!I15","v":0}]
[{"$f":"_xlfn.XLOOKUP(C24,Lists!AW:AW,Lists!BD:BD,0)","v":0},{"$f":"_xlfn.XLOOKUP(C24,Lists!AW:AW,Lists!AV:AV,0,)","v":0},{"$f":"IF(G24>0,'Concrete & Reo'!H16,0)","v":0},{"$f":"_xlfn.XLOOKUP(C24,Lists!AW:AW,Lists!AX:AX,0)","v":0},null,null,{"$f":"'Concrete & Reo'!I16","v":0}]
[{"$f":"_xlfn.XLOOKUP(C25,Lists!AW:AW,Lists!BD:BD,0)","v":"116"},{"$f":"IF(G25>0,'Concrete & Reo'!$P$9,0)","v":"116-200-100160"},{"$f":"'Concrete & Reo'!B34","v":"20/20/80 Concrete Supply only"},{"$f":"_xlfn.XLOOKUP(C25,Lists!AW:AW,Lists!AX:AX,0)","v":"FOOTINGS & GROUND SLAB (20mpa)"},null,null,{"$f":"'Concrete & Reo'!G34","v":4.5999999999999996},"A1"]
[{"$f":"_xlfn.XLOOKUP(C26,Lists!AW:AW,Lists!BD:BD,0)","v":"116"},{"$f":"IF(G26>0,'Concrete & Reo'!$P$9,0)","v":"116-200-100160"},{"$f":"'Concrete & Reo'!I28","v":"20/20/80 Concrete Supply only"},{"$f":"_xlfn.XLOOKUP(C26,Lists!AW:AW,Lists!AX:AX,0)","v":"FOOTINGS & GROUND SLAB (20mpa)"},null,null,{"$f":"'Concrete & Reo'!M28","v":28.2},"D1"]
[{"$f":"_xlfn.XLOOKUP(C27,Lists!AW:AW,Lists!BD:BD,0)","v":"125"},{"$f":"_xlfn.XLOOKUP(C27,Lists!AW:AW,Lists!AV:AV,0,)","v":"125-210-100210"},{"$f":"IF(G27>0,'Brick Final Sheet '!B6,0)","v":"EXTERNAL FACE 2C"},{"$f":"_xlfn.XLOOKUP(C27,Lists!AW:AW,Lists!AX:AX,0)","v":"GROUND FLOOR"},null,null,{"$f":"'Brick Final Sheet '!L12","v":2.9760089749999992}]
[{"$f":"_xlfn.XLOOKUP(C28,Lists!AW:AW,Lists!BD:BD,0)","v":"125"},{"$f":"_xlfn.XLOOKUP(C28,Lists!AW:AW,Lists!AV:AV,0,)","v":"125-210-100110"},{"$f":"IF(G28>0,'Brick Final Sheet '!B7,0)","v":"EXTERNAL FACE 1C"},{"$f":"_xlfn.XLOOKUP(C28,Lists!AW:AW,Lists!AX:AX,0)","v":"GROUND FLOOR"},null,null,{"$f":"'Brick Final Sheet '!L11+'Brick Final Sheet '!N18+'Brick Final Sheet '!N24","v":0.91952119999999993}]
[{"$f":"_xlfn.XLOOKUP(C29,Lists!AW:AW,Lists!BD:BD,0)","v":"125"},{"$f":"_xlfn.XLOOKUP(C29,Lists!AW:AW,Lists!AV:AV,0,)","v":"125-310-200210"},{"$f":"IF(G29>0,'Brick Final Sheet '!B28,0)","v":"INTERNAL ROUGH 2C"},{"$f":"_xlfn.XLOOKUP(C29,Lists!AW:AW,Lists!AX:AX,0)","v":"GROUND FLOOR"},null,null,{"$f":"'Brick Final Sheet '!L36","v":6.4497845000000007}]
[{"$f":"_xlfn.XLOOKUP(C30,Lists!AW:AW,Lists!BD:BD,0)","v":"125"},{"$f":"_xlfn.XLOOKUP(C30,Lists!AW:AW,Lists!AV:AV,0,)","v":"125-310-200110"},{"$f":"IF(G30>0,'Brick Final Sheet '!B29,0)","v":"INTERNAL ROUGH 1C"},{"$f":"_xlfn.XLOOKUP(C30,Lists!AW:AW,Lists!AX:AX,0)","v":"GROUND FLOOR"},null,null,{"$f":"'Brick Final Sheet '!L35","v":1.1401920000000001}]
[{"$f":"_xlfn.XLOOKUP(C31,Lists!AW:AW,Lists!BD:BD,0)","v":"125"},{"$f":"_xlfn.XLOOKUP(C31,Lists!AW:AW,Lists!AV:AV,0,)","v":"125-210-200210"},{"$f":"IF(G31>0,'Brick Final Sheet '!B40,0)","v":"EXTERNAL ROUGH 2C"},{"$f":"_xlfn.XLOOKUP(C31,Lists!AW:AW,Lists!AX:AX,0)","v":"GROUND FLOOR"},null,null,{"$f":"'Brick Final Sheet '!L48","v":0.5930359999999999},null,null,null,null,null,null,null,null,null,null,null,null,null,null,{"$f":"'Fascia-Roof Hardware'!S24","v":0}]
[{"$f":"_xlfn.XLOOKUP(C32,Lists!AW:AW,Lists!BD:BD,0)","v":"125"},{"$f":"_xlfn.XLOOKUP(C32,Lists!AW:AW,Lists!AV:AV,0,)","v":"125-210-200110"},{"$f":"IF(G32>0,'Brick Final Sheet '!B41,0)","v":"EXTERNAL ROUGH 1C"},{"$f":"_xlfn.XLOOKUP(C32,Lists!AW:AW,Lists!AX:AX,0)","v":"GROUND FLOOR"},null,null,{"$f":"'Brick Final Sheet '!L47","v":0.237096}]
[{"$f":"_xlfn.XLOOKUP(C33,Lists!AW:AW,Lists!BD:BD,0)","v":0},{"$f":"IF(G33>0,Lists!AV251,0)","v":0},{"$f":"_xlfn.XLOOKUP(B33,Lists!AV:AV,Lists!AW:AW,0)","v":0},null,null,null,{"$f":"'Brick Final Sheet '!G51","v":0}]
[{"$f":"_xlfn.XLOOKUP(C34,Lists!AW:AW,Lists!BD:BD,0)","v":0},{"$f":"_xlfn.XLOOKUP(C34,Lists!AW:AW,Lists!AV:AV,0,)","v":0},{"$f":"IF(G34>0,'Brick Final Sheet '!C60,0)","v":0},{"$f":"_xlfn.XLOOKUP(C34,Lists!AW:AW,Lists!AX:AX,0)","v":0},null,null,{"$f":"'Brick Final Sheet '!B57","v":0}]
[{"$f":"_xlfn.XLOOKUP(B35,Lists!AV:AV,Lists!BD:BD,0)","v":0},{"$f":"IF(G35>0,'Brick Final Sheet '!Q64,0)","v":0},{"$f":"_xlfn.XLOOKUP(B35,Lists!AV:AV,Lists!AW:AW,0)","v":0},null,null,null,{"$f":"'Brick Final Sheet '!N64","v":0}]
[{"$f":"_xlfn.XLOOKUP(C36,Lists!AW:AW,Lists!BD:BD,0)","v":"125"},{"$f":"_xlfn.XLOOKUP(C36,Lists!AW:AW,Lists!AV:AV,0,)","v":"125-100-102580"},{"$f":"IF(G36>0,'Brick Final Sheet '!R27,0)","v":"INSTALL BRICK VENEER WALL TIES"},{"$f":"_xlfn.XLOOKUP(C36,Lists!AW:AW,Lists!AX:AX,0)","v":""},null,null,{"$f":"'Brick Final Sheet '!Q27","v":1}]
[{"$f":"_xlfn.XLOOKUP(B37,Lists!AV:AV,Lists!BB:BB,0)","v":"129"},{"$f":"IF(G37>0,'Brick Final Sheet '!V18,0)","v":"129-100-100100"},{"$f":"_xlfn.XLOOKUP(B37,Lists!AV:AV,Lists!AW:AW,0)","v":"SITE WELD ALLOWANCE BRICKWORK"},null,null,null,{"$f":"IF(J37>0,1,0)","v":1},null,null,{"$f":"'Brick Final Sheet '!X32","v":250}]
[{"$f":"_xlfn.XLOOKUP(C38,Lists!AW:AW,Lists!BD:BD,0)","v":"130"},{"$f":"_xlfn.XLOOKUP(C38,Lists!AW:AW,Lists!AV:AV,0,)","v":"130-300-200150"},{"$f":"IF(G38>0,'Brick Final Sheet '!M6,0)","v":"MIDLAND 2c FACE"},{"$f":"_xlfn.XLOOKUP(C38,Lists!AW:AW,Lists!AX:AX,0)","v":"290x90x162mm"},null,null,{"$f":"'Brick Final Sheet '!J6","v":2.948},null,{"$f":"IF(G38>0,'Brick Final Sheet '!K6,0)","v":"NO SELECTION MADE"}]
[{"$f":"_xlfn.XLOOKUP(C39,Lists!AW:AW,Lists!BD:BD,0)","v":"130"},{"$f":"_xlfn.XLOOKUP(C39,Lists!AW:AW,Lists!AV:AV,0,)","v":"130-300-200180"},{"$f":"IF(G39>0,'Brick Final Sheet '!M7,0)","v":"MIDLAND FACE LONGREACH CORED"},{"$f":"_xlfn.XLOOKUP(C39,Lists!AW:AW,Lists!AX:AX,0)","v":"290x90x76mm"},null,null,{"$f":"'Brick Final Sheet '!J7","v":0.44},null,{"$f":"IF(G39>0,'Brick Final Sheet '!K7,0)","v":"NO SELECTION MADE"}]
[{"$f":"_xlfn.XLOOKUP(C40,Lists!AW:AW,Lists!BD:BD,0)","v":"130"},{"$f":"_xlfn.XLOOKUP(C40,Lists!AW:AW,Lists!AV:AV,0,)","v":"130-300-200190"},{"$f":"IF(G40>0,'Brick Final Sheet '!M8,0)","v":"MIDLAND FACE LONGREACH SOLID"},{"$f":"_xlfn.XLOOKUP(C40,Lists!AW:AW,Lists!AX:AX,0)","v":"290x90x76mm"},null,null,{"$f":"'Brick Final Sheet '!J8","v":0.17599999999999999},null,{"$f":"IF(G40>0,'Brick Final Sheet '!K8,0)","v":"NO SELECTION MADE"}]
[{"$f":"_xlfn.XLOOKUP(C41,Lists!AW:AW,Lists!BD:BD,0)","v":"130"},{"$f":"_xlfn.XLOOKUP(C41,Lists!AW:AW,Lists!AV:AV,0,)","v":"130-300-200170"},{"$f":"IF(G41>0,'Brick Final Sheet '!M9,0)","v":"MIDLAND 2c 190mm FRACTION SNAP"},{"$f":"_xlfn.XLOOKUP(C41,Lists!AW:AW,Lists!AX:AX,0)","v":"190x90x162mm"},null,null,{"$f":"'Brick Final Sheet '!J9","v":0.22},null,{"$f":"IF(G41>0,'Brick Final Sheet '!K9,0)","v":"NO SELECTION MADE"}]
[{"$f":"_xlfn.XLOOKUP(C42,Lists!AW:AW,Lists!BD:BD,0)","v":0},{"$f":"_xlfn.XLOOKUP(C42,Lists!AW:AW,Lists!AV:AV,0,)","v":0},{"$f":"IF(G42>0,'Brick Final Sheet '!M16,0)","v":0},{"$f":"_xlfn.XLOOKUP(C42,Lists!AW:AW,Lists!AX:AX,0)","v":0},null,null,{"$f":"'Brick Final Sheet '!J16","v":0.33},null,{"$f":"IF(G42>0,'Brick Final Sheet '!K16,0)","v":"NO SELECTION MADE"}]
[{"$f":"_xlfn.XLOOKUP(C43,Lists!AW:AW,Lists!BD:BD,0)","v":0},{"$f":"_xlfn.XLOOKUP(C43,Lists!AW:AW,Lists!AV:AV,0,)","v":0},{"$f":"IF(G43>0,'Brick Final Sheet '!M17,0)","v":0},{"$f":"_xlfn.XLOOKUP(C43,Lists!AW:AW,Lists!AX:AX,0)","v":0},null,null,{"$f":"'Brick Final Sheet '!J17","v":0},null,{"$f":"IF(G43>0,'Brick Final Sheet '!K17,0)","v":0}]
[{"$f":"_xlfn.XLOOKUP(C44,Lists!AW:AW,Lists!BD:BD,0)","v":0},{"$f":"_xlfn.XLOOKUP(C44,Lists!AW:AW,Lists!AV:AV,0,)","v":0},{"$f":"IF(G44>0,'Brick Final Sheet '!M22,0)","v":0},{"$f":"_xlfn.XLOOKUP(C44,Lists!AW:AW,Lists!AX:AX,0)","v":0},null,null,{"$f":"'Brick Final Sheet '!J22","v":0}]
[{"$f":"_xlfn.XLOOKUP(C45,Lists!AW:AW,Lists!BD:BD,0)","v":0},{"$f":"_xlfn.XLOOKUP(C45,Lists!AW:AW,Lists!AV:AV,0,)","v":0},{"$f":"IF(G45>0,'Brick Final Sheet '!M23,0)","v":0},{"$f":"_xlfn.XLOOKUP(C45,Lists!AW:AW,Lists!AX:AX,0)","v":0},null,null,{"$f":"'Brick Final Sheet '!J23","v":0}]
[{"$f":"_xlfn.XLOOKUP(C46,Lists!AW:AW,Lists!BD:BD,0)","v":"130"},{"$f":"_xlfn.XLOOKUP(C46,Lists!AW:AW,Lists!AV:AV,0,)","v":"130-315-100300"},{"$f":"IF(G46>0,'Brick Final Sheet '!K40,0)","v":"MIDLAND MAXIBRICK"},{"$f":"_xlfn.XLOOKUP(C46,Lists!AW:AW,Lists!AX:AX,0)","v":"305x90x162mm"},null,null,{"$f":"'Brick Final Sheet '!J28+'Brick Final Sheet '!J40","v":7.0839999999999996}]
[{"$f":"_xlfn.XLOOKUP(C47,Lists!AW:AW,Lists!BD:BD,0)","v":"130"},{"$f":"_xlfn.XLOOKUP(C47,Lists!AW:AW,Lists!AV:AV,0,)","v":"130-315-100400"},{"$f":"IF(G47>0,'Brick Final Sheet '!K41,0)","v":"MIDLAND LONGREACH CORED"},{"$f":"_xlfn.XLOOKUP(C47,Lists!AW:AW,Lists!AX:AX,0)","v":"305x90x76mm"},null,null,{"$f":"'Brick Final Sheet '!J29+'Brick Final Sheet '!J41","v":1.3439999999999999}]
[{"$f":"_xlfn.XLOOKUP(C48,Lists!AW:AW,Lists!BD:BD,0)","v":"130"},{"$f":"_xlfn.XLOOKUP(C48,Lists!AW:AW,Lists!AV:AV,0,)","v":"130-315-100500"},{"$f":"IF(G48>0,'Brick Final Sheet '!K42,0)","v":"MIDLAND LONGREACH SOLID"},{"$f":"_xlfn.XLOOKUP(C48,Lists!AW:AW,Lists!AX:AX,0)","v":"305x90x76mm"},null,null,{"$f":"'Brick Final Sheet '!J30+'Brick Final Sheet '!J42","v":0.16800000000000001}]
[{"$f":"_xlfn.XLOOKUP(C49,Lists!AW:AW,Lists!BD:BD,0)","v":0},{"$f":"_xlfn.XLOOKUP(C49,Lists!AW:AW,Lists!AV:AV,0,)","v":0},{"$f":"IF(G49>0,'Brick Final Sheet '!K32,0)","v":0},{"$f":"_xlfn.XLOOKUP(C49,Lists!AW:AW,Lists!AX:AX,0)","v":0},null,null,{"$f":"'Brick Final Sheet '!J32","v":0}]
[{"$f":"_xlfn.XLOOKUP(C50,Lists!AW:AW,Lists!BD:BD,0)","v":0},{"$f":"_xlfn.XLOOKUP(C50,Lists!AW:AW,Lists!AV:AV,0,)","v":0},{"$f":"IF(G50>0,'Brick Final Sheet '!K33,0)","v":0},{"$f":"_xlfn.XLOOKUP(C50,Lists!AW:AW,Lists!AX:AX,0)","v":0},null,null,{"$f":"'Brick Final Sheet '!J33","v":0}]
[{"$f":"_xlfn.XLOOKUP(C51,Lists!AW:AW,Lists!BD:BD,0)","v":0},{"$f":"_xlfn.XLOOKUP(C51,Lists!AW:AW,Lists!AV:AV,0,)","v":0},{"$f":"IF(G51>0,'Brick Final Sheet '!K44,0)","v":0},{"$f":"_xlfn.XLOOKUP(C51,Lists!AW:AW,Lists!AX:AX,0)","v":0},null,null,{"$f":"'Brick Final Sheet '!J44","v":0}]
[{"$f":"_xlfn.XLOOKUP(C52,Lists!AW:AW,Lists!BD:BD,0)","v":0},{"$f":"_xlfn.XLOOKUP(C52,Lists!AW:AW,Lists!AV:AV,0,)","v":0},{"$f":"IF(G52>0,'Brick Final Sheet '!K45,0)","v":0},{"$f":"_xlfn.XLOOKUP(C52,Lists!AW:AW,Lists!AX:AX,0)","v":0},null,null,{"$f":"'Brick Final Sheet '!J45","v":0}]
[{"$f":"_xlfn.XLOOKUP(C53,Lists!AW:AW,Lists!BD:BD,0)","v":0},{"$f":"_xlfn.XLOOKUP(C53,Lists!AW:AW,Lists!AV:AV,0,)","v":0},{"$f":"IF(G53>0,'Brick Final Sheet '!G54,0)","v":0},{"$f":"_xlfn.XLOOKUP(C53,Lists!AW:AW,Lists!AX:AX,0)","v":0},null,null,{"$f":"'Brick Final Sheet '!D54","v":0}]
[{"$f":"_xlfn.XLOOKUP(C54,Lists!AW:AW,Lists!BD:BD,0)","v":0},{"$f":"_xlfn.XLOOKUP(C54,Lists!AW:AW,Lists!AV:AV,0,)","v":0},{"$f":"IF(G54>0,'Brick Final Sheet '!G55,0)","v":0},{"$f":"_xlfn.XLOOKUP(C54,Lists!AW:AW,Lists!AX:AX,0)","v":0},null,null,{"$f":"'Brick Final Sheet '!D55","v":0}]
[{"$f":"_xlfn.XLOOKUP(C55,Lists!AW:AW,Lists!BD:BD,0)","v":0},{"$f":"_xlfn.XLOOKUP(C55,Lists!AW:AW,Lists!AV:AV,0,)","v":0},{"$f":"IF(G55>0,'Brick Final Sheet '!G56,0)","v":0},{"$f":"_xlfn.XLOOKUP(C55,Lists!AW:AW,Lists!AX:AX,0)","v":0},null,null,{"$f":"'Brick Final Sheet '!D56","v":0}]
[{"$f":"_xlfn.XLOOKUP(C56,Lists!AW:AW,Lists!BD:BD,0)","v":0},{"$f":"_xlfn.XLOOKUP(C56,Lists!AW:AW,Lists!AV:AV,0,)","v":0},{"$f":"IF(G56>0,'Brick Final Sheet '!G57,0)","v":0},{"$f":"_xlfn.XLOOKUP(C56,Lists!AW:AW,Lists!AX:AX,0)","v":0},null,null,{"$f":"'Brick Final Sheet '!D57","v":0}]
[{"$f":"_xlfn.XLOOKUP(C57,Lists!AW:AW,Lists!BD:BD,0)","v":0},{"$f":"_xlfn.XLOOKUP(C57,Lists!AW:AW,Lists!AV:AV,0,)","v":0},{"$f":"IF(G57>0,'Brick Final Sheet '!G58,0)","v":0},{"$f":"_xlfn.XLOOKUP(C57,Lists!AW:AW,Lists!AX:AX,0)","v":0},null,null,{"$f":"'Brick Final Sheet '!D58","v":0}]
[{"$f":"_xlfn.XLOOKUP(C58,Lists!AW:AW,Lists!BD:BD,0)","v":0},{"$f":"_xlfn.XLOOKUP(C58,Lists!AW:AW,Lists!AV:AV,0,)","v":0},{"$f":"IF(G58>0,'Brick Final Sheet '!G59,0)","v":0},{"$f":"_xlfn.XLOOKUP(C58,Lists!AW:AW,Lists!AX:AX,0)","v":0},null,null,{"$f":"'Brick Final Sheet '!D59","v":0}]
[{"$f":"_xlfn.XLOOKUP(C59,Lists!AW:AW,Lists!BD:BD,0)","v":0},{"$f":"_xlfn.XLOOKUP(C59,Lists!AW:AW,Lists!AV:AV,0,)","v":0},{"$f":"IF(G59>0,'Brick Final Sheet '!G60,0)","v":0},{"$f":"_xlfn.XLOOKUP(C59,Lists!AW:AW,Lists!AX:AX,0)","v":0},null,null,{"$f":"'Brick Final Sheet '!D60","v":0}]
[{"$f":"_xlfn.XLOOKUP(C60,Lists!AW:AW,Lists!BD:BD,0)","v":0},{"$f":"_xlfn.XLOOKUP(C60,Lists!AW:AW,Lists!AV:AV,0,)","v":0},{"$f":"IF(G60>0,'Brick Final Sheet '!G61,0)","v":0},{"$f":"_xlfn.XLOOKUP(C60,Lists!AW:AW,Lists!AX:AX,0)","v":0},null,null,{"$f":"'Brick Final Sheet '!D61","v":0}]
[]
[{"$f":"_xlfn.XLOOKUP(C62,Lists!AW:AW,Lists!BD:BD,0)","v":"130"},{"$f":"_xlfn.XLOOKUP(C62,Lists!AW:AW,Lists!AV:AV,0,)","v":"130-395-100100"},{"$f":"IF(G62>0,'Brick Final Sheet '!Q93,0)","v":"MIDLAND ABBTF TRAINING FUND 1c"},{"$f":"_xlfn.XLOOKUP(C62,Lists!AW:AW,Lists!AX:AX,0)","v":"BRICKS"},null,null,{"$f":"'Brick Final Sheet '!U93","v":2.4579999999999997}]
[{"$f":"_xlfn.XLOOKUP(C63,Lists!AW:AW,Lists!BD:BD,0)","v":"130"},{"$f":"_xlfn.XLOOKUP(C63,Lists!AW:AW,Lists!AV:AV,0,)","v":"130-395-100200"},{"$f":"IF(G63>0,'Brick Final Sheet '!Q94,0)","v":"MIDLAND ABBTF TRAINING FUND 2c"},{"$f":"_xlfn.XLOOKUP(C63,Lists!AW:AW,Lists!AX:AX,0)","v":"BRICKS"},null,null,{"$f":"'Brick Final Sheet '!U94","v":10.252000000000001}]
[]
[{"$f":"_xlfn.XLOOKUP(C65,Lists!AW:AW,Lists!BD:BD,0)","v":0},{"$f":"_xlfn.XLOOKUP(1,\n(Lists!$AW:$AW=C65)*\n(Lists!$AX:$AX=D65),\n(Lists!$AV:$AV),0)","v":0},{"$f":"IF(G65>0,'Brick Final Sheet '!$H$54,0)","v":0},{"$f":"IF(G65>0,'Brick Final Sheet '!H55,0)","v":"1c FACE CORED"},null,null,{"$f":"'Brick Final Sheet '!J55","v":0.33}]
[{"$f":"_xlfn.XLOOKUP(C66,Lists!AW:AW,Lists!BD:BD,0)","v":0},{"$f":"_xlfn.XLOOKUP(1,\n(Lists!$AW:$AW=C66)*\n(Lists!$AX:$AX=D66),\n(Lists!$AV:$AV))","v":0},{"$f":"IF(G66>0,'Brick Final Sheet '!$H$54,0)","v":0},{"$f":"IF(G66>0,'Brick Final Sheet '!H56,0)","v":0},null,null,{"$f":"'Brick Final Sheet '!J56","v":0}]
[{"$f":"_xlfn.XLOOKUP(B67,Lists!AV:AV,Lists!BD:BD,0)","v":0},{"$f":"_xlfn.XLOOKUP(1,\n(Lists!$AW:$AW=C67)*\n(Lists!$AX:$AX=D67),\n(Lists!$AV:$AV),0)","v":0},{"$f":"IF(G67>0,'Main Details'!$AC$14,0)","v":0},{"$f":"IF(G67>0,'Brick Final Sheet '!H57,0)","v":"LONGREACH CORED"},null,null,{"$f":"'Brick Final Sheet '!J57","v":1.7839999999999998}]
[{"$f":"_xlfn.XLOOKUP(B68,Lists!AV:AV,Lists!BD:BD,0)","v":0},{"$f":"_xlfn.XLOOKUP(1,\n(Lists!$AW:$AW=C68)*\n(Lists!$AX:$AX=D68),\n(Lists!$AV:$AV),0)","v":0},{"$f":"IF(G68>0,'Main Details'!$AC$14,0)","v":0},{"$f":"IF(G68>0,'Brick Final Sheet '!H58,0)","v":"LONGREACH SOLID"},null,null,{"$f":"'Brick Final Sheet '!J58","v":0.34399999999999997}]
[{"$f":"_xlfn.XLOOKUP(B69,Lists!AV:AV,Lists!BD:BD,0)","v":0},{"$f":"_xlfn.XLOOKUP(1,\n(Lists!$AW:$AW=C69)*\n(Lists!$AX:$AX=D69),\n(Lists!$AV:$AV),0)","v":0},{"$f":"IF(G69>0,'Main Details'!$AC$14,0)","v":0},{"$f":"IF(G69>0,'Brick Final Sheet '!H59,0)","v":"FASTWALL / MAXIBRICK"},null,null,{"$f":"'Brick Final Sheet '!J59","v":7.0839999999999996}]
[{"$f":"_xlfn.XLOOKUP(B70,Lists!AV:AV,Lists!BD:BD,0)","v":0},{"$f":"_xlfn.XLOOKUP(1,\n(Lists!$AW:$AW=C70)*\n(Lists!$AX:$AX=D70),\n(Lists!$AV:$AV),0)","v":0},{"$f":"IF(G70>0,'Main Details'!$AC$14,0)","v":0},{"$f":"IF(G70>0,'Brick Final Sheet '!H60,0)","v":"2c FACE"},null,null,{"$f":"'Brick Final Sheet '!J60","v":3.1680000000000001}]
[{"$f":"_xlfn.XLOOKUP(B71,Lists!AV:AV,Lists!BD:BD,0)","v":0},{"$f":"_xlfn.XLOOKUP(1,\n(Lists!$AW:$AW=C71)*\n(Lists!$AX:$AX=D71),\n(Lists!$AV:$AV))","v":0},{"$f":"IF(G71>0,'Brick Final Sheet '!$H$54,0)","v":0},{"$f":"IF(G71>0,'Brick Final Sheet '!Q86,0)","v":0},null,null,{"$f":"'Brick Final Sheet '!T77","v":0}]
[]
[]
[{"$f":"_xlfn.XLOOKUP(C74,Lists!AW:AW,Lists!BD:BD,0)","v":0},{"$f":"_xlfn.XLOOKUP(C74,Lists!AW:AW,Lists!AV:AV,0,)","v":0},{"$f":"IF(G74>0,'Brick Final Sheet '!S123,0)","v":0},{"$f":"IF(G74>0,'Brick Final Sheet '!L50,0)","v":0},null,null,{"$f":"'Brick Final Sheet '!Q123","v":0}]
[{"$f":"_xlfn.XLOOKUP(C75,Lists!AW:AW,Lists!BD:BD,0)","v":0},{"$f":"_xlfn.XLOOKUP(C75,Lists!AW:AW,Lists!AV:AV,0,)","v":0},{"$f":"IF(G75>0,'Brick Final Sheet '!S124,0)","v":0},{"$f":"IF(G75>0,'Brick Final Sheet '!L50,0)","v":"METRO AREA"},null,null,{"$f":"'Brick Final Sheet '!Q124","v":1}]
[]
[{"$f":"_xlfn.XLOOKUP(C77,Lists!AW:AW,Lists!BD:BD,0)","v":"150"},{"$f":"_xlfn.XLOOKUP(C77,Lists!AW:AW,Lists!AV:AV,0,)","v":"150-150-100100"},{"$f":"'Brick Final Sheet '!H51","v":"CEMENT BRICKIES GREY COCKBURN"},{"$f":"_xlfn.XLOOKUP(C77,Lists!AW:AW,Lists!AX:AX,0)","v":"17.8 KG BAG METRO DELIVERED"},null,null,{"$f":"ROUNDUP('Brick Final Sheet '!J51,0)","v":104}]
[{"$f":"_xlfn.XLOOKUP(C78,Lists!AW:AW,Lists!BD:BD,0)","v":"150"},{"$f":"_xlfn.XLOOKUP(C78,Lists!AW:AW,Lists!AV:AV,0,)","v":"150-100-100200"},{"$f":"'Brick Final Sheet '!H52","v":"CEMENT BRICKIES LITE COCKBURN"},{"$f":"_xlfn.XLOOKUP(C78,Lists!AW:AW,Lists!AX:AX,0)","v":"17.8KG BAG METRO DELIVERED"},null,null,{"$f":"ROUNDUP('Brick Final Sheet '!J52,0)","v":55}]
[{"$f":"_xlfn.XLOOKUP(C79,Lists!AW:AW,Lists!BD:BD,0)","v":0},{"$f":"_xlfn.XLOOKUP(C79,Lists!AW:AW,Lists!AV:AV,0,)","v":0},null,{"$f":"_xlfn.XLOOKUP(C79,Lists!AW:AW,Lists!AX:AX,0)","v":0}]
[{"$f":"_xlfn.XLOOKUP(C80,Lists!AW:AW,Lists!BD:BD,0)","v":0},{"$f":"_xlfn.XLOOKUP(C80,Lists!AW:AW,Lists!AV:AV,0,)","v":0},{"$f":"IF(G80>0,'Brick Final Sheet '!Q97,0)","v":0},{"$f":"_xlfn.XLOOKUP(C80,Lists!AW:AW,Lists!AX:AX,0)","v":0},null,null,{"$f":"'Brick Final Sheet '!C51","v":0}]
[]
[{"$f":"_xlfn.XLOOKUP(C82,Lists!AW:AW,Lists!BD:BD,0)","v":0},{"$f":"_xlfn.XLOOKUP(C82,Lists!AW:AW,Lists!AV:AV,0,)","v":0},{"$f":"IF(G82>0,'Brick Final Sheet '!Q59,0)","v":0},{"$f":"_xlfn.XLOOKUP(C82,Lists!AW:AW,Lists!AX:AX,0)","v":0},null,null,{"$f":"'Brick Final Sheet '!M55","v":0}]
[{"$f":"_xlfn.XLOOKUP(C83,Lists!AW:AW,Lists!BD:BD,0)","v":0},{"$f":"_xlfn.XLOOKUP(1,\n(Lists!$AW:$AW=C83)*\n(Lists!$AX:$AX=D83),\n(Lists!$AV:$AV))","v":0},{"$f":"IF(G83>0,'Brick Final Sheet '!R28,0)","v":0},{"$f":"IF(G83>0,'Brick Final Sheet '!S28,0)","v":0},null,null,{"$f":"'Brick Final Sheet '!M56","v":0}]
[{"$f":"_xlfn.XLOOKUP(C84,Lists!AW:AW,Lists!BD:BD,0)","v":0},{"$f":"_xlfn.XLOOKUP(1,\n(Lists!$AW:$AW=C84)*\n(Lists!$AX:$AX=D84),\n(Lists!$AV:$AV))","v":0},{"$f":"IF(G84>0,'Brick Final Sheet '!R29,0)","v":0},{"$f":"IF(G84>0,'Brick Final Sheet '!S29,0)","v":0},null,null,{"$f":"'Brick Final Sheet '!M57","v":0}]
[{"$f":"_xlfn.XLOOKUP(C85,Lists!AW:AW,Lists!BD:BD,0)","v":0},{"$f":"_xlfn.XLOOKUP(C85,Lists!AW:AW,Lists!AV:AV,0,)","v":0},{"$f":"IF(G85>0,'Brick Final Sheet '!Q109,0)","v":0},{"$f":"_xlfn.XLOOKUP(C85,Lists!AW:AW,Lists!AX:AX,0)","v":0},null,null,{"$f":"'Brick Final Sheet '!T75","v":0}]
[{"$f":"_xlfn.XLOOKUP(C86,Lists!AW:AW,Lists!BD:BD,0)","v":"155"},{"$f":"_xlfn.XLOOKUP(C86,Lists!AW:AW,Lists!AV:AV,0,)","v":"155-300-100880"},{"$f":"IF(G86>0,'Brick Final Sheet '!R111,0)","v":"JACK BRICK MESH"},null,null,null,{"$f":"'Brick Final Sheet '!Q111","v":1}]
[{"$f":"_xlfn.XLOOKUP(C87,Lists!AW:AW,Lists!BD:BD,0)","v":"155"},{"$f":"_xlfn.XLOOKUP(C87,Lists!AW:AW,Lists!AV:AV,0,)","v":"155-450-100650"},{"$f":"IF(G87>0,'Brick Final Sheet '!B47,0)","v":"WEEPA STANDARD WEEP HOLE"},{"$f":"_xlfn.XLOOKUP(C87,Lists!AW:AW,Lists!AX:AX,0)","v":"VENT"},null,null,{"$f":"'Brick Final Sheet '!E47","v":3}]
[null,{"$f":"IF(G88>0,'Brick Final Sheet '!R50,0)","v":0},{"$f":"_xlfn.XLOOKUP(B88,Lists!AV:AV,Lists!AW:AW,0)","v":0},null,null,null,{"$f":"ROUND('Brick Final Sheet '!T49,0)","v":0}]
[{"$f":"_xlfn.XLOOKUP(C89,Lists!AW:AW,Lists!BD:BD,0)","v":"155"},{"$f":"IF(G89>0,'Brick Final Sheet '!R99,0)","v":"155-300-100100"},{"$f":"_xlfn.XLOOKUP(B89,Lists!AV:AV,Lists!AW:AW,0)","v":"GOODWILL CAVITY TIES 3.0x170mm"},{"$f":"_xlfn.XLOOKUP(B89,Lists!AV:AV,Lists!AX:AX,0)","v":"GALVANISED MEDIUM DUTY"},null,null,{"$f":"'Brick Final Sheet '!S99+'Brick Final Sheet '!V99","v":3}]
[{"$f":"_xlfn.XLOOKUP(C90,Lists!AW:AW,Lists!BD:BD,0)","v":0},{"$f":"IF(G90>0,'Brick Final Sheet '!R100,0)","v":0},{"$f":"_xlfn.XLOOKUP(B90,Lists!AV:AV,Lists!AW:AW,0)","v":0},{"$f":"_xlfn.XLOOKUP(B90,Lists!AV:AV,Lists!AX:AX,0)","v":0},null,null,{"$f":"'Brick Final Sheet '!S100+'Brick Final Sheet '!V100","v":0}]
[{"$f":"_xlfn.XLOOKUP(B91,Lists!AV:AV,Lists!BD:BD,0)","v":0},{"$f":"IF(G91>0,'INT-EXT DOORS & int walls'!I8,0)","v":0},{"$f":"_xlfn.XLOOKUP(B91,Lists!AV:AV,Lists!AW:AW,0)","v":0},{"$f":"_xlfn.XLOOKUP(B91,Lists!AV:AV,Lists!AX:AX,0)","v":0},null,null,{"$f":"'INT-EXT DOORS & int walls'!C8","v":0}]
[{"$f":"_xlfn.XLOOKUP(B92,Lists!AV:AV,Lists!BD:BD,0)","v":0},{"$f":"IF(G92>0,'INT-EXT DOORS & int walls'!I9,0)","v":0},{"$f":"_xlfn.XLOOKUP(B92,Lists!AV:AV,Lists!AW:AW,0)","v":0},{"$f":"_xlfn.XLOOKUP(C92,Lists!AW:AW,Lists!AX:AX,0)","v":0},null,null,{"$f":"'INT-EXT DOORS & int walls'!C9","v":0}]
[{"$f":"_xlfn.XLOOKUP(B93,Lists!AV:AV,Lists!BD:BD,0)","v":0},{"$f":"IF(G93>0,'INT-EXT DOORS & int walls'!I10,0)","v":0},{"$f":"_xlfn.XLOOKUP(B93,Lists!AV:AV,Lists!AW:AW,0)","v":0},{"$f":"_xlfn.XLOOKUP(C93,Lists!AW:AW,Lists!AX:AX,0)","v":0},null,null,{"$f":"'INT-EXT DOORS & int walls'!C10","v":0}]
[{"$f":"_xlfn.XLOOKUP(B94,Lists!AV:AV,Lists!BD:BD,0)","v":0},{"$f":"IF(G94>0,'INT-EXT DOORS & int walls'!I11,0)","v":0},{"$f":"_xlfn.XLOOKUP(B94,Lists!AV:AV,Lists!AW:AW,0)","v":0},{"$f":"_xlfn.XLOOKUP(C94,Lists!AW:AW,Lists!AX:AX,0)","v":0},null,null,{"$f":"'INT-EXT DOORS & int walls'!C11","v":0}]
[{"$f":"_xlfn.XLOOKUP(B95,Lists!AV:AV,Lists!BD:BD,0)","v":0},{"$f":"IF(G95>0,'INT-EXT DOORS & int walls'!I12,0)","v":0},{"$f":"_xlfn.XLOOKUP(B95,Lists!AV:AV,Lists!AW:AW,0)","v":0},{"$f":"_xlfn.XLOOKUP(C95,Lists!AW:AW,Lists!AX:AX,0)","v":0},null,null,{"$f":"'INT-EXT DOORS & int walls'!C12","v":0}]
[{"$f":"_xlfn.XLOOKUP(B96,Lists!AV:AV,Lists!BD:BD,0)","v":0},{"$f":"IF(G96>0,'INT-EXT DOORS & int walls'!I13,0)","v":0},{"$f":"_xlfn.XLOOKUP(B96,Lists!AV:AV,Lists!AW:AW,0)","v":0},{"$f":"_xlfn.XLOOKUP(C96,Lists!AW:AW,Lists!AX:AX,0)","v":0},null,null,{"$f":"'INT-EXT DOORS & int walls'!C13","v":0}]
[{"$f":"_xlfn.XLOOKUP(B97,Lists!AV:AV,Lists!BD:BD,0)","v":0},{"$f":"IF(G97>0,'INT-EXT DOORS & int walls'!I14,0)","v":0},{"$f":"_xlfn.XLOOKUP(B97,Lists!AV:AV,Lists!AW:AW,0)","v":0},{"$f":"_xlfn.XLOOKUP(C97,Lists!AW:AW,Lists!AX:AX,0)","v":0},null,null,{"$f":"'INT-EXT DOORS & int walls'!C14","v":0}]
[{"$f":"_xlfn.XLOOKUP(B98,Lists!AV:AV,Lists!BD:BD,0)","v":0},{"$f":"IF(G98>0,'INT-EXT DOORS & int walls'!I18,0)","v":0},{"$f":"_xlfn.XLOOKUP(B98,Lists!AV:AV,Lists!AW:AW,0)","v":0},{"$f":"_xlfn.XLOOKUP(C98,Lists!AW:AW,Lists!AX:AX,0)","v":0},null,null,{"$f":"'INT-EXT DOORS & int walls'!C18","v":0}]
[{"$f":"_xlfn.XLOOKUP(B99,Lists!AV:AV,Lists!BD:BD,0)","v":0},{"$f":"IF(G99>0,'INT-EXT DOORS & int walls'!I19,0)","v":0},{"$f":"_xlfn.XLOOKUP(B99,Lists!AV:AV,Lists!AW:AW,0)","v":0},{"$f":"_xlfn.XLOOKUP(C99,Lists!AW:AW,Lists!AX:AX,0)","v":0},null,null,{"$f":"'INT-EXT DOORS & int walls'!C19","v":0}]
[{"$f":"_xlfn.XLOOKUP(B100,Lists!AV:AV,Lists!BD:BD,0)","v":0},{"$f":"IF(G100>0,'INT-EXT DOORS & int walls'!I20,0)","v":0},{"$f":"_xlfn.XLOOKUP(B100,Lists!AV:AV,Lists!AW:AW,0)","v":0},{"$f":"_xlfn.XLOOKUP(C100,Lists!AW:AW,Lists!AX:AX,0)","v":0},null,null,{"$f":"'INT-EXT DOORS & int walls'!C20","v":0}]
[{"$f":"_xlfn.XLOOKUP(B101,Lists!AV:AV,Lists!BD:BD,0)","v":0},{"$f":"IF(G101>0,'INT-EXT DOORS & int walls'!I24,0)","v":0},{"$f":"_xlfn.XLOOKUP(B101,Lists!AV:AV,Lists!AW:AW,0)","v":0},{"$f":"_xlfn.XLOOKUP(C101,Lists!AW:AW,Lists!AX:AX,0)","v":0},null,null,{"$f":"'INT-EXT DOORS & int walls'!C24","v":0}]
[{"$f":"_xlfn.XLOOKUP(B102,Lists!AV:AV,Lists!BD:BD,0)","v":0},{"$f":"IF(G102>0,'INT-EXT DOORS & int walls'!I25,0)","v":0},{"$f":"_xlfn.XLOOKUP(B102,Lists!AV:AV,Lists!AW:AW,0)","v":0},{"$f":"_xlfn.XLOOKUP(C102,Lists!AW:AW,Lists!AX:AX,0)","v":0},null,null,{"$f":"'INT-EXT DOORS & int walls'!C25","v":0}]
[{"$f":"_xlfn.XLOOKUP(B103,Lists!AV:AV,Lists!BD:BD,0)","v":0},{"$f":"IF(G103>0,'INT-EXT DOORS & int walls'!I26,0)","v":0},{"$f":"_xlfn.XLOOKUP(B103,Lists!AV:AV,Lists!AW:AW,0)","v":0},{"$f":"_xlfn.XLOOKUP(C103,Lists!AW:AW,Lists!AX:AX,0)","v":0},null,null,{"$f":"'INT-EXT DOORS & int walls'!C26","v":0}]
[{"$f":"_xlfn.XLOOKUP(B104,Lists!AV:AV,Lists!BD:BD,0)","v":0},{"$f":"IF(G104>0,'INT-EXT DOORS & int walls'!I30,0)","v":0},{"$f":"_xlfn.XLOOKUP(B104,Lists!AV:AV,Lists!AW:AW,0)","v":0},{"$f":"_xlfn.XLOOKUP(C104,Lists!AW:AW,Lists!AX:AX,0)","v":0},null,null,{"$f":"'INT-EXT DOORS & int walls'!C30","v":0}]
[{"$f":"_xlfn.XLOOKUP(B105,Lists!AV:AV,Lists!BD:BD,0)","v":0},{"$f":"IF(G105>0,'INT-EXT DOORS & int walls'!I31,0)","v":0},{"$f":"_xlfn.XLOOKUP(B105,Lists!AV:AV,Lists!AW:AW,0)","v":0},{"$f":"_xlfn.XLOOKUP(C105,Lists!AW:AW,Lists!AX:AX,0)","v":0},null,null,{"$f":"'INT-EXT DOORS & int walls'!C31","v":0}]
[{"$f":"_xlfn.XLOOKUP(B106,Lists!AV:AV,Lists!BD:BD,0)","v":0},{"$f":"IF(G106>0,'INT-EXT DOORS & int walls'!I32,0)","v":0},{"$f":"_xlfn.XLOOKUP(B106,Lists!AV:AV,Lists!AW:AW,0)","v":0},{"$f":"_xlfn.XLOOKUP(C106,Lists!AW:AW,Lists!AX:AX,0)","v":0},null,null,{"$f":"'INT-EXT DOORS & int walls'!C32","v":0}]
[{"$f":"_xlfn.XLOOKUP(B107,Lists!AV:AV,Lists!BD:BD,0)","v":0},{"$f":"IF(G107>0,'INT-EXT DOORS & int walls'!I33,0)","v":0},{"$f":"_xlfn.XLOOKUP(B107,Lists!AV:AV,Lists!AW:AW,0)","v":0},{"$f":"_xlfn.XLOOKUP(B107,Lists!AV:AV,Lists!AX:AX,0)","v":0},null,null,{"$f":"'INT-EXT DOORS & int walls'!C33","v":0}]
[{"$f":"_xlfn.XLOOKUP(B108,Lists!AV:AV,Lists!BD:BD,0)","v":0},{"$f":"IF(G108>0,'INT-EXT DOORS & int walls'!I39,0)","v":0},{"$f":"_xlfn.XLOOKUP(B108,Lists!AV:AV,Lists!AW:AW,0)","v":0},{"$f":"_xlfn.XLOOKUP(B108,Lists!AV:AV,Lists!AX:AX,0)","v":0},null,null,{"$f":"'INT-EXT DOORS & int walls'!C39","v":0}]
[{"$f":"_xlfn.XLOOKUP(B109,Lists!AV:AV,Lists!BD:BD,0)","v":0},{"$f":"IF(G109>0,'INT-EXT DOORS & int walls'!I40,0)","v":0},{"$f":"_xlfn.XLOOKUP(B109,Lists!AV:AV,Lists!AW:AW,0)","v":0},{"$f":"_xlfn.XLOOKUP(B109,Lists!AV:AV,Lists!AX:AX,0)","v":0},null,null,{"$f":"'INT-EXT DOORS & int walls'!C40","v":0}]
[{"$f":"_xlfn.XLOOKUP(B110,Lists!AV:AV,Lists!BD:BD,0)","v":0},{"$f":"IF(G110>0,'INT-EXT DOORS & int walls'!I41,0)","v":0},null,null,null,null,{"$f":"'INT-EXT DOORS & int walls'!C41","v":0}]
[{"$f":"_xlfn.XLOOKUP(C111,Lists!AW:AW,Lists!BD:BD,0)","v":0},{"$f":"_xlfn.XLOOKUP(1,\n(Lists!$AW:$AW=C111)*\n(Lists!$AX:$AX=D111),\n(Lists!$AV:$AV))","v":0},{"$f":"IF(G111>0,'INT-EXT DOORS & int walls'!C2,0)","v":0},{"$f":"_xlfn.XLOOKUP(C111,Lists!AW:AW,Lists!AX:AX,0)","v":0},null,null,{"$f":"'INT-EXT DOORS & int walls'!C3","v":0}]
[{"$f":"_xlfn.XLOOKUP(B112,Lists!AV:AV,Lists!BD:BD,0)","v":"175"},{"$f":"IF(G112>0,'INT-EXT DOORS & int walls'!Y25,0)","v":"175-500-100900"},{"$f":"_xlfn.XLOOKUP(B112,Lists!AV:AV,Lists!AW:AW,0)","v":"METERBOX COMBINATION"},{"$f":"_xlfn.XLOOKUP(B112,Lists!AV:AV,Lists!AX:AX,0)","v":"NON REBATED"},null,null,{"$f":"'INT-EXT DOORS & int walls'!AC25","v":1}]
[{"$f":"IF($G$113>0,QUOTES!C9,0)","v":0},{"$f":"IF($G$113>0,QUOTES!D9,0)","v":0},{"$f":"IF($G$113>0,QUOTES!E9,0)","v":0},{"$f":"IF($G$113>0,QUOTES!F9,0)","v":0},null,null,{"$f":"IF(J113>0,1,0)","v":0},null,{"$f":"QUOTES!L9","v":0},{"$f":"QUOTES!K9","v":0}]
[{"$f":"IF($G$114>0,QUOTES!C10,0)","v":0},{"$f":"IF($G$114>0,QUOTES!D10,0)","v":0},{"$f":"IF($G$114>0,QUOTES!E10,0)","v":0},null,{"$f":"IF($J$114>0,\"*CAD02\",0)","v":0},null,{"$f":"IF(J114>0,1,0)","v":0},null,null,{"$f":"QUOTES!K10","v":0}]
[{"$f":"IF($G$115>0,QUOTES!C12,0)","v":0},{"$f":"IF(G115>0,QUOTES!D12,0)","v":0},{"$f":"IF($G$113>0,QUOTES!E12,0)","v":0},{"$f":"IF(G115>0,QUOTES!F12,0)","v":0},null,null,{"$f":"IF(J115>0,1,0)","v":0},null,{"$f":"QUOTES!L12","v":0},{"$f":"QUOTES!K12","v":0}]
[{"$f":"_xlfn.XLOOKUP(C116,Lists!AW:AW,Lists!BD:BD,0)","v":"235"},{"$f":"IF(G116>0,'Fascia-Roof Hardware'!U7,0)","v":"235-150-100200"},{"$f":"_xlfn.XLOOKUP(B116,Lists!AV:AV,Lists!AW:AW,0)","v":"STEEL FRAME WALL OVER 15C"},{"$f":"_xlfn.XLOOKUP(B116,Lists!AV:AV,Lists!AX:AX,0)","v":""},null,null,{"$f":"'Fascia-Roof Hardware'!S7","v":56}]
[{"$f":"IF(G117>0,235,0)","v":235},{"$f":"IF(G117>0,'Fascia-Roof Hardware'!U9,0)","v":"245-150-100400"},{"$f":"_xlfn.XLOOKUP(B117,Lists!AV:AV,Lists!AW:AW,0)","v":"STEEL FRAME WINDOW INSTALL"},{"$f":"_xlfn.XLOOKUP(B117,Lists!AV:AV,Lists!AX:AX,0)","v":"INCLUDING PRESSINGS"},null,null,{"$f":"'Fascia-Roof Hardware'!S9","v":16}]
[{"$f":"_xlfn.XLOOKUP(C118,Lists!AW:AW,Lists!BD:BD,0)","v":0},{"$f":"IF(G118>0,'Fascia-Roof Hardware'!U8,0)","v":0},{"$f":"_xlfn.XLOOKUP(B118,Lists!AV:AV,Lists!AW:AW,0)","v":0},{"$f":"_xlfn.XLOOKUP(B118,Lists!AV:AV,Lists!AX:AX,0)","v":0},null,null,{"$f":"'Fascia-Roof Hardware'!S8","v":0}]
[{"$f":"IF(G119>0,235,0)","v":0},{"$f":"IF(G119>0,'Fascia-Roof Hardware'!U10,0)","v":0},{"$f":"_xlfn.XLOOKUP(B119,Lists!AV:AV,Lists!AW:AW,0)","v":0},{"$f":"_xlfn.XLOOKUP(B119,Lists!AV:AV,Lists!AX:AX,0)","v":0},null,null,{"$f":"'Fascia-Roof Hardware'!AP11","v":0}]
[{"$f":"IF(G120>0,QUOTES!C15,0)","v":0},{"$f":"IF(G120>0,QUOTES!D15,0)","v":0},{"$f":"IF(G120>0,QUOTES!E15,0)","v":0},{"$f":"IF(G120>0,QUOTES!F15,0)","v":0},null,null,{"$f":"IF(J120>0,1,0)","v":0},null,{"$f":"QUOTES!L15","v":0},{"$f":"QUOTES!K15","v":0}]
[{"$f":"IF(G121>0,QUOTES!C16,0)","v":0},{"$f":"IF(G121>0,QUOTES!D16,0)","v":0},{"$f":"IF(G121>0,QUOTES!E16,0)","v":0},{"$f":"IF(G121>0,QUOTES!F16,0)","v":0},{"$f":"IF($J$121>0,\"*CAD02\",0)","v":0},null,{"$f":"IF(J121>0,1,0)","v":0},null,null,{"$f":"QUOTES!K16","v":0}]
[{"$f":"IF(G122>0,240,0)","v":0},{"$f":"_xlfn.XLOOKUP(C122,Lists!AW:AW,Lists!AV:AV,0,)","v":0},{"$f":"IF(G122>0,'Fascia-Roof Hardware'!AL59,0)","v":0},{"$f":"_xlfn.XLOOKUP(C122,Lists!AW:AW,Lists!AX:AX,0)","v":0},null,null,{"$f":"'Fascia-Roof Hardware'!AL68","v":0}]
[{"$f":"IF(G123>0,240,0)","v":0},{"$f":"_xlfn.XLOOKUP(C123,Lists!AW:AW,Lists!AV:AV,0,)","v":0},{"$f":"IF(G123>0,'Fascia-Roof Hardware'!AL60,0)","v":0},{"$f":"_xlfn.XLOOKUP(C123,Lists!AW:AW,Lists!AX:AX,0)","v":0},null,null,{"$f":"'Fascia-Roof Hardware'!AK68","v":0}]
[{"$f":"IF(G124>0,240,0)","v":0},{"$f":"_xlfn.XLOOKUP(C124,Lists!AW:AW,Lists!AV:AV,0,)","v":0},{"$f":"IF(G124>0,'Fascia-Roof Hardware'!AL61,0)","v":0},{"$f":"_xlfn.XLOOKUP(C124,Lists!AW:AW,Lists!AX:AX,0)","v":0},null,null,{"$f":"'Fascia-Roof Hardware'!AH29","v":0}]
[{"$f":"IF(G125>0,240,0)","v":240},{"$f":"_xlfn.XLOOKUP(1,\n(Lists!$AW:$AW=C125)*\n(Lists!$AX:$AX=D125),\n(Lists!$AV:$AV))","v":"155-300-100450"},{"$f":"IF(G125>0,'Brick Final Sheet '!S112,0)","v":"VENEER TIES SUIT SINGLE STOREY"},{"$f":"IF(G125>0,'Brick Final Sheet '!S119,0)","v":"MAX N2 WIND/MAX R2 CORROSION"},null,null,{"$f":"'Brick Final Sheet '!R119","v":513.0632499999997}]
[{"$f":"_xlfn.XLOOKUP(B126,Lists!AV:AV,Lists!BD:BD,0)","v":0},{"$f":"IF(G126>0,'Fascia-Roof Hardware'!U12,0)","v":0},{"$f":"_xlfn.XLOOKUP(B126,Lists!AV:AV,Lists!AW:AW,0)","v":0},{"$f":"_xlfn.XLOOKUP(B126,Lists!AV:AV,Lists!AX:AX,0)","v":0},null,null,{"$f":"'Fascia-Roof Hardware'!S12","v":0}]
[{"$f":"_xlfn.XLOOKUP(B127,Lists!AV:AV,Lists!BD:BD,0)","v":"245"},{"$f":"IF(G127>0,'Fascia-Roof Hardware'!U13,0)","v":"245-150-100100"},{"$f":"_xlfn.XLOOKUP(B127,Lists!AV:AV,Lists!AW:AW,0)","v":"STEEL FRAME ROOF"},{"$f":"_xlfn.XLOOKUP(B127,Lists!AV:AV,Lists!AX:AX,0)","v":"GROUND FLOOR"},null,null,{"$f":"'Fascia-Roof Hardware'!S13","v":250}]
[{"$f":"_xlfn.XLOOKUP(B128,Lists!AV:AV,Lists!BD:BD,0)","v":0},{"$f":"IF(G128>0,'Fascia-Roof Hardware'!U14,0)","v":0},{"$f":"_xlfn.XLOOKUP(B128,Lists!AV:AV,Lists!AW:AW,0)","v":0},{"$f":"_xlfn.XLOOKUP(B128,Lists!AV:AV,Lists!AX:AX,0)","v":0},null,null,{"$f":"'Fascia-Roof Hardware'!S14","v":0}]
[{"$f":"_xlfn.XLOOKUP(B129,Lists!AV:AV,Lists!BD:BD,0)","v":0},{"$f":"IF(G129>0,'Fascia-Roof Hardware'!U15,0)","v":0},{"$f":"_xlfn.XLOOKUP(B129,Lists!AV:AV,Lists!AW:AW,0)","v":0},{"$f":"_xlfn.XLOOKUP(B129,Lists!AV:AV,Lists!AX:AX,0)","v":0},null,null,{"$f":"'Fascia-Roof Hardware'!S15","v":0}]
[{"$f":"_xlfn.XLOOKUP(B130,Lists!AV:AV,Lists!BD:BD,0)","v":0},{"$f":"IF(G130>0,'Fascia-Roof Hardware'!U16,0)","v":0},{"$f":"_xlfn.XLOOKUP(B130,Lists!AV:AV,Lists!AW:AW,0)","v":0},{"$f":"_xlfn.XLOOKUP(B130,Lists!AV:AV,Lists!AX:AX,0)","v":0},null,null,{"$f":"'Fascia-Roof Hardware'!S16","v":0}]
[{"$f":"_xlfn.XLOOKUP(B131,Lists!AV:AV,Lists!BD:BD,0)","v":0},{"$f":"IF(G131>0,'Fascia-Roof Hardware'!U17,0)","v":0},{"$f":"_xlfn.XLOOKUP(B131,Lists!AV:AV,Lists!AW:AW,0)","v":0},{"$f":"_xlfn.XLOOKUP(B131,Lists!AV:AV,Lists!AX:AX,0)","v":0},null,null,{"$f":"'Fascia-Roof Hardware'!S17","v":0}]
[{"$f":"_xlfn.XLOOKUP(B132,Lists!AV:AV,Lists!BD:BD,0)","v":0},{"$f":"IF(G132>0,'Fascia-Roof Hardware'!U18,0)","v":0},{"$f":"_xlfn.XLOOKUP(B132,Lists!AV:AV,Lists!AW:AW,0)","v":0},{"$f":"_xlfn.XLOOKUP(B132,Lists!AV:AV,Lists!AX:AX,0)","v":0},null,null,{"$f":"'Fascia-Roof Hardware'!S18","v":0}]
[{"$f":"_xlfn.XLOOKUP(B133,Lists!AV:AV,Lists!BD:BD,0)","v":0},{"$f":"IF(G133>0,'Fascia-Roof Hardware'!AP48,0)","v":0},{"$f":"_xlfn.XLOOKUP(B133,Lists!AV:AV,Lists!AW:AW,0)","v":0},{"$f":"_xlfn.XLOOKUP(B133,Lists!AV:AV,Lists!AX:AX,0)","v":0},null,null,{"$f":"'Fascia-Roof Hardware'!AL48","v":0},3]
[{"$f":"_xlfn.XLOOKUP(B134,Lists!AV:AV,Lists!BD:BD,0)","v":0},{"$f":"IF(G134>0,'Fascia-Roof Hardware'!AP49,0)","v":0},{"$f":"_xlfn.XLOOKUP(B134,Lists!AV:AV,Lists!AW:AW,0)","v":0},{"$f":"_xlfn.XLOOKUP(B134,Lists!AV:AV,Lists!AX:AX,0)","v":0},null,null,{"$f":"'Fascia-Roof Hardware'!AL49","v":0},3]
[{"$f":"_xlfn.XLOOKUP(B135,Lists!AV:AV,Lists!BD:BD,0)","v":0},{"$f":"IF(G135>0,'Fascia-Roof Hardware'!U21,0)","v":0},{"$f":"_xlfn.XLOOKUP(B135,Lists!AV:AV,Lists!AW:AW,0)","v":0},{"$f":"_xlfn.XLOOKUP(B135,Lists!AV:AV,Lists!AX:AX,0)","v":0},null,null,{"$f":"'Fascia-Roof Hardware'!AL50","v":0},3]
[{"$f":"_xlfn.XLOOKUP(B136,Lists!AV:AV,Lists!BD:BD,0)","v":0},{"$f":"IF(G136>0,'Fascia-Roof Hardware'!AP47,0)","v":0},{"$f":"_xlfn.XLOOKUP(B136,Lists!AV:AV,Lists!AW:AW,0)","v":0},{"$f":"_xlfn.XLOOKUP(B136,Lists!AV:AV,Lists!AX:AX,0)","v":0},null,null,{"$f":"'Fascia-Roof Hardware'!AL46","v":""},3]
[{"$f":"_xlfn.XLOOKUP(B137,Lists!AV:AV,Lists!BD:BD,0)","v":0},{"$f":"IF(G137>0,'Fascia-Roof Hardware'!U23,0)","v":0},{"$f":"_xlfn.XLOOKUP(B137,Lists!AV:AV,Lists!AW:AW,0)","v":0},{"$f":"_xlfn.XLOOKUP(B137,Lists!AV:AV,Lists!AX:AX,0)","v":0},null,null,{"$f":"'Fascia-Roof Hardware'!S23","v":0},3]
[{"$f":"_xlfn.XLOOKUP(B138,Lists!AV:AV,Lists!BD:BD,0)","v":0},{"$f":"IF(G138>0,'Fascia-Roof Hardware'!U24,0)","v":0},{"$f":"_xlfn.XLOOKUP(B138,Lists!AV:AV,Lists!AW:AW,0)","v":0},{"$f":"_xlfn.XLOOKUP(B138,Lists!AV:AV,Lists!AX:AX,0)","v":0},null,null,{"$f":"'Fascia-Roof Hardware'!S24","v":0},3]
[{"$f":"_xlfn.XLOOKUP(B139,Lists!AV:AV,Lists!BD:BD,0)","v":0},{"$f":"IF(G139>0,'Fascia-Roof Hardware'!U25,0)","v":0},{"$f":"_xlfn.XLOOKUP(B139,Lists!AV:AV,Lists!AW:AW,0)","v":0},{"$f":"_xlfn.XLOOKUP(B139,Lists!AV:AV,Lists!AX:AX,0)","v":0},null,null,{"$f":"'Fascia-Roof Hardware'!S25","v":0},{"$f":"IF(G139>0,3,0)","v":0}]
[{"$f":"_xlfn.XLOOKUP(B140,Lists!AV:AV,Lists!BD:BD,0)","v":0},{"$f":"IF(G140>0,'Fascia-Roof Hardware'!U26,0)","v":0},{"$f":"_xlfn.XLOOKUP(B140,Lists!AV:AV,Lists!AW:AW,0)","v":0},{"$f":"_xlfn.XLOOKUP(B140,Lists!AV:AV,Lists!AX:AX,0)","v":0},null,null,{"$f":"'Fascia-Roof Hardware'!S26","v":0},0]
[{"$f":"_xlfn.XLOOKUP(B141,Lists!AV:AV,Lists!BD:BD,0)","v":0},{"$f":"IF(G141>0,'Fascia-Roof Hardware'!U27,0)","v":0},{"$f":"_xlfn.XLOOKUP(B141,Lists!AV:AV,Lists!AW:AW,0)","v":0},{"$f":"_xlfn.XLOOKUP(B141,Lists!AV:AV,Lists!AX:AX,0)","v":0}]
[{"$f":"_xlfn.XLOOKUP(B142,Lists!AV:AV,Lists!BD:BD,0)","v":0},{"$f":"IF(G142>0,'Fascia-Roof Hardware'!U39,0)","v":0},{"$f":"_xlfn.XLOOKUP(B142,Lists!AV:AV,Lists!AW:AW,0)","v":0},{"$f":"_xlfn.XLOOKUP(B142,Lists!AV:AV,Lists!AX:AX,0)","v":0},null,null,{"$f":"'Fascia-Roof Hardware'!S39","v":0}]
[{"$f":"_xlfn.XLOOKUP(B143,Lists!AV:AV,Lists!BD:BD,0)","v":249},{"$f":"IF(J143>0,'Fascia-Roof Hardware'!AX13,0)","v":"249-100-100100"},{"$f":"_xlfn.XLOOKUP(B143,Lists!AV:AV,Lists!AW:AW,0)","v":"SITE WELD ALLOWANCE ROOFING"},{"$f":"_xlfn.XLOOKUP(B143,Lists!AV:AV,Lists!AX:AX,0)","v":"COLUMNS & BEAMS"},null,null,{"$f":"IF(J143>0,1,0)","v":1},null,null,{"$f":"'Fascia-Roof Hardware'!AY21","v":250}]
[{"$f":"IF(G144>0,QUOTES!C18,0)","v":0},{"$f":"IF(G144>0,QUOTES!D18,0)","v":0},{"$f":"IF(G144>0,QUOTES!E18,0)","v":0},{"$f":"IF(G144>0,QUOTES!F18,0)","v":0},null,null,{"$f":"IF(J144>0,1,0)","v":0},null,{"$f":"QUOTES!L18","v":0},{"$f":"QUOTES!K18","v":0}]
[{"$f":"IF(G145>0,QUOTES!C19,0)","v":0},{"$f":"IF(G145>0,QUOTES!D19,0)","v":0},{"$f":"IF(G145>0,QUOTES!E19,0)","v":0},{"$f":"IF(G145>0,QUOTES!F19,0)","v":0},{"$f":"IF($J$145>0,\"*CAD02\",0)","v":0},null,{"$f":"IF(J145>0,1,0)","v":0},null,null,{"$f":"QUOTES!K19","v":0}]
[{"$f":"_xlfn.XLOOKUP(B146,Lists!AV:AV,Lists!BD:BD,0)","v":0},{"$f":"IF(G146>0,'Fascia-Roof Hardware'!AM67,0)","v":0},{"$f":"_xlfn.XLOOKUP(B146,Lists!AV:AV,Lists!AW:AW,0)","v":0},{"$f":"_xlfn.XLOOKUP(B146,Lists!AV:AV,Lists!AX:AX,0)","v":0},null,null,{"$f":"'Fascia-Roof Hardware'!AK69","v":0}]
[{"$f":"_xlfn.XLOOKUP(B147,Lists!AV:AV,Lists!BD:BD,0)","v":0},{"$f":"IF(G147>0,'Fascia-Roof Hardware'!AL67,0)","v":0},{"$f":"_xlfn.XLOOKUP(B147,Lists!AV:AV,Lists!AW:AW,0)","v":0},{"$f":"_xlfn.XLOOKUP(B147,Lists!AV:AV,Lists!AX:AX,0)","v":0},null,null,{"$f":"'Fascia-Roof Hardware'!AL69","v":0}]
[{"$f":"_xlfn.XLOOKUP(C148,Lists!AW:AW,Lists!BD:BD,0)","v":0},{"$f":"IF(G148>0,'Fascia-Roof Hardware'!H24,0)","v":0},{"$f":"_xlfn.XLOOKUP(B148,Lists!AV:AV,Lists!AW:AW,0)","v":0},null,null,null,{"$f":"'Fascia-Roof Hardware'!C24","v":0}]
[{"$f":"_xlfn.XLOOKUP(C149,Lists!AW:AW,Lists!BD:BD,0)","v":0},{"$f":"IF(G149>0,'Fascia-Roof Hardware'!H25,0)","v":0},{"$f":"_xlfn.XLOOKUP(B149,Lists!AV:AV,Lists!AW:AW,0)","v":0},null,null,null,{"$f":"'Fascia-Roof Hardware'!D25","v":0}]
[{"$f":"_xlfn.XLOOKUP(C150,Lists!AW:AW,Lists!BD:BD,0)","v":0},{"$f":"IF(G150>0,'Fascia-Roof Hardware'!H26,0)","v":0},{"$f":"_xlfn.XLOOKUP(B150,Lists!AV:AV,Lists!AW:AW,0)","v":0},null,null,null,{"$f":"'Fascia-Roof Hardware'!D26","v":0}]
[{"$f":"_xlfn.XLOOKUP(C151,Lists!AW:AW,Lists!BD:BD,0)","v":"285"},{"$f":"IF(G151>0,'Fascia-Roof Hardware'!H27,0)","v":"285-100-100250"},{"$f":"_xlfn.XLOOKUP(B151,Lists!AV:AV,Lists!AW:AW,0)","v":"BRACKET SIDE FIX"},null,null,null,{"$f":"'Fascia-Roof Hardware'!D27","v":5}]
[{"$f":"_xlfn.XLOOKUP(B152,Lists!AV:AV,Lists!BD:BD,0)","v":0},{"$f":"IF(G152>0,'Fascia-Roof Hardware'!H28,0)","v":0},{"$f":"_xlfn.XLOOKUP(B152,Lists!AV:AV,Lists!AW:AW,0)","v":0},null,null,null,{"$f":"'Fascia-Roof Hardware'!D28","v":0}]
[{"$f":"_xlfn.XLOOKUP(C153,Lists!AW:AW,Lists!BD:BD,0)","v":0},{"$f":"IF(G153>0,'Fascia-Roof Hardware'!H29,0)","v":0},{"$f":"_xlfn.XLOOKUP(B153,Lists!AV:AV,Lists!AW:AW,0)","v":0},null,null,null,{"$f":"'Fascia-Roof Hardware'!D29","v":0}]
[{"$f":"_xlfn.XLOOKUP(C154,Lists!AW:AW,Lists!BD:BD,0)","v":0},{"$f":"IF(G154>0,'Fascia-Roof Hardware'!H30,0)","v":0},{"$f":"_xlfn.XLOOKUP(B154,Lists!AV:AV,Lists!AW:AW,0)","v":0},null,null,null,{"$f":"'Fascia-Roof Hardware'!D30","v":0}]
[{"$f":"_xlfn.XLOOKUP(B155,Lists!AV:AV,Lists!BD:BD,0)","v":0},{"$f":"IF(G155>0,'Fascia-Roof Hardware'!H31,0)","v":0},{"$f":"_xlfn.XLOOKUP(B155,Lists!AV:AV,Lists!AW:AW,0)","v":0},null,null,null,{"$f":"'Fascia-Roof Hardware'!D31","v":0}]
[{"$f":"_xlfn.XLOOKUP(B156,Lists!AV:AV,Lists!BD:BD,0)","v":0},{"$f":"IF(G156>0,'Fascia-Roof Hardware'!H32,0)","v":0},{"$f":"_xlfn.XLOOKUP(B156,Lists!AV:AV,Lists!AW:AW,0)","v":0},null,null,null,{"$f":"'Fascia-Roof Hardware'!D32","v":0}]
[{"$f":"_xlfn.XLOOKUP(B157,Lists!AV:AV,Lists!BD:BD,0)","v":0},{"$f":"IF(G157>0,'Fascia-Roof Hardware'!H33,0)","v":0},{"$f":"_xlfn.XLOOKUP(B157,Lists!AV:AV,Lists!AW:AW,0)","v":0},null,null,null,{"$f":"'Fascia-Roof Hardware'!D33","v":0}]
[{"$f":"_xlfn.XLOOKUP(B158,Lists!AV:AV,Lists!BD:BD,0)","v":0},{"$f":"_xlfn.XLOOKUP(C158,Lists!AW:AW,Lists!AV:AV,0,)","v":0},{"$f":"IF(G158>0,'Fascia-Roof Hardware'!AQ13,0)","v":0},{"$f":"_xlfn.XLOOKUP(C158,Lists!AW:AW,Lists!AX:AX,0)","v":0},null,null,{"$f":"'Fascia-Roof Hardware'!AE13","v":0}]
[{"$f":"_xlfn.XLOOKUP(B159,Lists!AV:AV,Lists!BD:BD,0)","v":0},{"$f":"IF(G159>0,'Fascia-Roof Hardware'!AQ16,0)","v":0},{"$f":"_xlfn.XLOOKUP(B159,Lists!AV:AV,Lists!AW:AW,0)","v":0},{"$f":"_xlfn.XLOOKUP(B159,Lists!AV:AV,Lists!AX:AX,0)","v":0},null,null,{"$f":"'Fascia-Roof Hardware'!AS16","v":0}]
[{"$f":"_xlfn.XLOOKUP(C160,Lists!AW:AW,Lists!BD:BD,0)","v":0},{"$f":"_xlfn.XLOOKUP(C160,Lists!AW:AW,Lists!AV:AV,0,)","v":0},{"$f":"IF(G160>0,'Fascia-Roof Hardware'!AE17,0)","v":0},{"$f":"_xlfn.XLOOKUP(C160,Lists!AW:AW,Lists!AX:AX,0)","v":0},null,null,{"$f":"'Fascia-Roof Hardware'!AH17","v":0},{"$f":"IF(G160>0,4,0)","v":0}]
[{"$f":"_xlfn.XLOOKUP(C161,Lists!AW:AW,Lists!BD:BD,0)","v":0},{"$f":"_xlfn.XLOOKUP(C161,Lists!AW:AW,Lists!AV:AV,0,)","v":0},{"$f":"IF(G161>0,'Fascia-Roof Hardware'!AQ41,0)","v":0},{"$f":"_xlfn.XLOOKUP(C161,Lists!AW:AW,Lists!AX:AX,0)","v":0},null,null,{"$f":"'Fascia-Roof Hardware'!AH20","v":0},{"$f":"IF(G161>0,4,0)","v":0}]
[{"$f":"_xlfn.XLOOKUP(C162,Lists!AW:AW,Lists!BD:BD,0)","v":0},{"$f":"_xlfn.XLOOKUP(C162,Lists!AW:AW,Lists!AV:AV,0,)","v":0},{"$f":"IF(G162>0,'Fascia-Roof Hardware'!AL37,0)","v":0},{"$f":"_xlfn.XLOOKUP(C162,Lists!AW:AW,Lists!AX:AX,0)","v":0},null,null,{"$f":"'Fascia-Roof Hardware'!AH23","v":0}]
[{"$f":"_xlfn.XLOOKUP(C163,Lists!AW:AW,Lists!BD:BD,0)","v":0},{"$f":"_xlfn.XLOOKUP(C163,Lists!AW:AW,Lists!AV:AV,0,)","v":0},{"$f":"IF(G163>0,'Fascia-Roof Hardware'!AL40,0)","v":0},{"$f":"_xlfn.XLOOKUP(C163,Lists!AW:AW,Lists!AX:AX,0)","v":0},null,null,{"$f":"ROUNDUP('Fascia-Roof Hardware'!AH24,0)","v":0},{"$f":"IF(G163>0,4,0)","v":0}]
[{"$f":"_xlfn.XLOOKUP(C164,Lists!AW:AW,Lists!BD:BD,0)","v":0},{"$f":"_xlfn.XLOOKUP(C164,Lists!AW:AW,Lists!AV:AV,0,)","v":0},{"$f":"IF(G164>0,'Fascia-Roof Hardware'!AL58,0)","v":0},null,null,null,{"$f":"'Fascia-Roof Hardware'!AP54","v":0}]
[{"$f":"_xlfn.XLOOKUP(C165,Lists!AW:AW,Lists!BD:BD,0)","v":0},{"$f":"IF(G165>0,'Fascia-Roof Hardware'!AL32,0)","v":0},{"$f":"_xlfn.XLOOKUP(B165,Lists!AV:AV,Lists!AW:AW,0)","v":0},{"$f":"IF(G165>0,'Fascia-Roof Hardware'!AL31,0)","v":0},null,null,{"$f":"'Fascia-Roof Hardware'!AH21","v":0},0]
[{"$f":"_xlfn.XLOOKUP(C166,Lists!AW:AW,Lists!BD:BD,0)","v":0},{"$f":"IF(G166>0,'Fascia-Roof Hardware'!AL35,0)","v":0},{"$f":"_xlfn.XLOOKUP(B166,Lists!AV:AV,Lists!AW:AW,0)","v":0},{"$f":"IF(G166>0,'Fascia-Roof Hardware'!AL34,0)","v":0},null,null,{"$f":"'Fascia-Roof Hardware'!AH22","v":0},0]
[{"$f":"_xlfn.XLOOKUP(C167,Lists!AW:AW,Lists!BD:BD,0)","v":0},{"$f":"_xlfn.XLOOKUP(C167,Lists!AW:AW,Lists!AV:AV,0,)","v":0},{"$f":"IF(G167>0,'Fascia-Roof Hardware'!AR17,0)","v":0},{"$f":"_xlfn.XLOOKUP(C167,Lists!AW:AW,Lists!AX:AX,0)","v":0},null,null,{"$f":"'Fascia-Roof Hardware'!AS17","v":0},0]
[{"$f":"_xlfn.XLOOKUP(B168,Lists!AV:AV,Lists!BD:BD,0)","v":0},{"$f":"_xlfn.XLOOKUP(C168,Lists!AW:AW,Lists!AV:AV,0,)","v":0},{"$f":"IF(G168>0,'Fascia-Roof Hardware'!AR18,0)","v":0},{"$f":"_xlfn.XLOOKUP(C168,Lists!AW:AW,Lists!AX:AX,0)","v":0},null,null,{"$f":"'Fascia-Roof Hardware'!AS18","v":0},0]
[{"$f":"_xlfn.XLOOKUP(B169,Lists!AV:AV,Lists!BD:BD,0)","v":0},{"$f":"IF(G169>0,'Fascia-Roof Hardware'!AN13,0)","v":0},{"$f":"_xlfn.XLOOKUP(B169,Lists!AV:AV,Lists!AW:AW,0)","v":0},null,null,null,{"$f":"'Fascia-Roof Hardware'!AH30","v":0},0]
[{"$f":"_xlfn.XLOOKUP(C170,Lists!AW:AW,Lists!BD:BD,0)","v":0},{"$f":"_xlfn.XLOOKUP(C170,Lists!AW:AW,Lists!AV:AV,0,)","v":0},{"$f":"IF(G170>0,'Fascia-Roof Hardware'!AE25,0)","v":0},{"$f":"_xlfn.XLOOKUP(C170,Lists!AW:AW,Lists!AX:AX,0)","v":0},null,null,{"$f":"'Fascia-Roof Hardware'!AH25","v":0},0]
[{"$f":"_xlfn.XLOOKUP(C171,Lists!AW:AW,Lists!BD:BD,0)","v":0},{"$f":"_xlfn.XLOOKUP(C171,Lists!AW:AW,Lists!AV:AV,0,)","v":0},{"$f":"IF(G171>0,'Fascia-Roof Hardware'!AE26,0)","v":0},{"$f":"_xlfn.XLOOKUP(C171,Lists!AW:AW,Lists!AX:AX,0)","v":0},null,null,{"$f":"'Fascia-Roof Hardware'!AH26","v":0},0]
[{"$f":"_xlfn.XLOOKUP(C172,Lists!AW:AW,Lists!BD:BD,0)","v":0},{"$f":"_xlfn.XLOOKUP(C172,Lists!AW:AW,Lists!AV:AV,0,)","v":0},{"$f":"IF(G172>0,'Fascia-Roof Hardware'!AR16,0)","v":0},{"$f":"_xlfn.XLOOKUP(C172,Lists!AW:AW,Lists!AX:AX,0)","v":0},null,null,{"$f":"'Fascia-Roof Hardware'!AE14","v":0}]
[{"$f":"_xlfn.XLOOKUP(C173,Lists!AW:AW,Lists!BD:BD,0)","v":0},{"$f":"IF(G173>0,'Fascia-Roof Hardware'!AN23,0)","v":0},{"$f":"_xlfn.XLOOKUP(B173,Lists!AV:AV,Lists!AW:AW,0)","v":0},{"$f":"_xlfn.XLOOKUP(B173,Lists!AV:AV,Lists!AX:AX,0)","v":0},null,null,{"$f":"'Fascia-Roof Hardware'!AB19","v":0}]
[{"$f":"_xlfn.XLOOKUP(C174,Lists!AW:AW,Lists!BD:BD,0)","v":0},{"$f":"IF(G174>0,'Fascia-Roof Hardware'!AN24,0)","v":0},{"$f":"_xlfn.XLOOKUP(B174,Lists!AV:AV,Lists!AW:AW,0)","v":0},{"$f":"_xlfn.XLOOKUP(B174,Lists!AV:AV,Lists!AX:AX,0)","v":0},null,null,{"$f":"'Fascia-Roof Hardware'!AB20","v":0}]
[{"$f":"_xlfn.XLOOKUP(C175,Lists!AW:AW,Lists!BD:BD,0)","v":0},{"$f":"IF(G175>0,'Fascia-Roof Hardware'!AN25,0)","v":0},{"$f":"_xlfn.XLOOKUP(B175,Lists!AV:AV,Lists!AW:AW,0)","v":0},{"$f":"_xlfn.XLOOKUP(B175,Lists!AV:AV,Lists!AX:AX,0)","v":0},null,null,{"$f":"'Fascia-Roof Hardware'!AB21","v":0}]
[{"$f":"_xlfn.XLOOKUP(C176,Lists!AW:AW,Lists!BD:BD,0)","v":0},{"$f":"IF(G176>0,'Fascia-Roof Hardware'!AN26,0)","v":0},{"$f":"_xlfn.XLOOKUP(B176,Lists!AV:AV,Lists!AW:AW,0)","v":0},{"$f":"_xlfn.XLOOKUP(B176,Lists!AV:AV,Lists!AX:AX,0)","v":0},null,null,{"$f":"'Fascia-Roof Hardware'!AB22","v":0}]
[]
[{"$f":"_xlfn.XLOOKUP(C178,Lists!AW:AW,Lists!BD:BD,0)","v":0},{"$f":"IF(G178>0,'Fascia-Roof Hardware'!AN21,0)","v":0},{"$f":"_xlfn.XLOOKUP(B178,Lists!AV:AV,Lists!AW:AW,0)","v":0},{"$f":"_xlfn.XLOOKUP(B178,Lists!AV:AV,Lists!AX:AX,0)","v":0},null,null,{"$f":"'Fascia-Roof Hardware'!AB32","v":0}]
[{"$f":"_xlfn.XLOOKUP(C179,Lists!AW:AW,Lists!BD:BD,0)","v":0},{"$f":"IF(G179>0,'Fascia-Roof Hardware'!AN14,0)","v":0},{"$f":"_xlfn.XLOOKUP(B179,Lists!AV:AV,Lists!AW:AW,0)","v":0},{"$f":"_xlfn.XLOOKUP(B179,Lists!AV:AV,Lists!AX:AX,0)","v":0},null,null,{"$f":"'Fascia-Roof Hardware'!AB25","v":0}]
[{"$f":"_xlfn.XLOOKUP(C180,Lists!AW:AW,Lists!BD:BD,0)","v":0},{"$f":"IF(G180>0,'Fascia-Roof Hardware'!AN15,0)","v":0},{"$f":"_xlfn.XLOOKUP(B180,Lists!AV:AV,Lists!AW:AW,0)","v":0},{"$f":"_xlfn.XLOOKUP(B180,Lists!AV:AV,Lists!AX:AX,0)","v":0},null,null,{"$f":"'Fascia-Roof Hardware'!AB26","v":0}]
[{"$f":"_xlfn.XLOOKUP(C181,Lists!AW:AW,Lists!BD:BD,0)","v":0},{"$f":"IF(G181>0,'Fascia-Roof Hardware'!AN16,0)","v":0},{"$f":"_xlfn.XLOOKUP(B181,Lists!AV:AV,Lists!AW:AW,0)","v":0},{"$f":"_xlfn.XLOOKUP(B181,Lists!AV:AV,Lists!AX:AX,0)","v":0},null,null,{"$f":"'Fascia-Roof Hardware'!AB27","v":0}]
[{"$f":"_xlfn.XLOOKUP(C182,Lists!AW:AW,Lists!BD:BD,0)","v":0},{"$f":"IF(G182>0,'Fascia-Roof Hardware'!AN17,0)","v":0},{"$f":"_xlfn.XLOOKUP(B182,Lists!AV:AV,Lists!AW:AW,0)","v":0},{"$f":"_xlfn.XLOOKUP(B182,Lists!AV:AV,Lists!AX:AX,0)","v":0},null,null,{"$f":"'Fascia-Roof Hardware'!AB28","v":0}]
[{"$f":"_xlfn.XLOOKUP(C183,Lists!AW:AW,Lists!BD:BD,0)","v":0},{"$f":"IF(G183>0,'Fascia-Roof Hardware'!AN17,0)","v":0},{"$f":"_xlfn.XLOOKUP(B183,Lists!AV:AV,Lists!AW:AW,0)","v":0},{"$f":"_xlfn.XLOOKUP(B183,Lists!AV:AV,Lists!AX:AX,0)","v":0},null,null,{"$f":"'Fascia-Roof Hardware'!AB29","v":0}]
[{"$f":"_xlfn.XLOOKUP(C184,Lists!AW:AW,Lists!BD:BD,0)","v":0},{"$f":"IF(G184>0,'Fascia-Roof Hardware'!AN18,0)","v":0},{"$f":"_xlfn.XLOOKUP(B184,Lists!AV:AV,Lists!AW:AW,0)","v":0},{"$f":"_xlfn.XLOOKUP(B184,Lists!AV:AV,Lists!AX:AX,0)","v":0},null,null,{"$f":"'Fascia-Roof Hardware'!AB30","v":0}]
[{"$f":"_xlfn.XLOOKUP(C185,Lists!AW:AW,Lists!BD:BD,0)","v":0},{"$f":"IF(G185>0,'Fascia-Roof Hardware'!AN20,0)","v":0},{"$f":"_xlfn.XLOOKUP(B185,Lists!AV:AV,Lists!AW:AW,0)","v":0},{"$f":"_xlfn.XLOOKUP(B185,Lists!AV:AV,Lists!AX:AX,0)","v":0},null,null,{"$f":"'Fascia-Roof Hardware'!AB31","v":0}]
[{"$f":"IF(J186>0,QUOTES!C21,0)","v":0},{"$f":"IF(J186>0,QUOTES!D21,0)","v":0},{"$f":"IF(J186>0,QUOTES!E21,0)","v":0},{"$f":"IF(J186>0,QUOTES!F21,0)","v":0},{"$f":"IF(H186>0,QUOTES!#REF!,0)","v":0},null,{"$f":"IF(J186>0,1,0)","v":0},null,{"$f":"QUOTES!L21","v":0},{"$f":"QUOTES!K21","v":0}]
[{"$f":"IF(G187>0,QUOTES!C22,0)","v":0},{"$f":"IF(G187>0,QUOTES!D22,0)","v":0},{"$f":"IF(G187>0,QUOTES!E19,0)","v":0},{"$f":"IF(G187>0,QUOTES!F22,0)","v":0},{"$f":"IF(J187>0,\"*CAD02\",0)","v":0},null,{"$f":"IF(J187>0,1,0)","v":0},null,null,{"$f":"QUOTES!K22","v":0}]
[{"$f":"_xlfn.XLOOKUP(B188,Lists!AV:AV,Lists!BD:BD,0)","v":"340"},{"$f":"_xlfn.XLOOKUP(C188,Lists!AW:AW,Lists!AV:AV,0,)","v":"340-010-100100"},{"$f":"IF(G188>0,'Elec,Ceiling,Plaster,Paint '!B4,0)","v":"SYNERGY CONNECTION NUMBER:"},{"$f":"'Elec,Ceiling,Plaster,Paint '!D4","v":0},null,null,{"$f":"'Elec,Ceiling,Plaster,Paint '!F4","v":1}]
[{"$f":"_xlfn.XLOOKUP(B189,Lists!AV:AV,Lists!BD:BD,0)","v":0},{"$f":"IF(G189>0,'Elec,Ceiling,Plaster,Paint '!E10,0)","v":0},{"$f":"IF(G189>0,'Elec,Ceiling,Plaster,Paint '!B10,0)","v":0},{"$f":"IF(G189>0,'Elec,Ceiling,Plaster,Paint '!D10,0)","v":0},null,null,{"$f":"'Elec,Ceiling,Plaster,Paint '!F10","v":0}]
[{"$f":"_xlfn.XLOOKUP(B190,Lists!AV:AV,Lists!BD:BD,0)","v":"340"},{"$f":"IF(G190>0,'Elec,Ceiling,Plaster,Paint '!E11,0)","v":"340-100-100100"},{"$f":"IF(G190>0,'Elec,Ceiling,Plaster,Paint '!B11,0)","v":"FINAL METER CONNECTION"},{"$f":"IF(G190>0,'Elec,Ceiling,Plaster,Paint '!D11,0)","v":"SINGLE PHASE"},null,null,{"$f":"'Elec,Ceiling,Plaster,Paint '!F11","v":1}]
[{"$f":"_xlfn.XLOOKUP(B191,Lists!AV:AV,Lists!BD:BD,0)","v":"340"},{"$f":"IF(G191>0,'Elec,Ceiling,Plaster,Paint '!E12,0)","v":"340-100-100200"},{"$f":"IF(G191>0,'Elec,Ceiling,Plaster,Paint '!B12,0)","v":"MAINS SWITCHBOARD"},{"$f":"IF(G191>0,'Elec,Ceiling,Plaster,Paint '!D12,0)","v":"SINGLE PHASE"},null,null,{"$f":"'Elec,Ceiling,Plaster,Paint '!F12","v":1}]
[{"$f":"_xlfn.XLOOKUP(B192,Lists!AV:AV,Lists!BD:BD,0)","v":0},{"$f":"IF(G192>0,'Elec,Ceiling,Plaster,Paint '!E13,0)","v":0},{"$f":"IF(G192>0,'Elec,Ceiling,Plaster,Paint '!B13,0)","v":0},{"$f":"IF(G192>0,'Elec,Ceiling,Plaster,Paint '!D13,0)","v":0},null,null,{"$f":"'Elec,Ceiling,Plaster,Paint '!F13","v":0}]
[{"$f":"_xlfn.XLOOKUP(B193,Lists!AV:AV,Lists!BD:BD,0)","v":0},{"$f":"IF(G193>0,'Elec,Ceiling,Plaster,Paint '!E14,0)","v":0},{"$f":"IF(G193>0,'Elec,Ceiling,Plaster,Paint '!B14,0)","v":0},{"$f":"IF(G193>0,'Elec,Ceiling,Plaster,Paint '!D14,0)","v":0},null,null,{"$f":"'Elec,Ceiling,Plaster,Paint '!F14","v":0}]
[{"$f":"_xlfn.XLOOKUP(B194,Lists!AV:AV,Lists!BD:BD,0)","v":0},{"$f":"IF(G194>0,'Elec,Ceiling,Plaster,Paint '!E16,0)","v":0},{"$f":"IF(G194>0,'Elec,Ceiling,Plaster,Paint '!B16,0)","v":0},{"$f":"IF(G194>0,'Elec,Ceiling,Plaster,Paint '!D16,0)","v":0},null,null,{"$f":"'Elec,Ceiling,Plaster,Paint '!F16","v":0}]
[{"$f":"_xlfn.XLOOKUP(B195,Lists!AV:AV,Lists!BD:BD,0)","v":0},{"$f":"IF(G195>0,'Elec,Ceiling,Plaster,Paint '!E17,0)","v":0},{"$f":"IF(G195>0,'Elec,Ceiling,Plaster,Paint '!B17,0)","v":0},{"$f":"IF(G195>0,'Elec,Ceiling,Plaster,Paint '!D17,0)","v":0},null,null,{"$f":"'Elec,Ceiling,Plaster,Paint '!F17","v":0}]
[{"$f":"_xlfn.XLOOKUP(B196,Lists!AV:AV,Lists!BD:BD,0)","v":0},{"$f":"IF(G196>0,'Elec,Ceiling,Plaster,Paint '!E18,0)","v":0},{"$f":"IF(G196>0,'Elec,Ceiling,Plaster,Paint '!B18,0)","v":0},{"$f":"IF(G196>0,'Elec,Ceiling,Plaster,Paint '!D18,0)","v":0},null,null,{"$f":"'Elec,Ceiling,Plaster,Paint '!F18","v":0}]
[{"$f":"_xlfn.XLOOKUP(B197,Lists!AV:AV,Lists!BD:BD,0)","v":0},{"$f":"IF(G197>0,'Elec,Ceiling,Plaster,Paint '!E19,0)","v":0},{"$f":"IF(G197>0,'Elec,Ceiling,Plaster,Paint '!B19,0)","v":0},{"$f":"IF(G197>0,'Elec,Ceiling,Plaster,Paint '!D19,0)","v":0},null,null,{"$f":"'Elec,Ceiling,Plaster,Paint '!F19","v":0}]
[{"$f":"_xlfn.XLOOKUP(B198,Lists!AV:AV,Lists!BD:BD,0)","v":0},{"$f":"IF(G198>0,'Elec,Ceiling,Plaster,Paint '!E20,0)","v":0},{"$f":"IF(G198>0,'Elec,Ceiling,Plaster,Paint '!B20,0)","v":0},{"$f":"IF(G198>0,'Elec,Ceiling,Plaster,Paint '!D20,0)","v":0},null,null,{"$f":"'Elec,Ceiling,Plaster,Paint '!F20","v":0}]
[{"$f":"_xlfn.XLOOKUP(B199,Lists!AV:AV,Lists!BD:BD,0)","v":0},{"$f":"IF(G199>0,'Elec,Ceiling,Plaster,Paint '!E21,0)","v":0},{"$f":"IF(G199>0,'Elec,Ceiling,Plaster,Paint '!B21,0)","v":0},{"$f":"IF(G199>0,'Elec,Ceiling,Plaster,Paint '!D21,0)","v":0},null,null,{"$f":"'Elec,Ceiling,Plaster,Paint '!F21","v":0}]
[{"$f":"_xlfn.XLOOKUP(B200,Lists!AV:AV,Lists!BD:BD,0)","v":0},{"$f":"IF(G200>0,'Elec,Ceiling,Plaster,Paint '!E22,0)","v":0},{"$f":"IF(G200>0,'Elec,Ceiling,Plaster,Paint '!B22,0)","v":0},{"$f":"IF(G200>0,'Elec,Ceiling,Plaster,Paint '!D22,0)","v":0},null,null,{"$f":"'Elec,Ceiling,Plaster,Paint '!F22","v":0}]
[{"$f":"_xlfn.XLOOKUP(B201,Lists!AV:AV,Lists!BD:BD,0)","v":0},{"$f":"IF(G201>0,'Elec,Ceiling,Plaster,Paint '!E23,0)","v":0},{"$f":"IF(G201>0,'Elec,Ceiling,Plaster,Paint '!B23,0)","v":0},{"$f":"IF(G201>0,'Elec,Ceiling,Plaster,Paint '!D23,0)","v":0},null,null,{"$f":"'Elec,Ceiling,Plaster,Paint '!F23","v":0}]
[{"$f":"_xlfn.XLOOKUP(B202,Lists!AV:AV,Lists!BD:BD,0)","v":0},{"$f":"IF(G202>0,'Elec,Ceiling,Plaster,Paint '!E25,0)","v":0},{"$f":"IF(G202>0,'Elec,Ceiling,Plaster,Paint '!B25,0)","v":0},{"$f":"IF(G202>0,'Elec,Ceiling,Plaster,Paint '!D25,0)","v":0},null,null,{"$f":"'Elec,Ceiling,Plaster,Paint '!F25","v":0}]
[{"$f":"_xlfn.XLOOKUP(B203,Lists!AV:AV,Lists!BD:BD,0)","v":0},{"$f":"IF(G203>0,'Elec,Ceiling,Plaster,Paint '!E26,0)","v":0},{"$f":"IF(G203>0,'Elec,Ceiling,Plaster,Paint '!B26,0)","v":0},{"$f":"IF(G203>0,'Elec,Ceiling,Plaster,Paint '!D26,0)","v":0},null,null,{"$f":"'Elec,Ceiling,Plaster,Paint '!F26","v":0}]
[{"$f":"_xlfn.XLOOKUP(B204,Lists!AV:AV,Lists!BD:BD,0)","v":0},{"$f":"IF(G204>0,'Elec,Ceiling,Plaster,Paint '!E27,0)","v":0},{"$f":"IF(G204>0,'Elec,Ceiling,Plaster,Paint '!B27,0)","v":0},{"$f":"IF(G204>0,'Elec,Ceiling,Plaster,Paint '!D27,0)","v":0},null,null,{"$f":"'Elec,Ceiling,Plaster,Paint '!F27","v":0}]
[{"$f":"_xlfn.XLOOKUP(B205,Lists!AV:AV,Lists!BD:BD,0)","v":0},{"$f":"IF(G205>0,'Elec,Ceiling,Plaster,Paint '!E28,0)","v":0},{"$f":"IF(G205>0,'Elec,Ceiling,Plaster,Paint '!B28,0)","v":0},{"$f":"IF(G205>0,'Elec,Ceiling,Plaster,Paint '!D28,0)","v":0},null,null,{"$f":"'Elec,Ceiling,Plaster,Paint '!F28","v":0}]
[{"$f":"_xlfn.XLOOKUP(B206,Lists!AV:AV,Lists!BD:BD,0)","v":0},{"$f":"IF(G206>0,'Elec,Ceiling,Plaster,Paint '!E29,0)","v":0},{"$f":"IF(G206>0,'Elec,Ceiling,Plaster,Paint '!B29,0)","v":0},{"$f":"IF(G206>0,'Elec,Ceiling,Plaster,Paint '!D29,0)","v":0},null,null,{"$f":"'Elec,Ceiling,Plaster,Paint '!F29","v":0}]
[{"$f":"_xlfn.XLOOKUP(B207,Lists!AV:AV,Lists!BD:BD,0)","v":0},{"$f":"IF(G207>0,'Elec,Ceiling,Plaster,Paint '!E30,0)","v":0},{"$f":"IF(G207>0,'Elec,Ceiling,Plaster,Paint '!B30,0)","v":0},{"$f":"IF(G207>0,'Elec,Ceiling,Plaster,Paint '!D30,0)","v":0},null,null,{"$f":"'Elec,Ceiling,Plaster,Paint '!F30","v":0}]
[{"$f":"_xlfn.XLOOKUP(B208,Lists!AV:AV,Lists!BD:BD,0)","v":0},{"$f":"IF(G208>0,'Elec,Ceiling,Plaster,Paint '!E32,0)","v":0},{"$f":"IF(G208>0,'Elec,Ceiling,Plaster,Paint '!B32,0)","v":0},{"$f":"IF(G208>0,'Elec,Ceiling,Plaster,Paint '!D32,0)","v":0},null,null,{"$f":"'Elec,Ceiling,Plaster,Paint '!F32","v":0}]
[{"$f":"_xlfn.XLOOKUP(B209,Lists!AV:AV,Lists!BD:BD,0)","v":0},{"$f":"IF(G209>0,'Elec,Ceiling,Plaster,Paint '!E33,0)","v":0},{"$f":"IF(G209>0,'Elec,Ceiling,Plaster,Paint '!B33,0)","v":0},{"$f":"IF(G209>0,'Elec,Ceiling,Plaster,Paint '!D33,0)","v":0},null,null,{"$f":"'Elec,Ceiling,Plaster,Paint '!F33","v":0}]
[{"$f":"_xlfn.XLOOKUP(B210,Lists!AV:AV,Lists!BD:BD,0)","v":0},{"$f":"IF(G210>0,'Elec,Ceiling,Plaster,Paint '!E34,0)","v":0},{"$f":"IF(G210>0,'Elec,Ceiling,Plaster,Paint '!B34,0)","v":0},{"$f":"IF(G210>0,'Elec,Ceiling,Plaster,Paint '!D34,0)","v":0},null,null,{"$f":"'Elec,Ceiling,Plaster,Paint '!F34","v":0}]
[{"$f":"_xlfn.XLOOKUP(B211,Lists!AV:AV,Lists!BD:BD,0)","v":0},{"$f":"IF(G211>0,'Elec,Ceiling,Plaster,Paint '!E36,0)","v":0},{"$f":"IF(G211>0,'Elec,Ceiling,Plaster,Paint '!B36,0)","v":0},{"$f":"IF(G211>0,'Elec,Ceiling,Plaster,Paint '!D36,0)","v":0},null,null,{"$f":"'Elec,Ceiling,Plaster,Paint '!F36","v":0}]
[{"$f":"_xlfn.XLOOKUP(B212,Lists!AV:AV,Lists!BD:BD,0)","v":0},{"$f":"IF(G212>0,'Elec,Ceiling,Plaster,Paint '!E37,0)","v":0},{"$f":"IF(G212>0,'Elec,Ceiling,Plaster,Paint '!B37,0)","v":0},{"$f":"IF(G212>0,'Elec,Ceiling,Plaster,Paint '!D37,0)","v":0},null,null,{"$f":"'Elec,Ceiling,Plaster,Paint '!F37","v":0}]
[{"$f":"_xlfn.XLOOKUP(B213,Lists!AV:AV,Lists!BD:BD,0)","v":0},{"$f":"IF(G213>0,'Elec,Ceiling,Plaster,Paint '!E38,0)","v":0},{"$f":"IF(G213>0,'Elec,Ceiling,Plaster,Paint '!B38,0)","v":0},{"$f":"IF(G213>0,'Elec,Ceiling,Plaster,Paint '!D38,0)","v":0},null,null,{"$f":"'Elec,Ceiling,Plaster,Paint '!F38","v":0}]
[{"$f":"_xlfn.XLOOKUP(B214,Lists!AV:AV,Lists!BD:BD,0)","v":0},{"$f":"IF(G214>0,'Elec,Ceiling,Plaster,Paint '!E39,0)","v":0},{"$f":"IF(G214>0,'Elec,Ceiling,Plaster,Paint '!B39,0)","v":0},null,null,null,{"$f":"'Elec,Ceiling,Plaster,Paint '!F39","v":0}]
[{"$f":"_xlfn.XLOOKUP(B215,Lists!AV:AV,Lists!BD:BD,0)","v":0},{"$f":"IF(G215>0,'Elec,Ceiling,Plaster,Paint '!E41,0)","v":0},{"$f":"IF(G215>0,'Elec,Ceiling,Plaster,Paint '!B41,0)","v":0},{"$f":"IF(G215>0,'Elec,Ceiling,Plaster,Paint '!D41,0)","v":0},null,null,{"$f":"'Elec,Ceiling,Plaster,Paint '!F41","v":0}]
[{"$f":"_xlfn.XLOOKUP(B216,Lists!AV:AV,Lists!BD:BD,0)","v":0},{"$f":"IF(G216>0,'Elec,Ceiling,Plaster,Paint '!E42,0)","v":0},{"$f":"IF(G216>0,'Elec,Ceiling,Plaster,Paint '!B42,0)","v":0},{"$f":"IF(G216>0,'Elec,Ceiling,Plaster,Paint '!D42,0)","v":0},null,null,{"$f":"'Elec,Ceiling,Plaster,Paint '!F42","v":0}]
[{"$f":"_xlfn.XLOOKUP(B217,Lists!AV:AV,Lists!BD:BD,0)","v":0},{"$f":"IF(G217>0,'Elec,Ceiling,Plaster,Paint '!E44,0)","v":0},{"$f":"IF(G217>0,'Elec,Ceiling,Plaster,Paint '!B44,0)","v":0},{"$f":"IF(G217>0,'Elec,Ceiling,Plaster,Paint '!D44,0)","v":0},null,null,{"$f":"'Elec,Ceiling,Plaster,Paint '!F44","v":0}]
[{"$f":"_xlfn.XLOOKUP(B218,Lists!AV:AV,Lists!BD:BD,0)","v":0},{"$f":"IF(G218>0,'Elec,Ceiling,Plaster,Paint '!E45,0)","v":0},{"$f":"IF(G218>0,'Elec,Ceiling,Plaster,Paint '!B45,0)","v":0},{"$f":"IF(G218>0,'Elec,Ceiling,Plaster,Paint '!D45,0)","v":0},null,null,{"$f":"'Elec,Ceiling,Plaster,Paint '!F45","v":0}]
[{"$f":"_xlfn.XLOOKUP(B219,Lists!AV:AV,Lists!BD:BD,0)","v":0},{"$f":"IF(G219>0,'Elec,Ceiling,Plaster,Paint '!E47,0)","v":0},{"$f":"IF(G219>0,'Elec,Ceiling,Plaster,Paint '!B47,0)","v":0},{"$f":"IF(G219>0,'Elec,Ceiling,Plaster,Paint '!D47,0)","v":0},null,null,{"$f":"'Elec,Ceiling,Plaster,Paint '!F47","v":0}]
[{"$f":"_xlfn.XLOOKUP(B220,Lists!AV:AV,Lists!BD:BD,0)","v":0},{"$f":"IF(G220>0,'Elec,Ceiling,Plaster,Paint '!E48,0)","v":0},{"$f":"IF(G220>0,'Elec,Ceiling,Plaster,Paint '!B48,0)","v":0},{"$f":"IF(G220>0,'Elec,Ceiling,Plaster,Paint '!D48,0)","v":0},null,null,{"$f":"'Elec,Ceiling,Plaster,Paint '!F48","v":0}]
[{"$f":"_xlfn.XLOOKUP(B221,Lists!AV:AV,Lists!BD:BD,0)","v":0},{"$f":"IF(G221>0,'Elec,Ceiling,Plaster,Paint '!E49,0)","v":0},{"$f":"IF(G221>0,'Elec,Ceiling,Plaster,Paint '!B49,0)","v":0},{"$f":"IF(G221>0,'Elec,Ceiling,Plaster,Paint '!D49,0)","v":0},null,null,{"$f":"'Elec,Ceiling,Plaster,Paint '!F49","v":0}]
[{"$f":"_xlfn.XLOOKUP(B222,Lists!AV:AV,Lists!BD:BD,0)","v":0},{"$f":"IF(G222>0,'Elec,Ceiling,Plaster,Paint '!E51,0)","v":0},{"$f":"IF(G222>0,'Elec,Ceiling,Plaster,Paint '!B51,0)","v":0},{"$f":"IF(G222>0,'Elec,Ceiling,Plaster,Paint '!D51,0)","v":0},null,null,{"$f":"'Elec,Ceiling,Plaster,Paint '!F51","v":0}]
[{"$f":"_xlfn.XLOOKUP(B223,Lists!AV:AV,Lists!BD:BD,0)","v":0},{"$f":"IF(G223>0,'Elec,Ceiling,Plaster,Paint '!E52,0)","v":0},{"$f":"IF(G223>0,'Elec,Ceiling,Plaster,Paint '!B52,0)","v":0},{"$f":"IF(G223>0,'Elec,Ceiling,Plaster,Paint '!D52,0)","v":0},null,null,{"$f":"'Elec,Ceiling,Plaster,Paint '!F52","v":0}]
[{"$f":"_xlfn.XLOOKUP(B224,Lists!AV:AV,Lists!BD:BD,0)","v":0},{"$f":"IF(G224>0,'Elec,Ceiling,Plaster,Paint '!E53,0)","v":0},{"$f":"IF(G224>0,'Elec,Ceiling,Plaster,Paint '!B53,0)","v":0},{"$f":"IF(G224>0,'Elec,Ceiling,Plaster,Paint '!D53,0)","v":0},null,null,{"$f":"'Elec,Ceiling,Plaster,Paint '!F53","v":0}]
[{"$f":"_xlfn.XLOOKUP(B225,Lists!AV:AV,Lists!BD:BD,0)","v":0},{"$f":"IF(G225>0,'Elec,Ceiling,Plaster,Paint '!E55,0)","v":0},{"$f":"IF(G225>0,'Elec,Ceiling,Plaster,Paint '!B55,0)","v":0},{"$f":"IF(G225>0,'Elec,Ceiling,Plaster,Paint '!D55,0)","v":0},null,null,{"$f":"'Elec,Ceiling,Plaster,Paint '!F55","v":0}]
[{"$f":"_xlfn.XLOOKUP(B226,Lists!AV:AV,Lists!BD:BD,0)","v":0},{"$f":"IF(G226>0,'Elec,Ceiling,Plaster,Paint '!E56,0)","v":0},{"$f":"IF(G226>0,'Elec,Ceiling,Plaster,Paint '!B56,0)","v":0},{"$f":"IF(G226>0,'Elec,Ceiling,Plaster,Paint '!D56,0)","v":0},null,null,{"$f":"'Elec,Ceiling,Plaster,Paint '!F56","v":0}]
[{"$f":"_xlfn.XLOOKUP(B227,Lists!AV:AV,Lists!BD:BD,0)","v":0},{"$f":"IF(G227>0,'Elec,Ceiling,Plaster,Paint '!E57,0)","v":0},{"$f":"IF(G227>0,'Elec,Ceiling,Plaster,Paint '!B57,0)","v":0},{"$f":"IF(G227>0,'Elec,Ceiling,Plaster,Paint '!D57,0)","v":0},null,null,{"$f":"'Elec,Ceiling,Plaster,Paint '!F57","v":0}]
[{"$f":"_xlfn.XLOOKUP(B228,Lists!AV:AV,Lists!BD:BD,0)","v":0},{"$f":"IF(G228>0,'Elec,Ceiling,Plaster,Paint '!E59,0)","v":0},{"$f":"IF(G228>0,'Elec,Ceiling,Plaster,Paint '!B59,0)","v":0},{"$f":"IF(G228>0,'Elec,Ceiling,Plaster,Paint '!D59,0)","v":0},null,null,{"$f":"'Elec,Ceiling,Plaster,Paint '!F59","v":0}]
[{"$f":"_xlfn.XLOOKUP(B229,Lists!AV:AV,Lists!BD:BD,0)","v":0},{"$f":"IF(G229>0,'Elec,Ceiling,Plaster,Paint '!E60,0)","v":0},{"$f":"IF(G229>0,'Elec,Ceiling,Plaster,Paint '!B60,0)","v":0},{"$f":"IF(G229>0,'Elec,Ceiling,Plaster,Paint '!D60,0)","v":0},null,null,{"$f":"'Elec,Ceiling,Plaster,Paint '!F60","v":0}]
[{"$f":"_xlfn.XLOOKUP(B230,Lists!AV:AV,Lists!BD:BD,0)","v":0},{"$f":"IF(G230>0,'Elec,Ceiling,Plaster,Paint '!E62,0)","v":0},{"$f":"IF(G230>0,'Elec,Ceiling,Plaster,Paint '!B62,0)","v":0},{"$f":"IF(G230>0,'Elec,Ceiling,Plaster,Paint '!D62,0)","v":0},null,null,{"$f":"'Elec,Ceiling,Plaster,Paint '!F62","v":0}]
[{"$f":"_xlfn.XLOOKUP(B231,Lists!AV:AV,Lists!BD:BD,0)","v":0},{"$f":"IF(G231>0,'Elec,Ceiling,Plaster,Paint '!E63,0)","v":0},{"$f":"IF(G231>0,'Elec,Ceiling,Plaster,Paint '!B63,0)","v":0},{"$f":"IF(G231>0,'Elec,Ceiling,Plaster,Paint '!D63,0)","v":0},null,null,{"$f":"'Elec,Ceiling,Plaster,Paint '!F63","v":0}]
[{"$f":"_xlfn.XLOOKUP(B232,Lists!AV:AV,Lists!BD:BD,0)","v":0},{"$f":"IF(G232>0,'Elec,Ceiling,Plaster,Paint '!E64,0)","v":0},{"$f":"IF(G232>0,'Elec,Ceiling,Plaster,Paint '!B64,0)","v":0},{"$f":"IF(G232>0,'Elec,Ceiling,Plaster,Paint '!D64,0)","v":0},null,null,{"$f":"'Elec,Ceiling,Plaster,Paint '!F64","v":0}]
[{"$f":"_xlfn.XLOOKUP(B233,Lists!AV:AV,Lists!BD:BD,0)","v":0},{"$f":"IF(G233>0,'Elec,Ceiling,Plaster,Paint '!E67,0)","v":0},{"$f":"IF(G233>0,'Elec,Ceiling,Plaster,Paint '!B67,0)","v":0},{"$f":"IF(G233>0,'Elec,Ceiling,Plaster,Paint '!D67,0)","v":0},null,null,{"$f":"'Elec,Ceiling,Plaster,Paint '!F67","v":0}]
[{"$f":"_xlfn.XLOOKUP(B234,Lists!AV:AV,Lists!BD:BD,0)","v":0},{"$f":"IF(G234>0,'Elec,Ceiling,Plaster,Paint '!E68,0)","v":0},{"$f":"_xlfn.XLOOKUP(B234,Lists!$AV:$AV,Lists!AW:AW,0)","v":0},{"$f":"_xlfn.XLOOKUP(B234,Lists!$AV:$AV,Lists!AX:AX,0)","v":0},null,null,{"$f":"'Elec,Ceiling,Plaster,Paint '!F68","v":0},"TV"]
[{"$f":"_xlfn.XLOOKUP(B235,Lists!AV:AV,Lists!BD:BD,0)","v":0},{"$f":"IF(G235>0,'Elec,Ceiling,Plaster,Paint '!E69,0)","v":0},{"$f":"_xlfn.XLOOKUP(B235,Lists!$AV:$AV,Lists!AW:AW,0)","v":0},{"$f":"_xlfn.XLOOKUP(B235,Lists!$AV:$AV,Lists!AX:AX,0)","v":0},null,null,{"$f":"'Elec,Ceiling,Plaster,Paint '!F69","v":0}]
[{"$f":"_xlfn.XLOOKUP(B236,Lists!AV:AV,Lists!BD:BD,0)","v":0},{"$f":"IF(G236>0,'Elec,Ceiling,Plaster,Paint '!E70,0)","v":0},{"$f":"_xlfn.XLOOKUP(B236,Lists!$AV:$AV,Lists!AW:AW,0)","v":0},{"$f":"_xlfn.XLOOKUP(B236,Lists!$AV:$AV,Lists!AX:AX,0)","v":0},null,null,{"$f":"'Elec,Ceiling,Plaster,Paint '!F70","v":0}]
[{"$f":"_xlfn.XLOOKUP(B237,Lists!AV:AV,Lists!BD:BD,0)","v":0},{"$f":"IF(G237>0,'Elec,Ceiling,Plaster,Paint '!E71,0)","v":0},{"$f":"_xlfn.XLOOKUP(B237,Lists!$AV:$AV,Lists!AW:AW,0)","v":0},{"$f":"_xlfn.XLOOKUP(B237,Lists!$AV:$AV,Lists!AX:AX,0)","v":0},null,null,{"$f":"'Elec,Ceiling,Plaster,Paint '!F71","v":0}]
[{"$f":"_xlfn.XLOOKUP(B238,Lists!AV:AV,Lists!BD:BD,0)","v":0},{"$f":"IF(G238>0,'Elec,Ceiling,Plaster,Paint '!E72,0)","v":0},{"$f":"_xlfn.XLOOKUP(B238,Lists!$AV:$AV,Lists!AW:AW,0)","v":0},{"$f":"_xlfn.XLOOKUP(B238,Lists!$AV:$AV,Lists!AX:AX,0)","v":0},null,null,{"$f":"'Elec,Ceiling,Plaster,Paint '!F72","v":0}]
[{"$f":"_xlfn.XLOOKUP(D239,Lists!AX:AX,Lists!BD:BD,0)","v":0},{"$f":"_xlfn.XLOOKUP(1,\n(Lists!$AW:$AW=C239)*\n(Lists!$AX:$AX=D239),\n(Lists!$AV:$AV))","v":0},{"$f":"IF(G239>0,'Elec,Ceiling,Plaster,Paint '!M35,0)","v":0},{"$f":"IF(G239>0,'Elec,Ceiling,Plaster,Paint '!U36,0)","v":0},null,null,{"$f":"'Elec,Ceiling,Plaster,Paint '!Q37","v":0}]
[{"$f":"_xlfn.XLOOKUP(C240,Lists!AW:AW,Lists!BD:BD,0)","v":0},{"$f":"_xlfn.XLOOKUP(1,\n(Lists!$AW:$AW=C240)*\n(Lists!$AX:$AX=D240),\n(Lists!$AV:$AV))","v":0},null,{"$f":"IF(G240>0,'Elec,Ceiling,Plaster,Paint '!U37,0)","v":0}]
[{"$f":"_xlfn.XLOOKUP(C241,Lists!AW:AW,Lists!BD:BD,0)","v":0},{"$f":"_xlfn.XLOOKUP(C241,Lists!AW:AW,Lists!AV:AV,0,)","v":0},{"$f":"IF(G241>0,'Elec,Ceiling,Plaster,Paint '!M47,0)","v":0},{"$f":"_xlfn.XLOOKUP(C241,Lists!AW:AW,Lists!AX:AX,0)","v":0},null,null,{"$f":"'Elec,Ceiling,Plaster,Paint '!Q47","v":0}]
[{"$f":"_xlfn.XLOOKUP(C242,Lists!AW:AW,Lists!BD:BD,0)","v":0},{"$f":"_xlfn.XLOOKUP(C242,Lists!AW:AW,Lists!AV:AV,0,)","v":0},null,{"$f":"_xlfn.XLOOKUP(C242,Lists!AW:AW,Lists!AX:AX,0)","v":0}]
[{"$f":"_xlfn.XLOOKUP(C243,Lists!AW:AW,Lists!BD:BD,0)","v":0},{"$f":"_xlfn.XLOOKUP(1,\n(Lists!$AW:$AW=C243)*\n(Lists!$AX:$AX=D243),\n(Lists!$AV:$AV))","v":0},{"$f":"IF(G243>0,('Elec,Ceiling,Plaster,Paint '!M42),0)","v":0},{"$f":"_xlfn.XLOOKUP(C243,Lists!AW:AW,Lists!AX:AX,0)","v":0},null,null,{"$f":"'Elec,Ceiling,Plaster,Paint '!V41","v":0}]
[{"$f":"_xlfn.XLOOKUP(C244,Lists!AW:AW,Lists!BD:BD,0)","v":"405"},{"$f":"_xlfn.XLOOKUP(1,\n(Lists!$AW:$AW=C244)*\n(Lists!$AX:$AX=D244),\n(Lists!$AV:$AV))","v":"405-100-100150"},{"$f":"IF(G244>0,'Elec,Ceiling,Plaster,Paint '!M42,0)","v":"SAND FINISH RENDER"},{"$f":"IF(G244>0,'Elec,Ceiling,Plaster,Paint '!U42,0)","v":"GROUND FLOOR OVER 55m2"},null,null,{"$f":"'Elec,Ceiling,Plaster,Paint '!V42","v":68.754000000000005}]
[{"$f":"_xlfn.XLOOKUP(C245,Lists!AW:AW,Lists!BD:BD,0)","v":"405"},{"$f":"_xlfn.XLOOKUP(C245,Lists!AW:AW,Lists!AV:AV,0,)","v":"405-100-100690"},{"$f":"IF(G245>0,'Elec,Ceiling,Plaster,Paint '!M48,0)","v":"PLASTIC BEADS"},{"$f":"_xlfn.XLOOKUP(C245,Lists!AW:AW,Lists!AX:AX,0)","v":""},null,null,{"$f":"'Elec,Ceiling,Plaster,Paint '!Q48","v":21}]
[{"$f":"_xlfn.XLOOKUP(C246,Lists!AW:AW,Lists!BD:BD,0)","v":0},{"$f":"_xlfn.XLOOKUP(C246,Lists!AW:AW,Lists!AV:AV,0,)","v":0},{"$f":"IF(G246>0,'Elec,Ceiling,Plaster,Paint '!U49,0)","v":0},{"$f":"_xlfn.XLOOKUP(C246,Lists!AW:AW,Lists!AX:AX,0)","v":0},null,null,{"$f":"'Brick Final Sheet '!N64","v":0}]
[{"$f":"_xlfn.XLOOKUP(C247,Lists!AW:AW,Lists!BD:BD,0)","v":0},{"$f":"_xlfn.XLOOKUP(1,\n(Lists!$AW:$AW=C247)*\n(Lists!$AX:$AX=D247),\n(Lists!$AV:$AV))","v":0},{"$f":"IF(G247>0, 'Elec,Ceiling,Plaster,Paint '!M58,)","v":0},{"$f":"_xlfn.XLOOKUP(C247,Lists!AW:AW,Lists!AX:AX,0)","v":0},null,null,{"$f":"'Elec,Ceiling,Plaster,Paint '!V55","v":0}]
[{"$f":"_xlfn.XLOOKUP(C248,Lists!AW:AW,Lists!BD:BD,0)","v":0},{"$f":"_xlfn.XLOOKUP(1,\n(Lists!$AW:$AW=C248)*\n(Lists!$AX:$AX=D248),\n(Lists!$AV:$AV))","v":0},{"$f":"IF(G248>0, 'Elec,Ceiling,Plaster,Paint '!M58,0)","v":0},{"$f":"IF(G248>0,'Elec,Ceiling,Plaster,Paint '!U56,0)","v":0},null,null,{"$f":"'Elec,Ceiling,Plaster,Paint '!V56","v":0}]
[{"$f":"_xlfn.XLOOKUP(C249,Lists!AW:AW,Lists!BD:BD,0)","v":0},{"$f":"_xlfn.XLOOKUP(1,\n(Lists!$AW:$AW=C249)*\n(Lists!$AX:$AX=D249),\n(Lists!$AV:$AV))","v":0},{"$f":"IF(G249=\"\",\"\",('Elec,Ceiling,Plaster,Paint '!U50))","v":""},null,null,null,{"$f":"'Elec,Ceiling,Plaster,Paint '!V50","v":""}]
[{"$f":"_xlfn.XLOOKUP(C250,Lists!AW:AW,Lists!BD:BD,0)","v":0},{"$f":"_xlfn.XLOOKUP(1,\n(Lists!$AW:$AW=C250)*\n(Lists!$AX:$AX=D250),\n(Lists!$AV:$AV))","v":0}]
[{"$f":"IF(G251>0,QUOTES!C27,0)","v":0},{"$f":"IF(G251>0,QUOTES!D27,0)","v":0},{"$f":"IF($G$252>0,QUOTES!E27,0)","v":0},{"$f":"IF($G$252>0,QUOTES!F27,0)","v":0},null,null,{"$f":"IF(J251>0,1,0)","v":0},null,{"$f":"QUOTES!L27","v":0},{"$f":"QUOTES!K27","v":0}]
[{"$f":"IF(G252>0,QUOTES!C24,0)","v":0},{"$f":"IF(G252>0,QUOTES!D24,0)","v":0},{"$f":"IF($G$252>0,QUOTES!E24,0)","v":0},{"$f":"IF($G$252>0,QUOTES!F24,0)","v":0},null,null,{"$f":"IF(J252>0,1,0)","v":0},null,{"$f":"QUOTES!L24","v":0},{"$f":"QUOTES!K24","v":0}]
[{"$f":"IF(G253>0,QUOTES!C25,0)","v":0},{"$f":"IF(G253>0,QUOTES!D25,0)","v":0},{"$f":"IF(G253>0,QUOTES!E25,0)","v":0},{"$f":"IF(H253>0,QUOTES!F25,0)","v":0},{"$f":"IF(J253>0,\"*CAD02\",0)","v":0},null,{"$f":"IF(J253>0,1,0)","v":0},null,null,{"$f":"QUOTES!K25","v":0}]
[{"$f":"_xlfn.XLOOKUP(C254,Lists!AW:AW,Lists!BD:BD,0)","v":"415"},{"$f":"IF(G254>0,'Elec,Ceiling,Plaster,Paint '!U6,0)","v":"415-100-200400"},{"$f":"_xlfn.XLOOKUP(B254,Lists!AV:AV,Lists!AW:AW,0)","v":"TERMICO E/O STEEL FRAMED ROOF"},{"$f":"_xlfn.XLOOKUP(B254,Lists!AV:AV,Lists!AX:AX,0)","v":"INCLUSIVE OF INSTALLING"},null,null,{"$f":"'Elec,Ceiling,Plaster,Paint '!V7","v":354.45600000000002}]
[{"$f":"_xlfn.XLOOKUP(C255,Lists!AW:AW,Lists!BD:BD,0)","v":"415"},{"$f":"IF(G255>0,'Elec,Ceiling,Plaster,Paint '!U7,0)","v":"415-120-100100"},{"$f":"_xlfn.XLOOKUP(B255,Lists!AV:AV,Lists!AW:AW,0)","v":"R4.1 ECOWOOL BATTS - SUPPLY &"},{"$f":"_xlfn.XLOOKUP(B255,Lists!AV:AV,Lists!AX:AX,0)","v":"INSTALL TO FLAT CEILINGS"},null,null,{"$f":"'Elec,Ceiling,Plaster,Paint '!V7","v":354.45600000000002}]
[{"$f":"_xlfn.XLOOKUP(C256,Lists!AW:AW,Lists!BD:BD,0)","v":0},{"$f":"IF(G256>0,'Elec,Ceiling,Plaster,Paint '!V28,0)","v":0},{"$f":"_xlfn.XLOOKUP(B256,Lists!AV:AV,Lists!AW:AW,0)","v":0},{"$f":"_xlfn.XLOOKUP(B256,Lists!AV:AV,Lists!AX:AX,0)","v":0},null,null,{"$f":"'Elec,Ceiling,Plaster,Paint '!U28","v":0}]
[{"$f":"_xlfn.XLOOKUP(C257,Lists!AW:AW,Lists!BD:BD,0)","v":0},{"$f":"IF(G257>0,'Elec,Ceiling,Plaster,Paint '!U8,0)","v":0},{"$f":"_xlfn.XLOOKUP(B257,Lists!AV:AV,Lists!AW:AW,0)","v":0},{"$f":"_xlfn.XLOOKUP(B257,Lists!AV:AV,Lists!AX:AX,0)","v":0},null,null,{"$f":"'Elec,Ceiling,Plaster,Paint '!V8","v":0}]
[{"$f":"_xlfn.XLOOKUP(C258,Lists!AW:AW,Lists!BD:BD,0)","v":"415"},{"$f":"_xlfn.XLOOKUP(C258,Lists!AW:AW,Lists!AV:AV,0,)","v":"415-500-200200"},{"$f":"IF(G258=\"\",\"\",('Elec,Ceiling,Plaster,Paint '!Q13))","v":"R2.0 Wall Batts"},{"$f":"_xlfn.XLOOKUP(B258,Lists!AV:AV,Lists!AX:AX,0)","v":"STRUNG - SUPPLY & INSTALL"},null,null,{"$f":"'Elec,Ceiling,Plaster,Paint '!V9","v":54.841650000000001}]
[{"$f":"_xlfn.XLOOKUP(C259,Lists!AW:AW,Lists!BD:BD,0)","v":0},{"$f":"_xlfn.XLOOKUP(C259,Lists!AW:AW,Lists!AV:AV,0,)","v":0},null,{"$f":"_xlfn.XLOOKUP(C259,Lists!AW:AW,Lists!AX:AX,0)","v":0}]
[{"$f":"IF(G260>0,QUOTES!C29,0)","v":0},{"$f":"IF(G260>0,QUOTES!D29,0)","v":0},{"$f":"IF($G$252>0,QUOTES!E29,0)","v":0},{"$f":"IF($G$252>0,QUOTES!F29,0)","v":0},null,null,{"$f":"IF(J260>0,1,0)","v":0},null,{"$f":"QUOTES!L29","v":0},{"$f":"QUOTES!K29","v":0}]
[{"$f":"_xlfn.XLOOKUP(C261,Lists!AW:AW,Lists!BD:BD,0)","v":0},{"$f":"_xlfn.XLOOKUP(1,\n(Lists!AW:AW=C261)*\n(Lists!AX:AX=D261),\n(Lists!AV:AV))","v":0},{"$f":"'FIxing Carpentry & Moulding'!R46","v":0},{"$f":"'FIxing Carpentry & Moulding'!X46","v":0},null,null,{"$f":"'FIxing Carpentry & Moulding'!AB46","v":0}]
[{"$f":"_xlfn.XLOOKUP(C262,Lists!AW:AW,Lists!BD:BD,0)","v":0},{"$f":"_xlfn.XLOOKUP(1,\n(Lists!AW:AW=C262)*\n(Lists!AX:AX=D262),\n(Lists!AV:AV))","v":0},{"$f":"'FIxing Carpentry & Moulding'!R47","v":0},{"$f":"'FIxing Carpentry & Moulding'!X47","v":0},null,null,{"$f":"'FIxing Carpentry & Moulding'!AB47","v":0}]
[{"$f":"_xlfn.XLOOKUP(C263,Lists!AW:AW,Lists!BD:BD,0)","v":0},{"$f":"_xlfn.XLOOKUP(1,\n(Lists!AW:AW=C263)*\n(Lists!AX:AX=D263),\n(Lists!AV:AV))","v":0},{"$f":"'FIxing Carpentry & Moulding'!R48","v":0},{"$f":"'FIxing Carpentry & Moulding'!X48","v":0},null,null,{"$f":"'FIxing Carpentry & Moulding'!AB48","v":0}]
[{"$f":"_xlfn.XLOOKUP(C264,Lists!AW:AW,Lists!BD:BD,0)","v":0},{"$f":"_xlfn.XLOOKUP(1,\n(Lists!AW:AW=C264)*\n(Lists!AX:AX=D264),\n(Lists!AV:AV))","v":0},{"$f":"'FIxing Carpentry & Moulding'!R49","v":0},{"$f":"'FIxing Carpentry & Moulding'!X49","v":0},null,null,{"$f":"'FIxing Carpentry & Moulding'!AB49","v":0}]
[{"$f":"_xlfn.XLOOKUP(C265,Lists!AW:AW,Lists!BD:BD,0)","v":0},{"$f":"_xlfn.XLOOKUP(1,\n(Lists!AW:AW=C265)*\n(Lists!AX:AX=D265),\n(Lists!AV:AV))","v":0},{"$f":"'FIxing Carpentry & Moulding'!R50","v":0},{"$f":"'FIxing Carpentry & Moulding'!X50","v":0},null,null,{"$f":"'FIxing Carpentry & Moulding'!AB50","v":0}]
[{"$f":"_xlfn.XLOOKUP(C266,Lists!AW:AW,Lists!BD:BD,0)","v":0},{"$f":"_xlfn.XLOOKUP(1,\n(Lists!AW:AW=C266)*\n(Lists!AX:AX=D266),\n(Lists!AV:AV))","v":0},{"$f":"'FIxing Carpentry & Moulding'!R51","v":0},{"$f":"'FIxing Carpentry & Moulding'!X51","v":0},null,null,{"$f":"'FIxing Carpentry & Moulding'!AB51","v":0}]
[{"$f":"_xlfn.XLOOKUP(C267,Lists!AW:AW,Lists!BD:BD,0)","v":0},{"$f":"_xlfn.XLOOKUP(1,\n(Lists!AW:AW=C267)*\n(Lists!AX:AX=D267),\n(Lists!AV:AV))","v":0},{"$f":"'FIxing Carpentry & Moulding'!R52","v":0},{"$f":"'FIxing Carpentry & Moulding'!X52","v":0},null,null,{"$f":"'FIxing Carpentry & Moulding'!AB52","v":0}]
[{"$f":"_xlfn.XLOOKUP(C268,Lists!AW:AW,Lists!BD:BD,0)","v":0},{"$f":"_xlfn.XLOOKUP(1,\n(Lists!AW:AW=C268)*\n(Lists!AX:AX=D268),\n(Lists!AV:AV))","v":0},{"$f":"'FIxing Carpentry & Moulding'!R53","v":0},{"$f":"'FIxing Carpentry & Moulding'!X53","v":0},null,null,{"$f":"'FIxing Carpentry & Moulding'!AB53","v":0}]
[{"$f":"_xlfn.XLOOKUP(C269,Lists!AW:AW,Lists!BD:BD,0)","v":0},{"$f":"_xlfn.XLOOKUP(1,\n(Lists!AW:AW=C269)*\n(Lists!AX:AX=D269),\n(Lists!AV:AV))","v":0}]
[{"$f":"IF(G270>0,QUOTES!C31,0)","v":0},{"$f":"IF(G270>0,QUOTES!D31,0)","v":0},{"$f":"IF($G$252>0,QUOTES!E31,0)","v":0},{"$f":"IF($G$252>0,QUOTES!F31,0)","v":0},null,null,{"$f":"IF(J270>0,1,0)","v":0},null,{"$f":"QUOTES!L31","v":0},{"$f":"QUOTES!K31","v":0}]
[{"$f":"_xlfn.XLOOKUP(B271,Lists!AV:AV,Lists!BD:BD,0)","v":0},{"$f":"IF(G271>0,'INT-EXT DOORS & int walls'!L16,0)","v":0},{"$f":"_xlfn.XLOOKUP(B271,Lists!AV:AV,Lists!AW:AW,0)","v":0},{"$f":"_xlfn.XLOOKUP(B271,Lists!AV:AV,Lists!AX:AX,0)","v":0},null,null,{"$f":"'INT-EXT DOORS & int walls'!U16","v":0}]
[{"$f":"_xlfn.XLOOKUP(B272,Lists!AV:AV,Lists!BD:BD,0)","v":0},{"$f":"IF(G272>0,'INT-EXT DOORS & int walls'!N16,0)","v":0},{"$f":"_xlfn.XLOOKUP(B272,Lists!AV:AV,Lists!AW:AW,0)","v":0},{"$f":"_xlfn.XLOOKUP(B272,Lists!AV:AV,Lists!AX:AX,0)","v":0},null,null,{"$f":"'INT-EXT DOORS & int walls'!U17","v":0}]
[{"$f":"_xlfn.XLOOKUP(B273,Lists!AV:AV,Lists!BD:BD,0)","v":0},{"$f":"IF(G273>0,'INT-EXT DOORS & int walls'!P16,0)","v":0},{"$f":"_xlfn.XLOOKUP(B273,Lists!AV:AV,Lists!AW:AW,0)","v":0},{"$f":"_xlfn.XLOOKUP(B273,Lists!AV:AV,Lists!AX:AX,0)","v":0},null,null,{"$f":"'INT-EXT DOORS & int walls'!U18","v":0}]
[{"$f":"_xlfn.XLOOKUP(B274,Lists!AV:AV,Lists!BD:BD,0)","v":0},{"$f":"IF(G274>0,'INT-EXT DOORS & int walls'!L28,0)","v":0},{"$f":"_xlfn.XLOOKUP(B274,Lists!AV:AV,Lists!AW:AW,0)","v":0},{"$f":"_xlfn.XLOOKUP(B274,Lists!AV:AV,Lists!AX:AX,0)","v":0},null,null,{"$f":"'INT-EXT DOORS & int walls'!U29+'INT-EXT DOORS & int walls'!U8","v":0}]
[{"$f":"_xlfn.XLOOKUP(B275,Lists!AV:AV,Lists!BD:BD,0)","v":0},{"$f":"IF(G275>0,'INT-EXT DOORS & int walls'!L6,0)","v":0},{"$f":"_xlfn.XLOOKUP(B275,Lists!AV:AV,Lists!AW:AW,0)","v":0},{"$f":"_xlfn.XLOOKUP(B275,Lists!AV:AV,Lists!AX:AX,0)","v":0},null,null,{"$f":"'INT-EXT DOORS & int walls'!U9+'INT-EXT DOORS & int walls'!U30","v":0}]
[{"$f":"_xlfn.XLOOKUP(B276,Lists!AV:AV,Lists!BD:BD,0)","v":0},{"$f":"IF(G276>0,'INT-EXT DOORS & int walls'!N6,0)","v":0},{"$f":"_xlfn.XLOOKUP(B276,Lists!AV:AV,Lists!AW:AW,0)","v":0},{"$f":"_xlfn.XLOOKUP(B276,Lists!AV:AV,Lists!AX:AX,0)","v":0},null,null,{"$f":"'INT-EXT DOORS & int walls'!U10+'INT-EXT DOORS & int walls'!U31","v":0}]
[{"$f":"_xlfn.XLOOKUP(B277,Lists!AV:AV,Lists!BD:BD,0)","v":0},{"$f":"IF(G277>0,'INT-EXT DOORS & int walls'!P6,0)","v":0},{"$f":"_xlfn.XLOOKUP(B277,Lists!AV:AV,Lists!AW:AW,0)","v":0},{"$f":"_xlfn.XLOOKUP(B277,Lists!AV:AV,Lists!AX:AX,0)","v":0},null,null,{"$f":"'INT-EXT DOORS & int walls'!U11+'INT-EXT DOORS & int walls'!U32","v":0}]
[{"$f":"_xlfn.XLOOKUP(B278,Lists!AV:AV,Lists!BD:BD,0)","v":0},{"$f":"IF(G278>0,'INT-EXT DOORS & int walls'!R6,0)","v":0},{"$f":"_xlfn.XLOOKUP(B278,Lists!AV:AV,Lists!AW:AW,0)","v":0},{"$f":"_xlfn.XLOOKUP(B278,Lists!AV:AV,Lists!AX:AX,0)","v":0},null,null,{"$f":"'INT-EXT DOORS & int walls'!U12","v":0}]
[{"$f":"_xlfn.XLOOKUP(B279,Lists!AV:AV,Lists!BD:BD,0)","v":0},{"$f":"IF(G279>0,'INT-EXT DOORS & int walls'!S6,0)","v":0},{"$f":"_xlfn.XLOOKUP(B279,Lists!AV:AV,Lists!AW:AW,0)","v":0},{"$f":"_xlfn.XLOOKUP(B279,Lists!AV:AV,Lists!AX:AX,0)","v":0},null,null,{"$f":"'INT-EXT DOORS & int walls'!U13+'INT-EXT DOORS & int walls'!U26","v":0}]
[{"$f":"_xlfn.XLOOKUP(B280,Lists!AV:AV,Lists!BD:BD,0)","v":0},{"$f":"IF(G280>0,'INT-EXT DOORS & int walls'!L23,0)","v":0},{"$f":"_xlfn.XLOOKUP(B280,Lists!AV:AV,Lists!AW:AW,0)","v":0},{"$f":"_xlfn.XLOOKUP(B280,Lists!AV:AV,Lists!AX:AX,0)","v":0},null,null,{"$f":"'INT-EXT DOORS & int walls'!U23","v":0}]
[{"$f":"_xlfn.XLOOKUP(B281,Lists!AV:AV,Lists!BD:BD,0)","v":0},{"$f":"IF(G281>0,'INT-EXT DOORS & int walls'!N23,0)","v":0},{"$f":"_xlfn.XLOOKUP(B281,Lists!AV:AV,Lists!AW:AW,0)","v":0},{"$f":"_xlfn.XLOOKUP(B281,Lists!AV:AV,Lists!AX:AX,0)","v":0},null,null,{"$f":"'INT-EXT DOORS & int walls'!U24","v":0}]
[{"$f":"_xlfn.XLOOKUP(B282,Lists!AV:AV,Lists!BD:BD,0)","v":0},{"$f":"IF(G282>0,'INT-EXT DOORS & int walls'!P23,0)","v":0},{"$f":"_xlfn.XLOOKUP(B282,Lists!AV:AV,Lists!AW:AW,0)","v":0},{"$f":"_xlfn.XLOOKUP(B282,Lists!AV:AV,Lists!AX:AX,0)","v":0},null,null,{"$f":"'INT-EXT DOORS & int walls'!U25","v":0}]
[{"$f":"_xlfn.XLOOKUP(B283,Lists!AV:AV,Lists!BD:BD,0)","v":0},{"$f":"IF(G283>0,'INT-EXT DOORS & int walls'!M6,0)","v":0},{"$f":"_xlfn.XLOOKUP(B283,Lists!AV:AV,Lists!AW:AW,0)","v":0},{"$f":"_xlfn.XLOOKUP(B283,Lists!AV:AV,Lists!AX:AX,0)","v":0},null,null,{"$f":"'INT-EXT DOORS & int walls'!W9+'INT-EXT DOORS & int walls'!W16+'INT-EXT DOORS & int walls'!W23+'INT-EXT DOORS & int walls'!W30","v":0}]
[{"$f":"_xlfn.XLOOKUP(B284,Lists!AV:AV,Lists!BD:BD,0)","v":0},{"$f":"IF(G284>0,'INT-EXT DOORS & int walls'!O6,0)","v":0},{"$f":"_xlfn.XLOOKUP(B284,Lists!AV:AV,Lists!AW:AW,0)","v":0},{"$f":"_xlfn.XLOOKUP(B284,Lists!AV:AV,Lists!AX:AX,0)","v":0},null,null,{"$f":"'INT-EXT DOORS & int walls'!W10+'INT-EXT DOORS & int walls'!W17+'INT-EXT DOORS & int walls'!W24+'INT-EXT DOORS & int walls'!W31","v":0}]
[{"$f":"_xlfn.XLOOKUP(B285,Lists!AV:AV,Lists!BD:BD,0)","v":0},{"$f":"IF(G285>0,'INT-EXT DOORS & int walls'!Q6,0)","v":0},{"$f":"_xlfn.XLOOKUP(B285,Lists!AV:AV,Lists!AW:AW,0)","v":0},{"$f":"_xlfn.XLOOKUP(B285,Lists!AV:AV,Lists!AX:AX,0)","v":0},null,null,{"$f":"'INT-EXT DOORS & int walls'!W11+'INT-EXT DOORS & int walls'!W18+'INT-EXT DOORS & int walls'!W25+'INT-EXT DOORS & int walls'!W32","v":0}]
[{"$f":"_xlfn.XLOOKUP(B286,Lists!AV:AV,Lists!BD:BD,0)","v":0},{"$f":"IF(G286>0,'INT-EXT DOORS & int walls'!T6,0)","v":0},{"$f":"_xlfn.XLOOKUP(B286,Lists!AV:AV,Lists!AW:AW,0)","v":0},{"$f":"_xlfn.XLOOKUP(B286,Lists!AV:AV,Lists!AX:AX,0)","v":0},null,null,{"$f":"'INT-EXT DOORS & int walls'!W13+'INT-EXT DOORS & int walls'!W20+'INT-EXT DOORS & int walls'!W26","v":0}]
[{"$f":"_xlfn.XLOOKUP(B287,Lists!AV:AV,Lists!BD:BD,0)","v":0},{"$f":"IF(G287>0,'INT-EXT DOORS & int walls'!L39,0)","v":0},{"$f":"_xlfn.XLOOKUP(B287,Lists!AV:AV,Lists!AW:AW,0)","v":0},{"$f":"_xlfn.XLOOKUP(B287,Lists!AV:AV,Lists!AX:AX,0)","v":0},null,null,{"$f":"'INT-EXT DOORS & int walls'!M39","v":0}]
[{"$f":"_xlfn.XLOOKUP(B288,Lists!AV:AV,Lists!BD:BD,0)","v":0},{"$f":"IF(G288>0,'INT-EXT DOORS & int walls'!L40,0)","v":0},{"$f":"_xlfn.XLOOKUP(B288,Lists!AV:AV,Lists!AW:AW,0)","v":0},{"$f":"_xlfn.XLOOKUP(B288,Lists!AV:AV,Lists!AX:AX,0)","v":0},null,null,{"$f":"'INT-EXT DOORS & int walls'!M40","v":0}]
[{"$f":"_xlfn.XLOOKUP(B289,Lists!AV:AV,Lists!BD:BD,0)","v":0},{"$f":"IF(G289>0,'INT-EXT DOORS & int walls'!L41,0)","v":0},{"$f":"_xlfn.XLOOKUP(B289,Lists!AV:AV,Lists!AW:AW,0)","v":0},{"$f":"_xlfn.XLOOKUP(B289,Lists!AV:AV,Lists!AX:AX,0)","v":0},null,null,{"$f":"'INT-EXT DOORS & int walls'!M41","v":0}]
[]
[]
[]
[]
[]
[]
[{"$f":"IF(G296>0,460,0)","v":0},{"$f":"_xlfn.XLOOKUP(C296,Lists!AW:AW,Lists!AV:AV,0,)","v":0},{"$f":"IF(G296>0,'FIxing Carpentry & Moulding'!BG7,0)","v":0},{"$f":"_xlfn.XLOOKUP(C296,Lists!AW:AW,Lists!AX:AX,0)","v":0},null,null,{"$f":"'FIxing Carpentry & Moulding'!BG37","v":0}]
[{"$f":"IF(G297>0,460,0)","v":0},{"$f":"_xlfn.XLOOKUP(C297,Lists!AW:AW,Lists!AV:AV,0,)","v":0},{"$f":"IF(G297>0,'FIxing Carpentry & Moulding'!BH7,0)","v":0},{"$f":"_xlfn.XLOOKUP(C297,Lists!AW:AW,Lists!AX:AX,0)","v":0},null,null,{"$f":"'FIxing Carpentry & Moulding'!BH37","v":0}]
[0,{"$f":"_xlfn.XLOOKUP(C298,Lists!AW:AW,Lists!AV:AV,0,)","v":0},{"$f":"IF(G298>0,'FIxing Carpentry & Moulding'!BI7,0)","v":0},{"$f":"_xlfn.XLOOKUP(C298,Lists!AW:AW,Lists!AX:AX,0)","v":0},null,null,{"$f":"'FIxing Carpentry & Moulding'!BI$37","v":0}]
[0,{"$f":"_xlfn.XLOOKUP(C299,Lists!AW:AW,Lists!AV:AV,0,)","v":0},{"$f":"IF(G299>0,'FIxing Carpentry & Moulding'!BJ7,0)","v":0},{"$f":"_xlfn.XLOOKUP(C299,Lists!AW:AW,Lists!AX:AX,0)","v":0},null,null,{"$f":"'FIxing Carpentry & Moulding'!BJ$37","v":0}]
[0,{"$f":"_xlfn.XLOOKUP(C300,Lists!AW:AW,Lists!AV:AV,0,)","v":0},{"$f":"IF(G300>0,'FIxing Carpentry & Moulding'!BK7,0)","v":0},{"$f":"_xlfn.XLOOKUP(C300,Lists!AW:AW,Lists!AX:AX,0)","v":0},null,null,{"$f":"'FIxing Carpentry & Moulding'!BK$37","v":0}]
[0,{"$f":"_xlfn.XLOOKUP(C301,Lists!AW:AW,Lists!AV:AV,0,)","v":0},{"$f":"IF(G301>0,'FIxing Carpentry & Moulding'!BL7,0)","v":0},{"$f":"_xlfn.XLOOKUP(C301,Lists!AW:AW,Lists!AX:AX,0)","v":0},null,null,{"$f":"'FIxing Carpentry & Moulding'!BL$37","v":0}]
[0,{"$f":"_xlfn.XLOOKUP(C302,Lists!AW:AW,Lists!AV:AV,0,)","v":0},{"$f":"IF(G302>0,'FIxing Carpentry & Moulding'!BG13,0)","v":0},{"$f":"_xlfn.XLOOKUP(C302,Lists!AW:AW,Lists!AX:AX,0)","v":0}]
[{"$f":"IF(G303>0,450,0)","v":0},{"$f":"_xlfn.XLOOKUP(C303,Lists!AW:AW,Lists!AV:AV,0,)","v":0},{"$f":"IF(G303>0,'FIxing Carpentry & Moulding'!AZ41,0)","v":0},{"$f":"_xlfn.XLOOKUP(C303,Lists!AW:AW,Lists!AX:AX,0)","v":0},null,null,{"$f":"'FIxing Carpentry & Moulding'!AQ40","v":0}]
[{"$f":"IF(G304>0,450,0)","v":0},{"$f":"_xlfn.XLOOKUP(C304,Lists!AW:AW,Lists!AV:AV,0,)","v":0},{"$f":"IF(G304>0,'FIxing Carpentry & Moulding'!AZ42,0)","v":0},{"$f":"_xlfn.XLOOKUP(C304,Lists!AW:AW,Lists!AX:AX,0)","v":0},null,null,{"$f":"'FIxing Carpentry & Moulding'!AQ39","v":0}]
[{"$f":"_xlfn.XLOOKUP(C305,Lists!AW:AW,Lists!BD:BD,0)","v":0},{"$f":"_xlfn.XLOOKUP(C305,Lists!AW:AW,Lists!AV:AV,0,)","v":0},{"$f":"IF(G305>0,'INT-EXT DOORS & int walls'!AM39,0)","v":0},{"$f":"_xlfn.XLOOKUP(C305,Lists!AW:AW,Lists!AX:AX,0)","v":0},null,null,{"$f":"'INT-EXT DOORS & int walls'!AL39","v":0}]
[{"$f":"_xlfn.XLOOKUP(C306,Lists!AW:AW,Lists!BD:BD,0)","v":0},{"$f":"_xlfn.XLOOKUP(C306,Lists!AW:AW,Lists!AV:AV,0,)","v":0},{"$f":"IF(G306>0,'INT-EXT DOORS & int walls'!AM40,0)","v":0},{"$f":"_xlfn.XLOOKUP(C306,Lists!AW:AW,Lists!AX:AX,0)","v":0},null,null,{"$f":"'INT-EXT DOORS & int walls'!AL40","v":0}]
[{"$f":"_xlfn.XLOOKUP(C307,Lists!AW:AW,Lists!BD:BD,0)","v":0},{"$f":"_xlfn.XLOOKUP(C307,Lists!AW:AW,Lists!AV:AV,0,)","v":0},null,{"$f":"_xlfn.XLOOKUP(C307,Lists!AW:AW,Lists!AX:AX,0)","v":0}]
[{"$f":"_xlfn.XLOOKUP(C308,Lists!AW:AW,Lists!BD:BD,0)","v":"460"},{"$f":"_xlfn.XLOOKUP(C308,Lists!AW:AW,Lists!AV:AV,0,)","v":"460-250-300100"},{"$f":"IF(G308>0,'FIxing Carpentry & Moulding'!AU16,0)","v":"QUAD - JARRAH 13Fmm"},{"$f":"_xlfn.XLOOKUP(C308,Lists!AW:AW,Lists!AX:AX,0)","v":"DRY DRESSED SELECT GRADE"},null,null,{"$f":"'FIxing Carpentry & Moulding'!S21","v":12},null,{"$f":"_xlfn.CONCAT('FIxing Carpentry & Moulding'!AU20,\" \",'FIxing Carpentry & Moulding'!AU21)","v":"2/1.2 4/2.4"}]
[{"$f":"_xlfn.XLOOKUP(C309,Lists!AW:AW,Lists!BD:BD,0)","v":0},{"$f":"_xlfn.XLOOKUP(C309,Lists!AW:AW,Lists!AV:AV,0,)","v":0},{"$f":"IF(G309>0,'FIxing Carpentry & Moulding'!AW42,0)","v":0},{"$f":"_xlfn.XLOOKUP(C309,Lists!AW:AW,Lists!AX:AX,0)","v":0},null,null,{"$f":"'FIxing Carpentry & Moulding'!R30","v":0}]
[{"$f":"_xlfn.XLOOKUP(C310,Lists!AW:AW,Lists!BD:BD,0)","v":"460"},{"$f":"_xlfn.XLOOKUP(C310,Lists!AW:AW,Lists!AV:AV,0,)","v":"460-610-000100"},{"$f":"IF(G310>0,'FIxing Carpentry & Moulding'!AW44,0)","v":"SHELF RAIL - MDF 40x18mm"},{"$f":"_xlfn.XLOOKUP(C310,Lists!AW:AW,Lists!AX:AX,0)","v":"LENGTHS: 5.4m"},null,null,{"$f":"'FIxing Carpentry & Moulding'!AP37","v":2}]
[{"$f":"_xlfn.XLOOKUP(C311,Lists!AW:AW,Lists!BD:BD,0)","v":0},{"$f":"_xlfn.XLOOKUP(C311,Lists!AW:AW,Lists!AV:AV,0,)","v":0},{"$f":"IF(G311>0,'FIxing Carpentry & Moulding'!AW45,0)","v":0},{"$f":"_xlfn.XLOOKUP(C311,Lists!AW:AW,Lists!AX:AX,0)","v":0},null,null,{"$f":"'FIxing Carpentry & Moulding'!AM37","v":0}]
[{"$f":"_xlfn.XLOOKUP(C312,Lists!AW:AW,Lists!BD:BD,0)","v":0},{"$f":"_xlfn.XLOOKUP(C312,Lists!AW:AW,Lists!AV:AV,0,)","v":0},{"$f":"IF(G312>0,'FIxing Carpentry & Moulding'!AW47,0)","v":0},{"$f":"_xlfn.XLOOKUP(C312,Lists!AW:AW,Lists!AX:AX,0)","v":0},null,null,{"$f":"'FIxing Carpentry & Moulding'!AI39","v":0}]
[{"$f":"_xlfn.XLOOKUP(C313,Lists!AW:AW,Lists!BD:BD,0)","v":0},{"$f":"_xlfn.XLOOKUP(C313,Lists!AW:AW,Lists!AV:AV,0,)","v":0},{"$f":"IF(G313>0,'FIxing Carpentry & Moulding'!AW48,0)","v":0},{"$f":"_xlfn.XLOOKUP(C313,Lists!AW:AW,Lists!AX:AX,0)","v":0},null,null,{"$f":"'FIxing Carpentry & Moulding'!AI38","v":0}]
[{"$f":"_xlfn.XLOOKUP(C314,Lists!AW:AW,Lists!BD:BD,0)","v":0},{"$f":"_xlfn.XLOOKUP(C314,Lists!AW:AW,Lists!AV:AV,0,)","v":0},{"$f":"IF(G314>0,'FIxing Carpentry & Moulding'!AW49,0)","v":0},{"$f":"_xlfn.XLOOKUP(C314,Lists!AW:AW,Lists!AX:AX,0)","v":0},null,null,{"$f":"'FIxing Carpentry & Moulding'!AI37","v":0}]
[{"$f":"_xlfn.XLOOKUP(C315,Lists!AW:AW,Lists!BD:BD,0)","v":0},{"$f":"_xlfn.XLOOKUP(C315,Lists!AW:AW,Lists!AV:AV,0,)","v":0},{"$f":"IF(G315>0,'FIxing Carpentry & Moulding'!AW50,0)","v":0},{"$f":"_xlfn.XLOOKUP(C315,Lists!AW:AW,Lists!AX:AX,0)","v":0},null,null,{"$f":"'FIxing Carpentry & Moulding'!AE39","v":0}]
[{"$f":"_xlfn.XLOOKUP(C316,Lists!AW:AW,Lists!BD:BD,0)","v":0},{"$f":"_xlfn.XLOOKUP(C316,Lists!AW:AW,Lists!AV:AV,0,)","v":0},{"$f":"IF(G316>0,'FIxing Carpentry & Moulding'!AW51,0)","v":0},{"$f":"_xlfn.XLOOKUP(C316,Lists!AW:AW,Lists!AX:AX,0)","v":0},null,null,{"$f":"'FIxing Carpentry & Moulding'!AE38","v":0}]
[{"$f":"_xlfn.XLOOKUP(C317,Lists!AW:AW,Lists!BD:BD,0)","v":0},{"$f":"_xlfn.XLOOKUP(C317,Lists!AW:AW,Lists!AV:AV,0,)","v":0},{"$f":"IF(G317>0,'FIxing Carpentry & Moulding'!AW52,0)","v":0},{"$f":"_xlfn.XLOOKUP(C317,Lists!AW:AW,Lists!AX:AX,0)","v":0},null,null,{"$f":"'FIxing Carpentry & Moulding'!AE37","v":0}]
[{"$f":"_xlfn.XLOOKUP(C318,Lists!AW:AW,Lists!BD:BD,0)","v":0},{"$f":"_xlfn.XLOOKUP(C318,Lists!AW:AW,Lists!AV:AV,0,)","v":0},{"$f":"IF(G318>0,'FIxing Carpentry & Moulding'!AW53,0)","v":0},{"$f":"_xlfn.XLOOKUP(C318,Lists!AW:AW,Lists!AX:AX,0)","v":0},null,null,{"$f":"'FIxing Carpentry & Moulding'!AG39","v":0}]
[{"$f":"_xlfn.XLOOKUP(C319,Lists!AW:AW,Lists!BD:BD,0)","v":0},{"$f":"_xlfn.XLOOKUP(C319,Lists!AW:AW,Lists!AV:AV,0,)","v":0},{"$f":"IF(G319>0,'FIxing Carpentry & Moulding'!AU55,0)","v":0},{"$f":"_xlfn.XLOOKUP(C319,Lists!AW:AW,Lists!AX:AX,0)","v":0},null,null,{"$f":"'FIxing Carpentry & Moulding'!AG38","v":0}]
[{"$f":"_xlfn.XLOOKUP(C320,Lists!AW:AW,Lists!BD:BD,0)","v":0},{"$f":"_xlfn.XLOOKUP(C320,Lists!AW:AW,Lists!AV:AV,0,)","v":0},{"$f":"IF(G320>0,'FIxing Carpentry & Moulding'!AU56,0)","v":0},{"$f":"_xlfn.XLOOKUP(C320,Lists!AW:AW,Lists!AX:AX,0)","v":0},null,null,{"$f":"'FIxing Carpentry & Moulding'!AG37","v":0}]
[{"$f":"_xlfn.XLOOKUP(C321,Lists!AW:AW,Lists!BD:BD,0)","v":0},{"$f":"_xlfn.XLOOKUP(C321,Lists!AW:AW,Lists!AV:AV,0,)","v":0},{"$f":"IF(G321>0,'FIxing Carpentry & Moulding'!X20,0)","v":0},{"$f":"_xlfn.XLOOKUP(C321,Lists!AW:AW,Lists!AX:AX,0)","v":0},null,null,{"$f":"'FIxing Carpentry & Moulding'!Z20","v":0}]
[{"$f":"_xlfn.XLOOKUP(C322,Lists!AW:AW,Lists!BD:BD,0)","v":0},{"$f":"_xlfn.XLOOKUP(C322,Lists!AW:AW,Lists!AV:AV,0,)","v":0},null,{"$f":"_xlfn.XLOOKUP(C322,Lists!AW:AW,Lists!AX:AX,0)","v":0}]
[{"$f":"_xlfn.XLOOKUP(C323,Lists!AW:AW,Lists!BD:BD,0)","v":0},{"$f":"_xlfn.XLOOKUP(C323,Lists!AW:AW,Lists!AV:AV,0,)","v":0},{"$f":"IF(G323>0,Tiling!A13,0)","v":0},{"$f":"_xlfn.XLOOKUP(C323,Lists!AW:AW,Lists!AX:AX,0)","v":0},null,null,{"$f":"Tiling!C13+Tiling!C15+Tiling!C16","v":0}]
[{"$f":"_xlfn.XLOOKUP(C324,Lists!AW:AW,Lists!BD:BD,0)","v":0},{"$f":"_xlfn.XLOOKUP(C324,Lists!AW:AW,Lists!AV:AV,0,)","v":0},{"$f":"IF(G324>0,Tiling!A14,0)","v":0},{"$f":"_xlfn.XLOOKUP(C324,Lists!AW:AW,Lists!AX:AX,0)","v":0},null,null,{"$f":"Tiling!C14","v":0}]
[{"$f":"_xlfn.XLOOKUP(C325,Lists!AW:AW,Lists!BD:BD,0)","v":0},{"$f":"_xlfn.XLOOKUP(C325,Lists!AW:AW,Lists!AV:AV,0,)","v":0},{"$f":"IF(G325>0,Tiling!G22,0)","v":0},{"$f":"_xlfn.XLOOKUP(C325,Lists!AW:AW,Lists!AX:AX,0)","v":0},null,null,{"$f":"Tiling!H22","v":0},null,null,{"$f":"Tiling!H24","v":0}]
[{"$f":"_xlfn.XLOOKUP(C326,Lists!AW:AW,Lists!BD:BD,0)","v":0},{"$f":"_xlfn.XLOOKUP(C326,Lists!AW:AW,Lists!AV:AV,0,)","v":0},{"$f":"IF(G326>0,Tiling!A15,0)","v":0},{"$f":"IF(H326>0,Tiling!B15,0)","v":0},null,null,{"$f":"Tiling!C14","v":0}]
[{"$f":"_xlfn.XLOOKUP(C327,Lists!AW:AW,Lists!BD:BD,0)","v":0},{"$f":"_xlfn.XLOOKUP(C327,Lists!AW:AW,Lists!AV:AV,0,)","v":0},{"$f":"IF(G327>0,Tiling!A11,0)","v":0},{"$f":"_xlfn.XLOOKUP(C327,Lists!AW:AW,Lists!AX:AX,0)","v":0},null,null,{"$f":"Tiling!C11","v":0}]
[{"$f":"_xlfn.XLOOKUP(C328,Lists!AW:AW,Lists!BD:BD,0)","v":0},{"$f":"_xlfn.XLOOKUP(C328,Lists!AW:AW,Lists!AV:AV,0,)","v":0},{"$f":"IF(G328>0,Tiling!A23,0)","v":0},{"$f":"_xlfn.XLOOKUP(C328,Lists!AW:AW,Lists!AX:AX,0)","v":0},null,null,{"$f":"Tiling!C22","v":0}]
[{"$f":"_xlfn.XLOOKUP(C329,Lists!AW:AW,Lists!BD:BD,0)","v":0},{"$f":"_xlfn.XLOOKUP(C329,Lists!AW:AW,Lists!AV:AV,0,)","v":0},{"$f":"IF(G329>0,Tiling!A22,0)","v":0},{"$f":"_xlfn.XLOOKUP(C329,Lists!AW:AW,Lists!AX:AX,0)","v":0},null,null,{"$f":"Tiling!C21","v":0}]
[{"$f":"_xlfn.XLOOKUP(C330,Lists!AW:AW,Lists!BD:BD,0)","v":0},{"$f":"_xlfn.XLOOKUP(C330,Lists!AW:AW,Lists!AV:AV,0,)","v":0},{"$f":"IF(G330>0,Tiling!A21,0)","v":0},{"$f":"_xlfn.XLOOKUP(C330,Lists!AW:AW,Lists!AX:AX,0)","v":0},null,null,{"$f":"Tiling!C21","v":0}]
[{"$f":"_xlfn.XLOOKUP(C331,Lists!AW:AW,Lists!BD:BD,0)","v":0},{"$f":"_xlfn.XLOOKUP(C331,Lists!AW:AW,Lists!AV:AV,0,)","v":0},{"$f":"IF(G331>0,Tiling!G26,0)","v":0},{"$f":"_xlfn.XLOOKUP(C331,Lists!AW:AW,Lists!AX:AX,0)","v":0},null,null,{"$f":"Tiling!H26","v":0}]
[{"$f":"_xlfn.XLOOKUP(C332,Lists!AW:AW,Lists!BD:BD,0)","v":0},{"$f":"_xlfn.XLOOKUP(C332,Lists!AW:AW,Lists!AV:AV,0,)","v":0},{"$f":"IF(G332>0,Tiling!A27,0)","v":0},null,null,null,{"$f":"Tiling!H27","v":0}]
[{"$f":"_xlfn.XLOOKUP(C333,Lists!AW:AW,Lists!BD:BD,0)","v":0},{"$f":"_xlfn.XLOOKUP(C333,Lists!AW:AW,Lists!AV:AV,0,)","v":0},{"$f":"IF(G333>0,Tiling!G28,0)","v":0},{"$f":"_xlfn.XLOOKUP(C333,Lists!AW:AW,Lists!AX:AX,0)","v":0},null,null,{"$f":"Tiling!H28","v":0}]
[{"$f":"_xlfn.XLOOKUP(C334,Lists!AW:AW,Lists!BD:BD,0)","v":0},{"$f":"_xlfn.XLOOKUP(C334,Lists!AW:AW,Lists!AV:AV,0,)","v":0},{"$f":"IF(G334>0,Tiling!G30,0)","v":0},{"$f":"_xlfn.XLOOKUP(C334,Lists!AW:AW,Lists!AX:AX,0)","v":0},null,null,{"$f":"Tiling!H30","v":0}]
[{"$f":"_xlfn.XLOOKUP(C335,Lists!AW:AW,Lists!BD:BD,0)","v":0},{"$f":"IF(G335>0,Tiling!I31,0)","v":0},{"$f":"_xlfn.XLOOKUP(B335,Lists!AV:AV,Lists!AW:AW,0,)","v":0},{"$f":"_xlfn.XLOOKUP(B335,Lists!AV:AV,Lists!AX:AX,0)","v":0},null,null,{"$f":"Tiling!H31","v":0}]
[{"$f":"_xlfn.XLOOKUP(C336,Lists!AW:AW,Lists!BD:BD,0)","v":0},{"$f":"IF(G336>0,Tiling!I32,0)","v":0},{"$f":"_xlfn.XLOOKUP(B336,Lists!AV:AV,Lists!AW:AW,0,)","v":0},{"$f":"_xlfn.XLOOKUP(B336,Lists!AV:AV,Lists!AX:AX,0)","v":0},null,null,{"$f":"Tiling!H32","v":0}]
[{"$f":"_xlfn.XLOOKUP(C337,Lists!AW:AW,Lists!BD:BD,0)","v":0},{"$f":"IF(G337>0,Tiling!I33,0)","v":0},{"$f":"_xlfn.XLOOKUP(B337,Lists!AV:AV,Lists!AW:AW,0,)","v":0},{"$f":"_xlfn.XLOOKUP(B337,Lists!AV:AV,Lists!AX:AX,0)","v":0},null,null,{"$f":"Tiling!H33","v":0}]
[]
[{"$f":"_xlfn.XLOOKUP(C339,Lists!AW:AW,Lists!BD:BD,0)","v":0},{"$f":"_xlfn.XLOOKUP(C339,Lists!AW:AW,Lists!AV:AV,0,)","v":0},null,{"$f":"_xlfn.XLOOKUP(C339,Lists!AW:AW,Lists!AX:AX,0)","v":0}]
[]
[{"$f":"_xlfn.XLOOKUP(B341,Lists!AV:AV,Lists!BD:BD,0)","v":0},{"$f":"IF(G341>0,Tiling!A33,0)","v":0},{"$f":"_xlfn.XLOOKUP(B341,Lists!$AV:$AV,Lists!AW:AW,0)","v":0},{"$f":"_xlfn.XLOOKUP(B341,Lists!$AV:$AV,Lists!AX:AX,0)","v":0},null,null,{"$f":"Tiling!A36","v":0},{"$f":"IF(G341>0,\"W1\",0)","v":0}]
[{"$f":"_xlfn.XLOOKUP(B342,Lists!AV:AV,Lists!BD:BD,0)","v":0},{"$f":"IF(G342>0,Tiling!A29,0)","v":0},{"$f":"_xlfn.XLOOKUP(B342,Lists!$AV:$AV,Lists!AW:AW,0)","v":0},{"$f":"_xlfn.XLOOKUP(B342,Lists!$AV:$AV,Lists!AX:AX,0)","v":0},null,null,{"$f":"Tiling!A30","v":0},{"$f":"IF(G342>0,\"W1\",0)","v":0}]
[{"$f":"_xlfn.XLOOKUP(B343,Lists!AV:AV,Lists!BD:BD,0)","v":0},{"$f":"IF(G343>0,Tiling!A31,0)","v":0},{"$f":"_xlfn.XLOOKUP(B343,Lists!$AV:$AV,Lists!AW:AW,0)","v":0},{"$f":"_xlfn.XLOOKUP(B343,Lists!$AV:$AV,Lists!AX:AX,0)","v":0},null,null,{"$f":"Tiling!A32","v":0},0]
[{"$f":"_xlfn.XLOOKUP(C344,Lists!AW:AW,Lists!BD:BD,0)","v":"520"},{"$f":"_xlfn.XLOOKUP(C344,Lists!AW:AW,Lists!AV:AV,0,)","v":"520-010-100100"},{"$f":"IF(G344>0,Tiling!A18,0)","v":"WALL & FLOOR TILES AS ATTACHED"},{"$f":"_xlfn.XLOOKUP(C344,Lists!AW:AW,Lists!AX:AX,0)","v":""},null,null,{"$f":"IF(J344>0,1,0)","v":1},null,null,{"$f":"Tiling!C18","v":""}]
[{"$f":"_xlfn.XLOOKUP(C345,Lists!AW:AW,Lists!BD:BD,0)","v":0},{"$f":"_xlfn.XLOOKUP(C345,Lists!AW:AW,Lists!AV:AV,0,)","v":0},{"$f":"IF(G345>0,Tiling!A18,0)","v":0},{"$f":"_xlfn.XLOOKUP(C345,Lists!AW:AW,Lists!AX:AX,0)","v":0},{"$f":"IF(J345>0,Tiling!A19,0)","v":0},null,{"$f":"IF(J345>0,1,0)","v":0},null,null,{"$f":"Tiling!A17","v":0}]
[{"$f":"_xlfn.XLOOKUP(C346,Lists!AW:AW,Lists!BD:BD,0)","v":"520"},{"$f":"_xlfn.XLOOKUP(C346,Lists!AW:AW,Lists!AV:AV,0,)","v":"520-200-150100"},{"$f":"Tiling!A25","v":"DAVCO ULTRA PRIME 5 LITRE"},{"$f":"_xlfn.XLOOKUP(C346,Lists!AW:AW,Lists!AX:AX,0)","v":"APPROX. 45m2 COVERAGE"},null,null,1]
[{"$f":"_xlfn.XLOOKUP(C347,Lists!AW:AW,Lists!BD:BD,0)","v":"520"},{"$f":"_xlfn.XLOOKUP(C347,Lists!AW:AW,Lists!AV:AV,0,)","v":"520-300-100700"},{"$f":"Tiling!A24","v":"ALUMINIUM ANGLE 6mm TO 10mm"},{"$f":"_xlfn.XLOOKUP(C347,Lists!AW:AW,Lists!AX:AX,0)","v":""},null,null,{"$f":"Tiling!H22","v":0},null,{"$f":"Tiling!G24","v":0}]
[{"$f":"_xlfn.XLOOKUP(C348,Lists!AW:AW,Lists!BD:BD,0)","v":"520"},{"$f":"_xlfn.XLOOKUP(1,\n(Lists!AW:AW='Test without gaps'!C348)*\n(Lists!AX:AX='Test without gaps'!D348),\n(Lists!AV:AV))","v":"520-400-100200"},{"$f":"Tiling!I16","v":"COLOURED GROUT"},{"$f":"Tiling!J16","v":"1.5kg"},null,null,{"$f":"ROUNDUP(Tiling!H16,0)","v":2}]
[{"$f":"_xlfn.XLOOKUP(C349,Lists!AW:AW,Lists!BD:BD,0)","v":"520"},{"$f":"_xlfn.XLOOKUP(C349,Lists!AW:AW,Lists!AV:AV,0,)","v":"520-400-200100"},{"$f":"Tiling!I20","v":"ULTRAFLEX"},{"$f":"_xlfn.XLOOKUP(C349,Lists!AW:AW,Lists!AX:AX,0)","v":"20kg"},null,null,{"$f":"ROUNDUP(Tiling!H20,0)","v":1}]
[{"$f":"_xlfn.XLOOKUP(C350,Lists!AW:AW,Lists!BD:BD,0)","v":0},{"$f":"_xlfn.XLOOKUP(C350,Lists!AW:AW,Lists!AV:AV,0,)","v":0},null,{"$f":"_xlfn.XLOOKUP(C350,Lists!AW:AW,Lists!AX:AX,0)","v":0}]
[{"$f":"_xlfn.XLOOKUP(C351,Lists!AW:AW,Lists!BD:BD,0)","v":0},{"$f":"_xlfn.XLOOKUP(C351,Lists!AW:AW,Lists!AV:AV,0)","v":0},{"$f":"IF(G351>0,'Additional Items'!AA32,0)","v":0},{"$f":"IF(G351>0,'Additional Items'!AJ32,0)","v":0},null,null,{"$f":"'Additional Items'!AD32","v":0}]
[{"$f":"_xlfn.XLOOKUP(C352,Lists!AW:AW,Lists!BD:BD,0)","v":0},{"$f":"_xlfn.XLOOKUP(1,\n(Lists!AW:AW=C352)*\n(Lists!AX:AX=D352),\n(Lists!AV:AV))","v":0},{"$f":"IF(G352>0,'Additional Items'!G9,0)","v":0},{"$f":"IF(G352>0,'Additional Items'!J9,0)","v":0},null,null,{"$f":"'Additional Items'!E9","v":0}]
[{"$f":"_xlfn.XLOOKUP(C353,Lists!AW:AW,Lists!BD:BD,0)","v":0},{"$f":"_xlfn.XLOOKUP(1,\n(Lists!AW:AW=C353)*\n(Lists!AX:AX=D353),\n(Lists!AV:AV))","v":0},{"$f":"IF(G353>0,'Additional Items'!G12,0)","v":0},{"$f":"IF(G353>0,'Additional Items'!J12,0)","v":0},null,null,{"$f":"'Additional Items'!E12","v":0}]
[]
[]
[{"$f":"_xlfn.XLOOKUP(C356,Lists!AW:AW,Lists!BD:BD,0)","v":0},{"$f":"_xlfn.XLOOKUP(1,\n(Lists!AW:AW=C356)*\n(Lists!AX:AX=D356),\n(Lists!AV:AV))","v":0},{"$f":"'Additional Items'!G17","v":0},{"$f":"'Additional Items'!B17","v":0},null,null,{"$f":"'Additional Items'!E17","v":0}]
[{"$f":"_xlfn.XLOOKUP(C357,Lists!AW:AW,Lists!BD:BD,0)","v":0},{"$f":"_xlfn.XLOOKUP(1,\n(Lists!AW:AW=C357)*\n(Lists!AX:AX=D357),\n(Lists!AV:AV))","v":0},{"$f":"IF(G357>0,'Additional Items'!G20,0)","v":0},{"$f":"_xlfn.XLOOKUP(C357,Lists!AW:AW,Lists!AX:AX,0)","v":0},null,null,{"$f":"'Additional Items'!E20","v":0}]
[{"$f":"_xlfn.XLOOKUP(C358,Lists!AW:AW,Lists!BD:BD,0)","v":0},{"$f":"_xlfn.XLOOKUP(1,\n(Lists!$AW:$AW=C358)*\n(Lists!$AX:$AX=D358),\n(Lists!$AV:$AV))","v":0},{"$f":"IF(G358>0,'Additional Items'!B23,0)","v":0},{"$f":"_xlfn.XLOOKUP(C358,Lists!AW:AW,Lists!AX:AX,0)","v":0},null,null,{"$f":"'Additional Items'!E23","v":0}]
[{"$f":"_xlfn.XLOOKUP(C359,Lists!AW:AW,Lists!BD:BD,0)","v":0},{"$f":"_xlfn.XLOOKUP(C359,Lists!AW:AW,Lists!AV:AV,0,)","v":0},{"$f":"IF(G359>0,'Additional Items'!G23,0)","v":0},{"$f":"IF(G359>0,'Additional Items'!G26,0)","v":0},null,null,{"$f":"'Additional Items'!J23","v":0}]
[{"$f":"_xlfn.XLOOKUP(C360,Lists!AW:AW,Lists!BD:BD,0)","v":0},{"$f":"_xlfn.XLOOKUP(C360,Lists!AW:AW,Lists!AV:AV,0,)","v":0},{"$f":"IF(G360>0,'Additional Items'!B32,0)","v":0},{"$f":"_xlfn.XLOOKUP(C360,Lists!AW:AW,Lists!AX:AX,0)","v":0},null,null,{"$f":"'Additional Items'!E32","v":0}]
[{"$f":"_xlfn.XLOOKUP(C361,Lists!AW:AW,Lists!BD:BD,0)","v":0},{"$f":"_xlfn.XLOOKUP(C361,Lists!AW:AW,Lists!AV:AV,0,)","v":0},null,{"$f":"_xlfn.XLOOKUP(C361,Lists!AW:AW,Lists!AX:AX,0)","v":0}]
[{"$f":"IF(G362>0,QUOTES!C51,0)","v":0},{"$f":"IF(G362>0,QUOTES!D51,0)","v":0},{"$f":"IF(G362>0,QUOTES!E51,0)","v":0},{"$f":"IF(G362>0,QUOTES!F51,0)","v":0},null,null,{"$f":"IF($J$362>0,1,0)","v":0},null,{"$f":"QUOTES!L35","v":0},{"$f":"QUOTES!K35","v":0}]
[{"$f":"_xlfn.XLOOKUP(C363,Lists!AW:AW,Lists!BD:BD,0)","v":"535"},{"$f":"_xlfn.XLOOKUP(C363,Lists!AW:AW,Lists!AV:AV,0,)","v":"535-100-100150"},{"$f":"IF(G363=\"\",\"\",('Elec,Ceiling,Plaster,Paint '!M39))","v":"DRYLINE WALL 3 COATS"},{"$f":"_xlfn.XLOOKUP(C363,Lists!AW:AW,Lists!AX:AX,0)","v":"1 JOINT SEALER & 2 TOP COATS"},null,null,{"$f":"'Elec,Ceiling,Plaster,Paint '!Q39","v":136.48331999999999}]
[{"$f":"_xlfn.XLOOKUP(C364,Lists!AW:AW,Lists!BD:BD,0)","v":0},{"$f":"_xlfn.XLOOKUP(C364,Lists!AW:AW,Lists!AV:AV,0,)","v":0},{"$f":"IF(G364>0,'Elec,Ceiling,Plaster,Paint '!Q21,0)","v":0},{"$f":"_xlfn.XLOOKUP(C364,Lists!AW:AW,Lists!AX:AX,0)","v":0},null,null,{"$f":"'Elec,Ceiling,Plaster,Paint '!O21","v":0}]
[{"$f":"_xlfn.XLOOKUP(C365,Lists!AW:AW,Lists!BD:BD,0)","v":"535"},{"$f":"_xlfn.XLOOKUP(C365,Lists!AW:AW,Lists!AV:AV,0,)","v":"535-100-100300"},{"$f":"IF(G365>0,'Elec,Ceiling,Plaster,Paint '!X21,0)","v":"FLAT CEILINGS 2 COATS"},{"$f":"_xlfn.XLOOKUP(C365,Lists!AW:AW,Lists!AX:AX,0)","v":""},null,null,{"$f":"'Elec,Ceiling,Plaster,Paint '!Q8","v":283.721}]
[{"$f":"_xlfn.XLOOKUP(C366,Lists!AW:AW,Lists!BD:BD,0)","v":0},{"$f":"_xlfn.XLOOKUP(C366,Lists!AW:AW,Lists!AV:AV,0,)","v":0},{"$f":"IF(G366>0,'Elec,Ceiling,Plaster,Paint '!X22,0)","v":0},{"$f":"_xlfn.XLOOKUP(C366,Lists!AW:AW,Lists!AX:AX,0)","v":0},null,null,{"$f":"'Elec,Ceiling,Plaster,Paint '!Q7","v":0}]
[{"$f":"_xlfn.XLOOKUP(C367,Lists!AW:AW,Lists!BD:BD,0)","v":0},{"$f":"_xlfn.XLOOKUP(C367,Lists!AW:AW,Lists!AV:AV,0,)","v":0},{"$f":"IF(G367>0,'Elec,Ceiling,Plaster,Paint '!X23,0)","v":0},{"$f":"_xlfn.XLOOKUP(C367,Lists!AW:AW,Lists!AX:AX,0)","v":0},null,null,{"$f":"'Elec,Ceiling,Plaster,Paint '!M18","v":0}]
[{"$f":"_xlfn.XLOOKUP(C368,Lists!AW:AW,Lists!BD:BD,0)","v":0},{"$f":"_xlfn.XLOOKUP(C368,Lists!AW:AW,Lists!AV:AV,0,)","v":0},{"$f":"IF(G368>0,'Elec,Ceiling,Plaster,Paint '!X24,0)","v":0},{"$f":"_xlfn.XLOOKUP(C368,Lists!AW:AW,Lists!AX:AX,0)","v":0},null,null,{"$f":"'Elec,Ceiling,Plaster,Paint '!M12+'Elec,Ceiling,Plaster,Paint '!M13","v":0}]
[{"$f":"_xlfn.XLOOKUP(C369,Lists!AW:AW,Lists!BD:BD,0)","v":0},{"$f":"_xlfn.XLOOKUP(C369,Lists!AW:AW,Lists!AV:AV,0,)","v":0},{"$f":"IF(G369>0,'Elec,Ceiling,Plaster,Paint '!X25,0)","v":0},{"$f":"_xlfn.XLOOKUP(C369,Lists!AW:AW,Lists!AX:AX,0)","v":0},null,null,{"$f":"'Elec,Ceiling,Plaster,Paint '!M15","v":0}]
[{"$f":"_xlfn.XLOOKUP(C370,Lists!AW:AW,Lists!BD:BD,0)","v":0},{"$f":"_xlfn.XLOOKUP(C370,Lists!AW:AW,Lists!AV:AV,0,)","v":0},{"$f":"IF(G370>0,'Elec,Ceiling,Plaster,Paint '!X26,0)","v":0},{"$f":"_xlfn.XLOOKUP(C370,Lists!AW:AW,Lists!AX:AX,0)","v":0},null,null,{"$f":"'Elec,Ceiling,Plaster,Paint '!O22","v":0}]
[{"$f":"_xlfn.XLOOKUP(C371,Lists!AW:AW,Lists!BD:BD,0)","v":0},{"$f":"_xlfn.XLOOKUP(C371,Lists!AW:AW,Lists!AV:AV,0,)","v":0},{"$f":"IF(G371>0,'INT-EXT DOORS & int walls'!AL10,0)","v":0},{"$f":"_xlfn.XLOOKUP(C371,Lists!AW:AW,Lists!AX:AX,0)","v":0},null,null,{"$f":"'INT-EXT DOORS & int walls'!C35","v":0}]
[{"$f":"_xlfn.XLOOKUP(C372,Lists!AW:AW,Lists!BD:BD,0)","v":"535"},{"$f":"_xlfn.XLOOKUP(1,\n(Lists!AW:AW=C372)*\n(Lists!AX:AX=D372),\n(Lists!AV:AV))","v":"535-100-100710"},{"$f":"IF(G372>0,'FIxing Carpentry & Moulding'!AX61,0)","v":"CAVITY SLIDING DOOR ONLY"},{"$f":"IF(G372>0,'FIxing Carpentry & Moulding'!AY61,0)","v":"FLUSH PANEL"},null,null,{"$f":"'FIxing Carpentry & Moulding'!AW61","v":3}]
[{"$f":"_xlfn.XLOOKUP(C373,Lists!AW:AW,Lists!BD:BD,0)","v":0},{"$f":"_xlfn.XLOOKUP(1,\n(Lists!AW:AW=C373)*\n(Lists!AX:AX=D373),\n(Lists!AV:AV))","v":0},{"$f":"IF(G373>0,'FIxing Carpentry & Moulding'!AX62,0)","v":0},{"$f":"IF(G373>0,'FIxing Carpentry & Moulding'!AY62,0)","v":0},null,null,{"$f":"'FIxing Carpentry & Moulding'!AW62","v":0}]
[{"$f":"_xlfn.XLOOKUP(C374,Lists!AW:AW,Lists!BD:BD,0)","v":0},{"$f":"_xlfn.XLOOKUP(C374,Lists!AW:AW,Lists!AV:AV,0,)","v":0},{"$f":"IF(G374>0,'FIxing Carpentry & Moulding'!AX63,0)","v":0},null,null,null,{"$f":"'FIxing Carpentry & Moulding'!Z32","v":0}]
[{"$f":"_xlfn.XLOOKUP(C375,Lists!AW:AW,Lists!BD:BD,0)","v":0},{"$f":"_xlfn.XLOOKUP(C375,Lists!AW:AW,Lists!AV:AV,0,)","v":0},{"$f":"IF(G375>0,'FIxing Carpentry & Moulding'!AX64,0)","v":0},{"$f":"_xlfn.XLOOKUP(C375,Lists!AW:AW,Lists!AX:AX,0)","v":0},null,null,{"$f":"'FIxing Carpentry & Moulding'!AY64","v":0}]
[{"$f":"_xlfn.XLOOKUP(C376,Lists!AW:AW,Lists!BD:BD,0)","v":"535"},{"$f":"_xlfn.XLOOKUP(C376,Lists!AW:AW,Lists!AV:AV,0,)","v":"535-100-100900"},{"$f":"IF(G376>0,'FIxing Carpentry & Moulding'!X29,0)","v":"ARCHITRAVE PER OPENING"},{"$f":"_xlfn.XLOOKUP(C376,Lists!AW:AW,Lists!AX:AX,0)","v":"SINGLE & DOUBLE CAVITY SLIDERS"},null,null,{"$f":"'FIxing Carpentry & Moulding'!Z29","v":2}]
[{"$f":"_xlfn.XLOOKUP(C377,Lists!AW:AW,Lists!BD:BD,0)","v":"535"},{"$f":"_xlfn.XLOOKUP(C377,Lists!AW:AW,Lists!AV:AV,0,)","v":"535-100-101000"},{"$f":"IF(G377>0,'FIxing Carpentry & Moulding'!X36,0)","v":"ENTRY DOOR UNGLAZED & FRAME"},{"$f":"_xlfn.XLOOKUP(C377,Lists!AW:AW,Lists!AX:AX,0)","v":""},null,null,{"$f":"'FIxing Carpentry & Moulding'!Z36","v":1}]
[{"$f":"_xlfn.XLOOKUP(C378,Lists!AW:AW,Lists!BD:BD,0)","v":0},{"$f":"_xlfn.XLOOKUP(C378,Lists!AW:AW,Lists!AV:AV,0,)","v":0},{"$f":"IF(G378>0,'FIxing Carpentry & Moulding'!X37,0)","v":0},{"$f":"_xlfn.XLOOKUP(C378,Lists!AW:AW,Lists!AX:AX,0)","v":0},null,null,{"$f":"'FIxing Carpentry & Moulding'!Z37","v":0}]
[{"$f":"_xlfn.XLOOKUP(C379,Lists!AW:AW,Lists!BD:BD,0)","v":0},{"$f":"_xlfn.XLOOKUP(C379,Lists!AW:AW,Lists!AV:AV,0,)","v":0},{"$f":"IF(G379>0,'FIxing Carpentry & Moulding'!AX65,0)","v":0},null,null,null,{"$f":"'FIxing Carpentry & Moulding'!AY65","v":0}]
[{"$f":"_xlfn.XLOOKUP(C380,Lists!AW:AW,Lists!BD:BD,0)","v":0},{"$f":"_xlfn.XLOOKUP(C380,Lists!AW:AW,Lists!AV:AV,0,)","v":0},{"$f":"IF(G380>0,'FIxing Carpentry & Moulding'!X10,0)","v":0},null,null,null,{"$f":"'FIxing Carpentry & Moulding'!Z10","v":0}]
[{"$f":"_xlfn.XLOOKUP(C381,Lists!AW:AW,Lists!BD:BD,0)","v":0},{"$f":"_xlfn.XLOOKUP(C381,Lists!AW:AW,Lists!AV:AV,0,)","v":0},{"$f":"IF(G381>0,'FIxing Carpentry & Moulding'!AC36,0)","v":0},null,null,null,{"$f":"'FIxing Carpentry & Moulding'!AE40","v":0}]
[{"$f":"_xlfn.XLOOKUP(C382,Lists!AW:AW,Lists!BD:BD,0)","v":0},{"$f":"_xlfn.XLOOKUP(C382,Lists!AW:AW,Lists!AV:AV,0,)","v":0},{"$f":"IF(G382>0,'Fascia-Roof Hardware'!K36,0)","v":0},null,null,null,{"$f":"'Fascia-Roof Hardware'!S36","v":0}]
[{"$f":"_xlfn.XLOOKUP(C383,Lists!AW:AW,Lists!BD:BD,0)","v":0},{"$f":"_xlfn.XLOOKUP(C383,Lists!AW:AW,Lists!AV:AV,0,)","v":0},{"$f":"IF(G383>0,'Fascia-Roof Hardware'!K33,0)","v":0},null,null,null,{"$f":"'Fascia-Roof Hardware'!S33","v":0}]
[{"$f":"_xlfn.XLOOKUP(C384,Lists!AW:AW,Lists!BD:BD,0)","v":0},{"$f":"_xlfn.XLOOKUP(C384,Lists!AW:AW,Lists!AV:AV,0,)","v":0},{"$f":"IF(G384>0,'Fascia-Roof Hardware'!K32,0)","v":0},null,null,null,{"$f":"'Fascia-Roof Hardware'!S32","v":0}]
[{"$f":"_xlfn.XLOOKUP(C385,Lists!AW:AW,Lists!BD:BD,0)","v":0},{"$f":"_xlfn.XLOOKUP(C385,Lists!AW:AW,Lists!AV:AV,0,)","v":0},{"$f":"IF(G385>0,'Elec,Ceiling,Plaster,Paint '!Q20,0)","v":0},{"$f":"_xlfn.XLOOKUP(C385,Lists!AW:AW,Lists!AX:AX,0)","v":0},null,null,{"$f":"'Elec,Ceiling,Plaster,Paint '!O20","v":-70.600999999999999}]
[{"$f":"_xlfn.XLOOKUP(C386,Lists!AW:AW,Lists!BD:BD,0)","v":0},{"$f":"_xlfn.XLOOKUP(C386,Lists!AW:AW,Lists!AV:AV,0,)","v":0},{"$f":"IF(G386>0,'Fascia-Roof Hardware'!AL42,0)","v":0},{"$f":"_xlfn.XLOOKUP(C386,Lists!AW:AW,Lists!AX:AX,0)","v":0},null,null,{"$f":"'Fascia-Roof Hardware'!S22","v":0}]
[{"$f":"_xlfn.XLOOKUP(C387,Lists!AW:AW,Lists!BD:BD,0)","v":0},{"$f":"_xlfn.XLOOKUP(C387,Lists!AW:AW,Lists!AV:AV,0,)","v":0},{"$f":"IF(G387>0,'Fascia-Roof Hardware'!K34,0)","v":0},{"$f":"_xlfn.XLOOKUP(C387,Lists!AW:AW,Lists!AX:AX,0)","v":0},null,null,{"$f":"'Fascia-Roof Hardware'!S34","v":0}]
[{"$f":"_xlfn.XLOOKUP(C388,Lists!AW:AW,Lists!BD:BD,0)","v":"535"},{"$f":"_xlfn.XLOOKUP(C388,Lists!AW:AW,Lists!AV:AV,0,)","v":"535-100-102500"},{"$f":"IF(G388>0,'Elec,Ceiling,Plaster,Paint '!U52,0)","v":"CEMENT RENDER"},null,null,null,{"$f":"'Elec,Ceiling,Plaster,Paint '!V52","v":68.754000000000005}]
[{"$f":"_xlfn.XLOOKUP(C389,Lists!AW:AW,Lists!BD:BD,0)","v":0},{"$f":"_xlfn.XLOOKUP(C389,Lists!AW:AW,Lists!AV:AV,0,)","v":0},{"$f":"IF(G389>0,'FIxing Carpentry & Moulding'!AX42,0)","v":0},null,null,null,{"$f":"'FIxing Carpentry & Moulding'!B30","v":0}]
[{"$f":"_xlfn.XLOOKUP(C390,Lists!AW:AW,Lists!BD:BD,0)","v":0},{"$f":"_xlfn.XLOOKUP(C390,Lists!AW:AW,Lists!AV:AV,0,)","v":0},{"$f":"IF(G390>0,'Fascia-Roof Hardware'!K37,0)","v":0},null,null,null,{"$f":"'Fascia-Roof Hardware'!S37","v":0}]
[{"$f":"_xlfn.XLOOKUP(C391,Lists!AW:AW,Lists!BD:BD,0)","v":0},{"$f":"_xlfn.XLOOKUP(C391,Lists!AW:AW,Lists!AV:AV,0,)","v":0},{"$f":"IF(G391>0,'Fascia-Roof Hardware'!K38,0)","v":0},null,null,null,{"$f":"'Fascia-Roof Hardware'!S38","v":0}]
[{"$f":"_xlfn.XLOOKUP(C392,Lists!AW:AW,Lists!BD:BD,0)","v":0},{"$f":"_xlfn.XLOOKUP(C392,Lists!AW:AW,Lists!AV:AV,0,)","v":0},{"$f":"IF(G392>0,'Fascia-Roof Hardware'!K39,0)","v":0},null,null,null,{"$f":"'Fascia-Roof Hardware'!S39","v":0}]
[null,null,{"$f":"IF(G393>0,'FIxing Carpentry & Moulding'!AX46,0)","v":0}]
[{"$f":"_xlfn.XLOOKUP(C394,Lists!AW:AW,Lists!BD:BD,0)","v":0},{"$f":"_xlfn.XLOOKUP(C394,Lists!AW:AW,Lists!AV:AV,0,)","v":0},{"$f":"IF(G394>0,'Lintels.windows '!AL43,0)","v":0},{"$f":"_xlfn.XLOOKUP(C394,Lists!AW:AW,Lists!AX:AX,0)","v":0},null,null,{"$f":"'Lintels.windows '!AN41","v":0}]
[{"$f":"_xlfn.XLOOKUP(C395,Lists!AW:AW,Lists!BD:BD,0)","v":0},{"$f":"_xlfn.XLOOKUP(C395,Lists!AW:AW,Lists!AV:AV,0,)","v":0},{"$f":"IF(G395>0,'FIxing Carpentry & Moulding'!AX43,0)","v":0},{"$f":"_xlfn.XLOOKUP(C395,Lists!AW:AW,Lists!AX:AX,0)","v":0},null,null,{"$f":"'FIxing Carpentry & Moulding'!Z34","v":0}]
[{"$f":"_xlfn.XLOOKUP(C396,Lists!AW:AW,Lists!BD:BD,0)","v":0},{"$f":"_xlfn.XLOOKUP(C396,Lists!AW:AW,Lists!AV:AV,0,)","v":0},{"$f":"IF(G396>0,'FIxing Carpentry & Moulding'!X38,0)","v":0},null,null,null,{"$f":"'FIxing Carpentry & Moulding'!Z38","v":0}]
[{"$f":"_xlfn.XLOOKUP(C397,Lists!AW:AW,Lists!BD:BD,0)","v":0},{"$f":"_xlfn.XLOOKUP(C397,Lists!AW:AW,Lists!AV:AV,0,)","v":0},{"$f":"IF(G397>0,'FIxing Carpentry & Moulding'!X39,0)","v":0},null,null,null,{"$f":"'FIxing Carpentry & Moulding'!Z39","v":0}]
[{"$f":"_xlfn.XLOOKUP(C398,Lists!AW:AW,Lists!BD:BD,0)","v":0},{"$f":"_xlfn.XLOOKUP(C398,Lists!AW:AW,Lists!AV:AV,0,)","v":0},{"$f":"IF(G398>0,'FIxing Carpentry & Moulding'!X40,0)","v":0},{"$f":"_xlfn.XLOOKUP(C398,Lists!AW:AW,Lists!AX:AX,0)","v":0},null,null,{"$f":"'FIxing Carpentry & Moulding'!Z40","v":0}]
[{"$f":"_xlfn.XLOOKUP(C399,Lists!AW:AW,Lists!BD:BD,0)","v":0},{"$f":"_xlfn.XLOOKUP(C399,Lists!AW:AW,Lists!AV:AV,0,)","v":0},{"$f":"IF(G399>0,'Elec,Ceiling,Plaster,Paint '!Q23,0)","v":0},{"$f":"_xlfn.XLOOKUP(C399,Lists!AW:AW,Lists!AX:AX,0)","v":0},null,null,{"$f":"'Elec,Ceiling,Plaster,Paint '!O23","v":0}]
[{"$f":"_xlfn.XLOOKUP(C400,Lists!AW:AW,Lists!BD:BD,0)","v":0},{"$f":"IF(G400>0,'Paving&Grano'!AF18,0)","v":0},{"$f":"_xlfn.XLOOKUP(B400,Lists!AV:AV,Lists!AW:AW,0)","v":0},{"$f":"_xlfn.XLOOKUP(B400,Lists!AV:AV,Lists!AX:AX,0)","v":0},null,null,{"$f":"'Paving&Grano'!S16","v":0}]
[{"$f":"_xlfn.XLOOKUP(B401,Lists!AV:AV,Lists!BD:BD,0)","v":0},{"$f":"IF(G401>0,'Paving&Grano'!AF16,0)","v":0},{"$f":"_xlfn.XLOOKUP(B401,Lists!AV:AV,Lists!AW:AW,0)","v":0},{"$f":"_xlfn.XLOOKUP(B401,Lists!AV:AV,Lists!AX:AX,0)","v":0},null,null,{"$f":"'Paving&Grano'!AE16","v":0}]
[{"$f":"_xlfn.XLOOKUP(B402,Lists!AV:AV,Lists!BD:BD,0)","v":0},{"$f":"IF(G402>0,'Paving&Grano'!AF17,0)","v":0},{"$f":"_xlfn.XLOOKUP(B402,Lists!AV:AV,Lists!AW:AW,0)","v":0},{"$f":"_xlfn.XLOOKUP(B402,Lists!AV:AV,Lists!AX:AX,0)","v":0},null,null,{"$f":"'Paving&Grano'!AE17","v":0}]
[{"$f":"_xlfn.XLOOKUP(B403,Lists!AV:AV,Lists!BD:BD,0)","v":"540"},{"$f":"IF('Paving&Grano'!AD9=\"YES\",'Paving&Grano'!Z12,0)","v":"540-980-100100"},{"$f":"_xlfn.XLOOKUP(B403,Lists!AV:AV,Lists!AW:AW,0)","v":"MANDURAH  AREA LOADING"},{"$f":"_xlfn.XLOOKUP(B403,Lists!AV:AV,Lists!AX:AX,0)","v":"E/O PER m2"},null,null,{"$f":"IF('Paving&Grano'!AD9=\"YES\",'Paving&Grano'!S16,0)","v":0},"`"]
[]
[{"$f":"_xlfn.XLOOKUP(B405,Lists!AV:AV,Lists!BD:BD,0)","v":0},{"$f":"IF('Paving&Grano'!Y6=1,'Paving&Grano'!AE6,0)","v":0},{"$f":"_xlfn.XLOOKUP(B405,Lists!AV:AV,Lists!AW:AW,0)","v":0},{"$f":"_xlfn.XLOOKUP(B405,Lists!AV:AV,Lists!AX:AX,0)","v":0},null,null,{"$f":"'Paving&Grano'!Y6","v":0}]
[{"$f":"IF($G$406>0,QUOTES!C33,0)","v":0},{"$f":"IF($G$406>0,QUOTES!D33,0)","v":0},{"$f":"IF($G$406>0,QUOTES!E33,0)","v":0},{"$f":"IF(H406>0,QUOTES!F114,0)","v":0},null,null,{"$f":"IF($J$406>0,1,0)","v":0},null,{"$f":"QUOTES!L33","v":0},{"$f":"QUOTES!K33","v":0}]
[{"$f":"_xlfn.XLOOKUP(B407,Lists!AV:AV,Lists!BD:BD,0)","v":0},{"$f":"_xlfn.XLOOKUP(C407,Lists!AW:AW,Lists!AV:AV,0,)","v":0},{"$f":"IF(G407>0,'Paving&Grano'!N63,0)","v":0},{"$f":"_xlfn.XLOOKUP(C407,Lists!AW:AW,Lists!AX:AX,0)","v":0},null,null,{"$f":"'Paving&Grano'!M63","v":0}]
[{"$f":"_xlfn.XLOOKUP(B408,Lists!AV:AV,Lists!BD:BD,0)","v":0},{"$f":"_xlfn.XLOOKUP(C408,Lists!AW:AW,Lists!AV:AV,0,)","v":0},{"$f":"IF(G408>0,'Paving&Grano'!N64,0)","v":0},{"$f":"_xlfn.XLOOKUP(C408,Lists!AW:AW,Lists!AX:AX,0)","v":0},null,null,{"$f":"'Paving&Grano'!M64","v":0}]
[{"$f":"_xlfn.XLOOKUP(C409,Lists!AW:AW,Lists!BD:BD,0)","v":0},{"$f":"IF(G409>0,'Paving&Grano'!P6,0)","v":0},{"$f":"IF(G409>0,'Paving&Grano'!E6,0)","v":0},{"$f":"_xlfn.XLOOKUP(C409,Lists!AW:AW,Lists!AX:AX,0)","v":0},null,null,{"$f":"'Paving&Grano'!I6","v":0}]
[{"$f":"_xlfn.XLOOKUP(C410,Lists!AW:AW,Lists!BD:BD,0)","v":0},{"$f":"IF(G410>0,'Paving&Grano'!P7,0)","v":0},{"$f":"IF(G410>0,'Paving&Grano'!E7,0)","v":0},{"$f":"_xlfn.XLOOKUP(C410,Lists!AW:AW,Lists!AX:AX,0)","v":0},null,null,{"$f":"'Paving&Grano'!I7","v":0}]
[{"$f":"_xlfn.XLOOKUP(C411,Lists!AW:AW,Lists!BD:BD,0)","v":0},{"$f":"IF(G411>0,'Paving&Grano'!P8,0)","v":0},{"$f":"IF(G411>0,'Paving&Grano'!E8,0)","v":0},{"$f":"_xlfn.XLOOKUP(C411,Lists!AW:AW,Lists!AX:AX,0)","v":0},null,null,{"$f":"'Paving&Grano'!I8","v":0}]
[{"$f":"_xlfn.XLOOKUP(B412,Lists!AV:AV,Lists!BD:BD,0)","v":0},{"$f":"IF(G412>0,'Paving&Grano'!O39,0)","v":0},{"$f":"IF(G412>0,'Paving&Grano'!M39,0)","v":0},{"$f":"_xlfn.XLOOKUP(B412,Lists!AV:AV,Lists!AX:AX,0)","v":0},null,null,{"$f":"'Paving&Grano'!N39","v":0}]
[{"$f":"_xlfn.XLOOKUP(B413,Lists!AV:AV,Lists!BD:BD,0)","v":0},{"$f":"IF(G413>0,'Paving&Grano'!O40,0)","v":0},{"$f":"IF(G413>0,'Paving&Grano'!M40,0)","v":0},{"$f":"_xlfn.XLOOKUP(B413,Lists!AV:AV,Lists!AX:AX,0)","v":0},null,null,{"$f":"'Paving&Grano'!N40","v":0}]
[{"$f":"_xlfn.XLOOKUP(B414,Lists!AV:AV,Lists!BD:BD,0)","v":0},{"$f":"IF(G414>0,'Paving&Grano'!O41,0)","v":0},{"$f":"IF(G414>0,'Paving&Grano'!M41,0)","v":0},{"$f":"_xlfn.XLOOKUP(B414,Lists!AV:AV,Lists!AX:AX,0)","v":0},null,null,{"$f":"'Paving&Grano'!N41","v":0}]
[{"$f":"_xlfn.XLOOKUP(B415,Lists!AV:AV,Lists!BD:BD,0)","v":0},{"$f":"IF(G415>0,'Paving&Grano'!O42,0)","v":0},{"$f":"IF(G415>0,'Paving&Grano'!M42,0)","v":0},{"$f":"_xlfn.XLOOKUP(B415,Lists!AV:AV,Lists!AX:AX,0)","v":0},null,null,{"$f":"'Paving&Grano'!N42","v":0}]
[{"$f":"_xlfn.XLOOKUP(B416,Lists!AV:AV,Lists!BD:BD,0)","v":0},{"$f":"IF(G416>0,'Paving&Grano'!O43,0)","v":0},{"$f":"IF(G416>0,'Paving&Grano'!M43,0)","v":0},{"$f":"_xlfn.XLOOKUP(B416,Lists!AV:AV,Lists!AX:AX,0)","v":0},null,null,{"$f":"'Paving&Grano'!N43","v":0}]
[{"$f":"_xlfn.XLOOKUP(B417,Lists!AV:AV,Lists!BD:BD,0)","v":0},{"$f":"IF(G417>0,'Paving&Grano'!O44,0)","v":0},{"$f":"IF(G417>0,'Paving&Grano'!M44,0)","v":0},{"$f":"_xlfn.XLOOKUP(B417,Lists!AV:AV,Lists!AX:AX,0)","v":0},null,null,{"$f":"'Paving&Grano'!N44","v":0}]
[{"$f":"_xlfn.XLOOKUP(B418,Lists!AV:AV,Lists!BD:BD,0)","v":0},{"$f":"IF(G418>0,'Paving&Grano'!O45,0)","v":0},{"$f":"IF(G418>0,'Paving&Grano'!M45,0)","v":0},{"$f":"_xlfn.XLOOKUP(B418,Lists!AV:AV,Lists!AX:AX,0)","v":0},null,null,{"$f":"'Paving&Grano'!N45","v":0}]
[{"$f":"_xlfn.XLOOKUP(B419,Lists!AV:AV,Lists!BD:BD,0)","v":0},{"$f":"IF(G419>0,'Paving&Grano'!O46,0)","v":0},{"$f":"IF(G419>0,'Paving&Grano'!M46,0)","v":0},{"$f":"_xlfn.XLOOKUP(B419,Lists!AV:AV,Lists!AX:AX,0)","v":0},null,null,{"$f":"'Paving&Grano'!N46","v":0}]
[{"$f":"_xlfn.XLOOKUP(B420,Lists!AV:AV,Lists!BD:BD,0)","v":0},{"$f":"IF(G420>0,'Paving&Grano'!O47,0)","v":0},{"$f":"IF(G420>0,'Paving&Grano'!M47,0)","v":0},{"$f":"_xlfn.XLOOKUP(B420,Lists!AV:AV,Lists!AX:AX,0)","v":0},null,null,{"$f":"'Paving&Grano'!N47","v":0}]
[{"$f":"_xlfn.XLOOKUP(B421,Lists!AV:AV,Lists!BD:BD,0)","v":0},{"$f":"IF(G421>0,'Paving&Grano'!O48,0)","v":0},{"$f":"IF(G421>0,'Paving&Grano'!M48,0)","v":0},{"$f":"_xlfn.XLOOKUP(B421,Lists!AV:AV,Lists!AX:AX,0)","v":0},null,null,{"$f":"'Paving&Grano'!N48","v":0}]
[{"$f":"_xlfn.XLOOKUP(B422,Lists!AV:AV,Lists!BD:BD,0)","v":0},{"$f":"IF(G422>0,'Paving&Grano'!O49,0)","v":0},{"$f":"IF(G422>0,'Paving&Grano'!M49,0)","v":0},{"$f":"_xlfn.XLOOKUP(B422,Lists!AV:AV,Lists!AX:AX,0)","v":0},null,null,{"$f":"'Paving&Grano'!N49","v":0}]
[{"$f":"_xlfn.XLOOKUP(B423,Lists!AV:AV,Lists!BD:BD,0)","v":0},{"$f":"IF(G423>0,'Paving&Grano'!O50,0)","v":0},{"$f":"IF(G423>0,'Paving&Grano'!M50,0)","v":0},{"$f":"_xlfn.XLOOKUP(B423,Lists!AV:AV,Lists!AX:AX,0)","v":0},null,null,{"$f":"'Paving&Grano'!N50","v":0}]
[{"$f":"IF(B424>0,565,0)","v":0},{"$f":"_xlfn.XLOOKUP(1,\n(Lists!AW:AW=C424)*\n(Lists!AX:AX=D424),\n(Lists!AV:AV))","v":0},{"$f":"IF(G424>0,'Paving&Grano'!M52,0)","v":0},{"$f":"IF(G424>0,'Paving&Grano'!O52,0)","v":0},null,null,{"$f":"'Paving&Grano'!N52","v":0}]
[{"$f":"IF(B425>0,565,0)","v":0},{"$f":"_xlfn.XLOOKUP(1,\n(Lists!AW:AW=C425)*\n(Lists!AX:AX=D425),\n(Lists!AV:AV))","v":0},{"$f":"IF(G425>0,'Paving&Grano'!M53,0)","v":0},{"$f":"IF(G425>0,'Paving&Grano'!O53,0)","v":0},null,null,{"$f":"'Paving&Grano'!N53","v":0}]
[0,{"$f":"_xlfn.XLOOKUP(1,\n(Lists!AW:AW=C426)*\n(Lists!AX:AX=D426),\n(Lists!AV:AV))","v":0},{"$f":"IF(G426>0,'Paving&Grano'!M54,0)","v":0},{"$f":"IF(G426>0,'Paving&Grano'!O54,0)","v":0},null,null,{"$f":"'Paving&Grano'!N54","v":0}]
[0,{"$f":"_xlfn.XLOOKUP(1,\n(Lists!AW:AW=C427)*\n(Lists!AX:AX=D427),\n(Lists!AV:AV))","v":0},{"$f":"IF(G427>0,'Paving&Grano'!M55,0)","v":0},{"$f":"IF(G427>0,'Paving&Grano'!O55,0)","v":0},null,null,{"$f":"'Paving&Grano'!N55","v":0}]
[0,{"$f":"_xlfn.XLOOKUP(1,\n(Lists!AW:AW=C428)*\n(Lists!AX:AX=D428),\n(Lists!AV:AV))","v":0},{"$f":"IF(G428>0,'Paving&Grano'!M56,0)","v":0},{"$f":"IF(G428>0,'Paving&Grano'!O56,0)","v":0},null,null,{"$f":"'Paving&Grano'!N56","v":0}]
[0,{"$f":"_xlfn.XLOOKUP(1,\n(Lists!AW:AW=C429)*\n(Lists!AX:AX=D429),\n(Lists!AV:AV))","v":0},{"$f":"IF(G429>0,'Paving&Grano'!M57,0)","v":0},{"$f":"IF(G429>0,'Paving&Grano'!O57,0)","v":0},null,null,{"$f":"'Paving&Grano'!N57","v":0}]
[0,{"$f":"_xlfn.XLOOKUP(1,\n(Lists!AW:AW=C430)*\n(Lists!AX:AX=D430),\n(Lists!AV:AV))","v":0},{"$f":"IF(G430>0,'Paving&Grano'!M58,0)","v":0},{"$f":"IF(G430>0,'Paving&Grano'!O58,0)","v":0},null,null,{"$f":"'Paving&Grano'!N58","v":0}]
[0,{"$f":"_xlfn.XLOOKUP(1,\n(Lists!AW:AW=C431)*\n(Lists!AX:AX=D431),\n(Lists!AV:AV))","v":0},{"$f":"IF(G431>0,'Paving&Grano'!M59,0)","v":0},{"$f":"IF(G431>0,'Paving&Grano'!O59,0)","v":0},null,null,{"$f":"'Paving&Grano'!N59","v":0}]
[0,{"$f":"_xlfn.XLOOKUP(1,\n(Lists!AW:AW=C432)*\n(Lists!AX:AX=D432),\n(Lists!AV:AV))","v":0},{"$f":"IF(G432>0,'Paving&Grano'!M60,0)","v":0},{"$f":"IF(G432>0,'Paving&Grano'!O60,0)","v":0},null,null,{"$f":"'Paving&Grano'!N60","v":0}]
[0,{"$f":"_xlfn.XLOOKUP(1,\n(Lists!AW:AW=C433)*\n(Lists!AX:AX=D433),\n(Lists!AV:AV))","v":0},{"$f":"IF(G433>0,'Paving&Grano'!M61,0)","v":0},{"$f":"IF(G433>0,'Paving&Grano'!O61,0)","v":0},null,null,{"$f":"'Paving&Grano'!N61","v":0}]
[{"$f":"_xlfn.XLOOKUP(C434,Lists!AW:AW,Lists!BD:BD,0)","v":0},{"$f":"IF(G434>1,'Paving&Grano'!P3,0)","v":0},{"$f":"_xlfn.XLOOKUP(B434,Lists!AV:AV,Lists!AW:AW,0)","v":0},{"$f":"_xlfn.XLOOKUP(B434,Lists!AV:AV,Lists!AX:AX,0)","v":0},null,null,{"$f":"'Paving&Grano'!I19","v":0}]
[{"$f":"_xlfn.XLOOKUP(C435,Lists!AW:AW,Lists!BD:BD,0)","v":0},{"$f":"IF(G435>1,'Paving&Grano'!P22,0)","v":0},{"$f":"_xlfn.XLOOKUP(B435,Lists!AV:AV,Lists!AW:AW,0)","v":0},{"$f":"_xlfn.XLOOKUP(B435,Lists!AV:AV,Lists!AX:AX,0)","v":0},null,null,{"$f":"'Paving&Grano'!I29","v":0}]
[]
[{"$f":"_xlfn.XLOOKUP(C437,Lists!AW:AW,Lists!BD:BD,0)","v":0},{"$f":"_xlfn.XLOOKUP(C437,Lists!AW:AW,Lists!AV:AV,0,)","v":0},{"$f":"IF(G437>0,'Paving&Grano'!M37,0)","v":0},null,null,null,{"$f":"'Paving&Grano'!I11","v":0}]
[]
[{"$f":"_xlfn.XLOOKUP(B439,Lists!AV:AV,Lists!BD:BD,0)","v":0},{"$f":"_xlfn.XLOOKUP(1,\n(Lists!$AW:$AW=C439)*\n(Lists!$AX:$AX=D439),\n(Lists!$AV:$AV))","v":0},{"$f":"IF('Test without gaps'!G439>0,'Paving&Grano'!E15,0)","v":0},{"$f":"IF(G439>0,'Paving&Grano'!O34,0)","v":0},null,null,{"$f":"'Paving&Grano'!I34","v":0}]
[{"$f":"_xlfn.XLOOKUP(B440,Lists!AV:AV,Lists!BD:BD,0)","v":0},{"$f":"_xlfn.XLOOKUP(1,\n(Lists!$AW:$AW=C440)*\n(Lists!$AX:$AX=D440),\n(Lists!$AV:$AV))","v":0},{"$f":"IF(G440>0,'Paving&Grano'!N35,0)","v":0},{"$f":"IF(G440>0,'Paving&Grano'!O33,0)","v":0},null,null,{"$f":"'Paving&Grano'!I11","v":0}]
[{"$f":"_xlfn.XLOOKUP(C441,Lists!AW:AW,Lists!BD:BD,0)","v":0},{"$f":"_xlfn.XLOOKUP(C441,Lists!AW:AW,Lists!AV:AV,0,)","v":0},null,{"$f":"_xlfn.XLOOKUP(C441,Lists!AW:AW,Lists!AX:AX,0)","v":0}]
[{"$f":"_xlfn.XLOOKUP(B442,Lists!AV:AV,Lists!BD:BD,0)","v":"575"},{"$f":"IF(G442>0,QUOTES!P51,0)","v":"575-100-100100"},{"$f":"_xlfn.XLOOKUP(B442,Lists!AV:AV,Lists!AW:AW,0)","v":"1C BRICK CLEAN"},{"$f":"_xlfn.XLOOKUP(B442,Lists!AV:AV,Lists!AX:AX,0)","v":""},null,null,{"$f":"QUOTES!S51","v":0.32553199999999999}]
[{"$f":"_xlfn.XLOOKUP(B443,Lists!AV:AV,Lists!BD:BD,0)","v":0},{"$f":"IF(G443>0,QUOTES!P52,0)","v":0},{"$f":"_xlfn.XLOOKUP(B443,Lists!AV:AV,Lists!AW:AW,0)","v":0},{"$f":"_xlfn.XLOOKUP(B443,Lists!AV:AV,Lists!AX:AX,0)","v":0},null,null,{"$f":"QUOTES!S52","v":0}]
[{"$f":"_xlfn.XLOOKUP(B444,Lists!AV:AV,Lists!BD:BD,0)","v":"575"},{"$f":"IF(G444>0,QUOTES!P53,0)","v":"575-800-100100"},{"$f":"_xlfn.XLOOKUP(B444,Lists!AV:AV,Lists!AW:AW,0)","v":"2C BRICK CLEAN"},{"$f":"_xlfn.XLOOKUP(B444,Lists!AV:AV,Lists!AX:AX,0)","v":""},null,null,{"$f":"QUOTES!S53","v":3.5699981749999989}]
[{"$f":"_xlfn.XLOOKUP(B445,Lists!AV:AV,Lists!BD:BD,0)","v":0},{"$f":"IF(G445>0,QUOTES!P54,0)","v":0},{"$f":"_xlfn.XLOOKUP(B445,Lists!AV:AV,Lists!AW:AW,0)","v":0},{"$f":"_xlfn.XLOOKUP(B445,Lists!AV:AV,Lists!AX:AX,0)","v":0},null,null,{"$f":"QUOTES!S54","v":0}]
[{"$f":"_xlfn.XLOOKUP(B446,Lists!AV:AV,Lists!BD:BD,0)","v":0},{"$f":"_xlfn.XLOOKUP(1,\n(Lists!$AW:$AW=C446)*\n(Lists!$AX:$AX=D446),\n(Lists!$AV:$AV))","v":0},{"$f":"IF(G446>0,'Additional Items'!AA12,0)","v":0},{"$f":"IF(G446>0,'Additional Items'!AA11,0)","v":0},null,null,{"$f":"'Additional Items'!AD12","v":0}]
[{"$f":"_xlfn.XLOOKUP(B447,Lists!AV:AV,Lists!BD:BD,0)","v":0},{"$f":"_xlfn.XLOOKUP(1,\n(Lists!$AW:$AW=C447)*\n(Lists!$AX:$AX=D447),\n(Lists!$AV:$AV))","v":0},{"$f":"IF(G447>0,'Additional Items'!AA17,0)","v":0},{"$f":"IF(G447>0,'Additional Items'!AA16,0)","v":0},null,null,{"$f":"'Additional Items'!AD17","v":0}]
[{"$f":"_xlfn.XLOOKUP(B448,Lists!AV:AV,Lists!BD:BD,0)","v":0},{"$f":"_xlfn.XLOOKUP(1,\n(Lists!$AW:$AW=C448)*\n(Lists!$AX:$AX=D448),\n(Lists!$AV:$AV))","v":0},{"$f":"IF(G448>0,'Additional Items'!AA14,0)","v":0},{"$f":"_xlfn.XLOOKUP(C448,Lists!AW:AW,Lists!AX:AX,0)","v":0},null,null,{"$f":"'Additional Items'!AD14","v":0}]
[{"$f":"_xlfn.XLOOKUP(B449,Lists!AV:AV,Lists!BD:BD,0)","v":0},{"$f":"_xlfn.XLOOKUP(C449,Lists!AW:AW,Lists!AV:AV,0,)","v":0},{"$f":"IF(G449>0,'Additional Items'!AA19,0)","v":0},null,null,null,{"$f":"'Additional Items'!AD19","v":0}]
[{"$f":"_xlfn.XLOOKUP(B450,Lists!AV:AV,Lists!BD:BD,0)","v":0},{"$f":"_xlfn.XLOOKUP(1,\n(Lists!$AW:$AW=C450)*\n(Lists!$AX:$AX=D450),\n(Lists!$AV:$AV))","v":0},{"$f":"IF(G450>0,'Additional Items'!AA21,0)","v":0},{"$f":"IF(G450>0,'Additional Items'!AA22,0)","v":0},null,null,{"$f":"'Additional Items'!AD21","v":0}]
[{"$f":"_xlfn.XLOOKUP(B451,Lists!AV:AV,Lists!BD:BD,0)","v":0},{"$f":"_xlfn.XLOOKUP(1,\n(Lists!$AW:$AW=C451)*\n(Lists!$AX:$AX=D451),\n(Lists!$AV:$AV))","v":0},{"$f":"IF(G451>0,'Additional Items'!AA25,0)","v":0},{"$f":"_xlfn.XLOOKUP(C451,Lists!AW:AW,Lists!AX:AX,0)","v":0},null,null,{"$f":"'Additional Items'!AD25","v":0}]
[{"$f":"_xlfn.XLOOKUP(B452,Lists!AV:AV,Lists!BD:BD,0)","v":0},{"$f":"Blinds2!AK6","v":""},{"$f":"_xlfn.XLOOKUP(B452,Lists!AV:AV,Lists!AW:AW,0)","v":0},{"$f":"_xlfn.XLOOKUP(C452,Lists!AW:AW,Lists!AX:AX,0)","v":0},null,null,{"$f":"Blinds2!AG6","v":0},null,{"$f":"IF(G452>0,Blinds2!AF6,0)","v":0}]
[{"$f":"_xlfn.XLOOKUP(C453,Lists!AW:AW,Lists!BD:BD,0)","v":0},{"$f":"Blinds2!AK7","v":""},{"$f":"_xlfn.XLOOKUP(B453,Lists!AV:AV,Lists!AW:AW,0)","v":0},{"$f":"_xlfn.XLOOKUP(C453,Lists!AW:AW,Lists!AX:AX,0)","v":0},null,null,{"$f":"Blinds2!AG7","v":0},null,{"$f":"IF(G453>0,Blinds2!AF7,0)","v":0}]
[{"$f":"_xlfn.XLOOKUP(C454,Lists!AW:AW,Lists!BD:BD,0)","v":0},{"$f":"Blinds2!AK8","v":""},{"$f":"_xlfn.XLOOKUP(B454,Lists!AV:AV,Lists!AW:AW,0)","v":0},{"$f":"_xlfn.XLOOKUP(C454,Lists!AW:AW,Lists!AX:AX,0)","v":0},null,null,{"$f":"Blinds2!AG8","v":0},null,{"$f":"IF(G454>0,Blinds2!AF8,0)","v":0}]
[{"$f":"_xlfn.XLOOKUP(C455,Lists!AW:AW,Lists!BD:BD,0)","v":0},{"$f":"Blinds2!AK9","v":""},{"$f":"_xlfn.XLOOKUP(B455,Lists!AV:AV,Lists!AW:AW,0)","v":0},{"$f":"_xlfn.XLOOKUP(C455,Lists!AW:AW,Lists!AX:AX,0)","v":0},null,null,{"$f":"Blinds2!AG9","v":0},null,{"$f":"IF(G455>0,Blinds2!AF9,0)","v":0}]
[{"$f":"_xlfn.XLOOKUP(C456,Lists!AW:AW,Lists!BD:BD,0)","v":0},{"$f":"Blinds2!AK10","v":""},{"$f":"_xlfn.XLOOKUP(B456,Lists!AV:AV,Lists!AW:AW,0)","v":0},{"$f":"_xlfn.XLOOKUP(C456,Lists!AW:AW,Lists!AX:AX,0)","v":0},null,null,{"$f":"Blinds2!AG10","v":0},null,{"$f":"IF(G456>0,Blinds2!AF10,0)","v":0}]
[{"$f":"_xlfn.XLOOKUP(C457,Lists!AW:AW,Lists!BD:BD,0)","v":0},{"$f":"Blinds2!AK11","v":""},{"$f":"_xlfn.XLOOKUP(B457,Lists!AV:AV,Lists!AW:AW,0)","v":0},{"$f":"_xlfn.XLOOKUP(C457,Lists!AW:AW,Lists!AX:AX,0)","v":0},null,null,{"$f":"Blinds2!AG11","v":0},null,{"$f":"IF(G457>0,Blinds2!AF11,0)","v":0}]
[{"$f":"_xlfn.XLOOKUP(C458,Lists!AW:AW,Lists!BD:BD,0)","v":0},{"$f":"Blinds2!AK12","v":""},{"$f":"_xlfn.XLOOKUP(B458,Lists!AV:AV,Lists!AW:AW,0)","v":0},{"$f":"_xlfn.XLOOKUP(C458,Lists!AW:AW,Lists!AX:AX,0)","v":0},null,null,{"$f":"Blinds2!AG12","v":0},null,{"$f":"IF(G458>0,Blinds2!AF12,0)","v":0}]
[{"$f":"_xlfn.XLOOKUP(C459,Lists!AW:AW,Lists!BD:BD,0)","v":0},{"$f":"Blinds2!AK13","v":""},{"$f":"_xlfn.XLOOKUP(B459,Lists!AV:AV,Lists!AW:AW,0)","v":0},{"$f":"_xlfn.XLOOKUP(C459,Lists!AW:AW,Lists!AX:AX,0)","v":0},null,null,{"$f":"Blinds2!AG13","v":0},null,{"$f":"IF(G459>0,Blinds2!AF13,0)","v":0}]
[{"$f":"_xlfn.XLOOKUP(C460,Lists!AW:AW,Lists!BD:BD,0)","v":0},{"$f":"Blinds2!AK14","v":""},{"$f":"_xlfn.XLOOKUP(B460,Lists!AV:AV,Lists!AW:AW,0)","v":0},{"$f":"_xlfn.XLOOKUP(C460,Lists!AW:AW,Lists!AX:AX,0)","v":0},null,null,{"$f":"Blinds2!AG14","v":0},null,{"$f":"IF(G460>0,Blinds2!AF14,0)","v":0}]
[{"$f":"_xlfn.XLOOKUP(C461,Lists!AW:AW,Lists!BD:BD,0)","v":0},{"$f":"Blinds2!AK15","v":""},{"$f":"_xlfn.XLOOKUP(B461,Lists!AV:AV,Lists!AW:AW,0)","v":0},{"$f":"_xlfn.XLOOKUP(C461,Lists!AW:AW,Lists!AX:AX,0)","v":0},null,null,{"$f":"Blinds2!AG15","v":0},null,{"$f":"IF(G461>0,Blinds2!AF15,0)","v":0}]
[{"$f":"_xlfn.XLOOKUP(C462,Lists!AW:AW,Lists!BD:BD,0)","v":0},{"$f":"Blinds2!AK16","v":""},{"$f":"_xlfn.XLOOKUP(B462,Lists!AV:AV,Lists!AW:AW,0)","v":0},{"$f":"_xlfn.XLOOKUP(C462,Lists!AW:AW,Lists!AX:AX,0)","v":0},null,null,{"$f":"Blinds2!AG16","v":0},null,{"$f":"IF(G462>0,Blinds2!AF16,0)","v":0}]
[{"$f":"_xlfn.XLOOKUP(C463,Lists!AW:AW,Lists!BD:BD,0)","v":0},{"$f":"Blinds2!AK17","v":""},{"$f":"_xlfn.XLOOKUP(B463,Lists!AV:AV,Lists!AW:AW,0)","v":0},{"$f":"_xlfn.XLOOKUP(C463,Lists!AW:AW,Lists!AX:AX,0)","v":0},null,null,{"$f":"Blinds2!AG17","v":0},null,{"$f":"IF(G463>0,Blinds2!AF17,0)","v":0}]
[{"$f":"_xlfn.XLOOKUP(C464,Lists!AW:AW,Lists!BD:BD,0)","v":0},{"$f":"Blinds2!AK18","v":""},{"$f":"_xlfn.XLOOKUP(B464,Lists!AV:AV,Lists!AW:AW,0)","v":0},{"$f":"_xlfn.XLOOKUP(C464,Lists!AW:AW,Lists!AX:AX,0)","v":0},null,null,{"$f":"Blinds2!AG18","v":0},null,{"$f":"IF(G464>0,Blinds2!AF18,0)","v":0}]
[{"$f":"_xlfn.XLOOKUP(C465,Lists!AW:AW,Lists!BD:BD,0)","v":0},{"$f":"Blinds2!AK19","v":""},{"$f":"_xlfn.XLOOKUP(B465,Lists!AV:AV,Lists!AW:AW,0)","v":0},{"$f":"_xlfn.XLOOKUP(C465,Lists!AW:AW,Lists!AX:AX,0)","v":0},null,null,{"$f":"Blinds2!AG19","v":0},null,{"$f":"IF(G465>0,Blinds2!AF19,0)","v":0}]
[{"$f":"_xlfn.XLOOKUP(C466,Lists!AW:AW,Lists!BD:BD,0)","v":0},{"$f":"Blinds2!AK20","v":""},{"$f":"_xlfn.XLOOKUP(B466,Lists!AV:AV,Lists!AW:AW,0)","v":0},{"$f":"_xlfn.XLOOKUP(C466,Lists!AW:AW,Lists!AX:AX,0)","v":0},null,null,{"$f":"Blinds2!AG20","v":0},null,{"$f":"IF(G466>0,Blinds2!AF20,0)","v":0}]
[{"$f":"_xlfn.XLOOKUP(C467,Lists!AW:AW,Lists!BD:BD,0)","v":0},{"$f":"Blinds2!AK21","v":""},{"$f":"_xlfn.XLOOKUP(B467,Lists!AV:AV,Lists!AW:AW,0)","v":0},{"$f":"_xlfn.XLOOKUP(C467,Lists!AW:AW,Lists!AX:AX,0)","v":0},null,null,{"$f":"Blinds2!AG21","v":0},null,{"$f":"IF(G467>0,Blinds2!AF21,0)","v":0}]
[{"$f":"_xlfn.XLOOKUP(C468,Lists!AW:AW,Lists!BD:BD,0)","v":0},{"$f":"Blinds2!AK22","v":""},{"$f":"_xlfn.XLOOKUP(B468,Lists!AV:AV,Lists!AW:AW,0)","v":0},{"$f":"_xlfn.XLOOKUP(C468,Lists!AW:AW,Lists!AX:AX,0)","v":0},null,null,{"$f":"Blinds2!AG22","v":0},null,{"$f":"IF(G468>0,Blinds2!AF22,0)","v":0}]
[{"$f":"_xlfn.XLOOKUP(C469,Lists!AW:AW,Lists!BD:BD,0)","v":0},{"$f":"Blinds2!AK23","v":0},{"$f":"_xlfn.XLOOKUP(B469,Lists!AV:AV,Lists!AW:AW,0)","v":0},{"$f":"_xlfn.XLOOKUP(C469,Lists!AW:AW,Lists!AX:AX,0)","v":0},null,null,{"$f":"Blinds2!AG23","v":0},null,{"$f":"IF(G469>0,Blinds2!AF23,0)","v":0}]
[{"$f":"_xlfn.XLOOKUP(C470,Lists!AW:AW,Lists!BD:BD,0)","v":0},{"$f":"Blinds2!AK24","v":""},{"$f":"_xlfn.XLOOKUP(B470,Lists!AV:AV,Lists!AW:AW,0)","v":0},{"$f":"_xlfn.XLOOKUP(C470,Lists!AW:AW,Lists!AX:AX,0)","v":0},null,null,{"$f":"Blinds2!AG24","v":0},null,{"$f":"IF(G470>0,Blinds2!AF24,0)","v":0}]
[{"$f":"_xlfn.XLOOKUP(C471,Lists!AW:AW,Lists!BD:BD,0)","v":0},{"$f":"Blinds2!AK25","v":""},{"$f":"_xlfn.XLOOKUP(B471,Lists!AV:AV,Lists!AW:AW,0)","v":0},{"$f":"_xlfn.XLOOKUP(C471,Lists!AW:AW,Lists!AX:AX,0)","v":0},null,null,{"$f":"Blinds2!AG25","v":0},null,{"$f":"IF(G471>0,Blinds2!AF25,0)","v":0}]
[{"$f":"_xlfn.XLOOKUP(C472,Lists!AW:AW,Lists!BD:BD,0)","v":0},{"$f":"Blinds2!AK26","v":""},{"$f":"_xlfn.XLOOKUP(B472,Lists!AV:AV,Lists!AW:AW,0)","v":0},{"$f":"_xlfn.XLOOKUP(C472,Lists!AW:AW,Lists!AX:AX,0)","v":0},null,null,{"$f":"Blinds2!AG26","v":0},null,{"$f":"IF(G472>0,Blinds2!AF26,0)","v":0}]
[{"$f":"_xlfn.XLOOKUP(C473,Lists!AW:AW,Lists!BD:BD,0)","v":0},{"$f":"Blinds2!AK27","v":""},{"$f":"_xlfn.XLOOKUP(B473,Lists!AV:AV,Lists!AW:AW,0)","v":0},{"$f":"_xlfn.XLOOKUP(C473,Lists!AW:AW,Lists!AX:AX,0)","v":0},null,null,{"$f":"Blinds2!AG27","v":0},null,{"$f":"IF(G473>0,Blinds2!AF27,0)","v":0}]
[{"$f":"_xlfn.XLOOKUP(C474,Lists!AW:AW,Lists!BD:BD,0)","v":0},{"$f":"Blinds2!AK28","v":""},{"$f":"_xlfn.XLOOKUP(B474,Lists!AV:AV,Lists!AW:AW,0)","v":0},{"$f":"_xlfn.XLOOKUP(C474,Lists!AW:AW,Lists!AX:AX,0)","v":0},null,null,{"$f":"Blinds2!AG28","v":0},null,{"$f":"IF(G474>0,Blinds2!AF28,0)","v":0}]
[{"$f":"_xlfn.XLOOKUP(C475,Lists!AW:AW,Lists!BD:BD,0)","v":0},{"$f":"Blinds2!AK30","v":""},{"$f":"_xlfn.XLOOKUP(B475,Lists!AV:AV,Lists!AW:AW,0)","v":0},{"$f":"_xlfn.XLOOKUP(C475,Lists!AW:AW,Lists!AX:AX,0)","v":0},null,null,{"$f":"Blinds2!AG30","v":0},null,{"$f":"IF(G475>0,Blinds2!AF30,0)","v":0}]
[{"$f":"_xlfn.XLOOKUP(C476,Lists!AW:AW,Lists!BD:BD,0)","v":0},{"$f":"Blinds2!AK31","v":""},{"$f":"_xlfn.XLOOKUP(B476,Lists!AV:AV,Lists!AW:AW,0)","v":0},{"$f":"_xlfn.XLOOKUP(C476,Lists!AW:AW,Lists!AX:AX,0)","v":0},null,null,{"$f":"Blinds2!AG31","v":0},null,{"$f":"IF(G476>0,Blinds2!AF31,0)","v":0}]
[{"$f":"_xlfn.XLOOKUP(C477,Lists!AW:AW,Lists!BD:BD,0)","v":0},{"$f":"Blinds2!AK32","v":""},{"$f":"_xlfn.XLOOKUP(B477,Lists!AV:AV,Lists!AW:AW,0)","v":0},{"$f":"_xlfn.XLOOKUP(C477,Lists!AW:AW,Lists!AX:AX,0)","v":0},null,null,{"$f":"Blinds2!AG32","v":0},null,{"$f":"IF(G477>0,Blinds2!AF32,0)","v":0}]
[{"$f":"_xlfn.XLOOKUP(C478,Lists!AW:AW,Lists!BD:BD,0)","v":0},{"$f":"Blinds2!AK33","v":0},{"$f":"_xlfn.XLOOKUP(B478,Lists!AV:AV,Lists!AW:AW,0)","v":0},{"$f":"_xlfn.XLOOKUP(C478,Lists!AW:AW,Lists!AX:AX,0)","v":0},null,null,{"$f":"Blinds2!AG33","v":0},null,{"$f":"IF(G478>0,Blinds2!AF33,0)","v":0}]
[{"$f":"_xlfn.XLOOKUP(C479,Lists!AW:AW,Lists!BD:BD,0)","v":0},{"$f":"Blinds2!AK34","v":0},{"$f":"_xlfn.XLOOKUP(B479,Lists!AV:AV,Lists!AW:AW,0)","v":0},{"$f":"_xlfn.XLOOKUP(C479,Lists!AW:AW,Lists!AX:AX,0)","v":0},null,null,{"$f":"Blinds2!AG34","v":0},null,{"$f":"IF(G479>0,Blinds2!AF34,0)","v":0}]
[{"$f":"_xlfn.XLOOKUP(C480,Lists!AW:AW,Lists!BD:BD,0)","v":0},{"$f":"Blinds2!AK35","v":0},{"$f":"_xlfn.XLOOKUP(B480,Lists!AV:AV,Lists!AW:AW,0)","v":0},{"$f":"_xlfn.XLOOKUP(C480,Lists!AW:AW,Lists!AX:AX,0)","v":0},null,null,{"$f":"Blinds2!AG35","v":0},null,{"$f":"IF(G480>0,Blinds2!AF35,0)","v":0}]
[{"$f":"_xlfn.XLOOKUP(C481,Lists!AW:AW,Lists!BD:BD,0)","v":0},{"$f":"Blinds2!AK36","v":0},{"$f":"_xlfn.XLOOKUP(B481,Lists!AV:AV,Lists!AW:AW,0)","v":0},{"$f":"_xlfn.XLOOKUP(C481,Lists!AW:AW,Lists!AX:AX,0)","v":0},null,null,{"$f":"Blinds2!AG36","v":0},null,{"$f":"IF(G481>0,Blinds2!AF36,0)","v":0}]
[{"$f":"_xlfn.XLOOKUP(C482,Lists!AW:AW,Lists!BD:BD,0)","v":0},{"$f":"Blinds2!AK37","v":0},{"$f":"_xlfn.XLOOKUP(B482,Lists!AV:AV,Lists!AW:AW,0)","v":0},{"$f":"_xlfn.XLOOKUP(C482,Lists!AW:AW,Lists!AX:AX,0)","v":0},null,null,{"$f":"Blinds2!AG37","v":0},null,{"$f":"IF(G482>0,Blinds2!AF37,0)","v":0}]
[{"$f":"_xlfn.XLOOKUP(C483,Lists!AW:AW,Lists!BD:BD,0)","v":0},{"$f":"Blinds2!AK38","v":0},{"$f":"_xlfn.XLOOKUP(B483,Lists!AV:AV,Lists!AW:AW,0)","v":0},{"$f":"_xlfn.XLOOKUP(C483,Lists!AW:AW,Lists!AX:AX,0)","v":0},null,null,{"$f":"Blinds2!AG38","v":0},null,{"$f":"IF(G483>0,Blinds2!AF38,0)","v":0}]
[{"$f":"_xlfn.XLOOKUP(C484,Lists!AW:AW,Lists!BD:BD,0)","v":0},{"$f":"Blinds2!AK39","v":0},{"$f":"_xlfn.XLOOKUP(B484,Lists!AV:AV,Lists!AW:AW,0)","v":0},{"$f":"_xlfn.XLOOKUP(C484,Lists!AW:AW,Lists!AX:AX,0)","v":0},null,null,{"$f":"Blinds2!AG39","v":0},null,{"$f":"IF(G484>0,Blinds2!AF39,0)","v":0}]
[{"$f":"_xlfn.XLOOKUP(C485,Lists!AW:AW,Lists!BD:BD,0)","v":0},{"$f":"Blinds2!AK40","v":""},{"$f":"_xlfn.XLOOKUP(B485,Lists!AV:AV,Lists!AW:AW,0)","v":0},{"$f":"_xlfn.XLOOKUP(C485,Lists!AW:AW,Lists!AX:AX,0)","v":0},null,null,{"$f":"Blinds2!AG40","v":0},null,{"$f":"IF(G485>0,Blinds2!AF40,0)","v":0}]
[{"$f":"_xlfn.XLOOKUP(C486,Lists!AW:AW,Lists!BD:BD,0)","v":0},{"$f":"Blinds2!AK41","v":""},{"$f":"_xlfn.XLOOKUP(B486,Lists!AV:AV,Lists!AW:AW,0)","v":0},{"$f":"_xlfn.XLOOKUP(C486,Lists!AW:AW,Lists!AX:AX,0)","v":0},null,null,{"$f":"Blinds2!AG41","v":0},null,{"$f":"IF(G486>0,Blinds2!AF41,0)","v":0}]
[{"$f":"_xlfn.XLOOKUP(C487,Lists!AW:AW,Lists!BD:BD,0)","v":0},{"$f":"Blinds2!AK42","v":""},{"$f":"_xlfn.XLOOKUP(B487,Lists!AV:AV,Lists!AW:AW,0)","v":0},{"$f":"_xlfn.XLOOKUP(C487,Lists!AW:AW,Lists!AX:AX,0)","v":0},null,null,{"$f":"Blinds2!AG42","v":0},null,{"$f":"IF(G487>0,Blinds2!AF42,0)","v":0}]
[{"$f":"_xlfn.XLOOKUP(C488,Lists!AW:AW,Lists!BD:BD,0)","v":0},{"$f":"Blinds2!AK43","v":""},{"$f":"_xlfn.XLOOKUP(B488,Lists!AV:AV,Lists!AW:AW,0)","v":0},{"$f":"_xlfn.XLOOKUP(C488,Lists!AW:AW,Lists!AX:AX,0)","v":0},null,null,{"$f":"Blinds2!AG43","v":0},null,{"$f":"IF(G488>0,Blinds2!AF43,0)","v":0}]
[{"$f":"_xlfn.XLOOKUP(C489,Lists!AW:AW,Lists!BD:BD,0)","v":0},{"$f":"Blinds2!AK44","v":""},{"$f":"_xlfn.XLOOKUP(B489,Lists!AV:AV,Lists!AW:AW,0)","v":0},{"$f":"_xlfn.XLOOKUP(C489,Lists!AW:AW,Lists!AX:AX,0)","v":0},null,null,{"$f":"Blinds2!AG44","v":0},null,{"$f":"IF(G489>0,Blinds2!AF44,0)","v":0}]
[{"$f":"_xlfn.XLOOKUP(C490,Lists!AW:AW,Lists!BD:BD,0)","v":0},{"$f":"Blinds2!AK45","v":""},{"$f":"_xlfn.XLOOKUP(B490,Lists!AV:AV,Lists!AW:AW,0)","v":0},{"$f":"_xlfn.XLOOKUP(C490,Lists!AW:AW,Lists!AX:AX,0)","v":0},null,null,{"$f":"Blinds2!AG45","v":0},null,{"$f":"IF(G490>0,Blinds2!AF45,0)","v":0}]

{"sheet":"Sheet2","index":33,"n_rows":0,"n_cols":0,"rows_kept":0,"cut":false,"hidden":true,"merged":[]}

{"sheet":"Sheet1","index":34,"n_rows":0,"n_cols":0,"rows_kept":0,"cut":false,"hidden":true,"merged":[]}