{"text_format":"1","workbook":"xlsx","n_sheets":20,"sheets":["BUILDERS SETTINGS","Brick Chart","STD LINTEL SHEET","BUILDERS BRICK SELECTION","START UP","Main Details","Concrete & Reo","Internal deductions & int walls","Lintels.windows","External Brickwork","Internal Brickwork","Brick Final Sheet","Facia & Steel & Roof Hardware","Roof & Ceiling Quantities ","Elec,Ceiling,Plaster ","FIxing Carpentry & Moulding","Lists","Tiling","Paving & Grano","Blinds2"],"not_rendered":{"charts":0,"images":1,"macros":1,"external_links":5,"defined_names":403,"comments":13,"pivot_tables":0},"unopened":[],"bounds":{"document_bytes":16777216,"sheet_cells":100000,"rows_first":2000,"rows_last":500,"rows_between":2000,"halvings":0,"cell_chars":16384,"cell_head_chars":4096},"cells_cut":0,"cells_raw":0,"read":"whole","date_system":"1900"}

{"sheet":"BUILDERS SETTINGS","index":0,"n_rows":158,"n_cols":16,"rows_kept":158,"cut":false,"hidden":true,"merged":[[6,1,6,4]]}
[null,"SUMMITS STANDARD TAKEOFF REQUIREMENTS"]
[]
[]
[]
[null,"Lintel Span Charts As Per"]
[null,"Structerre For Square/Raking Bulkheads",null,null,null,null,null,null,null,null,null,null,"Scheduler Names"]
[null,"(no longer in use for lintels)"]
[null,null,null,"mm",null,null,null,null,null,null,null,1,"Brett Cornwill"]
[null,"75x75x6     75x75x8     90x90x8",200,"mm",null,null,null,null,null,null,null,2,"Bradley Rocke"]
[null,"100x75x8     100x100x8",240,"mm",null,null,null,null,null,null,null,3,"Billy Moi"]
[null,"127x75x8",260,"mm",null,null,null,null,null,null,null,4,"Scott Kenyon"]
[null,"150x90x8",300,"mm",null,null,null,null,null,null,null,5,"Dan Bedford"]
[null,"150x100x10",350,"mm",null,null,null,null,null,null,null,6,"Tom Conlan"]
[null,"200x100x10",400,"mm",null,null,null,null,null,null,null,7,"Jin Huang"]
[null,"T-BARS",500,"mm",null,null,null,null,null,null,null,8,"Allen Wong"]
[null,null,null,"mm",null,null,null,null,null,null,null,9,"Holly Apelu"]
[null,null,null,"mm",null,null,null,null,null,null,null,10,"Cody Johnson "]
[null,null,null,"mm",null,null,null,null,null,null,null,11,"Vincent Wee"]
[null,"Tiling Purchase Allowance",44,null,null,null,null,null,null,null,null,12,"Marc (VNIX)"]
[null,"Face Brick Wastage Std Brick",0,"%",null,null,null,null,null,null,null,13,"Adrian (VNIX)"]
[null,"Bricks per Cubic Metre Sand",1000,"no",null,null,null,null,null,null,null,14,"Diandra (VNIX)"]
[null,"Cement Brickies Grey /1000 Bricks",10.8,"bags",0,"BAGS EXTRA",null,null,null,null,null,15]
[null,"Cement Brickies Lite  /1000 Bricks",11.2,"bags",0,"BAGS EXTRA",null,null,null,null,null,16]
[null,"Cement Lime Hydro",0,"bags",0,"BAGS EXTRA",null,null,null,null,null,17]
[null,"Cement Coastal Lite  /1000 Bricks",0,"bags",0,"BAGS EXTRA",null,null,null,null,null,18]
[null,"Wire Ties /1000 Bricks",83,"no",null,null,null,null,null,null,null,19]
[null,"Wire Ties Pack Size",50,"no",null,null,null,null,null,null,null,20]
[null,"Hoop Iron Spacing",1.2,"L/m",3,"EXTRA HOOP IRONS"]
[null,"Frame Straps per Ext Frame",10,"no"]
[null,"Reinforcement Overlap Length",0.5,"L/m"]
[null,"Reinforcement 3mm Mesh Length Size",3.6,"L/m"]
[null,"Reinforcement 6mm Rod Length Size",6,"L/m"]
[null,"Reinforcement Y12 Spacing",0.5,"L/m"]
[null,"Reinforecment F8 Trench Mesh Sheet Size",6,"L/m"]
[null,"Wall Plate Length",6,"L/m"]
[null,"Std Ext face per m2",48.5,"/m2"]
[null,"limestone thickness",0.15,"ht"]
[null,"Paving sand thickness",0.05,"ht"]
[null,"Paving Waste multiplier",1.3,"multiply"]
[null,"limestone waste",1.05,"multiply"]
[null,null,null,"Structerre Footing Details",null,2]
[null,"Internal Blocks Wastage Percent",0,"Type","Description","Slab","Mesh Type",null,null,"Footing",null,null,"Trench Mesh?"]
[null,null,null,"A","Slab Type \"A\"",100,"SL63",280,"x",300,"=",{"$f":"(H43/1000)*(J43/1000)","v":8.4000000000000005E-2},"NO"]
[null,null,null,"B","Slab Type \"B\"",100,"SL63",280,"x",300,"=",{"$f":"(H44/1000)*(J44/1000)","v":8.4000000000000005E-2},"YES"]
[null,null,null,"B1","Slab Type \"B1\"",100,"SL63",280,"x",300,"=",8.4000000000000005E-2,"YES"]
[null,null,null,"C1","Slab Type \"C1\"",100,"SL63",280,"x",300,"=",8.4000000000000005E-2,"YES"]
[null,null,null,"C2","Slab Type \"C2\"",100,"SL63",280,"x",300,"=",8.4000000000000005E-2,"YES"]
[null,null,null,"C3","Slab Type \"C3\"",100,"SL62",280,"x",300,"=",8.4000000000000005E-2,"YES"]
[null,null,null,"C4","Slab Type \"C4\"",100,"SL62",350,"x",300,"=",0.105,"YES"]
[null,null,null,"C5","Slab Type \"C5\"",100,"SL72",350,"x",350,"=",0.12249999999999998,"YES"]
[null,null,null,"C6","Slab Type \"C6\"",100,"SL72",400,"x",350,"=",0.13999999999999999,"YES"]
[null,null,null,"C7","Slab Type \"C7\"",100,"SL72",450,"x",350,"=",0.1575,"YES"]
[null,null,null,"C8","Slab Type \"C8\"",100,"SL72",500,"x",350,"=",0.17499999999999999,"YES"]
[null,null,null,"C9","Slab Type \"C9\"",100,"SL82",600,"x",350,"=",0.21,"YES"]
[null,null,null,"C10","Slab Type \"C10\"",100,"SL92",650,"x",300,"=",0.19500000000000001,"YES"]
[null,null,null,"D10","Slab Type \"D10\"",85,"SL53",200,"x",300,"=",0.06,"NO"]
[null,null,null,"D13","Slab Type \"D13\"",85,"SL63",280,"x",300,"=",8.4000000000000005E-2,"NO"]
[null,null,null,"E","Slab Type \"E\"",100,"SL63",280,"x",300,"=",8.4000000000000005E-2,"YES"]
[null,null,null,"E1","Slab Type \"E1\"",100,"SL63",280,"x",300,"=",8.4000000000000005E-2,"YES"]
[null,null,null,"E2","Slab Type \"E2\"",100,"SL62",350,"x",400,"=",0.13999999999999999,"YES"]
[null,null,null,"E3","Slab Type \"E3\"",100,"SL62",350,"x",400,"=",0.13999999999999999,"YES"]
[null,null,null,"E9","Slab Type \"E9\"",100,"SL63",280,"x",300,"=",8.4000000000000005E-2,"YES"]
[null,null,null,"F","Slab Type \"F\"",100,"SL62",350,"x",350,"=",0.12249999999999998,"YES"]
[null,null,null,"G2","Slab Type \"G2\"",100,"SL62",375,"x",200,"=",7.5000000000000011E-2,"YES"]
[null,null,null,"S1","Slab Type \"S1\"",100,"SL63",280,"x",300,"=",8.4000000000000005E-2,"YES"]
[null,null,null,"S2","Slab Type \"S2\"",100,"SL63",280,"x",300,"=",8.4000000000000005E-2,"YES"]
[null,null,null,"M1","Slab Type \"M1\"",100,"SL72",350,"x",350,"=",0.12249999999999998,"YES"]
[null,null,null,"M2","Slab Type \"M2\"",100,"SL72",400,"x",350,"=",0.13999999999999999,"YES"]
[null,null,null,"S4","Slab Type \"S4\"",100,"SL62",350,"x",300,"=",0.105,"YES"]
[null,null,null,null,null,null,null,null,null,null,"="]
[null,null,null,"Prompt",null,null,null,null,null,null,"="]
[null,null,null,"A85","Slab Type \"A85\"",85,"SL53",200,"x",300,"=",0.06,"NO",null,null,{"$f":"L72","v":0.06}]
[null,null,null,"A100","Slab Type \"A100\"",100,"SL53",280,"x",300,"=",8.4000000000000005E-2,"NO",null,null,{"$f":"L73","v":8.4000000000000005E-2}]
[null,null,null,"DF-A3POD","Slab Type \"DF-A3POD\"",85,"SL63",280,"x",400,"=",0.11200000000000002,"NO",null,null,0.11200000000000002]
[null,null,null,"M25","Slab Type \"M25\"",100,"SL62",450,"x",350,"=",{"$f":"(H75/1000)*(J75/1000)","v":0.1575},"YES",null,null,0.1575]
[null,null,null,"M30","Slab Type \"M30\"",100,"SL62",500,"x",350,"=",0.17499999999999999,"YES",null,null,0.17499999999999999]
[null,null,null,"M35","Slab Type \"M35\"",100,"SL82",550,"x",350,"=",0.1925,"YES",null,null,0.1925]
[null,null,null,"M40","Slab Type \"M40\"",100,"SL82",600,"x",340,"=",0.20400000000000001,"YES",null,null,0.20400000000000001]
[null,null,null,"S6","Slab Type \"S6\"",100,"SL52",250,"x",300,"=",7.4999999999999997E-2,"YES",null,null,7.4999999999999997E-2]
[null,null,null,"S6 BV","Slab Type \"S6\"",100,"SL52",200,null,300,null,0.06,"YES",280,300,{"$f":"(N80*O80)/100000","v":0.84}]
[null,null,null,"S10","Slab Type \"S10\"",100,"SL52",280,"x",300,"=",8.4000000000000005E-2,"YES",null,null,{"$f":"L81","v":8.4000000000000005E-2}]
[null,null,null,"S15 DB","Slab Type \"S15\"",100,"SL62",280,"x",300,"=",8.4000000000000005E-2,"YES",null,null,{"$f":"L82","v":8.4000000000000005E-2}]
[null,null,null,"S15 BV","Slab Type \"S15\"",100,"SL62",300,null,250,null,7.4999999999999997E-2,"YES",null,null,7.4999999999999997E-2]
[null,null,null,"S20","Slab Type \"S20\"",100,"SL62",280,"x",300,"=",8.4000000000000005E-2,"YES",null,null,8.4000000000000005E-2]
[null,null,null,null,null,null,null,null,"x",null,"=",0]
[null,null,null,null,null,null,null,null,"x",null,"=",0]
[null,null,null,null,null,null,null,null,"x",null,"=",0]
[null,null,null,null,null,null,null,null,"x",null,"=",0]
[null,null,null,null,null,null,null,null,"x",null,"=",0]
[]
[null,"Internal Metal Frame Type","DDT","longreach"]
[null,{"$f":"\" \"","v":" "},0,0]
[null,"DO NOT INCLUDE FRAMES TO PODS!!",0,0,null,null,null,null,null,null,null,null,"2040X820 LH 90mm W/-SILL EXTERNAL",1.673]
[null,null,null,null,null,null,null,null,null,null,null,null,"2040X820 RH 90mm W/-SILL EXTERNAL",1.673]
[null,"2040X1040 DELUXE  (2x520)",2.1219999999999999,0.104,null,null,null,null,null,null,null,null,"2040X820 LH 110mm W/-SILL EXTERNAL",1.673]
[null,"2040X1240 DELUXE  (2x620)",2.5299999999999998,0.124,null,null,null,null,null,null,null,null,"2040X820 RH 110mm W/-SILL EXTERNAL",1.673]
[null,"2040X1440 DELUXE  (2x720)",2.9380000000000002,0.14399999999999999]
[null,"2040x1640 DELUXE  (2x820)",3.3460000000000001,0.16400000000000001,null,null,null,null,null,null,null,null,"2040X920 LH 90mm W/-SILL EXTERNAL",1.877]
[null,null,null,null,null,null,null,null,null,null,null,null,"2040X920 RH 90mm W/-SILL EXTERNAL",1.877]
[null,"2040x820 LH WC",1.673,0.82,null,null,null,null,null,null,null,null,"2040X920 LH 110mm W/-SILL EXTERNAL",1.877]
[null,"2040x820 RH WC",1.673,0.82,null,null,null,null,null,null,null,null,"2040X920 RH 110mm W/-SILL EXTERNAL",1.877]
[null,"2040x920 LH WC",1.877,0.92]
[null,"2040x920 RH WC",1.877,0.92,null,null,null,null,null,null,null,null,"2040X720 LH 90mm W/-SILL EXTERNAL",1.4690000000000001]
[null,null,null,null,null,null,null,null,null,null,null,null,"2040X720 RH 90mm W/-SILL EXTERNAL",1.4690000000000001]
[null,"2040X820 DELUXE SLIDER (870 DOOR)",1.673,0.82,null,null,null,null,null,null,null,null,"2040X720 LH 110mm W/-SILL EXTERNAL",1.4690000000000001]
[null,"2040X720 DELUXE SLIDER (770 DOOR)",1.4690000000000001,0.72,null,null,null,null,null,null,null,null,"2040X720 RH 110mm W/-SILL EXTERNAL",1.4690000000000001]
[null,"2040X620 DELUXE SLIDER (670 DOOR)",1.2649999999999999,0.62]
[null,"2040X520 DELUXE SLIDER (570 DOOR)",1.0609999999999999,0.62]
[null,"2040X420 DELUXE SLIDER (470 DOOR)",0.83599999999999997,0.42]
[]
[null,"2040X1640 DELUXE SLIDER  (2x870)",3.3460000000000001,0.16400000000000001]
[null,"2040X1440 DELUXE SLIDER  (2x770)",2.9380000000000002,0.14399999999999999]
[null,"2040X1240 DELUXE SLIDER  (2x670)",2.5299999999999998,0.124]
[]
[null,"2040x920 DELUXE LH",1.877,0.92]
[null,"2040x920 DELUXE RH",1.877,0.92]
[]
[null,"2040x870 DELUXE LH",1.7749999999999999,0.87]
[null,"2040x870 DELUXE RH",1.7749999999999999,0.87]
[null,"2040x770 DELUXE LH",1.4690000000000001,0.77]
[null,"2040x770 DELUXE RH",1.4690000000000001,0.77]
[null,"2040x670 DELUXE LH",1.2649999999999999,0.67]
[null,"2040x670 DELUXE RH",1.2649999999999999,0.67]
[]
[null,"2040x3x520 DELU/ROBE W/SHELF R",3.1829999999999998,1.56]
[null,"2040x3x620 DELU/ROBE W/SHELF R",3.7949999999999999,1.86]
[null,"2040x3x720 DELU/ROBE W/SHELF R",4.407,2.16]
[null,"2040x3x820 DELU/ROBE W/SHELF R",5.0190000000000001,2.46]
[null,"2040x4x520 DELU/ROBE W/SHELF R",4.2439999999999998,2.08]
[null,"2040x4x620 DELU/ROBE W/SHELF R",5.0599999999999996,2.48]
[null,"2040x4x720 DELU/ROBE W/SHELF R",5.8760000000000003,2.88]
[null,"2040x4x820 DELU/ROBE W/SHELF R",6.6920000000000002,3.28]
[]
[null,"2300x1x520 DELU/ROBE W/SHELF R",1.1859999999999999,0.52]
[null,"2300x1x620 DELU/ROBE W/SHELF R",1.4139999999999999,0.62]
[null,"2300x1x720 DELU/ROBE W/SHELF R",1.6419999999999999,0.72]
[null,"2300x1x820 DELU/ROBE W/SHELF R",1.87,0.82]
[null,"2300x2x520 DELU/ROBE W/SHELF R",2.3719999999999999,1.04]
[null,"2300x2x620 DELU/ROBE W/SHELF R",2.8279999999999998,1.24]
[null,"2300x2x720 DELU/ROBE W/SHELF R",3.2839999999999998,1.44]
[null,"2300x2x820 DELU/ROBE W/SHELF R",3.74,1.64]
[null,"2300x3x520 DELU/ROBE W/SHELF R",3.5579999999999998,1.56]
[null,"2300x3x620 DELU/ROBE W/SHELF R",4.242,1.86]
[null,"2300x3x720 DELU/ROBE W/SHELF R",4.9260000000000002,2.16]
[null,"2300x3x820 DELU/ROBE W/SHELF R",5.61,2.46]
[null,"2300x4x520 DELU/ROBE W/SHELF R",4.7439999999999998,2.08]
[null,"2300x4x620 DELU/ROBE W/SHELF R",5.6559999999999997,2.48]
[null,"2300x4x720 DELU/ROBE W/SHELF R",6.5679999999999996,2.88]
[null,"2300x4x820 DELU/ROBE W/SHELF R",7.48,3.28]
[null,"2300x6x520 DELU/ROBE W/SHELF R",7.1159999999999997,3.12]
[null,"2300x6x620 DELU/ROBE W/SHELF R",8.484,3.72]
[]
[null,"2040X820 DELUXE LH NO STRIKER",1.673,0.82]
[null,"2040X820 DELUXE RH NO STRIKER",1.673,0.82]
[null,"2040X720 DELUXE LH NO STRIKER",1.4690000000000001,0.72]
[null,"2040X720 DELUXE RH NO STRIKER",1.4690000000000001,0.72]
[null,"2040X620 DELUXE LH NO STRIKER",1.2649999999999999,0.62]
[null,"2040X620 DELUXE RH NO STRIKER",1.2649999999999999,0.62]

{"sheet":"Brick Chart","index":1,"n_rows":0,"n_cols":0,"rows_kept":0,"cut":false,"hidden":true,"merged":[]}

{"sheet":"STD LINTEL SHEET","index":2,"n_rows":62,"n_cols":40,"rows_kept":62,"cut":false,"hidden":true,"merged":[[8,1,8,4],[27,12,27,26],[26,12,26,26],[54,13,56,15],[53,34,55,36],[8,33,8,36],[27,33,30,33],[27,35,30,35],[17,22,17,27],[38,15,38,22],[49,24,51,26],[49,30,51,32],[11,39,18,39],[13,35,16,35],[37,33,37,36],[13,33,16,33],[47,3,47,7],[47,26,47,30],[38,1,38,4],[40,9,40,29],[38,33,38,36],[36,15,36,22],[37,1,37,4],[27,2,30,2],[27,4,30,4],[13,4,16,4],[13,2,16,2],[17,12,17,17],[61,20,61,34],[61,1,61,15],[41,9,41,29],[53,20,55,22],[43,20,43,34],[44,20,44,34],[50,14,52,16],[60,1,60,15],[60,20,60,34],[58,4,58,7],[56,26,56,30],[58,13,58,16],[58,20,58,23],[58,33,58,36],[58,26,58,30],[56,4,56,7],[0,0,1,4],[7,1,7,4],[0,10,1,12],[0,13,1,37],[0,5,1,9],[7,33,7,36],[7,10,7,13],[5,10,5,13],[5,24,5,27],[7,24,7,27]]}
["JOB No:",null,null,null,null,{"$f":"'Main Details'!D6","v":0},null,null,null,null,"LOT:"]
[]
[null,"INTERNAL = O/ALL BRICKWORK - 150mm + BEARING",null,null,null,null,null,null,null,null,null,null,null,null,null,null,null,null,null,null,"INTERNAL = O/ALL BRICKWORK - 150mm + BEARING"]
[null,"EXTERNAL = O/ALL BRICKWORK - 120mm + BEARING",null,null,null,null,null,null,null,null,null,null,null,null,null,null,null,null,null,null,"EXTERNAL = O/ALL BRICKWORK - 120mm + BEARING"]
[]
[]
[null,"COLUMN:-",null,null,null,null,null,null,null,null,null,null,null,null,null,null,null,null,null,null,null,null,null,null,null,null,null,null,null,null,null,null,null,"COLUMN:-"]
[]
[]
[]
[]
[null,null,null,null,null,null,null,null,null,null,null,null,null,null,null,null,null,null,null,null,null,null,null,null,null,null,null,null,null,null,null,null,null,null,null,null,null,null,null,"NOTE:    MUST PRINT SEPARATE"]
[]
[]
[]
[]
[null,null,null,null,null,null,null,null,null,null,null,null,"LOCATION:-",null,null,null,null,null,null,null,null,null,"LOCATION:-"]
[]
[]
[]
[]
[]
[]
[]
[]
[]
[null,null,null,null,null,null,null,null,null,null,null,null,"LOCATION:-"]
[]
[]
[]
[]
[]
[]
[]
[]
[]
[null,"COLUMN:-",null,null,null,null,null,null,null,null,null,null,null,null,null,null,null,null,null,null,null,null,null,null,null,null,null,null,null,null,null,null,null,"COLUMN:-"]
[]
[]
[]
[null,null,null,null,null,null,null,null,null,"INTERNAL = O/ALL BRICKWORK - 300mm  / Returns -150mm + BEARING"]
[null,null,null,null,null,null,null,null,null,"EXTERNAL = O/ALL BRICKWORK - 240mm / Returns - 120mm + BEARING"]
[]
[null,null,null,null,null,null,null,null,null,null,null,null,null,null,null,null,null,null,null,null,"INTERNAL = O/ALL BRICKWORK - 60mm + BEARING"]
[null,null,null,null,null,null,null,null,null,null,null,null,null,null,null,null,null,null,null,null,"INTERNAL = O/ALL BRICKWORK - 125mm"]
[]
[null,null,null,"LOCATION:-",null,null,null,null,null,null,null,null,null,null,null,null,null,null,null,null,null,null,null,null,null,null,"LOCATION:-"]
[]
[]
[]
[]
[]
[]
[]
[]
[]
[]
[null,null,null,null,null,null,null,null,null,null,null,null,null,"COLUMN:-",null,null,null,null,null,null,"COLUMN:-",null,null,null,null,null,null,null,null,null,null,null,null,"COLUMN:-"]
[]
[]
[null,"INTERNAL = O/ALL BRICKWORK - 60mm + BEARING",null,null,null,null,null,null,null,null,null,null,null,null,null,null,null,null,null,null,"EXTERNAL = O/ALL BRICKWORK - 50mm + BEARING"]
[null,"EXTERNAL = O/ALL BRICKWORK - 50mm + BEARING",null,null,null,null,null,null,null,null,null,null,null,null,null,null,null,null,null,null,"EXTERNAL = O/ALL BRICKWORK - 100mm"]

{"sheet":"BUILDERS BRICK SELECTION","index":3,"n_rows":207,"n_cols":40,"rows_kept":207,"cut":false,"hidden":false,"merged":[[3,19,3,21]]}
[]
["AUSTRAL/MIDLAND FACE BRICK STANDARD LISTING",null,null,null,null,null,null,null,"INT/EXT BLOCK SELECTION",null,null,null,null,null,null,"PAVING BRICKS"]
[null,"LAST UPDATED 23 NOVEMBER 2017",null,null,null,null,null,null,null,null,null,null,null,null,null,null,"LAST UPDATED 23 NOVEMBER 2017"]
["Line","Brick Type Description","Pk size","Lfs/pk","no/m2","brick size",null,"Line","Brick Type Selection","Pk Size","No/m2","Brick Size","LEAFS","1c pk size",null,"Line","Brick Type Selection","Pk Size","No/m2","Brick Size",null,null,null,"Thickness","LEAFS","PICK UP","M2 PER PACK"]
[1,"NO SELECTION MADE",264,4,50.5,"230x110x76",null,1,"NO SELECTION MADE",132,null,null,null,null,null,1,"NO SELECTION MADE",0,0,null,"x",null,"x"]
[2,null,null,null,null,null,null,2,null,null,null,null,null,null,null,2]
[3,"MIDLAND 1C BRICK - REDS",null,null,null,null,null,3,"MIDLAND MAXIBRICK",138,18.5,"305x90x162",3,null,null,3,"MIDLAND RANGE PAVERS 60mm:-"]
[4,"MIDLAND- Burnished Red",264,4,48.5,"230x110x76",true,4,null,null,null,null,null,null,null,4]
[6,"MIDLAND- Kalbarri",264,4,48.5,"230x110x76",true,5,"AUSTRAL ARMACLAY",132,19.5,"305x90x162",3,null,null,5,"MASTERPAVE CLASSIC 60",228,25,200,"x",200,null,null,4,null,9.1199999999999992]
[8,"MIDLAND- Red Smooth",264,4,48.5,"230x110x76",true,6,null,null,null,null,null,null,null,6]
[9,"MIDLAND- Restoration Red",264,4,48.5,"230x110x76",true,7,"MIDLAND FASTWALL",132,18.5,"305x90x162",3,null,null,7,"MASTERPAVE GRANITE 60",228,25,200,"x",200,null,null,4,null,9.1199999999999992]
[11,"MIDLAND- Salmon Gum",264,4,48.5,"230x110x76",true,8,null,null,null,null,null,null,null,8]
[12,"MIDLAND- Subiaco Red",264,4,48.5,"230x110x76",true,9,"BRIKMAKERS DURACLAY",138,19.5,"305x90x162",3,null,null,9,"MASTERPAVE STONEWASH 60",228,25,200,"x",200,null,null,4,null,9.1199999999999992]
[13,"MIDLAND- Traditional",264,4,48.5,"230x110x76",true,10,null,null,null,null,null,null,null,10]
[14,"MIDLAND- Restoration Red Coach ",264,4,48.5,"230x110x76",true,11,"**EXTERNAL RENDERS**",132,19.5,"305x90x162",3,null,null,11,"MASTERPAVE GEO 60",228,25,200,"x",200,null,null,4,null,9.1199999999999992]
[15,"MIDLAND- Subiaco Red Coach",264,4,48.5,"230x110x76",true,12,null,null,null,null,null,null,null,12]
[16,"MIDLAND- Traditional Coach",264,4,48.5,"230x110x76",true,13,"AUSTRAL VERTICORE",132,19.5,"305x90x162",3,null,null,13,"MIDLAND ORIGINAL COLLECTION 60:-",null,null,null,null,null,null,null,null,null,null,null,null,null,"Original","Pavestone",null,"* ANTIQUE BLEND",null,330,8.66,"230 x 114 x 60"]
[17,null,null,null,null,null,null,14,null,null,null,null,null,null,null,14,"PAVESTONE 60 Antique Blend",330,{"$f":"1/Z18","v":38.138825324180011},230,"x",114,"x",60,5,{"$f":"(T18/1000)*(V18/1000)","v":2.6220000000000004E-2},8.66,null,null,null,null,null,null,"* AUTUMN BLEND"]
[18,"MIDLAND 1C BRICK - CREAMS ",null,null,null,null,null,15,null,null,null,null,null,null,null,15,"PAVESTONE 60 Autumn Blend",330,{"$f":"1/Z19","v":38.138825324180011},230,"x",114,"x",60,5,{"$f":"(T19/1000)*(V19/1000)","v":2.6220000000000004E-2},8.66,null,null,null,null,null,null,"* CAPPUCCINO"]
[19,"MIDLAND- Cream Maxi",264,4,48.5,"230x110x76",null,16,null,null,null,null,null,null,null,16,"PAVESTONE 60 Cappuccino",330,38.138825324180011,230,"x",114,"x",60,5,2.6220000000000004E-2,8.66,null,null,null,null,null,null,"* CHARCOAL"]
[20,null,null,null,null,null,null,17,"BRIKMAKERS VERTICLAY",138,19.5,"305x90x162",3,null,null,17,"PAVESTONE 60 Heritage Red",330,38.138825324180011,230,"x",114,"x",60,5,2.6220000000000004E-2,8.66,null,null,null,null,null,null,"* HERITAGE RED"]
[21,null,null,null,null,null,null,18,null,null,null,null,null,null,null,18,"PAVESTONE 60 Limestone",330,38.138825324180011,230,"x",114,"x",60,5,2.6220000000000004E-2,8.66,null,null,null,null,null,null,"* LIMESTONE"]
[22,"MIDLAND- Limestone Hue",264,4,48.5,"230x110x76",null,19,"**INTERNAL RENDERS**",132,19.5,"305x90x162",3,null,null,19,"PAVESTONE 60 Silver",330,38.138825324180011,230,"x",114,"x",60,5,2.6220000000000004E-2,8.66,null,null,null,null,null,null,"* SILVER"]
[23,"MIDLAND- Milano",264,4,48.5,"230x110x76",null,20,null,null,null,null,null,null,null,20,"PAVESTONE 60 Pewter",330,38.138825324180011,230,"x",114,"x",60,5,2.6220000000000004E-2,8.66]
[24,"MIDLAND- Seville",264,4,48.5,"230x110x76",null,null,null,null,null,null,null,null,null,21,null,null,null,null,null,null,null,null,null,null,null,null,null,null,null,"Masterpave",null,"* CHARCOAL",null,228,9.1199999999999992,"200x200x60"]
[25,"MIDLAND- Tuscan",264,4,48.5,"230x110x76",null,null,null,null,null,null,null,null,null,22,"MIDLAND CLASSIC COLLECTION 60:-",null,null,null,null,null,null,null,null,null,null,null,null,null,null,null,null,"* GOLDEN SAND"]
[26,null,null,null,null,null,null,null,null,null,null,null,null,null,null,23,"MASTERPAVE 60 Charcoal",228,{"$f":"1/Z27","v":24.999999999999996},200,"x",200,"x",60,4,{"$f":"(T27/1000)*(V27/1000)","v":4.0000000000000008E-2},9.1199999999999992,null,null,null,null,null,null,"* HERITAGE RED"]
[27,null,null,null,null,null,null,null,"INT/EXT LONGREACH CORED ",null,null,null,null,null,null,24,"MASTERPAVE 60  Golden Sand",228,24.999999999999996,200,"x",200,"x",60,4,4.0000000000000008E-2,9.1199999999999992,null,null,null,null,null,null,"* LIMESTONE"]
[28,"MIDLAND 1C BRICK - PEARL ",null,null,null,null,null,"Line",null,null,null,null,null,null,null,25,"MASTERPAVE 60 Heritage",228,24.999999999999996,200,"x",200,"x",60,4,4.0000000000000008E-2,9.1199999999999992,null,null,null,null,null,null,"* PEWTER"]
[29,"MIDLAND- Amber",264,4,50.5,"230x110x76",null,1,"Brick Type Selection","Pk Size","No/m2","Brick Size",null,null,null,26,"MASTERPAVE 60 Limestone",228,24.999999999999996,200,"x",200,"x",60,4,4.0000000000000008E-2,9.1199999999999992,null,null,null,null,null,null,"* STEEL GREY"]
[30,"MIDLAND- Black",264,4,50.5,"230x110x76",null,2,"NO SELECTION MADE",252,null,null,null,null,null,27,"MASTERPAVE 60  Pewter",228,24.999999999999996,200,"x",200,"x",60,4,4.0000000000000008E-2,9.1199999999999992,null,null,null,null,null,null,"* SILVER"]
[31,"MIDLAND- Copper",264,4,50.5,"230x110x76",null,3,null,null,null,null,null,null,null,28,"MASTERPAVE 60 Steel Grey",228,24.999999999999996,200,"x",200,"x",60,4,4.0000000000000008E-2,9.1199999999999992]
[32,"MIDLAND- Grey",264,4,50.5,"230x110x76",null,4,"MIDLAND LONGREACH",252,37,"305x90x76",3,null,null,29,"MASTERPAVE 60 Silver",228,24.999999999999996,200,"x",200,"x",60,4,4.0000000000000008E-2,9.1199999999999992,null,null,null,null,"Promenade",null,"* AUTUMN BLEND",null,160,14.41]
[33,null,null,null,null,null,null,5,null,null,null,null,null,null,null,30,null,null,null,null,null,null,null,null,null,null,null,null,null,null,null,null,null,"* CHARCOAL"]
[34,null,null,null,null,null,null,6,"AUSTRAL MODULAR 76 ",264,40,"305x90x76",3,null,null,31,"MIDLAND CLASSIC COLLECTION 60:-",null,null,null,null,null,null,null,null,null,null,null,null,null,null,null,null,"* GOLDEN SAND"]
[35,"MIDLAND 1C BRICK - CODA ",null,null,null,null,null,7,null,null,null,null,null,null,null,32,"PROMENADE CLASSIC 60 Limestone",160,{"$f":"1/Z36","v":11.111111111111111},300,"x",300,null,null,10,{"$f":"(T36/1000)*(V36/1000)","v":0.09},14.41,null,null,null,null,null,null,"* LIMESTONE"]
[36,"MIDLAND- Grey",264,4,50.5,"230x110x76",null,8,null,null,null,null,null,null,null,33,"PROMENADE CLASSIC 60 Autum Blend",160,{"$f":"1/Z37","v":11.111111111111111},300,"x",300,null,null,10,0.09,14.41,null,null,null,null,null,null,"* PEWTER"]
[37,"MIDLAND- Red",264,4,50.5,"230x110x76",null,9,null,null,null,null,null,null,null,34,"PROMENADE CLASSIC 60 Golden Sand",160,11.111111111111111,300,"x",300,null,null,10,0.09,14.41,null,null,null,null,null,null,"* STEEL GREY"]
[38,null,null,null,null,null,null,10,null,null,null,null,null,null,null,35,"PROMENADE CLASSIC 60 Pewter",160,11.111111111111111,300,"x",300,null,null,10,0.09,14.41]
[39,"MIDLAND 1C BRICK - HANDMADE ",null,null,null,null,null,11,"BRIKMAKERS VERTI  76 ",264,40,"305x90x76",3,null,null,36,"PROMENADE CLASSIC 60 Charcoal",160,11.111111111111111,300,"x",300,null,null,10,0.09,14.41]
[40,"MIDLAND- Caversham",264,4,50.5,"230x110x76",null,12,null,null,null,null,null,null,null,37,"PROMENADE CLASSIC 60 Steel Grey",160,11.111111111111111,300,"x",300,null,null,10,0.09,14.41]
[41,"MIDLAND- Helena vale",264,4,50.5,"230x110x76",true,null,null,null,null,null,null,null,null,38]
[42,"MIDLAND- Sandalford",264,4,50.5,"230x110x76",true,null,null,null,null,null,null,null,null,39,"MIDLAND BOULEVARD 60 CLASSIC:-"]
[43,"MIDLAND- Woodbridge",264,4,50.5,"230x110x76",null,null,null,null,null,null,null,null,null,40,"BOULEVARD CLASSIC 60 Charcoal",null,12.5,400,"x",200,null,null,10,null,14.4]
[null,null,null,null,null,null,null,"Line",null,null,null,null,null,null,null,41,"BOULEVARD CLASSIC 60 Limestone",180,12.5,400,"x",200,null,null,10,null,14.4]
[null,"MIDLAND 1C BRICK - REVIVAL RANGE",null,null,null,null,null,1,"INT/EXT LONGREACH SOLIDS",null,null,null,null,null,null,42,"BOULEVARD CLASSIC 60 Pewter",180,12.5,400,"x",200,null,null,10,null,14.4]
[null,"MIDLAND BISHOPS HOUSE ",264,4,48.5,"230x110x76",true,2,null,null,null,null,null,null,null,43,"BOULEVARD CLASSIC 60 Steel Grey",180,12.5,400,"x",200,null,null,10,null,14.4]
[null,"MIDLAND BISHOPS HOUSE RUMBLED",264,4,48.5,"230x110x76",true,3,"Brick Type Selection","Pk Size","No/m2","Brick Size",null,null,null,44]
[null,"MIDLAND LANEWAY VIBE",264,4,48.5,"230x110x76",true,4,"NO SELECTION MADE",252,null,null,null,null,null,45]
[null,"MIDLAND LANEWAY VIBE RUMBLED",264,4,48.5,"230x110x76",true,5,null,null,null,null,null,null,null,46,"MIDLAND BOULEVARD 60 GRANITE:-"]
[null,null,null,null,null,null,null,6,"MIDLAND LONGREACH",252,37,"305x90x76",3,null,null,47,"BOULEVARD GRANITE 60 Platinum",180,12.5,400,"x",200,null,null,10,null,14.4]
[null,null,null,null,null,null,null,7,null,null,null,null,null,null,null,48,"BOULEVARD GRANITE 60 Chalk",180,12.5,400,"x",200,null,null,10,null,14.4]
[null,null,null,null,null,null,null,8,"AUSTRAL MODULAR 76 ",264,40,"305x90x76",3,null,null,49,"BOULEVARD GRANITE 60 Graphite",180,12.5,400,"x",200,null,null,10,null,14.4]
[null,null,null,null,null,null,null,9,null,null,null,null,null,null,null,50,"BOULEVARD GRANITE 60 Titanium",180,12.5,400,"x",200,null,null,10,null,14.4]
[null,null,null,null,null,null,null,10,null,null,null,null,null,null,null,51]
[null,null,null,null,null,null,null,11,"BRIKMAKERS VERTI  76 ",264,40,"305x90x76",3,null,null,52,"MIDLAND PROMENADE 60 CLASSIC:-"]
[null,null,null,null,null,null,null,12,null,null,null,null,null,null,null,53,"PROMENADE CLASSIC 60 Limestone",160,11.1,300,"x",300,null,null,10,null,14.41]
[null,null,null,null,null,null,null,null,null,null,null,null,null,null,null,54,"PROMENADE CLASSIC 60 Donnybrook",160,11.1,300,"x",300,null,null,10,null,14.41]
[null,null,null,null,null,null,null,null,null,null,null,null,null,null,null,55,"PROMENADE CLASSIC 60 Autum Blend",160,11.1,300,"x",300,null,null,10,null,14.41]
[null,null,null,null,null,null,null,null,null,null,null,null,null,null,null,56,"PROMENADE CLASSIC 60 Golden Sand",160,11.1,300,"x",300,null,null,10,null,14.41]
[null,null,null,null,null,null,null,null,null,null,null,null,null,null,null,57,"PROMENADE CLASSIC 60 Heritage Red",160,11.1,300,"x",300,null,null,10,null,14.41]
[null,null,null,null,null,null,null,null,null,null,null,null,null,null,null,58,"PROMENADE CLASSIC 60 Morocco",160,11.1,300,"x",300,null,null,10,null,14.41]
[null,null,null,null,null,null,null,null,null,null,null,null,null,null,null,59,"PROMENADE CLASSIC 60 Pewter",160,11.1,300,"x",300,null,null,10,null,14.41]
[null,null,null,null,null,null,null,null,null,null,null,null,null,null,null,60,"PROMENADE CLASSIC 60 Charcoal",160,11.1,300,"x",300,null,null,10,null,14.41]
[null,null,null,null,null,null,null,null,null,null,null,null,null,null,null,61,"PROMENADE CLASSIC 60 Steel Grey",160,11.1,300,"x",300,null,null,10,null,14.41]
[null,null,null,null,null,null,null,null,null,null,null,null,null,null,null,62]
[null,null,null,null,null,null,null,null,null,null,null,null,null,null,null,63,"MIDLAND PROMENADE 60 GRANITE:-"]
[null,null,null,null,null,null,null,null,null,null,null,null,null,null,null,64,"PROMENADE GRANITE 60 Chalk",160,11.1,300,"x",300,null,null,10,null,14.41]
[null,null,null,null,null,null,null,null,null,null,null,null,null,null,null,65,"PROMENADE GRANITE 60 Rose Quartz",160,11.1,300,"x",300,null,null,10,null,14.41]
[null,null,null,null,null,null,null,"Line",null,null,null,null,null,null,null,66,"PROMENADE GRANITE 60 Amber",160,11.1,300,"x",300,null,null,10,null,14.41]
[null,null,null,null,null,null,null,1,"INT/EXT COMMON SELECTION",null,null,null,null,null,null,67,"PROMENADE GRANITE 60 Titanium",160,11.1,300,"x",300,null,null,10,null,14.41]
[null,null,null,null,null,null,null,2,null,null,null,null,null,null,null,68,"PROMENADE GRANITE 60 Copper",160,11.1,300,"x",300,null,null,10,null,14.41]
[null,null,null,null,null,null,null,3,"Brick Type Selection","Pk Size","No/m2","Brick Size",null,null,null,69,"PROMENADE GRANITE 60 Graphite",160,11.1,300,"x",300,null,null,10,null,14.41]
[null,null,null,null,null,null,null,4,"NO SELECTION MADE",264,null,null,null,null,null,70,"PROMENADE GRANITE 60 Platinum",160,11.1,300,"x",300,null,null,10,null,14.41]
[null,null,null,null,null,null,null,5,null,null,null,null,null,null,null,71]
[null,null,null,null,null,null,null,6,"MIDLAND COMMONS",264,48.5,"230x110x76",4,null,null,72,"MIDLAND PROMENADE 60 HONED:-"]
[null,null,null,null,null,null,null,7,null,null,null,null,null,null,null,73,"PROMENADE HONED 60 Brun",160,10.9,300,"x",300,null,null,10,null,14.68]
[null,null,null,null,null,null,null,8,"AUSTRAL COMMONS ",264,48.5,"230x110x76",4,null,null,74,"PROMENADE HONED 60 Gesso",160,10.9,300,"x",300,null,null,10,null,14.68]
[null,null,null,null,null,null,null,9,null,null,null,null,null,null,null,75,"PROMENADE HONED 60 Grigio",160,10.9,300,"x",300,null,null,10,null,14.68]
[null,null,null,null,null,null,null,10,null,null,null,null,null,null,null,76,"PROMENADE HONED 60 Noire",160,10.9,300,"x",300,null,null,10,null,14.68]
[null,null,null,null,null,null,null,11,"BRIKMAKERS COMMONS",264,50.5,"230x110x76",4,null,null,77]
[null,null,null,null,null,null,null,12,null,null,null,null,null,null,null,78,"MIDLAND STYLESTONE ROCKPAVE  60:-"]
[null,null,null,null,null,null,null,null,null,null,null,null,null,null,null,79,"STYLESTONE ROCK 60 Charcoal",160,10.9,300,"x",300,null,null,10,null,14.68]
[null,null,null,null,null,null,null,null,"2C FACE BLOCKS",null,null,null,null,null,null,80,"STYLESTONE ROCK 60 Morocco",160,10.9,300,"x",300,null,null,10,null,14.68]
[null,null,null,null,null,null,null,null,null,null,null,null,null,null,null,81,"STYLESTONE ROCK 60 Sandstone",160,10.9,300,"x",300,null,null,10,null,14.68]
[null,null,null,null,null,null,null,"Line","Brick Type Selection","Pk Size","No/m2","Brick Size","leafs",null,null,82,"STYLESTONE ROCK 60 Wheat",160,10.9,300,"x",300,null,null,10,null,14.68]
[null,null,null,null,null,null,null,1,"NO SELECTION MADE",138,null,null,null,null,null,83,"STYLESTONE ROCK 60 Golden Sand",160,10.9,300,"x",300,null,null,10,null,14.68]
[null,null,null,null,null,null,null,2,null,null,null,null,null,null,null,84,"STYLESTONE ROCK 60 Steel Grey",160,10.9,300,"x",300,null,null,10,null,14.68]
[null,null,null,null,null,null,null,3,"MIDLAND- 2c face Blocks",138,19.399999999999999,"290x90x162",3,null,null,85]
[null,null,null,null,null,null,null,4,"MIDLAND- 2c face Blocks",138,19.399999999999999,"290x90x162",3,null,null,86,"MIDLAND SIG. SERIES ROCKPAVE 60:-"]
[null,null,null,null,null,null,null,5,null,null,null,null,null,null,null,87,"SIGNATURE ROCK 60 Alpine Ash",160,10.9,300,"x",300,null,null,10,null,14.68]
[null,null,null,null,null,null,null,6,"MIDLAND 2C BRICKS",null,null,null,null,{"$f":"J89/M89","v":46},null,88,"SIGNATURE ROCK 60 Onyx",160,10.9,300,"x",300,null,null,10,null,14.68]
[null,null,null,null,null,null,null,7,"MIDLAND - Bremer Bay",138,19.399999999999999,"290x90x162",3,{"$f":"J90/M90","v":46},null,89]
[null,null,null,null,null,null,null,8,"MIDLAND - Bullara",138,19.399999999999999,"290x90x162",3,null,null,null,"MIDLAND STONEWASH COLLECTION"]
[null,null,null,null,null,null,null,9,"MIDLAND - Kennedy",138,19.399999999999999,"290x90x162",3,null,null,null,"FLAGSTONE 60 Charcoal",135,18,330,null,165,null,null,3,null,7.5]
[null,null,null,null,null,null,null,10,"MIDLAND - Loongana Limestone",138,19.399999999999999,"290x90x162",3,46,null,null,"FLAGSTONE 60 Grey",135,18,330,null,165,null,null,3,null,7.5]
[null,null,null,null,null,null,null,11,"MIDLAND - Roebuck",138,19.399999999999999,"290x90x162",3,46,null,null,"FLAGSTONE 60 Silver",135,18,330,null,165,null,null,3,null,7.5]
[null,null,null,null,null,null,null,12,"MIDLAND - Shale",138,19.399999999999999,"290x90x162",3,46,null,null,null,null,null,null,null,null,null,null,null,null,null,null,null,null,null,null,null,"x",200,null,null,4]
[null,null,null,null,null,null,null,13,"MIDLAND - Trealla Limestone",138,19.399999999999999,"290x90x162",3,46,null,null,"MIDLAND FLAGSTONE GEO 60"]
[null,null,null,null,null,null,null,14,"MIDLAND - Mandu",138,19.399999999999999,"290x90x162",3,46,null,null,"FLAGSTONE GEO DEW",135,18,330,"X",165,null,null,3,null,7.35,null,null,null,null,null,null,"x",200,null,null,4]
[null,null,null,null,null,null,null,null,null,null,null,null,null,null,null,null,"FLAGSTONE GEO KAO",135,18,330,"X",165,null,null,3,null,7.35,null,null,"MASTERPAVE CLASSIC 60",228,25,200,null,null,null,null,null,null,9.1199999999999992]
[null,null,null,null,null,null,null,null,null,null,null,null,null,null,null,null,"FLAGSTONE GEO SKY",135,18,330,"X",165,null,null,3,null,7.35,null,null,null,null,null,null,"x",200,null,null,4]
[null,null,null,null,null,null,null,null,null,null,null,null,null,null,null,null,null,null,null,null,null,null,null,null,null,null,null,null,null,"MASTERPAVE GRANITE 60",228,25,200,null,null,null,null,null,null,9.1199999999999992]
[null,null,null,null,null,null,null,null,null,null,null,null,null,null,null,null,null,null,null,null,null,null,null,null,null,null,null,null,null,null,null,null,null,"x",200,null,null,4]
[null,null,null,null,null,null,null,null,null,null,null,null,null,null,null,null,null,null,null,null,null,null,null,null,null,null,null,null,null,"MASTERPAVE STONEWASH 60",228,25,200,null,null,null,null,null,null,9.1199999999999992]
[]
[null,null,null,null,null,null,null,null,null,null,null,null,null,null,null,null,null,null,null,null,null,null,null,null,null,null,null,null,null,"MASTERPAVE GEO 60",228,25,200,null,null,null,null,null,null,9.1199999999999992]
[]
[]
[]
[]
[]
[]
[]
[]
[]
[]
[]
[74,"BRICKMAKERS 1C BRICK - Traditional collection",null,null,null,null,null,null,null,null,null,null,null,null,null,92,"BGC VISTAPAVE 60 ORIGINAL:-"]
[75,null,null,null,null,null,null,null,null,null,null,null,null,null,null,93,"VISTAPAVE 60 Fed Red",228,27,190,"x",190,null,null,2,null,8.4]
[76,null,null,null,null,null,null,15,null,null,null,null,null,{"$f":"J98/M98","v":46},null,94,"VISTAPAVE 60 Charcoal",228,27,190,"x",190,null,null,2,null,8.4]
[77,null,null,null,null,null,null,16,null,null,null,null,null,{"$f":"J99/M99","v":46},null,95,"VISTAPAVE 60 Sandstone",228,27,190,"x",190,null,null,2,null,8.4]
[78,"BMAKERS- Cream Smooth",264,4,50.5,"230x110x76",null,17,"AUSTRAL- 2c Face Blocks",138,20.5,"290x90x162",3,{"$f":"J100/M100","v":46},null,96,"VISTAPAVE 60 Terracotta",228,27,190,"x",190,null,null,2,null,8.4]
[79,null,null,null,null,null,null,18,null,null,null,null,null,null,null,97,"VISTAPAVE 60 Grey",228,27,190,"x",190,null,null,2,null,8.4]
[80,null,null,null,null,null,null,20,"AUSTRAL 2C BRICKS",null,null,null,null,null,null,98,"VISTAPAVE 60 Silver",228,27,190,"x",190,null,null,2,null,8.4]
[81,"BMAKERS- Mosmon Red",264,4,50.5,"230x110x76",true,21,"AUSTRAL - Chai Latte",138,20.5,"290x90x162",3,46,null,99,"VISTAPAVE 60 Mocha",228,27,190,"x",190,null,null,2,null,8.4]
[82,"BMAKERS- Nouveau Grey",264,4,50.5,"230x110x76",true,22,"AUSTRAL - French Brie",138,20.5,"290x90x162",3,null,null,100,"VISTAPAVE 60 Cappuccino",228,27,190,"x",190,null,null,2,null,8.4]
[83,"BMAKERS- Red Smooth",264,4,50.5,"230x110x76",true,23,"AUSTRAL - Fremantle (Sandfire)",138,20.5,"290x90x162",3,null,null,101,"VISTAPAVE 60 Natural",228,27,190,"X",190,null,null,2,null,8.4]
[84,null,null,null,null,null,null,24,"AUSTRAL - Kingston",138,20.5,"290x90x162",3,46,null,102,"VISTAPAVE 60 Platinum",228,27,190,"X",190,null,null,2,null,8.4]
[85,null,null,null,null,null,null,25,"AUSTRAL - Leeuwin",138,20.5,"290x90x162",3,46,null,103]
[86,null,null,null,null,null,null,26,"AUSTRAL - Carbide",138,20.5,"290x90x162",3,46,null,104,"BGC VISTAPAVE 60 GRANITE:-"]
[87,null,null,null,null,null,null,27,"AUSTRAL - Hannan",138,20.5,"290x90x162",3,46,null,105,"VISTAPAVE GRANITE 60 Arctic",228,27,190,"x",190,null,null,2,null,8.4]
[88,"BRICKMAKERS 1C BRICK - Tumbled",264,4,50.5,"230x110x76",null,28,"AUSTRAL - Prevelly Limestone",138,20.5,"290x90x162",3,46,null,106,"VISTAPAVE GRANITE 60 Chert",228,27,190,"x",190,null,null,2,null,8.4]
[89,null,null,null,null,null,null,29,"AUSTRAL - Praline",138,20.5,"290x90x162",3,46,null,107,"VISTAPAVE GRANITE 60 Pebble Beach",228,27,190,"x",190,null,null,2,null,8.4]
[90,"BMAKERS- Classic Cream Tumbled",264,4,50.5,"230x110x76",null,30,"AUSTRAL - Muscatel",138,20.5,"290x90x162",3,46,null,108,"VISTAPAVE GRANITE 60 Sea Mist",228,27,190,"x",190,null,null,2,null,8.4]
[91,null,null,null,null,null,null,null,null,null,null,null,null,46,null,109,"VISTAPAVE GRANITE 60 Storm Cloud",228,27,190,"x",190,null,null,2,null,8.4]
[92,null,null,null,null,null,null,null,null,null,null,null,null,46,null,110,"VISTAPAVE GRANITE 60 Tundra",228,27,190,"x",190,null,null,2,null,8.4]
[93,null,null,null,null,null,null,null,null,null,null,null,null,46,null,111]
[94,null,null,null,null,null,true,null,null,null,null,null,null,null,null,112,"BGC VISTAPAVE 60 STONEWASH:-"]
[95,"BMAKERS- Mosmon Red Tumbled",264,4,50.5,"230x110x76",true,null,null,null,null,null,null,null,null,113,"VISTAPAVE STONEWASH 60 Charcoal",228,27,190,"x",190,null,null,2,null,8.4]
[96,"BMAKERS- Nouveau Grey Tumbled",264,4,50.5,"230x110x76",true,null,null,null,null,null,null,null,null,114,"VISTAPAVE STONEWASH 60 Grey",228,27,190,"x",190,null,null,2,null,8.4]
[97,"BMAKERS- Red Smooth Tumbled",264,4,50.5,"230x110x76",true,null,null,null,null,null,null,null,null,115,"VISTAPAVE STONEWASH 60 Silver",228,27,190,"x",190,null,null,2,null,8.4]
[98,"BMAKERS- Sunset Beach Tumbled",264,4,50.5,"230x110x76",null,null,null,null,null,null,null,null,null,116]
[99,null,null,null,null,null,null,null,null,null,null,null,null,null,null,117,"BGC VISTAPAVE 60 GEO:-"]
[100,"BMAKERS- Vintage Red Tumbled",264,4,50.5,"230x110x76",true,null,null,null,null,null,null,null,null,118,"VISTAPAVE GEO 60 GEM",228,27,190,"x",190,null,null,2,null,8.4]
[101,null,null,null,null,null,null,null,null,null,null,null,null,null,null,119,"VISTAPAVE GEO 60 INK",228,27,190,"x",190,null,null,2,null,8.4]
[102,"BRICKMAKERS ROMAN BRICK ",null,null,null,null,null,null,null,null,null,null,null,null,null,120,"VISTAPAVE GEO 60 NEO",228,27,190,"x",190,null,null,2,null,8.4]
[103,"BMAKERS ROMAN BRICK - Kansas Sunset",336,null,58.5,"290X90X47",null,null,null,null,null,null,null,null,null,121,"VISTAPAVE GEO 60 ORA",228,27,190,"x",190,null,null,2,null,8.4]
[104,null,null,null,null,null,null,null,null,null,null,null,null,null,null,122,"VISTAPAVE GEO 60 TUX",228,27,190,"x",190,null,null,2,null,8.4]
[105,null,null,null,null,null,null,null,null,null,null,null,null,null,null,123]
[106,null,null,null,null,null,null,null,null,null,null,null,null,null,null,124,"BGC EASIPAVE 60:-"]
[107,null,null,null,null,null,null,null,null,null,null,null,null,null,null,125,"PAVESTONE 60",330,38.1,230,"x",114,null,null,5,null,8.66]
[108,null,null,null,null,null,null,null,null,null,null,null,null,null,null,126,"EASIPAVE 60 Charcoal",336,40,220,"x",110,null,null,2,null,8.4]
[109,null,null,null,null,null,null,null,null,null,null,null,null,null,null,127,"EASIPAVE 60 Silver ",336,40,220,"x",110,null,null,2,null,8.4]
[110,null,null,null,null,null,null,null,null,null,null,null,null,null,null,128,"EASIPAVE 60 Sandstone",336,40,220,"x",110,null,null,2,null,8.4]
[111,null,null,null,null,null,null,null,null,null,null,null,null,null,null,129,"EASIPAVE 60 Terracotta",336,40,220,"x",110,null,null,2,null,8.4]
[112,null,null,null,null,null,null,null,null,null,null,null,null,null,null,130,"EASIPAVE 60 Grey ",336,40,220,"x",110,null,null,2,null,8.4]
[3,"AUSTRAL- Leeuwin",264,4,50.5,"230x110x76",null,null,null,null,null,null,null,null,null,131,"EASIPAVE 60 Capuccino",336,40,220,"x",110,null,null,2,null,8.4]
[4,"AUSTRAL- Prevelly Limestone",276,4,50.5,"230x110x76",null,null,null,null,null,null,null,null,null,132,"EASIPAVE 60 Natural",336,40,220,"x",110,null,null,2,null,8.4]
[5,"AUSTRAL- Federation Limestone",264,4,50.5,"230x110x76",null,null,null,null,null,null,null,null,null,133,"EASIPAVE 60 Mocha",336,40,220,"x",110,null,null,2,null,8.4]
[6,"AUSTRAL- French Brie",264,4,50.5,"230x110x76",null,null,null,null,null,null,null,null,null,134,"EASIPAVE 60 Platinum",336,40,220,"x",110,null,null,2,null,8.4]
[7,"AUSTRAL- Chai Latte",264,4,50.5,"230x110x76",null,null,null,null,null,null,null,null,null,135,"EASIPAVE 60 Autumn Blend ",336,40,220,"x",110,null,null,2,null,8.4]
[8,"AUSTRAL- Praline",264,4,50.5,"230x110x76",null,null,null,null,null,null,null,null,null,136,"EASIPAVE 60 Antique Blend",336,40,220,"x",110,null,null,2,null,8.4]
[9,"AUSTRAL- Muscatel",264,4,50.5,"230x110x76",true,null,null,null,null,null,null,null,null,137]
[10,"AUSTRAL- Fremantle (Sandfire)",264,4,50.5,"230x110x76",true,null,null,null,null,null,null,null,null,138,"BGC FLAGSTONE 60:-"]
[11,"AUSTRAL- Hannan",264,4,50.5,"230x110x76",true,null,null,null,null,null,null,null,null,139,"FLAGSTONE ORIG. 60 Charcoal",135,18,330,"x",165,null,null,3,null,7.5]
[12,"AUSTRAL- Kingston",264,4,50.5,"230x110x76",true,null,null,null,null,null,null,null,null,140,"FLAGSTONE ORIG. 60 Grey",135,18,330,"x",165,null,null,3,null,7.5]
[13,"AUSTRAL- Carbide",264,4,50.5,"230x110x76",null,null,null,null,null,null,null,null,null,141,"FLAGSTONE ORIG. 60 Silver",135,18,330,"x",165,null,null,3,null,7.5]
[14,"AUSTRAL- Red Smooth",264,4,50.5,"230x110x76",true,null,null,null,null,null,null,null,null,142]
[15,"AUSTRAL- Cream Smooth",264,4,50.5,"230x110x76",null,null,null,null,null,null,null,null,null,143,"FLAGSTONE S/WASH 60 Charcoal",135,18,330,"x",165,null,null,3,null,7.5]
[16,"AUSTRAL- Jackson",264,4,50.5,"230x110x76",null,null,null,null,null,null,null,null,null,144,"FLAGSTONE S/WASH 60 Grey",135,18,330,"x",165,null,null,3,null,7.5]
[17,"AUSTRAL- Menzies",264,4,50.5,"230x110x76",true,null,null,null,null,null,null,null,null,145,"FLAGSTONE S/WASH 60 Silver",135,18,330,"x",165,null,null,3,null,7.5]
[18,"AUSTRAL- Mundaring Red",264,4,50.5,"230x110x76",true,null,null,null,null,null,null,null,null,147]
[19,"AUSTRAL- Leonora",264,4,50.5,"230x110x76",true,null,null,null,null,null,null,null,null,148,"FLAGSTONE GRANITE 60 Arctic",135,18,330,"x",165,null,null,3,null,7.5]
[20,"AUSTRAL- Menzies Tumbled (Leveque)",264,4,50.5,"230x110x76",true,null,null,null,null,null,null,null,null,149,"FLAGSTONE GRANITE 60 Chert",135,18,330,"x",165,null,null,3,null,7.5]
[21,"AUSTRAL- Mundaring Red Tumbled (Monte Bello)",264,4,50.5,"230x110x76",true,null,null,null,null,null,null,null,null,150,"FLAGSTONE GRANITE 60 Pebble Beach",135,18,330,"x",165,null,null,3,null,7.5]
[22,"AUSTRAL- Leonora Tumbled",264,4,50.5,"230x110x76",true,null,null,null,null,null,null,null,null,151,"FLAGSTONE GRANITE 60 Sea Mist",135,18,330,"x",165,null,null,3,null,7.5]
[23,null,null,null,null,null,null,null,null,null,null,null,null,null,null,152,"FLAGSTONE GRANITE 60 Storm Cloud",135,18,330,"x",165,null,null,3,null,7.5]
[24,"AUSTRAL- GOVERNORS RANGE",320,4,50.5,"230x110x76",null,null,null,null,null,null,null,null,null,153,"FLAGSTONE GRANITE 60 Tundra",135,18,330,"x",165,null,null,3,null,7.5]
[25,null,null,null,null,null,null,null,null,null,null,null,null,null,null,154]
[26,"AUSTRAL - ELEMENTS RANGE",264,4,50.5,"230x110x76",null,null,null,null,null,null,null,null,null,155,"BGC GRANDPAVE 60 ORIGINAL:-"]
[27,null,null,null,null,null,null,null,null,null,null,null,null,null,null,156,"GRANDPAVE ORIGINAL 60 Cappuccino",72,9,330,"x",330,null,null,3,null,8]
[28,"AUSTRAL - BURLESQUE RANGE (pallets)",512,512,50.5,"230x110x76",null,null,null,null,null,null,null,null,null,157,"GRANDPAVE ORIGINAL 60 Charcoal",72,9,330,"x",330,null,null,3,null,8]
[29,null,null,null,null,null,null,null,null,null,null,null,null,null,null,158,"GRANDPAVE ORIGINAL 60 Grey",72,9,330,"x",330,null,null,3,null,8]
[30,"AUSTRAL - BOWRAL RANGE (pallets)",512,512,50.5,"230x110x76",null,null,null,null,null,null,null,null,null,159,"GRANDPAVE ORIGINAL 60 Mocha",72,9,330,"x",330,null,null,3,null,8]
[31,"NO SELECTION MADE",264,null,null,null,null,null,null,null,null,null,null,null,null,160,"GRANDPAVE ORIGINAL 60 Natural",72,9,330,"x",330,null,null,3,null,8]
[142,null,null,null,null,null,null,null,null,null,null,null,null,null,null,161,"GRANDPAVE ORIGINAL 60 Sandstone",72,9,330,"x",330,null,null,3,null,8]
[143,null,null,null,null,null,null,null,null,null,null,null,null,null,null,162,"GRANDPAVE ORIGINAL 60 Silver",72,9,330,"x",330,null,null,3,null,8]
[144,null,null,null,null,null,null,null,null,null,null,null,null,null,null,163,"GRANDPAVE ORIGINAL 60 Terracptta",72,9,330,"x",330,null,null,3,null,8]
[145,null,null,null,null,null,null,null,null,null,null,null,null,null,null,164]
[null,null,null,null,null,null,null,null,null,null,null,null,null,null,null,165,"BGC GRANDPAVE 60 GRANITE:-"]
[null,null,null,null,null,null,true,null,null,null,null,null,null,null,null,166,"GRANDPAVE GRANITE 60 Arctic",108,9,330,"x",330,null,null,2,null,12]
[null,null,null,null,null,null,true,null,null,null,null,null,null,null,null,167,"GRANDPAVE GRANITE 60 Chert",108,9,330,"x",330,null,null,2,null,12]
[null,null,null,null,null,null,null,null,null,null,null,null,null,null,null,168,"GRANDPAVE GRANITE 60 Pebble Beach",108,9,330,"x",330,null,null,2,null,12]
[null,null,null,null,null,null,null,null,null,null,null,null,null,null,null,169,"GRANDPAVE GRANITE 60 Sea Mist",108,9,330,"x",330,null,null,2,null,12]
[null,null,null,null,null,null,true,null,null,null,null,null,null,null,null,170,"GRANDPAVE GRANITE 60 Storm Cloud",108,9,330,"x",330,null,null,2,null,12]
[null,null,null,null,null,null,null,null,null,null,null,null,null,null,null,null,"GRANDPAVE GRANITE 60 Tundra",108,9,330,"x",330,null,null,2,null,12]
[]
[null,null,null,null,null,null,null,null,null,null,null,null,null,null,null,null,"BGC GRANDPAVE 60 STONEWASH:-"]
[null,null,null,null,null,null,null,null,null,null,null,null,null,null,null,null,"GRANDPAVE STONEWASH 60 Charcoal",108,9,330,"x",330,null,null,2,null,12]
[null,null,null,null,null,null,null,null,null,null,null,null,null,null,null,null,"GRANDPAVE STONEWASH 60 Grey",108,9,330,"x",330,null,null,2,null,12]
[null,null,null,null,null,null,null,null,null,null,null,null,null,null,null,null,"GRANDPAVE STONEWASH 60 Silver",108,9,330,"x",330,null,null,2,null,12]
[]
[null,null,null,null,null,null,null,null,null,null,null,null,null,null,null,null,"BGC HELENASTONE 60 STONEWASH:-"]
[null,null,null,null,null,null,null,null,null,null,null,null,null,null,null,null,"HELENASTONE STONEWASH 60 Charcoal",72,6.25,400,"x",400,null,null,2,null,11.5]
[null,null,null,null,null,null,null,null,null,null,null,null,null,null,null,null,"HELENASTONE STONEWASH 60 Grey",72,6.25,400,"x",400,null,null,2,null,11.5]
[null,null,null,null,null,null,null,null,null,null,null,null,null,null,null,null,"HELENASTONE STONEWASH 60 Silver",72,6.25,400,"x",400,null,null,2,null,11.5]

{"sheet":"START UP","index":4,"n_rows":10,"n_cols":22,"rows_kept":10,"cut":false,"hidden":false,"merged":[[9,14,9,17],[9,21,9,27],[8,9,8,13],[8,14,8,17],[8,21,8,27]]}
[]
[]
[]
[null,null,null,null,null,null,null,null,null,null,null,null,null,null,null,null,"TANGENT SCHEDULING QUANTS"]
[null,null,null,null,null,null,null,null,null,null,null,null,null,null,null,null,"Version - 16/11/2018"]
[]
[]
[]
[null,null,null,null,null,null,null,null,null,"Job No:",null,null,null,null,{"$f":"'Main Details'!D6","v":0},null,null,null,null,"CLIENT:",null,{"$f":"'Main Details'!D7","v":0}]
[null,null,null,null,null,null,null,null,null,null,null,null,null,"Scheduler:",{"$f":"'Main Details'!Q3","v":0},null,null,null,null,"Date:",null,{"$f":"'Main Details'!Q4","v":"00:00:00"}]

{"sheet":"Main Details","index":5,"n_rows":54,"n_cols":44,"rows_kept":54,"cut":false,"hidden":false,"merged":[[21,50,22,51],[21,52,22,52],[10,7,10,8],[2,16,2,17],[1,16,1,17],[3,16,3,17],[6,3,6,8],[4,16,4,17]]}
[]
[null,{"$f":"INDEX(AR7:AR12,$AR$6)","v":"QUANTITY SHEET FOR EASY START HOMES"},null,null,null,null,null,null,null,null,null,null,null,null,null,null,"SCHEDULER",null,"PG 1"]
[null,"JOB INFORMATION DETAIL SHEET",null,null,null,null,null,null,null,null,null,null,null,null,null,null,{"$f":"INDEX('BUILDERS SETTINGS'!M7:M24,AR13)","v":0}]
[null,null,null,null,null,null,null,null,"DATE:"]
[null,null,null,"Answer Here",null,null,null,null,"Last VO #"]
[null,"ENTER JOB NUMBER",null,null,null,null,null,null,null,null,null,null,null,null,null,null,null,null,null,null,null,null,null,null,null,null,null,null,null,null,null,null,null,null,null,null,null,null,null,null,null,null,null,3]
[null,"ENTER CLIENTS SURNAME",null,null,null,null,null,null,null,null,null,null,null,null,null,null,null,null,null,null,null,null,null,null,null,null,null,null,null,null,null,null,null,null,null,null,null,null,null,null,null,null,1,"QUANTITY SHEET FOR SUMMIT HOMES"]
[null,null,null,null,null,null,null,null,null,null,null,null,null,null,null,null,null,null,null,null,null,null,null,null,null,null,null,null,null,null,null,null,null,null,null,null,null,null,null,null,null,null,2,"QUANTITY SHEET FOR NEW GENERATION HOMES"]
[null,"MAIN BRICK SELECTIONS",null,null,null,"1c or 2c?",null,null,null,null,null,null,null,null,null,null,null,null,null,null,null,null,null,null,null,null,null,null,null,null,null,null,null,null,null,null,null,null,null,null,null,null,3,"QUANTITY SHEET FOR EASY START HOMES"]
[null,null,null,null,null,{"$f":"IF(D40=0.23,\"2c\",\"1c\")","v":"2c"},null,null,null,null,null,null,null,null,null,null,null,null,null,null,null,null,null,null,null,null,null,null,null,null,null,null,null,null,null,null,null,null,null,null,null,null,4,"QUANTITY SHEET FOR SUMMIT PROJECTS"]
[null,"EXTERNAL SELECTION",null,"DON’T",null,null,null,"SELECT STD BRICK TYPE",null,null,"PK SIZE","seq No","lfs/pk","no/m2","red brick/CLEAN","size of block",null,null,null,"250 cavity","250 internal","250 internal","230 cavity","230 internal","230 internal",null,null,null,null,null,null,null,null,null,null,null,null,null,null,null,null,null,5,"QUANTITY SHEET FOR LIFESTYLE HOMES"]
[null,"1c Face Bricks",{"$f":"IF($E$12=TRUE,\"Y\",\"N\")","v":"N"},null,false,{"$f":"IF(G12=TRUE,\"Y\",\"N\")","v":"Y"},true,null,{"$f":"INDEX('BUILDERS BRICK SELECTION'!B5:B191,$L$12)","v":"MIDLAND- Burnished Red"},null,{"$f":"IF(INDEX('BUILDERS BRICK SELECTION'!C5:C191,$L$12)=0,\" \",INDEX('BUILDERS BRICK SELECTION'!C5:C191,$L$12))","v":264},4,{"$f":"IF(INDEX('BUILDERS BRICK SELECTION'!D5:D191,$L$12)=0,\" \",INDEX('BUILDERS BRICK SELECTION'!D5:D191,$L$12))","v":4},{"$f":"IF(INDEX('BUILDERS BRICK SELECTION'!E5:E191,$L$12)=0,\" \",INDEX('BUILDERS BRICK SELECTION'!E5:E191,$L$12))","v":48.5},{"$f":"IF(INDEX('BUILDERS BRICK SELECTION'!G5:G190,$L$12)=0,\" \",INDEX('BUILDERS BRICK SELECTION'!G5:G190,$L$12))","v":true},{"$f":"IF(INDEX('BUILDERS BRICK SELECTION'!F5:F191,$L$12)=0,\" \",INDEX('BUILDERS BRICK SELECTION'!F5:F191,$L$12))","v":"230x110x76"},null,null,null,"ext m/g","M.g","plastering","ext m/g","M.g","plastering",null,null,null,null,null,null,null,null,null,null,null,null,null,null,null,null,null,6,"QUANTITY SHEET FOR SUMMIT HOMES BUNBURY"]
[null,"Contrast 1c Face Bricks",{"$f":"IF($E$13=TRUE,\"Y\",\"N\")","v":"N"},null,false,{"$f":"IF(G13=TRUE,\"Y\",\"N\")","v":"Y"},true,null,{"$f":"INDEX('BUILDERS BRICK SELECTION'!B5:B191,$L$13)","v":"NO SELECTION MADE"},null,{"$f":"IF(INDEX('BUILDERS BRICK SELECTION'!C5:C191,$L$13)=0,\" \",INDEX('BUILDERS BRICK SELECTION'!C5:C191,$L$13))","v":264},1,{"$f":"IF(INDEX('BUILDERS BRICK SELECTION'!D5:D191,$L$13)=0,\" \",INDEX('BUILDERS BRICK SELECTION'!D5:D191,$L$13))","v":4},{"$f":"IF(INDEX('BUILDERS BRICK SELECTION'!E5:E191,$L$13)=0,\" \",INDEX('BUILDERS BRICK SELECTION'!E5:E191,$L$13))","v":50.5},{"$f":"IF(INDEX('BUILDERS BRICK SELECTION'!G5:G190,$L$13)=0,\" \",INDEX('BUILDERS BRICK SELECTION'!G5:G190,$L$13))","v":" "},{"$f":"IF(INDEX('BUILDERS BRICK SELECTION'!F5:F191,$L$13)=0,\" \",INDEX('BUILDERS BRICK SELECTION'!F5:F191,$L$13))","v":"230x110x76"},null,null,null,null,null,null,null,null,null,null,null,null,null,null,null,null,null,null,null,null,null,null,null,null,null,null,null,1]
[null,"2c Render Blocks",{"$f":"IF($E$14=TRUE,\"Y\",\"N\")","v":"Y"},null,true,{"$f":"IF(G14=TRUE,\"Y\",\"N\")","v":"N"},false,null,{"$f":"INDEX('BUILDERS BRICK SELECTION'!I5:I25,$L$14)","v":"MIDLAND MAXIBRICK"},null,{"$f":"IF(INDEX('BUILDERS BRICK SELECTION'!J5:J25,$L$14)=0,\" \",INDEX('BUILDERS BRICK SELECTION'!J5:J25,$L$14))","v":138},3,{"$f":"IF(INDEX('BUILDERS BRICK SELECTION'!M5:M25,$L$14)=0,\" \",INDEX('BUILDERS BRICK SELECTION'!M5:M25,$L$14))","v":3},{"$f":"IF(INDEX('BUILDERS BRICK SELECTION'!K5:K25,$L$14)=0,\" \",INDEX('BUILDERS BRICK SELECTION'!K5:K25,$L$14))","v":18.5},null,{"$f":"IF(INDEX('BUILDERS BRICK SELECTION'!L5:L25,$L$14)=0,\" \",INDEX('BUILDERS BRICK SELECTION'!L5:L25,$L$14))","v":"305x90x162"},null,null,null,{"$f":"IF(D40=0.25,S14*-0.11,0)","v":0},{"$f":"S14*-0.41","v":0},{"$f":"$S$14*-0.5","v":0},{"$f":"$S$14*-0.09","v":0},{"$f":"$S$14*-0.37","v":0},{"$f":"$S$14*-0.46","v":0}]
[null,"1c Rendered Longreach",{"$f":"IF($E15=TRUE,\"Y\",\"N\")","v":"Y"},null,true,"N",false,null,{"$f":"INDEX('BUILDERS BRICK SELECTION'!I31:I45,$L$15)","v":"MIDLAND LONGREACH"},null,{"$f":"IF(INDEX('BUILDERS BRICK SELECTION'!J31:J45,$L$15)=0,\" \",INDEX('BUILDERS BRICK SELECTION'!J31:J45,$L$15))","v":252},3,{"$f":"IF(INDEX('BUILDERS BRICK SELECTION'!M31:M45,$L$15)=0,\" \",INDEX('BUILDERS BRICK SELECTION'!M31:M45,$L$15))","v":3},{"$f":"IF(INDEX('BUILDERS BRICK SELECTION'!K31:K45,$L$15)=0,\" \",INDEX('BUILDERS BRICK SELECTION'!K31:K45,$L$15))","v":37},null,{"$f":"IF(INDEX('BUILDERS BRICK SELECTION'!L31:L45,$L$15)=0,\" \",INDEX('BUILDERS BRICK SELECTION'!L31:L45,$L$15))","v":"305x90x76"},null,null,null,{"$f":"IF(D40=0.25,S15*0.11,0)","v":0},{"$f":"S15*0.41","v":0},{"$f":"$S$15*0.5","v":0},{"$f":"$S$15*0.09","v":0},{"$f":"$S$15*0.37","v":0},{"$f":"$S$15*0.46","v":0}]
[null,"1c Rendered Commons",{"$f":"IF($E16=TRUE,\"Y\",\"N\")","v":"N"},null,false,"Y",true,null,{"$f":"INDEX('BUILDERS BRICK SELECTION'!I74:I83,$L$16)","v":"NO SELECTION MADE"},null,{"$f":"IF(INDEX('BUILDERS BRICK SELECTION'!J74:J81,$L$16)=0,\" \",INDEX('BUILDERS BRICK SELECTION'!J74:J81,$L$16))","v":264},1,{"$f":"IF(INDEX('BUILDERS BRICK SELECTION'!M74:M83,$L$16)=0,\" \",INDEX('BUILDERS BRICK SELECTION'!M74:M83,$L$16))","v":" "},{"$f":"IF(INDEX('BUILDERS BRICK SELECTION'!K74:K83,$L$16)=0,\" \",INDEX('BUILDERS BRICK SELECTION'!K74:K83,$L$16))","v":" "},null,{"$f":"IF(INDEX('BUILDERS BRICK SELECTION'!L74:L83,$L$16)=0,\" \",INDEX('BUILDERS BRICK SELECTION'!L74:L83,$L$16))","v":" "},null,null,null,{"$f":"IF(D40=0.25,S16*-0.046,0)","v":0},{"$f":"S16*-0.17","v":0},{"$f":"$S$16*-0.208","v":0},{"$f":"$S$16*-0.038","v":0},{"$f":"$S$16*-0.154","v":0},{"$f":"$S$16*-0.19","v":0}]
[null,"2nd Contrast 1c Face Blocks",{"$f":"IF($E17=TRUE,\"Y\",\"N\")","v":"N"},null,false,"Y",true,null,{"$f":"INDEX('BUILDERS BRICK SELECTION'!L87:L152,$L$17)","v":0},null,{"$f":"IF(INDEX('BUILDERS BRICK SELECTION'!C5:C191,$L$17)=0,\" \",INDEX('BUILDERS BRICK SELECTION'!C5:C191,$L$17))","v":264},1,{"$f":"IF(INDEX('BUILDERS BRICK SELECTION'!D5:D191,$L$17)=0,\" \",INDEX('BUILDERS BRICK SELECTION'!D5:D191,$L$17))","v":4},{"$f":"IF(INDEX('BUILDERS BRICK SELECTION'!E5:E191,$L$17)=0,\" \",INDEX('BUILDERS BRICK SELECTION'!E5:E191,$L$17))","v":50.5},{"$f":"IF(INDEX('BUILDERS BRICK SELECTION'!G187:G216,$L$17)=0,\" \",INDEX('BUILDERS BRICK SELECTION'!G187:G216,$L$17))","v":" "},{"$f":"IF(INDEX('BUILDERS BRICK SELECTION'!F5:F191,$L$17)=0,\" \",INDEX('BUILDERS BRICK SELECTION'!F5:F191,$L$17))","v":"230x110x76"},null,null,null,{"$f":"IF(D40=0.25,S17*0.046,0)","v":0},{"$f":"S17*0.17","v":0},{"$f":"$S$17*0.208","v":0},{"$f":"$S$17*0.038","v":0},{"$f":"$S$17*0.154","v":0},{"$f":"$S$17*0.19","v":0}]
[null,"2c Face Blocks",{"$f":"IF($E18=TRUE,\"Y\",\"N\")","v":"Y"},null,true,"N",false,null,{"$f":"INDEX('BUILDERS BRICK SELECTION'!I87:I152,$L$18)","v":"NO SELECTION MADE"},null,{"$f":"IF(INDEX('BUILDERS BRICK SELECTION'!J87:J152,$L$18)=0,\" \",INDEX('BUILDERS BRICK SELECTION'!J87:J152,$L$18))","v":138},1,{"$f":"IF(INDEX('BUILDERS BRICK SELECTION'!M87:M150,$L$18)=0,\" \",INDEX('BUILDERS BRICK SELECTION'!M87:M150,$L$18))","v":" "},{"$f":"IF(INDEX('BUILDERS BRICK SELECTION'!K87:K150,$L$18)=0,\" \",INDEX('BUILDERS BRICK SELECTION'!K87:K150,$L$18))","v":" "},{"$f":"IF(INDEX('BUILDERS BRICK SELECTION'!G187:G216,$L$18)=0,\" \",INDEX('BUILDERS BRICK SELECTION'!G187:G209,$L$18))","v":" "},{"$f":"IF(INDEX('BUILDERS BRICK SELECTION'!L87:L150,$L$18)=0,\" \",INDEX('BUILDERS BRICK SELECTION'!L87:L150,$L$18))","v":" "}]
[null,"INTERNAL SELECTION",null,null,null,null,null,null,null,null,{"$f":"IF(INDEX('BUILDERS BRICK SELECTION'!N88:N153,$L$18)=0,\" \",INDEX('BUILDERS BRICK SELECTION'!N88:N153,$L$18))","v":" "},null,{"$f":"IF(INDEX('BUILDERS BRICK SELECTION'!M89:M152,$L$18)=0,\" \",INDEX('BUILDERS BRICK SELECTION'!M89:M152,$L$18))","v":3}]
[null,"1c Face Bricks",{"$f":"IF($E20=TRUE,\"Y\",\"N\")","v":"N"},null,false,{"$f":"IF(G20=TRUE,\"Y\",\"N\")","v":"Y"},true,null,{"$f":"INDEX('BUILDERS BRICK SELECTION'!B5:B191,$L$20)","v":"NO SELECTION MADE"},null,{"$f":"IF(INDEX('BUILDERS BRICK SELECTION'!C5:C191,$L$20)=0,\" \",INDEX('BUILDERS BRICK SELECTION'!C5:C191,$L$20))","v":264},1,{"$f":"IF(INDEX('BUILDERS BRICK SELECTION'!D5:D191,$L$20)=0,\" \",INDEX('BUILDERS BRICK SELECTION'!D5:D191,$L$20))","v":4},{"$f":"IF(INDEX('BUILDERS BRICK SELECTION'!E5:E191,$L$20)=0,\" \",INDEX('BUILDERS BRICK SELECTION'!E5:E191,$L$20))","v":50.5},{"$f":"IF(INDEX('BUILDERS BRICK SELECTION'!G5:G190,$L$20)=0,\" \",INDEX('BUILDERS BRICK SELECTION'!G5:G190,$L$20))","v":" "},{"$f":"IF(INDEX('BUILDERS BRICK SELECTION'!F5:F186,$L$20)=0,\" \",INDEX('BUILDERS BRICK SELECTION'!F5:F195,$L$20))","v":"230x110x76"},null,null,null,{"$f":"IF(D40=0.25,$D$37+(T14+T15+T16+T17),0)","v":0},{"$f":"IF(D40=0.25,$D$37+(U14+U15+U16+U17),0)","v":0},{"$f":"IF(D40=0.25,$D$37+(V14+V15+V16+V17),0)","v":0},{"$f":"IF(D40=0.23,$D$37+(W14+W15+W16+W17),0)","v":0},{"$f":"IF(D40=0.23,$D$37+(X14+X15+X16+X17),0)","v":0},{"$f":"IF(D40=0.23,$D$37+(Y14+Y15+Y16+Y17),0)","v":0}]
[null,"2c Render Blocks",{"$f":"IF($E21=TRUE,\"Y\",\"N\")","v":"Y"},null,true,{"$f":"IF(G21=TRUE,\"Y\",\"N\")","v":"N"},false,null,{"$f":"INDEX('BUILDERS BRICK SELECTION'!I5:I25,$L$21)","v":"NO SELECTION MADE"},null,{"$f":"IF(INDEX('BUILDERS BRICK SELECTION'!J5:J25,$L$21)=0,\" \",INDEX('BUILDERS BRICK SELECTION'!J5:J25,$L$21))","v":132},1,{"$f":"IF(INDEX('BUILDERS BRICK SELECTION'!M5:M25,$L$21)=0,\" \",INDEX('BUILDERS BRICK SELECTION'!M5:M25,$L$21))","v":" "},{"$f":"IF(INDEX('BUILDERS BRICK SELECTION'!K5:K25,$L$21)=0,\" \",INDEX('BUILDERS BRICK SELECTION'!K5:K25,$L$21))","v":" "},null,{"$f":"IF(INDEX('BUILDERS BRICK SELECTION'!L5:L25,$L$21)=0,\" \",INDEX('BUILDERS BRICK SELECTION'!L5:L25,$L$21))","v":" "}]
[null,"1c Rendered Longreach",{"$f":"IF($E22=TRUE,\"Y\",\"N\")","v":"Y"},null,true,{"$f":"IF(G22=TRUE,\"Y\",\"N\")","v":"N"},false,null,{"$f":"INDEX('BUILDERS BRICK SELECTION'!I31:I45,$L$22)","v":"NO SELECTION MADE"},null,{"$f":"IF(INDEX('BUILDERS BRICK SELECTION'!J31:J45,$L$22)=0,\" \",INDEX('BUILDERS BRICK SELECTION'!J31:J45,$L$22))","v":252},1,{"$f":"IF(INDEX('BUILDERS BRICK SELECTION'!M31:M45,$L$22)=0,\" \",INDEX('BUILDERS BRICK SELECTION'!M31:M45,$L$22))","v":" "},{"$f":"IF(INDEX('BUILDERS BRICK SELECTION'!K31:K45,$L$22)=0,\" \",INDEX('BUILDERS BRICK SELECTION'!K31:K45,$L$22))","v":" "},null,{"$f":"IF(INDEX('BUILDERS BRICK SELECTION'!L31:L45,$L$22)=0,\" \",INDEX('BUILDERS BRICK SELECTION'!L31:L45,$L$22))","v":" "}]
[null,"1c Rendered Commons",{"$f":"IF($E23=TRUE,\"Y\",\"N\")","v":"N"},null,false,{"$f":"IF(G23=TRUE,\"Y\",\"N\")","v":"Y"},true,null,{"$f":"INDEX('BUILDERS BRICK SELECTION'!I74:I83,$L$23)","v":"NO SELECTION MADE"},null,{"$f":"IF(INDEX('BUILDERS BRICK SELECTION'!J74:J83,$L$23)=0,\" \",INDEX('BUILDERS BRICK SELECTION'!J74:J83,$L$23))","v":264},1,{"$f":"IF(INDEX('BUILDERS BRICK SELECTION'!M74:M83,$L$23)=0,\" \",INDEX('BUILDERS BRICK SELECTION'!M74:M83,$L$23))","v":" "},{"$f":"IF(INDEX('BUILDERS BRICK SELECTION'!K74:K83,$L$23)=0,\" \",INDEX('BUILDERS BRICK SELECTION'!K74:K83,$L$23))","v":" "},null,{"$f":"IF(INDEX('BUILDERS BRICK SELECTION'!L74:L83,$L$23)=0,\" \",INDEX('BUILDERS BRICK SELECTION'!L74:L83,$L$23))","v":" "}]
[]
[]
[null,"General Questions…"]
[]
[null,"Tiled Roof='Y' Colorbond = 'N'",{"$f":"IF(E28=TRUE,\"Y\",\"N\")","v":"N"},null,false,{"$f":"IF(G28=TRUE,\"Y\",\"N\")","v":"Y"},true]
[null,"Coastal Areas",{"$f":"IF(E29=TRUE,\"Y\",\"N\")","v":"N"},null,false,{"$f":"IF(G29=TRUE,\"Y\",\"N\")","v":"Y"},true]
[null,"Half Bond='Y' Third Bond = 'N'",{"$f":"IF(E30=TRUE,\"Y\",\"N\")","v":"N"},null,false,{"$f":"IF(G30=TRUE,\"Y\",\"N\")","v":"Y"},true]
[null,"Timber Roof = 'Y' Metal Truss = 'N'",null,null,false,{"$f":"IF(G31=TRUE,\"Y\",\"N\")","v":"Y"},true]
[null,"Areas Single Storey",null,"m2"]
[null,"Ground Floor Area:"]
[null,"Garage Floor Area:"]
[null,"Flat Roof Area:"]
[null,"Perimeters/lengths",null,"l/m"]
[null,"House Perimeter"]
[null,"Internal Partition Wall Length"]
[null,"Flat Roof Perimeter"]
[null,"Main Cavity Width (.250 or .230)",null,0.23]
[null,null,null,{"$f":"D40","v":0.23}]
[]
[]
[]
[null,"Garage / House Wall Length"]
[null,"Garage / House Wall Width",null,0.09,"ddt add for ceiling",null,{"$f":"D40-D46","v":0.14000000000000001}]
[]
[null,"Garage Perimeter LM",null,null,null,null,null,"Note - Does not include Piers, "]
[null,"Double Brick Boundary Length"]
[null,"Double Brick Boundary Height",null,null,{"$f":"D49*D50","v":0}]
[]
[]
[]
[null,{"$f":"D7","v":0}]

{"sheet":"Concrete & Reo","index":6,"n_rows":60,"n_cols":15,"rows_kept":60,"cut":false,"hidden":false,"merged":[[55,7,55,8],[54,7,54,8],[53,7,53,8],[52,7,52,8],[39,7,39,9],[40,7,40,9],[34,1,34,4],[33,1,33,4],[26,8,26,10],[39,4,39,5],[33,7,33,10],[31,1,31,4],[53,10,53,11],[51,10,51,11],[7,9,7,12],[6,9,6,12],[32,8,32,10],[31,7,31,10],[23,7,23,10]]}
[]
[null,{"$f":"'Main Details'!B2","v":"QUANTITY SHEET FOR EASY START HOMES"},null,null,null,null,null,null,null,null,null,null,"PG 2"]
[null,{"$f":"'Main Details'!D6","v":0}]
[null,"CONCRETOR SINGLE STOREY"]
[null,"SLAB TYPE","Prompt","(Note: Only Guides! Overwrite if Required as per Engineer/Shire Requirements) "]
[null,"SLAB THICKNESS",{"$f":"(VLOOKUP($C$5,'BUILDERS SETTINGS'!D72:F84,3,0))","v":{"$error":"#N/A"}},"mm"]
[null,"MESH","CERTS","Select Mesh Below"]
[null,"FOOTING / L/M",{"$f":"(VLOOKUP($C$5,'BUILDERS SETTINGS'!D71:L84,9,0))","v":0},"(cubic)"]
[null,"TRENCH MESH",{"$f":"(VLOOKUP($C$5,'BUILDERS SETTINGS'!D42:M89,10,0))","v":0}]
[null,"FOOTINGS:",null,null,null,null,null,"SLAB: "]
[null,"Ext per Footing",{"$f":"'Main Details'!D37","v":0},"l/m x",{"$f":"C8","v":0},"=",{"$f":"IF(C11*E11>0,C11*E11,\" \")","v":" "},"Slab:",{"$f":"'Main Details'!D33","v":0},"Sq/m x",{"$f":"C6/1000","v":{"$error":"#N/A"}},"=",{"$f":"IF(I11*K11>0,I11*K11,\" \")","v":{"$error":"#N/A"}}]
[null,null,null,"No x",null,"="," ",null,null,"L/m x",null,"=",{"$f":"IF(I12*K12>0,I12*K12,\" \")","v":" "}]
[null,"2c step footing",null,"No x",0.02,"="," ","2c Step Down",null,"L/m x",0.04,"="," "]
[null,"4c step footing",null,"No x",0.04,"="," ","4c Step Down",null,"L/m x",7.0000000000000007E-2,"="," "]
[null,"6c step footing",null,"No x",0.06,"="," ","6c Step Down",null,"L/m x",0.11,"=",{"$f":"IF(I15*K15>0,I15*K15,\" \")","v":" "}]
[null,null,null,"No x",null,"="," ",null,null,"L/m x",null,"=",{"$f":"IF(I16*K16>0,I16*K16,\" \")","v":" "}]
[null,"Garage Perimeter",{"$f":"'Main Details'!D48","v":0},"l/m x",{"$f":"C8","v":0},"=",{"$f":"IF(C17*E17>0,C17*E17,\" \")","v":" "},null,null,"L/m x",null,"="," "]
[null,"FP1",null,"No x",null,"="," ","Thickenings (No T/M)",null,"L/m x",null,"="," "]
[null,"FP2",null,"No x",null,"="," ",null,null,"L/m x",null,"="," "]
[null,"FP3",null,"No x",null,"="," ","Slab Edge Thickenings",{"$f":"'Main Details'!D37","v":0},"L/m x",1.9E-2,"="," "]
[null,"FP4",null,"No x",null,"="," ","Thickenings (incl. T/M)",null,"L/m x",null,"="," "]
[null,"FP5",null,"No x",null,"="," ",null,null,null," Subtotal","=",{"$f":"IF((SUM(M11:M21))>0,SUM(M11:M21),\" \")","v":{"$error":"#N/A"}}]
[null,"SF1",null,"l/m x",null,"="," "]
[null,"SF2",null,"l/m x",null,"="," ","NUMBER OF SLAB PUMPS",null,null,null,"=",1,null,0.6]
[null,null,null,null,null,"="," "]
[null,null,null,null,null,{"$f":"F24","v":"="}," ",null,null,null,"Labour Slab","=",{"$f":"IF(M22=\" \",\" \",(INT(((M22*100)+20)/20)*20)/100)","v":{"$error":"#N/A"}}]
[null,null,null,null,null,"="," ","ADD","Concrete Slab Supply",null,null,"=",{"$f":"IF(M26=\" \",\" \",(INT(((N27*100)+20)/20)*20)/100)+M24","v":{"$error":"#N/A"}},{"$f":"IF($M$22=\" \",\" \",($M$22*$H$29)+$M$22)","v":{"$error":"#N/A"}}]
[null,null,null,null,null,"="," ","Wastage Percentage"]
[null,"Deductions",null,"l/m x",null,"=",{"$f":"IF(C29*E29>0,C29*E29,\"0\")","v":"0"},0.03]
[null,null,null,null,"Subtotal","=",{"$f":"IF((SUM(G11:G29))>0,SUM(G11:G28,-G29),\" \")","v":" "}]
[]
[null,"NUMBER OF FOOTING PUMPS",null,null,null,"=",1,"TOTAL LABOUR CONCRETE m3 ",null,null,null,"=",{"$f":"IF(AND('Main Details'!D33>0,'Main Details'!D37>0),G34+M26,\" \")","v":" "}]
[null,null,null,null,null,null,null,{"$f":"IF($G$30=\" \",\" \",$G$30+($G$30*$H$29))","v":" "}]
[null,"Labour Footings",null,null,null,"=",{"$f":"IF(G30=\" \",\" \",(INT(((G30*100)+20)/20)*20)/100)","v":" "},"TOTAL CONCRETE SUPPLY m3 ",null,null,null,"=",{"$f":"IF(AND('Main Details'!D33>0,'Main Details'!D37>0),G35+M27,\" \")","v":" "}]
[null,"Concrete Footing  Supply",null,null,null,"=",{"$f":"IF(H33=\" \",\" \",(INT(((H33*100)+20)/20)*20)/100)+G32","v":{"$error":"#VALUE!"}}]
[]
[null,"REINFORCEMENT"]
[null,null,"Qty","Unit"]
[null,"Z Bars (N12 Ties)",null,"No"]
[null,"Trench Mesh (select)",{"$f":"IF(C9=\"Yes\",SUM(C11*G41)+I21+SUM(C17*G40))+IF(C9=\"NO\",0)","v":0},"L/m -","(Includes)",null,0,"(select) Rows To Garage Perimeter",null,null,{"$f":"IF(C40=0,\" \",((C40+0.5)/5.5))","v":" "}]
[null,"Total Trench Mesh Sheets",{"$f":"IF(K40=\" \",\"0 \",(ROUNDUP($K$40/1,0)*1)+1)","v":"0 "},"No",null,null,0,"(select) Rows To House Perimeter"]
[]
[null,"Re-entrant Bars"]
[]
[]
[null,"Additional Sheets as per engs",null,"m2"]
[null,"Mesh Sheets Required",{"$f":"ROUNDUP(SUM(C49/12+(C46/12))+1,0)","v":1},"Sheets "]
[null,"Bar Chairs ",{"$f":"(MROUND($K$54/100,1)*100)/100","v":0},"Bags"]
[null,"SLABMESH - NO SELECTION",{"$f":"I11","v":0},"M2"]
[]
[]
[]
[null,null,"E/O Slab Mesh (select)",null,null,null,0,"Trench Mesh (select)"]
[null,null,"SL52 Mesh",null,null,null,1,"L8 Trench Mesh (200mm)",null,null,{"$f":"C47*24+C41*8","v":24}]
[null,null,"SL53 Mesh",null,null,null,2,"L8 Trench Mesh (300mm)"]
[null,null,"SL63 Mesh",null,null,null,null,"L11 Trench Mesh (200mm)"]
[null,null,"SL62 Mesh"]
[null,null,"SL72 Mesh"]
[null,null,"SL82 Mesh"]
[null,null,"SL92 Mesh"]

{"sheet":"Internal deductions & int walls","index":7,"n_rows":86,"n_cols":33,"rows_kept":86,"cut":false,"hidden":false,"merged":[[65,6,65,10],[27,2,27,3],[28,1,28,2],[29,1,29,2],[30,1,30,2],[31,1,31,2],[31,3,31,4],[28,3,28,4],[29,3,29,4],[30,3,30,4],[53,5,53,7],[54,5,54,7],[55,5,55,7],[58,5,58,7],[59,5,59,7],[60,5,60,7],[13,2,13,3],[6,1,6,2],[52,6,52,10],[24,2,24,3],[25,2,25,3],[19,2,19,3],[17,2,17,3],[20,2,20,3],[21,2,21,3],[22,2,22,3],[18,1,18,5],[33,1,33,5],[26,1,26,5],[23,2,23,3],[16,2,16,3],[3,0,4,17],[56,5,56,7],[57,5,57,7],[61,5,61,7],[1,19,6,23],[11,2,11,3],[14,2,14,3],[15,2,15,3],[5,13,5,17],[7,2,7,3],[9,2,9,3],[10,2,10,3],[5,3,5,4],[6,3,6,4],[12,2,12,3],[8,2,8,3]]}
[]
[null,{"$f":"'Main Details'!B2","v":"QUANTITY SHEET FOR EASY START HOMES"},null,null,null,null,null,null,null,null,null,null,null,null,null,null,null,"PG 3",null,"INTERNAL FACE DEDUCTIONS",null,null,null,null,null,null,null,null,null,"PG 3"]
[null,{"$f":"'Main Details'!D6","v":0}]
["DOOR OPENING. DEDUCTIONS"]
[]
[null,null,null,"Broad Butt Hinges",null,null,null,null,null,null,null,"Rod LM",null,"INTERNAL  PARTITION  WALLS ",null,null,null,null,null,null,null,null,null,null,null,"INTERNAL WALLS (FACE BRICKWORK):-"]
[null,"INTERNALMETAL FRAME ",null,"Extra Hinges",null,null,null,null,null,null,null,"Internal ",null,null,null,null,null,null,null,null,null,null,null,null,null,"Horizontal:",null,"Vertical:",null,"Diagonal:"]
[null,"LH"," STD D/JAMBS 90mm",null,"RH","DDT",null,"longreach m2",null,null,null,"Openings",null,null,null,null,null,null,null,"Left Hand","STD 110mm back D.jamb",null,"Right hand","deduct"]
[null,null,"2040x920mm",null,null,{"$f":"IF(I9=0,\"\",I9)","v":""},{"$f":"_xlfn.IFNA(VLOOKUP(C9,$B$54:$C$78,2,FALSE),\"\")","v":1.8768},{"$f":"(B9+E9)*_xlfn.IFNA(VLOOKUP(C9,$B$54:$E$77,3,FALSE),\"\")*0.086","v":0},{"$f":"(B9+$E9)*G9","v":0},{"$f":"_xlfn.IFNA(VLOOKUP(C9,$B$54:$E$77,3,FALSE),\"\")","v":0.92},{"$f":"(B9+E9)*J9","v":0},{"$f":"K9+(B9+E9)*1.5","v":0}]
[null,null,"2040x820mm",null,null,{"$f":"IF(I10=0,\"\",I10)","v":""},{"$f":"_xlfn.IFNA(VLOOKUP(C10,$B$54:$C$78,2,FALSE),\"\")","v":1.6727999999999998},{"$f":"(B10+E10)*_xlfn.IFNA(VLOOKUP(C10,$B$54:$E$77,3,FALSE),\"\")*0.086","v":0},{"$f":"(B10+$E10)*G10","v":0},{"$f":"_xlfn.IFNA(VLOOKUP(C10,$B$54:$E$77,3,FALSE),\"\")","v":0.82},0,{"$f":"K10+(B10+E10)*1.5","v":0},null,null,null,null,null,null,null,null,"2060x820mm",null,null,{"$f":"(T10+W10)*1.67","v":0}]
[null,null,"2040x720mm",null,null,{"$f":"IF(I11=0,\"\",I11)","v":""},{"$f":"_xlfn.IFNA(VLOOKUP(C11,$B$54:$C$78,2,FALSE),\"\")","v":1.4687999999999999},{"$f":"(B11+E11)*_xlfn.IFNA(VLOOKUP(C11,$B$54:$E$77,3,FALSE),\"\")*0.086","v":0},0,0.72,0,0,null,null,null,null,null,null,null,null,"2060x720mm",null,null,{"$f":"(T11+W11)*1.43","v":0}]
[null,null,"2040x620mm",null,null,{"$f":"IF(I12=0,\"\",I12)","v":""},{"$f":"_xlfn.IFNA(VLOOKUP(C12,$B$54:$C$78,2,FALSE),\"\")","v":1.2647999999999999},{"$f":"(B12+E12)*_xlfn.IFNA(VLOOKUP(C12,$B$54:$E$77,3,FALSE),\"\")*0.086","v":0},0,0.62,0,0,null,null,null,null,null,null,null,null,"2060x620mm",null,null,{"$f":"(T12+W12)*1.26","v":0}]
[null,null,"2040x520mm",null,null,{"$f":"IF(I13=0,\"\",I13)","v":""},{"$f":"_xlfn.IFNA(VLOOKUP(C13,$B$54:$C$78,2,FALSE),\"\")","v":1.0608},{"$f":"(B13+E13)*_xlfn.IFNA(VLOOKUP(C13,$B$54:$E$77,3,FALSE),\"\")*0.086","v":0},0,0.52,0,0]
[null,null,null,null,null,"",null,null,null,"",null,0]
[null,null,"2040x920mm WC",null,null,"",{"$f":"_xlfn.IFNA(VLOOKUP(C15,$B$54:$C$78,2,FALSE),\"\")","v":1.8768},{"$f":"(B15+E15)*_xlfn.IFNA(VLOOKUP(C15,$B$54:$E$77,3,FALSE),\"\")*0.086","v":0},0,0.92,0,0,null,null,null,null,null,null,null,null,"2060x520mm",null,null,{"$f":"(T15+W15)*1.06","v":0}]
[null,null,"2040x820mm WC",null,null,"",{"$f":"_xlfn.IFNA(VLOOKUP(C16,$B$54:$C$78,2,FALSE),\"\")","v":1.6727999999999998},{"$f":"(B16+E16)*_xlfn.IFNA(VLOOKUP(C16,$B$54:$E$77,3,FALSE),\"\")*0.086","v":0},0,0.82,0,0,null,null,null,null,null,null,null,null,"2060x620mm W.C",null,null,{"$f":"(T16+W16)*1.26","v":0}]
[null,null,"2040x720mm WC",null,null,"",{"$f":"_xlfn.IFNA(VLOOKUP(C17,$B$54:$C$78,2,FALSE),\"\")","v":1.4687999999999999},{"$f":"(B17+E17)*_xlfn.IFNA(VLOOKUP(C17,$B$54:$E$77,3,FALSE),\"\")*0.086","v":0},0,0.72,0,0]
[null,null,"2040x620mm WC",null,null,"",{"$f":"_xlfn.IFNA(VLOOKUP(C18,$B$54:$C$78,2,FALSE),\"\")","v":1.2647999999999999},{"$f":"(B18+E18)*_xlfn.IFNA(VLOOKUP(C18,$B$54:$E$77,3,FALSE),\"\")*0.086","v":0},0,0.62,0,0]
[null,"EXTERNAL METAL FRAME",null,null,null,null,null,null,{"$f":"SUM(I9:I18)","v":0}]
[null,"LH"," STD D/JAMBS 90mm",null,"RH","DDT"]
[null,null,"DELUXE 3 HINGE 2040x820",null,null,{"$f":"IF(I21=0,\"\",I21)","v":""},{"$f":"_xlfn.IFNA(VLOOKUP(C21,$F$54:$N$62,4,FALSE),\"0\")","v":1.6727999999999998},{"$f":"(B21+E21)*_xlfn.IFNA(VLOOKUP(C21,$F$54:$J$62,5,FALSE),\"0\")*0.086","v":0},{"$f":"(B21+E21)*G21","v":0},{"$f":"_xlfn.IFNA(VLOOKUP(C21,$F$54:$J$62,5,FALSE),\"\")","v":0.82},{"$f":"(B21+E21)*J21","v":0},0]
[null,null,"DELUXE 3 HINGE 2040x870",null,null,{"$f":"IF(I22=0,\"\",I22)","v":""},{"$f":"_xlfn.IFNA(VLOOKUP(C22,$F$54:$N$62,4,FALSE),\"0\")","v":1.7747999999999999},{"$f":"(B22+E22)*_xlfn.IFNA(VLOOKUP(C22,$F$54:$J$62,5,FALSE),\"0\")*0.086","v":0},{"$f":"(B22+E22)*G22","v":0},{"$f":"_xlfn.IFNA(VLOOKUP(C22,$F$54:$J$62,5,FALSE),\"\")","v":0.87},{"$f":"B22+E22*J22","v":0},0]
[null,null,"DELUXE 3 HINGE 2040x920 ",null,null,"",{"$f":"_xlfn.IFNA(VLOOKUP(C23,$F$54:$N$62,4,FALSE),\"0\")","v":1.8768},{"$f":"(B23+E23)*_xlfn.IFNA(VLOOKUP(C23,$F$54:$J$62,5,FALSE),\"0\")*0.086","v":0},{"$f":"(B23+E23)*G23","v":0},{"$f":"_xlfn.IFNA(VLOOKUP(C23,$F$54:$J$62,5,FALSE),\"\")","v":0.92},{"$f":"B23+E23*J23","v":0},0,null,null,null,null,null,null,null,null,"2060x520mm",null,null,{"$f":"(T23+W23)*1.06","v":0}]
[null,null,"SQUARE BEND 2040x820",null,null,"",{"$f":"_xlfn.IFNA(VLOOKUP(C24,$F$54:$N$62,4,FALSE),\"0\")","v":1.6727999999999998},{"$f":"(B24+E24)*_xlfn.IFNA(VLOOKUP(C24,$F$54:$J$62,5,FALSE),\"0\")*0.086","v":0},0,{"$f":"_xlfn.IFNA(VLOOKUP(C24,$F$54:$J$62,5,FALSE),\"\")","v":0.82},0,0,null,null,null,null,null,null,null,null,"2060x620mm W.C",null,null,{"$f":"(T24+W24)*1.26","v":0}]
[null,null,null,null,null,"",{"$f":"_xlfn.IFNA(VLOOKUP(C25,$F$54:$N$62,4,FALSE),\"0\")","v":"0"},{"$f":"(B25+E25)*_xlfn.IFNA(VLOOKUP(C25,$F$54:$J$62,5,FALSE),\"0\")*0.086","v":0},0,{"$f":"_xlfn.IFNA(VLOOKUP(C25,$F$54:$J$62,5,FALSE),\"\")","v":""},null,0,null,null,null,null,null,null,null,null,null,null,null,null,null,null,null,null,null,null,null,null,"SQUARE BEND FRAMES IN PRICE BOOK"]
[null,null,null,null,null,"",null,null,{"$f":"SUM(I21:I25)","v":0},null,{"$f":"SUM(K21:K25)","v":0},{"$f":"SUM(L9:L25)","v":0},null,null,null,null,null,null,null,null,null,null,null,null,null,null,null,null,null,null,null,null,"Manually add openings and m2"]
[null,"SLIDING / DOUBLE DOOR FRAMES",null,null,null,null,null,null,null,null,null,null,null,null,null,null,null,null,null,null,null,"x",null,{"$f":"U27*W27","v":0}]
[null,null," STD D/JAMBS 90mm",null,"No ","DDT"]
[null,"2040x620 SLIDER",null,null,null,{"$f":"IF(I29=0,\"\",I29)","v":""},{"$f":"_xlfn.IFNA(VLOOKUP(B29,$H$68:$N$86,2,FALSE),\"\")","v":1.2647999999999999},{"$f":"(VLOOKUP(B29,$H$68:$N$86,3,0))*0.086","v":5.3319999999999992E-2},{"$f":"(VLOOKUP(B29,$H$68:$N$86,2,0))*D29","v":0},null,null,null,null,"TOTAL INTERNAL WALL LENGTHS",null,null,null,{"$f":"SUM(N8:R26)","v":0},null,null,null,"x",null,0]
[null,"2040x720 SLIDER",null,null,null,{"$f":"IF(I30=0,\"\",I30)","v":""},{"$f":"_xlfn.IFNA(VLOOKUP(B30,$H$68:$N$86,2,FALSE),\"\")","v":1.4687999999999999},{"$f":"(VLOOKUP(B30,$H$68:$N$86,3,0))*0.086","v":6.1919999999999996E-2},{"$f":"(VLOOKUP(B30,$H$68:$N$86,2,0))*D30","v":0},null,null,null,null,null,null,null,null,null,null,null,null,"x",null,0,null,"Total:",{"$f":"SUM(Z27:Z29)+SUM(AA27:AA29)","v":0},"Total:",{"$f":"SUM(AB27:AB29)+SUM(AC27:AC29)","v":0},{"$f":"SUM(AD27:AD29)","v":0}]
[null,"DELUXE 2 HINGES 2040x1040",null,null,null,{"$f":"IF(I31=0,\"\",I31)","v":""},{"$f":"_xlfn.IFNA(VLOOKUP(B31,$H$68:$N$86,2,FALSE),\"\")","v":2.1215999999999999},{"$f":"(VLOOKUP(B31,$H$68:$N$86,3,0))*0.086","v":8.9439999999999992E-2},{"$f":"(VLOOKUP(B31,$H$68:$N$86,2,0))*D31","v":0},null,null,null,null,null,null,null,null,null,null,null,null,"x",null,0]
[null,"DELUXE 2 HINGES 2040x1440",null,null,null,"",{"$f":"_xlfn.IFNA(VLOOKUP(B32,$H$68:$N$86,2,FALSE),\"\")","v":2.9375999999999998},{"$f":"(VLOOKUP(B32,$H$68:$N$86,3,0))*0.086","v":0.12383999999999999},{"$f":"(VLOOKUP(B32,$H$68:$N$86,2,0))*D32","v":0},null,null,null,null,null,null,null,null,null,null,null,null,"x",null,0,null,"TOT 110mm FACE INT=",null,null,"LM",{"$f":"SUM(AA30+AC30+AD30)","v":0}]
[null,null,null,null,null,null,null,null,{"$f":"SUM(I29:I32)","v":0}]
[null,"SPECIAL DEDUCTIONS INTERNAL BLOCKS"]
[null,"Description","length","x","width","DDT"]
[null,"25c high openings",null,"x",2.1429999999999998,{"$f":"C36*E36","v":0}]
[null,"27c high openings",null,"x",2.3140000000000001,0]
[null,"28c high openings",null,"x",2.4,0]
[null,null,null,"x",null,0]
[null,"Cornice Through",null,"x",null,0]
[null,null,null,"x",null,0]
[]
[null,null,"TOTAL DDT INT ROUGH","=",{"$f":"I19+I33+SUM(F36:F41)","v":0},"m2",null,null,null,null,null,null,null,null,null,null,null,null,null,null,"TOTAL DDT INT  FACE","=",{"$f":"SUM(X10:X16)+SUM(#REF!)+SUM(X27:X32)","v":{"$error":"#REF!"}},"m2"]
[null,null,"TOTAL DDT EXT FACE","=",{"$f":"I26","v":0},"m2"]
[null,null,"Total Deductions","=",{"$f":"E43+E44","v":0}]
[]
[]
[]
[]
[]
[null," STD D/JAMBS 90mm"]
[null," STD D/JAMBS 110mm"]
[null,0,null,null,null,null,"External Face"]
[null,"2040x920mm",{"$f":"2.04*0.92","v":1.8768},0.92,null,"DELUXE 3 HINGE 2040x820",null,null,{"$f":"C57","v":1.6727999999999998},0.82]
[null,"2340x920mm",{"$f":"2.34*0.92","v":2.1528},0.92,null,"DELUXE 3 HINGE 2040x870",null,null,{"$f":"2.04*0.87","v":1.7747999999999999},0.87]
[null,null,null,null,null,"DELUXE 3 HINGE 2040x920 ",null,null,{"$f":"C54","v":1.8768},0.92]
[null,"2040x820mm",{"$f":"2.04*0.82","v":1.6727999999999998},0.82,null,"SQUARE BEND 2040x820",null,null,{"$f":"C57","v":1.6727999999999998},0.82]
[null,"2340x820mm",{"$f":"2.34*0.82","v":1.9187999999999998},0.82,null,"SQUARE BEND 2040x720",null,null,{"$f":"C60","v":1.4687999999999999},0.92]
[null,null,null,null,null,"DELUXE 3 HINGE 2340x920 ",null,null,{"$f":"C74","v":2.1528},0.92]
[null,"2040x720mm",{"$f":"2.04*0.72","v":1.4687999999999999},0.72,null,"DELUXE 3 HINGE 2340x820",null,null,{"$f":"C75","v":1.9187999999999998},0.82]
[null,"2340x720mm",{"$f":"2.34*0.72","v":1.6847999999999999},0.72,null,"DELUXE 3 HINGE 2340x720",null,null,{"$f":"C76","v":1.6847999999999999},0.72]
[null,null,null,null,null,"DELUXE 3 HINGE 2340x720",null,null,1.4507999999999999,0.62]
[null,"2040x620mm",{"$f":"2.04*0.62","v":1.2647999999999999},0.62]
[null,"2340x620mm",{"$f":"2.34*0.62","v":1.4507999999999999},0.62]
[]
[null,"2040x520mm",{"$f":"2.04*0.52","v":1.0608},0.52,null,null,"Internal Sliding/Double frames"]
[null,"2340x520mm",{"$f":"2.34*0.52","v":1.2167999999999999},0.52]
[null,null,null,null,null,null,null,"2040x620 SLIDER",{"$f":"C63","v":1.2647999999999999},0.62]
[null,"2040x920mm WC",{"$f":"C54","v":1.8768},0.92,null,null,null,"2040x720 SLIDER",{"$f":"C60","v":1.4687999999999999},0.72]
[null,"2040x820mm WC",{"$f":"C57","v":1.6727999999999998},0.82,null,null,null,"2040x820 SLIDER",{"$f":"C57","v":1.6727999999999998},0.82]
[null,"2040x720mm WC",{"$f":"C60","v":1.4687999999999999},0.72,null,null,null,"2040x870 SLIDER",{"$f":"I55","v":1.7747999999999999},0.87]
[null,"2040x620mm WC",{"$f":"C63","v":1.2647999999999999},0.62,null,null,null,"2040x1240 SLIDER",{"$f":"2.04*1.24","v":2.5295999999999998},1.24]
[null,null,null,null,null,null,null,"2040x1440 SLIDER",{"$f":"2.04*1.44","v":2.9375999999999998},1.44]
[null,"2340x920mm WC",{"$f":"C55","v":2.1528},0.92,null,null,null,"2040x1640 SLIDER",{"$f":"2.04*1.64","v":3.3455999999999997},1.64]
[null,"2340x820mm WC",{"$f":"C58","v":1.9187999999999998},0.82]
[null,"2340x720mm WC",{"$f":"C61","v":1.6847999999999999},0.72,null,null,null,"2340x820 SLIDER",{"$f":"2.34*0.82","v":1.9187999999999998}]
[null,"2340x620mm WC",{"$f":"C64","v":1.4507999999999999},0.62,null,null,null,"2340x870 SLIDER",{"$f":"2.34*0.87","v":2.0358000000000001}]
[]
[null,null,null,null,null,null,null,"DELUXE 2 HINGES 2040x1040",{"$f":"2.04*1.04","v":2.1215999999999999},1.04]
[null,null,null,null,null,null,null,"DELUXE 2 HINGES 2040x1240",{"$f":"2.04*1.24","v":2.5295999999999998},1.24]
[null,null,null,null,null,null,null,"DELUXE 2 HINGES 2040x1440",{"$f":"2.04*1.44","v":2.9375999999999998},1.44]
[null,null,null,null,null,null,null,"DELUXE 2 HINGES 2040x1640",{"$f":"2.04*1.64","v":3.3455999999999997},1.64]
[]
[null,null,null,null,null,null,null,"DELUXE 3 HINGES 2340x1240",{"$f":"2.34*1.24","v":2.9015999999999997}]
[null,null,null,null,null,null,null,"DELUXE 3 HINGES 2340x1640",{"$f":"2.34*1.64","v":3.8375999999999997}]
[null,null,null,null,null,null,null,"DELUXE 3 HINGES 2340x1440",{"$f":"2.34*1.44","v":3.3695999999999997}]

{"sheet":"Lintels.windows","index":8,"n_rows":127,"n_cols":64,"rows_kept":127,"cut":false,"hidden":false,"merged":[[6,61,7,61],[4,52,7,52],[4,53,7,53],[4,50,7,50],[4,51,7,51],[5,60,7,60],[5,59,7,59],[5,58,7,58],[5,56,7,56],[5,57,7,57],[4,55,7,55],[4,54,7,54],[52,25,52,27],[51,25,51,27],[43,37,43,38],[5,38,7,38],[45,37,45,38],[44,37,44,38],[43,24,43,27],[41,24,41,26],[43,29,43,32],[43,33,43,34],[41,28,41,34],[42,33,42,35],[46,37,46,38],[44,29,44,32],[44,24,44,27],[6,33,7,33],[51,2,51,3],[46,29,46,32],[41,6,41,8],[3,13,41,13],[43,1,43,7],[3,6,4,12],[41,3,41,4],[3,15,7,15],[40,6,40,8],[5,3,7,3],[5,4,7,4],[50,2,50,3],[45,24,45,27],[44,1,44,7],[45,29,45,32],[3,16,7,16],[46,24,46,27],[5,6,7,8],[45,1,45,7],[6,35,7,35],[3,38,4,39],[42,37,42,39],[6,10,7,10],[5,12,7,12],[5,9,7,9],[3,17,7,17],[5,32,7,32],[42,29,42,32]]}
[]
[null,{"$f":"'Main Details'!B2","v":"QUANTITY SHEET FOR EASY START HOMES"},null,null,null,null,null,null,null,null,null,null,null,null,null,null,null,null,null,null,null,null,null,null,null,null,null,null,null,null,null,null,null,null,null,null,null,null,null,"PG 4"]
[null,{"$f":"'Main Details'!D6","v":0}]
[null,null,null,null,null,null,"LINTEL TAKEOFF",null,null,null,null,null,null,null,null,"STD 2c Face Brick Sills","Ext Render Blocks Sills","1c Feature Face Sills",null,null,null,null,null,null,"GALVANISED:",null,"YES",null,null,null,null,null,null,null,null,"GALVANISED:",null,"YES","T-BARS (Incl. Lugs)"]
[null,null,null,null,null,null,null,null,null,null,null,null,null,null,null,null,null,null,null,null,null,null,null,null,"GENERALLY INTERNAL LINTELS:",null,null,null,null,null,null,null,null,null,null,"GENERALLY EXTERNAL",null,null,null,null,null,null,null,null,null,null,null,null,null,null,"1c Face Cored m2 Sill","1c Face Solid m2 Sill"," 1c Render Cored m2","1c Render Solid m2","1c Feature Cored m2","1c Feature Solid m2"]
[null,null,null,"ext ddt only","Window Nosing?    Yes = \"Y\" ","deduction","WINDOW OR DOOR SIZE",null,null,"Width",null,null,"External Lintel?      Yes = \"Y\"",null,null,null,null,null,null,null,null,null,null,null,null,{"$f":"IF('Main Details'!$G$28,\"0.1>1.6\",\"0.1>1.2\")","v":"0.1>1.6"},{"$f":"IF('Main Details'!$G$28,\"1.6>1.9\",\"1.2>1.5\")","v":"1.6>1.9"},{"$f":"IF('Main Details'!$G$28,\"1.9>2.6\",\"1.5>2.2\")","v":"1.9>2.6"},{"$f":"IF('Main Details'!$G$28,\"2.6>3.1\",\"2.2>2.6\")","v":"2.6>3.1"},{"$f":"IF('Main Details'!$G$28,\"3.1>3.45\",\"2.6>3.0\")","v":"3.1>3.45"},{"$f":"IF('Main Details'!$G$28,\"3.45>3.85\",\"3.0>3.45\")","v":"3.45>3.85"},{"$f":"IF('Main Details'!$G$28,\"N/A\",\"N/A\")","v":"N/A"},"LUGS- LINTELS & TBARS",{"$f":"IF('Main Details'!F10=\"2c\",IF('Main Details'!$G$28,\"0.1>2.35\",\"0.1>2.05\"),IF('Main Details'!$G$28,\"0.1>2.4\",\"0.1>2.1\"))","v":"0.1>2.35"},{"$f":"IF('Main Details'!$F$10=\"2C\",IF('Main Details'!$G$28,\"2.35>2.65\",\"2.05>2.25\"),IF('Main Details'!$G$28,\"2.4>2.65\",\"2.1>2.25\"))","v":"2.35>2.65"},{"$f":"IF('Main Details'!$F$10=\"2C\",IF('Main Details'!$G$28,\"2.65>3.45\",\"2.25>3.0\"),\"N/A\")","v":"2.65>3.45"},{"$f":"IF('Main Details'!$F$10=\"2C\",IF('Main Details'!$G$28,\"3.45>3.85\",\"3.0>3.45\"),IF('Main Details'!$G$28,\"2.65>3.85\",\"2.25>3.45\"))","v":"3.45>3.85"},{"$f":"IF('Main Details'!$G$28,\"N/A\",\"N/A\")","v":"N/A"},"TBAR SIZE (to be nominated)","4.0>","deduction",null,null,null,null,null,null,null,null,null,null,null,null,null,null,null,"Face M2","Render M2","Face Feature M2","Render Openings LM","Face Openings LM"]
[null,"LOCATION        ","ddt ext only",null,null,"window",null,null,null,null,"nosing",null,null,null,null,null,null,null,null,null,null,null,null,null,"75x8 ","75x75","75x75","100x75","125x75","150x90","150x100","N/A",null,{"$f":"IF('Main Details'!$F$10=\"2c\",\"90x90 x8\",\"100x100 x6\")","v":"90x90 x8"},"100x100",{"$f":"IF('Main Details'!$F$10=\"2c\",\"150x90 x8\",\"N/A\")","v":"150x90 x8"},"150x100","N/A",null,"TBARS","window",null,"       PRE-WELDED LUGS FORMULAS",null,null,null,null,null,null,null,null,null,null,null,null,null,null,null,null,null,null,"Alcor"]
[null,null,null,null,null,"cont 1",null,null,null,null,null,null,null,null,null,null,null,null,null,"240 SNAPS","190 SNAPS",140,null,null,"FB","x6","x8","x8","x8","x8","x10",null,null,null,"x8",null,"x10",null,null,null,"cont 2",null,null,null,null,null,null,null,"RODS UNDER ","Ext Deduction"]
[{"$f":"IF(Q9>0,I9+#REF!)","v":false},null,{"$f":"IF(D9=\"Y\",G9*I9,0)","v":0},"N",null,{"$f":"IF(AND(#REF!>0,G9>0),(#REF!*0.086)*(J9/1000),\" \")","v":{"$error":"#REF!"}},null,"x",{"$f":"(IF(J9=\"\",\" \",(J9-10)/240))","v":" "},null,{"$f":"IF(G9>0,(J9+160)/1000,\" \")","v":" "},null,null,null,{"$f":"IF(#REF!=\"Y\",I9,\" \")","v":{"$error":"#REF!"}},null,null,{"$f":"IF(AND(Q9>0,G9>0),(Q9*0.086)*(J9/1000),\" \")","v":" "},null,{"$f":"ROUNDUP(G9/2,0)","v":0},{"$f":"ROUNDUP(G9/2,0)","v":0},{"$f":"ROUNDUP(G9/2,0)","v":0},null,null,null,{"$f":"IF('Main Details'!$G$28,IF(AND($J9>0,$J9<=1600),($J9/1000)+0.2,\"\"),IF(AND($J9>0,$J9<=1200),($J9/1000)+0.2,\"\"))","v":""},{"$f":"IF('Main Details'!$G$28,IF(AND($J9>1600,$J9<=1900),($J9/1000)+0.2,\"\"),IF(AND($J9>1200,$J9<=1500),($J9/1000)+0.2,\"\"))","v":""},{"$f":"IF('Main Details'!$G$28,IF(AND($J9>1900,$J9<=2600),($J9/1000)+0.27,\"\"),IF(AND($J9>1500,$J9<=2200),($J9/1000)+0.27,\"\"))","v":""},{"$f":"IF('Main Details'!$G$28,IF(AND($J9>2600,$J9<=3100),($J9/1000)+0.3,\"\"),IF(AND($J9>2200,$J9<=2600),($J9/1000)+0.3,\"\"))","v":""},{"$f":"IF('Main Details'!$G$28,IF(AND($J9>3100,$J9<=3450),($J9/1000)+0.3,\"\"),IF(AND($J9>2600,$J9<=3000),($J9/1000)+0.3,\"\"))","v":""},{"$f":"IF('Main Details'!$G$28,IF(AND($J9>3450,$J9<=3850),($J9/1000)+0.3,\"\"),IF(AND($J9>3000,$J9<=3450),($J9/1000)+0.3,\"\"))","v":""},null,{"$f":"IF(AQ9>=1200,AR9+AS9+AT9+AU9,\" \")","v":" "},{"$f":"IF($M9=\"Y\",IF('Main Details'!$G$28,\nIF('Main Details'!$F$10=\"2c\",IF(AND($J9>0,$J9<=2350),($J9/1000)+0.24,\"\"),IF(AND($J9>0,$J9<=2400),($J9/1000)+0.27,\"\")),\nIF('Main Details'!$F$10=\"2c\",IF(AND($J9>0,$J9<=2050),($J9/1000)+0.24,\"\"),IF(AND($J9>0,$J9<=2100),($J9/1000)+0.27,\"\"))\n),\"\")","v":""},{"$f":"IF($M9=\"Y\",IF('Main Details'!$G$28,\nIF('Main Details'!$F$10=\"2c\",IF(AND($J9>2350,$J9<=2650),($J9/1000)+0.3,\"\"),IF(AND($J9>2400,$J9<=2650),($J9/1000)+0.3,\"\")),\nIF('Main Details'!$F$10=\"2c\",IF(AND($J9>2050,$J9<=2250),($J9/1000)+0.3,\"\"),IF(AND($J9>2100,$J9<=2250),($J9/1000)+0.3,\"\"))\n),\"\")","v":""},{"$f":"IF($M9=\"Y\",IF('Main Details'!$G$28,\nIF('Main Details'!$F$10=\"2c\",IF(AND($J9>2650,$J9<=3450),($J9/1000)+0.3,\"\"),\"\"),\nIF('Main Details'!$F$10=\"2c\",IF(AND($J9>2250,$J9<=3000),($J9/1000)+0.3,\"\"),\"\")\n),\"\")","v":""},{"$f":"IF($M9=\"Y\",IF('Main Details'!$G$28,\nIF('Main Details'!$F$10=\"2c\",IF(AND($J9>3450,$J9<=3850),($J9/1000)+0.3,\"\"),IF(AND($J9>2650,$J9<=3850),($J9/1000)+0.3,\"\")),\nIF('Main Details'!$F$10=\"2c\",IF(AND($J9>3000,$J9<=3450),($J9/1000)+0.3,\"\"),IF(AND($J9>2250,$J9<=3450),($J9/1000)+0.3,\"\"))\n),\"\")","v":""},{"$f":"IF(AND($J9<=4000,$J9>=3401,M9=\"Y\"),($J9+'BUILDERS SETTINGS'!$C$14)/1000,\" \")","v":" "},null,{"$f":"IF(AND($J9<=7199,$J9>=4001),($J9+'BUILDERS SETTINGS'!$C$15)/1000,\" \")","v":" "},{"$f":"IF(AND(#REF!>0,G9>0),(#REF!*0.086)*(J9/1000),\" \")","v":{"$error":"#REF!"}},null,{"$f":"J9+200","v":200},{"$f":"IF(AND($AQ9<=1999,$AQ9>=1000),1,\"0\")","v":"0"},{"$f":"IF(AND($AQ9<=2999,$AQ9>=2000),2,\"0\")","v":"0"},{"$f":"IF(AND($AQ9<=3999,$AQ9>=3000),3,\"0\")","v":"0"},{"$f":"IF(AND($AQ9<=4999,$AQ9>=4000),4,\"0\")","v":"0"}]
[{"$f":"IF(Q10>0,I10+#REF!)","v":false},null,null,null,null,null,null,"x",4.041666666666667,null,null,null,null,null,{"$f":"IF(M10=\"Y\",J10,\"\")","v":""},null,null,null,null,{"$f":"IF(S10<=0,ROUNDUP(G10/2,0),\"0\")","v":0},{"$f":"IF(S10<=0,ROUNDUP(G10/2,0),\"0\")","v":0},{"$f":"IF(S10<=0,ROUNDUP(G10/2,0),\"0\")","v":0},null,null,null,{"$f":"IF('Main Details'!$G$28,IF(AND($J10>0,$J10<=1600,$B10<>\"GOB\"),($J10/1000)+0.2,\"\"),IF(AND($J10>0,$J10<=1200),($J10/1000)+0.2,\"\"))","v":""},{"$f":"IF('Main Details'!$G$28,IF(AND($J10>1600,$J10<=1900),($J10/1000)+0.2,\"\"),IF(AND($J10>1200,$J10<=1500),($J10/1000)+0.2,\"\"))","v":""},{"$f":"IF('Main Details'!$G$28,IF(AND($J10>1900,$J10<=2600),($J10/1000)+0.27,\"\"),IF(AND($J10>1500,$J10<=2200),($J10/1000)+0.27,\"\"))","v":""},{"$f":"IF('Main Details'!$G$28,IF(AND($J10>2600,$J10<=3100),($J10/1000)+0.3,\"\"),IF(AND($J10>2200,$J10<=2600),($J10/1000)+0.3,\"\"))","v":""},{"$f":"IF('Main Details'!$G$28,IF(AND($J10>3100,$J10<=3450),($J10/1000)+0.3,\"\"),IF(AND($J10>2600,$J10<=3000),($J10/1000)+0.3,\"\"))","v":""},{"$f":"IF('Main Details'!$G$28,IF(AND($J10>3450,$J10<=3850),($J10/1000)+0.3,\"\"),IF(AND($J10>3000,$J10<=3450),($J10/1000)+0.3,\"\"))","v":""},null," ",{"$f":"IF(OR($M10=\"Y\",$B10=\"GOB\"),IF('Main Details'!$G$28,\nIF('Main Details'!$F$10=\"2c\",IF(AND($J10>0,$J10<=2350),($J10/1000)+0.24,\"\"),IF(AND($J10>0,$J10<=2400),($J10/1000)+0.27,\"\")),\nIF('Main Details'!$F$10=\"2c\",IF(AND($J10>0,$J10<=2050),($J10/1000)+0.24,\"\"),IF(AND($J10>0,$J10<=2100),($J10/1000)+0.27,\"\"))\n),\"\")","v":""},{"$f":"IF($M10=\"Y\",IF('Main Details'!$G$28,\nIF('Main Details'!$F$10=\"2c\",IF(AND($J10>2350,$J10<=2650),($J10/1000)+0.3,\"\"),IF(AND($J10>2400,$J10<=2650),($J10/1000)+0.3,\"\")),\nIF('Main Details'!$F$10=\"2c\",IF(AND($J10>2050,$J10<=2250),($J10/1000)+0.3,\"\"),IF(AND($J10>2100,$J10<=2250),($J10/1000)+0.3,\"\"))\n),\"\")","v":""},{"$f":"IF($M10=\"Y\",IF('Main Details'!$G$28,\nIF('Main Details'!$F$10=\"2c\",IF(AND($J10>2650,$J10<=3450),($J10/1000)+0.3,\"\"),\"\"),\nIF('Main Details'!$F$10=\"2c\",IF(AND($J10>2250,$J10<=3000),($J10/1000)+0.3,\"\"),\"\")\n),\"\")","v":""},{"$f":"IF($M10=\"Y\",IF('Main Details'!$G$28,\nIF('Main Details'!$F$10=\"2c\",IF(AND($J10>3450,$J10<=3850),($J10/1000)+0.3,\"\"),IF(AND($J10>2650,$J10<=3850),($J10/1000)+0.3,\"\")),\nIF('Main Details'!$F$10=\"2c\",IF(AND($J10>3000,$J10<=3450),($J10/1000)+0.3,\"\"),IF(AND($J10>2250,$J10<=3450),($J10/1000)+0.3,\"\"))\n),\"\")","v":""},null,null,{"$f":"IF(AND($J10<=7199,$J10>=4001),($J10+'BUILDERS SETTINGS'!$C$15)/1000,\" \")","v":" "},{"$f":"IF(AND(#REF!>0,G10>0),(#REF!*0.086)*(J10/1000),\" \")","v":{"$error":"#REF!"}},null,200,"0","0","0","0",null,{"$f":"IF(AND(G10>0,G10<25),J10/1000+1.5,0)","v":0},{"$f":"IF(AND(G10>0,M10=FALSE),J10/1000,0)","v":0},{"$f":"IF(AND(P10=\"Y\",ISEVEN(G10)),(J10*0.086/1000),\"\")","v":""},{"$f":"IF(AND(P10=\"Y\"),J10*0.086/1000,\"\")","v":""},{"$f":"IF(AND(Q10=\"Y\",ISODD(G10)),(J10*0.086/1000),\"\")","v":""},{"$f":"IF(AND(Q10=\"Y\"),J10*0.086/1000,\"\")","v":""},{"$f":"IF(AND(R10=\"Y\",ISODD(G10)),(J10*0.086/1000),\"\")","v":""},{"$f":"IF(AND(R10=\"Y\"),J10*0.086/1000,\"\")","v":""},{"$f":"IF(OR(P10=\"Y\"),(G10*0.086)*J10/1000,\"\")","v":""},{"$f":"IF(OR(Q10=\"Y\"),(G10*0.086)*J10/1000,\"\")","v":""},{"$f":"IF(OR(R10=\"Y\"),(G10*0.086)*J10/1000,\"\")","v":""},{"$f":"IF(OR(Q10=\"Y\"),(J10/1000),\"\")","v":""},{"$f":"IF(OR(P10=\"Y\"),(J10/1000),\"\")","v":""},{"$f":"IF(M10=\"Y\",(J10+200)/1000,\"\")","v":""}]
[{"$f":"IF(Q11>0,I11+#REF!)","v":false},null,null,null,null,null,null,"x",3.75,null,null,null,null,null,{"$f":"IF(M11=\"Y\",J11,\"\")","v":""},null,null,null,null,0,0,0,null,null,null,{"$f":"IF('Main Details'!$G$28,IF(AND($J11>0,$J11<=1600,$B11<>\"GOB\"),($J11/1000)+0.2,\"\"),IF(AND($J11>0,$J11<=1200),($J11/1000)+0.2,\"\"))","v":""},{"$f":"IF('Main Details'!$G$28,IF(AND($J11>1600,$J11<=1900),($J11/1000)+0.2,\"\"),IF(AND($J11>1200,$J11<=1500),($J11/1000)+0.2,\"\"))","v":""},{"$f":"IF('Main Details'!$G$28,IF(AND($J11>1900,$J11<=2600),($J11/1000)+0.27,\"\"),IF(AND($J11>1500,$J11<=2200),($J11/1000)+0.27,\"\"))","v":""},{"$f":"IF('Main Details'!$G$28,IF(AND($J11>2600,$J11<=3100),($J11/1000)+0.3,\"\"),IF(AND($J11>2200,$J11<=2600),($J11/1000)+0.3,\"\"))","v":""},{"$f":"IF('Main Details'!$G$28,IF(AND($J11>3100,$J11<=3450),($J11/1000)+0.3,\"\"),IF(AND($J11>2600,$J11<=3000),($J11/1000)+0.3,\"\"))","v":""},{"$f":"IF('Main Details'!$G$28,IF(AND($J11>3450,$J11<=3850),($J11/1000)+0.3,\"\"),IF(AND($J11>3000,$J11<=3450),($J11/1000)+0.3,\"\"))","v":""},null," ",{"$f":"IF(OR($M11=\"Y\",$B11=\"GOB\"),IF('Main Details'!$G$28,\nIF('Main Details'!$F$10=\"2c\",IF(AND($J11>0,$J11<=2350),($J11/1000)+0.24,\"\"),IF(AND($J11>0,$J11<=2400),($J11/1000)+0.27,\"\")),\nIF('Main Details'!$F$10=\"2c\",IF(AND($J11>0,$J11<=2050),($J11/1000)+0.24,\"\"),IF(AND($J11>0,$J11<=2100),($J11/1000)+0.27,\"\"))\n),\"\")","v":""},{"$f":"IF($M11=\"Y\",IF('Main Details'!$G$28,\nIF('Main Details'!$F$10=\"2c\",IF(AND($J11>2350,$J11<=2650),($J11/1000)+0.3,\"\"),IF(AND($J11>2400,$J11<=2650),($J11/1000)+0.3,\"\")),\nIF('Main Details'!$F$10=\"2c\",IF(AND($J11>2050,$J11<=2250),($J11/1000)+0.3,\"\"),IF(AND($J11>2100,$J11<=2250),($J11/1000)+0.3,\"\"))\n),\"\")","v":""},{"$f":"IF($M11=\"Y\",IF('Main Details'!$G$28,\nIF('Main Details'!$F$10=\"2c\",IF(AND($J11>2650,$J11<=3450),($J11/1000)+0.3,\"\"),\"\"),\nIF('Main Details'!$F$10=\"2c\",IF(AND($J11>2250,$J11<=3000),($J11/1000)+0.3,\"\"),\"\")\n),\"\")","v":""},{"$f":"IF($M11=\"Y\",IF('Main Details'!$G$28,\nIF('Main Details'!$F$10=\"2c\",IF(AND($J11>3450,$J11<=3850),($J11/1000)+0.3,\"\"),IF(AND($J11>2650,$J11<=3850),($J11/1000)+0.3,\"\")),\nIF('Main Details'!$F$10=\"2c\",IF(AND($J11>3000,$J11<=3450),($J11/1000)+0.3,\"\"),IF(AND($J11>2250,$J11<=3450),($J11/1000)+0.3,\"\"))\n),\"\")","v":""},null,null,{"$f":"IF(AND($J11<=7199,$J11>=4001),($J11+'BUILDERS SETTINGS'!$C$15)/1000,\" \")","v":" "},{"$f":"IF(AND(#REF!>0,G11>0),(#REF!*0.086)*(J11/1000),\" \")","v":{"$error":"#REF!"}},null,200,"0","0","0","0",null,0,0,"","","","","","","","","","","","",null,"r"]
[{"$f":"IF(Q12>0,I12+#REF!)","v":false},null,null,null,null,null,null,"x",3.75,null,null,null,null,null,"",null,null,null,null,0,0,0,null,null,null,{"$f":"IF('Main Details'!$G$28,IF(AND($J12>0,$J12<=1600,$B12<>\"GOB\"),($J12/1000)+0.2,\"\"),IF(AND($J12>0,$J12<=1200),($J12/1000)+0.2,\"\"))","v":""},{"$f":"IF('Main Details'!$G$28,IF(AND($J12>1600,$J12<=1900),($J12/1000)+0.2,\"\"),IF(AND($J12>1200,$J12<=1500),($J12/1000)+0.2,\"\"))","v":""},{"$f":"IF('Main Details'!$G$28,IF(AND($J12>1900,$J12<=2600),($J12/1000)+0.27,\"\"),IF(AND($J12>1500,$J12<=2200),($J12/1000)+0.27,\"\"))","v":""},{"$f":"IF('Main Details'!$G$28,IF(AND($J12>2600,$J12<=3100),($J12/1000)+0.3,\"\"),IF(AND($J12>2200,$J12<=2600),($J12/1000)+0.3,\"\"))","v":""},{"$f":"IF('Main Details'!$G$28,IF(AND($J12>3100,$J12<=3450),($J12/1000)+0.3,\"\"),IF(AND($J12>2600,$J12<=3000),($J12/1000)+0.3,\"\"))","v":""},{"$f":"IF('Main Details'!$G$28,IF(AND($J12>3450,$J12<=3850),($J12/1000)+0.3,\"\"),IF(AND($J12>3000,$J12<=3450),($J12/1000)+0.3,\"\"))","v":""},null," ",{"$f":"IF(OR($M12=\"Y\",$B12=\"GOB\"),IF('Main Details'!$G$28,\nIF('Main Details'!$F$10=\"2c\",IF(AND($J12>0,$J12<=2350),($J12/1000)+0.24,\"\"),IF(AND($J12>0,$J12<=2400),($J12/1000)+0.27,\"\")),\nIF('Main Details'!$F$10=\"2c\",IF(AND($J12>0,$J12<=2050),($J12/1000)+0.24,\"\"),IF(AND($J12>0,$J12<=2100),($J12/1000)+0.27,\"\"))\n),\"\")","v":""},{"$f":"IF($M12=\"Y\",IF('Main Details'!$G$28,\nIF('Main Details'!$F$10=\"2c\",IF(AND($J12>2350,$J12<=2650),($J12/1000)+0.3,\"\"),IF(AND($J12>2400,$J12<=2650),($J12/1000)+0.3,\"\")),\nIF('Main Details'!$F$10=\"2c\",IF(AND($J12>2050,$J12<=2250),($J12/1000)+0.3,\"\"),IF(AND($J12>2100,$J12<=2250),($J12/1000)+0.3,\"\"))\n),\"\")","v":""},{"$f":"IF($M12=\"Y\",IF('Main Details'!$G$28,\nIF('Main Details'!$F$10=\"2c\",IF(AND($J12>2650,$J12<=3450),($J12/1000)+0.3,\"\"),\"\"),\nIF('Main Details'!$F$10=\"2c\",IF(AND($J12>2250,$J12<=3000),($J12/1000)+0.3,\"\"),\"\")\n),\"\")","v":""},{"$f":"IF($M12=\"Y\",IF('Main Details'!$G$28,\nIF('Main Details'!$F$10=\"2c\",IF(AND($J12>3450,$J12<=3850),($J12/1000)+0.3,\"\"),IF(AND($J12>2650,$J12<=3850),($J12/1000)+0.3,\"\")),\nIF('Main Details'!$F$10=\"2c\",IF(AND($J12>3000,$J12<=3450),($J12/1000)+0.3,\"\"),IF(AND($J12>2250,$J12<=3450),($J12/1000)+0.3,\"\"))\n),\"\")","v":""},null,null,{"$f":"IF(AND($J12<=7199,$J12>=4001),($J12+'BUILDERS SETTINGS'!$C$15)/1000,\" \")","v":" "},{"$f":"IF(AND(#REF!>0,G12>0),(#REF!*0.086)*(J12/1000),\" \")","v":{"$error":"#REF!"}},null,200,"0","0","0","0",null,0,0,"","","","","","","","","","","",""]
[{"$f":"IF(Q13>0,I13+#REF!)","v":false},null,null,null,null,null,null,"x",20,null,null,null,null,null,"",null,null,null,null,0,0,0,null,null,null,{"$f":"IF('Main Details'!$G$28,IF(AND($J13>0,$J13<=1600,$B13<>\"GOB\"),($J13/1000)+0.2,\"\"),IF(AND($J13>0,$J13<=1200),($J13/1000)+0.2,\"\"))","v":""},{"$f":"IF('Main Details'!$G$28,IF(AND($J13>1600,$J13<=1900),($J13/1000)+0.2,\"\"),IF(AND($J13>1200,$J13<=1500),($J13/1000)+0.2,\"\"))","v":""},{"$f":"IF('Main Details'!$G$28,IF(AND($J13>1900,$J13<=2600),($J13/1000)+0.27,\"\"),IF(AND($J13>1500,$J13<=2200),($J13/1000)+0.27,\"\"))","v":""},{"$f":"IF('Main Details'!$G$28,IF(AND($J13>2600,$J13<=3100),($J13/1000)+0.3,\"\"),IF(AND($J13>2200,$J13<=2600),($J13/1000)+0.3,\"\"))","v":""},{"$f":"IF('Main Details'!$G$28,IF(AND($J13>3100,$J13<=3450),($J13/1000)+0.3,\"\"),IF(AND($J13>2600,$J13<=3000),($J13/1000)+0.3,\"\"))","v":""},{"$f":"IF('Main Details'!$G$28,IF(AND($J13>3450,$J13<=3850),($J13/1000)+0.3,\"\"),IF(AND($J13>3000,$J13<=3450),($J13/1000)+0.3,\"\"))","v":""},null," ",{"$f":"IF(OR($M13=\"Y\",$B13=\"GOB\"),IF('Main Details'!$G$28,\nIF('Main Details'!$F$10=\"2c\",IF(AND($J13>0,$J13<=2350),($J13/1000)+0.24,\"\"),IF(AND($J13>0,$J13<=2400),($J13/1000)+0.27,\"\")),\nIF('Main Details'!$F$10=\"2c\",IF(AND($J13>0,$J13<=2050),($J13/1000)+0.24,\"\"),IF(AND($J13>0,$J13<=2100),($J13/1000)+0.27,\"\"))\n),\"\")","v":""},{"$f":"IF($M13=\"Y\",IF('Main Details'!$G$28,\nIF('Main Details'!$F$10=\"2c\",IF(AND($J13>2350,$J13<=2650),($J13/1000)+0.3,\"\"),IF(AND($J13>2400,$J13<=2650),($J13/1000)+0.3,\"\")),\nIF('Main Details'!$F$10=\"2c\",IF(AND($J13>2050,$J13<=2250),($J13/1000)+0.3,\"\"),IF(AND($J13>2100,$J13<=2250),($J13/1000)+0.3,\"\"))\n),\"\")","v":""},{"$f":"IF($M13=\"Y\",IF('Main Details'!$G$28,\nIF('Main Details'!$F$10=\"2c\",IF(AND($J13>2650,$J13<=3450),($J13/1000)+0.3,\"\"),\"\"),\nIF('Main Details'!$F$10=\"2c\",IF(AND($J13>2250,$J13<=3000),($J13/1000)+0.3,\"\"),\"\")\n),\"\")","v":""},{"$f":"IF($M13=\"Y\",IF('Main Details'!$G$28,\nIF('Main Details'!$F$10=\"2c\",IF(AND($J13>3450,$J13<=3850),($J13/1000)+0.3,\"\"),IF(AND($J13>2650,$J13<=3850),($J13/1000)+0.3,\"\")),\nIF('Main Details'!$F$10=\"2c\",IF(AND($J13>3000,$J13<=3450),($J13/1000)+0.3,\"\"),IF(AND($J13>2250,$J13<=3450),($J13/1000)+0.3,\"\"))\n),\"\")","v":""},null,null,{"$f":"IF(AND($J13<=7199,$J13>=4001),($J13+'BUILDERS SETTINGS'!$C$15)/1000,\" \")","v":" "},{"$f":"IF(AND(#REF!>0,G13>0),(#REF!*0.086)*(J13/1000),\" \")","v":{"$error":"#REF!"}},null,200,"0","0","0","0",null,0,0,"","","","","","","","","","","",""]
[{"$f":"IF(Q14>0,I14+#REF!)","v":false},null,null,null,null,null,null,"x",7.5,null,null,null,null,null,"",null,null,null,null,0,0,0,null,null,null,{"$f":"IF('Main Details'!$G$28,IF(AND($J14>0,$J14<=1600,$B14<>\"GOB\"),($J14/1000)+0.2,\"\"),IF(AND($J14>0,$J14<=1200),($J14/1000)+0.2,\"\"))","v":""},{"$f":"IF('Main Details'!$G$28,IF(AND($J14>1600,$J14<=1900),($J14/1000)+0.2,\"\"),IF(AND($J14>1200,$J14<=1500),($J14/1000)+0.2,\"\"))","v":""},{"$f":"IF('Main Details'!$G$28,IF(AND($J14>1900,$J14<=2600),($J14/1000)+0.27,\"\"),IF(AND($J14>1500,$J14<=2200),($J14/1000)+0.27,\"\"))","v":""},{"$f":"IF('Main Details'!$G$28,IF(AND($J14>2600,$J14<=3100),($J14/1000)+0.3,\"\"),IF(AND($J14>2200,$J14<=2600),($J14/1000)+0.3,\"\"))","v":""},{"$f":"IF('Main Details'!$G$28,IF(AND($J14>3100,$J14<=3450),($J14/1000)+0.3,\"\"),IF(AND($J14>2600,$J14<=3000),($J14/1000)+0.3,\"\"))","v":""},{"$f":"IF('Main Details'!$G$28,IF(AND($J14>3450,$J14<=3850),($J14/1000)+0.3,\"\"),IF(AND($J14>3000,$J14<=3450),($J14/1000)+0.3,\"\"))","v":""},null," ",{"$f":"IF(OR($M14=\"Y\",$B14=\"GOB\"),IF('Main Details'!$G$28,\nIF('Main Details'!$F$10=\"2c\",IF(AND($J14>0,$J14<=2350),($J14/1000)+0.24,\"\"),IF(AND($J14>0,$J14<=2400),($J14/1000)+0.27,\"\")),\nIF('Main Details'!$F$10=\"2c\",IF(AND($J14>0,$J14<=2050),($J14/1000)+0.24,\"\"),IF(AND($J14>0,$J14<=2100),($J14/1000)+0.27,\"\"))\n),\"\")","v":""},{"$f":"IF($M14=\"Y\",IF('Main Details'!$G$28,\nIF('Main Details'!$F$10=\"2c\",IF(AND($J14>2350,$J14<=2650),($J14/1000)+0.3,\"\"),IF(AND($J14>2400,$J14<=2650),($J14/1000)+0.3,\"\")),\nIF('Main Details'!$F$10=\"2c\",IF(AND($J14>2050,$J14<=2250),($J14/1000)+0.3,\"\"),IF(AND($J14>2100,$J14<=2250),($J14/1000)+0.3,\"\"))\n),\"\")","v":""},{"$f":"IF($M14=\"Y\",IF('Main Details'!$G$28,\nIF('Main Details'!$F$10=\"2c\",IF(AND($J14>2650,$J14<=3450),($J14/1000)+0.3,\"\"),\"\"),\nIF('Main Details'!$F$10=\"2c\",IF(AND($J14>2250,$J14<=3000),($J14/1000)+0.3,\"\"),\"\")\n),\"\")","v":""},{"$f":"IF($M14=\"Y\",IF('Main Details'!$G$28,\nIF('Main Details'!$F$10=\"2c\",IF(AND($J14>3450,$J14<=3850),($J14/1000)+0.3,\"\"),IF(AND($J14>2650,$J14<=3850),($J14/1000)+0.3,\"\")),\nIF('Main Details'!$F$10=\"2c\",IF(AND($J14>3000,$J14<=3450),($J14/1000)+0.3,\"\"),IF(AND($J14>2250,$J14<=3450),($J14/1000)+0.3,\"\"))\n),\"\")","v":""},null,null,{"$f":"IF(AND($J14<=7199,$J14>=4001),($J14+'BUILDERS SETTINGS'!$C$15)/1000,\" \")","v":" "},{"$f":"IF(AND(#REF!>0,G14>0),(#REF!*0.086)*(J14/1000),\" \")","v":{"$error":"#REF!"}},null,200,"0","0","0","0",null,0,0,"","","","","","","","","","","",""]
[{"$f":"IF(Q15>0,I15+#REF!)","v":false},null,null,null,null,null,null,"x",10,null,null,null,null,null,"",null,null,null,null,0,0,0,null,null,null,{"$f":"IF('Main Details'!$G$28,IF(AND($J15>0,$J15<=1600,$B15<>\"GOB\"),($J15/1000)+0.2,\"\"),IF(AND($J15>0,$J15<=1200),($J15/1000)+0.2,\"\"))","v":""},{"$f":"IF('Main Details'!$G$28,IF(AND($J15>1600,$J15<=1900),($J15/1000)+0.2,\"\"),IF(AND($J15>1200,$J15<=1500),($J15/1000)+0.2,\"\"))","v":""},{"$f":"IF('Main Details'!$G$28,IF(AND($J15>1900,$J15<=2600),($J15/1000)+0.27,\"\"),IF(AND($J15>1500,$J15<=2200),($J15/1000)+0.27,\"\"))","v":""},{"$f":"IF('Main Details'!$G$28,IF(AND($J15>2600,$J15<=3100),($J15/1000)+0.3,\"\"),IF(AND($J15>2200,$J15<=2600),($J15/1000)+0.3,\"\"))","v":""},{"$f":"IF('Main Details'!$G$28,IF(AND($J15>3100,$J15<=3450),($J15/1000)+0.3,\"\"),IF(AND($J15>2600,$J15<=3000),($J15/1000)+0.3,\"\"))","v":""},{"$f":"IF('Main Details'!$G$28,IF(AND($J15>3450,$J15<=3850),($J15/1000)+0.3,\"\"),IF(AND($J15>3000,$J15<=3450),($J15/1000)+0.3,\"\"))","v":""},null," ",{"$f":"IF(OR($M15=\"Y\",$B15=\"GOB\"),IF('Main Details'!$G$28,\nIF('Main Details'!$F$10=\"2c\",IF(AND($J15>0,$J15<=2350),($J15/1000)+0.24,\"\"),IF(AND($J15>0,$J15<=2400),($J15/1000)+0.27,\"\")),\nIF('Main Details'!$F$10=\"2c\",IF(AND($J15>0,$J15<=2050),($J15/1000)+0.24,\"\"),IF(AND($J15>0,$J15<=2100),($J15/1000)+0.27,\"\"))\n),\"\")","v":""},{"$f":"IF($M15=\"Y\",IF('Main Details'!$G$28,\nIF('Main Details'!$F$10=\"2c\",IF(AND($J15>2350,$J15<=2650),($J15/1000)+0.3,\"\"),IF(AND($J15>2400,$J15<=2650),($J15/1000)+0.3,\"\")),\nIF('Main Details'!$F$10=\"2c\",IF(AND($J15>2050,$J15<=2250),($J15/1000)+0.3,\"\"),IF(AND($J15>2100,$J15<=2250),($J15/1000)+0.3,\"\"))\n),\"\")","v":""},{"$f":"IF($M15=\"Y\",IF('Main Details'!$G$28,\nIF('Main Details'!$F$10=\"2c\",IF(AND($J15>2650,$J15<=3450),($J15/1000)+0.3,\"\"),\"\"),\nIF('Main Details'!$F$10=\"2c\",IF(AND($J15>2250,$J15<=3000),($J15/1000)+0.3,\"\"),\"\")\n),\"\")","v":""},{"$f":"IF($M15=\"Y\",IF('Main Details'!$G$28,\nIF('Main Details'!$F$10=\"2c\",IF(AND($J15>3450,$J15<=3850),($J15/1000)+0.3,\"\"),IF(AND($J15>2650,$J15<=3850),($J15/1000)+0.3,\"\")),\nIF('Main Details'!$F$10=\"2c\",IF(AND($J15>3000,$J15<=3450),($J15/1000)+0.3,\"\"),IF(AND($J15>2250,$J15<=3450),($J15/1000)+0.3,\"\"))\n),\"\")","v":""},null,null,{"$f":"IF(AND($J15<=7199,$J15>=4001),($J15+'BUILDERS SETTINGS'!$C$15)/1000,\" \")","v":" "},{"$f":"IF(AND(#REF!>0,G15>0),(#REF!*0.086)*(J15/1000),\" \")","v":{"$error":"#REF!"}},null,200,"0","0","0","0",null,0,0,"","","","","","","","","","","",""]
[{"$f":"IF(Q16>0,I16+#REF!)","v":false},null,null,null,null,null,null,"x",5,null,null,null,null,null,"",null,null,null,null,0,0,0,null,null,null,{"$f":"IF('Main Details'!$G$28,IF(AND($J16>0,$J16<=1600,$B16<>\"GOB\"),($J16/1000)+0.2,\"\"),IF(AND($J16>0,$J16<=1200),($J16/1000)+0.2,\"\"))","v":""},{"$f":"IF('Main Details'!$G$28,IF(AND($J16>1600,$J16<=1900),($J16/1000)+0.2,\"\"),IF(AND($J16>1200,$J16<=1500),($J16/1000)+0.2,\"\"))","v":""},{"$f":"IF('Main Details'!$G$28,IF(AND($J16>1900,$J16<=2600),($J16/1000)+0.27,\"\"),IF(AND($J16>1500,$J16<=2200),($J16/1000)+0.27,\"\"))","v":""},{"$f":"IF('Main Details'!$G$28,IF(AND($J16>2600,$J16<=3100),($J16/1000)+0.3,\"\"),IF(AND($J16>2200,$J16<=2600),($J16/1000)+0.3,\"\"))","v":""},{"$f":"IF('Main Details'!$G$28,IF(AND($J16>3100,$J16<=3450),($J16/1000)+0.3,\"\"),IF(AND($J16>2600,$J16<=3000),($J16/1000)+0.3,\"\"))","v":""},{"$f":"IF('Main Details'!$G$28,IF(AND($J16>3450,$J16<=3850),($J16/1000)+0.3,\"\"),IF(AND($J16>3000,$J16<=3450),($J16/1000)+0.3,\"\"))","v":""},null," ",{"$f":"IF(OR($M16=\"Y\",$B16=\"GOB\"),IF('Main Details'!$G$28,\nIF('Main Details'!$F$10=\"2c\",IF(AND($J16>0,$J16<=2350),($J16/1000)+0.24,\"\"),IF(AND($J16>0,$J16<=2400),($J16/1000)+0.27,\"\")),\nIF('Main Details'!$F$10=\"2c\",IF(AND($J16>0,$J16<=2050),($J16/1000)+0.24,\"\"),IF(AND($J16>0,$J16<=2100),($J16/1000)+0.27,\"\"))\n),\"\")","v":""},{"$f":"IF($M16=\"Y\",IF('Main Details'!$G$28,\nIF('Main Details'!$F$10=\"2c\",IF(AND($J16>2350,$J16<=2650),($J16/1000)+0.3,\"\"),IF(AND($J16>2400,$J16<=2650),($J16/1000)+0.3,\"\")),\nIF('Main Details'!$F$10=\"2c\",IF(AND($J16>2050,$J16<=2250),($J16/1000)+0.3,\"\"),IF(AND($J16>2100,$J16<=2250),($J16/1000)+0.3,\"\"))\n),\"\")","v":""},{"$f":"IF($M16=\"Y\",IF('Main Details'!$G$28,\nIF('Main Details'!$F$10=\"2c\",IF(AND($J16>2650,$J16<=3450),($J16/1000)+0.3,\"\"),\"\"),\nIF('Main Details'!$F$10=\"2c\",IF(AND($J16>2250,$J16<=3000),($J16/1000)+0.3,\"\"),\"\")\n),\"\")","v":""},{"$f":"IF($M16=\"Y\",IF('Main Details'!$G$28,\nIF('Main Details'!$F$10=\"2c\",IF(AND($J16>3450,$J16<=3850),($J16/1000)+0.3,\"\"),IF(AND($J16>2650,$J16<=3850),($J16/1000)+0.3,\"\")),\nIF('Main Details'!$F$10=\"2c\",IF(AND($J16>3000,$J16<=3450),($J16/1000)+0.3,\"\"),IF(AND($J16>2250,$J16<=3450),($J16/1000)+0.3,\"\"))\n),\"\")","v":""},null,null,{"$f":"IF(AND($J16<=7199,$J16>=4001),($J16+'BUILDERS SETTINGS'!$C$15)/1000,\" \")","v":" "},{"$f":"IF(AND(#REF!>0,G16>0),(#REF!*0.086)*(J16/1000),\" \")","v":{"$error":"#REF!"}},null,200,"0","0","0","0",null,0,0,"","","","","","","","","","","",""]
[{"$f":"IF(Q17>0,I17+#REF!)","v":false},null,null,null,null,null,null,"x",2.5,null,null,null,null,null,"",null,null,null,null,0,0,0,null,null,null,{"$f":"IF('Main Details'!$G$28,IF(AND($J17>0,$J17<=1600,$B17<>\"GOB\"),($J17/1000)+0.2,\"\"),IF(AND($J17>0,$J17<=1200),($J17/1000)+0.2,\"\"))","v":""},{"$f":"IF('Main Details'!$G$28,IF(AND($J17>1600,$J17<=1900),($J17/1000)+0.2,\"\"),IF(AND($J17>1200,$J17<=1500),($J17/1000)+0.2,\"\"))","v":""},{"$f":"IF('Main Details'!$G$28,IF(AND($J17>1900,$J17<=2600),($J17/1000)+0.27,\"\"),IF(AND($J17>1500,$J17<=2200),($J17/1000)+0.27,\"\"))","v":""},{"$f":"IF('Main Details'!$G$28,IF(AND($J17>2600,$J17<=3100),($J17/1000)+0.3,\"\"),IF(AND($J17>2200,$J17<=2600),($J17/1000)+0.3,\"\"))","v":""},{"$f":"IF('Main Details'!$G$28,IF(AND($J17>3100,$J17<=3450),($J17/1000)+0.3,\"\"),IF(AND($J17>2600,$J17<=3000),($J17/1000)+0.3,\"\"))","v":""},{"$f":"IF('Main Details'!$G$28,IF(AND($J17>3450,$J17<=3850),($J17/1000)+0.3,\"\"),IF(AND($J17>3000,$J17<=3450),($J17/1000)+0.3,\"\"))","v":""},null," ",{"$f":"IF(OR($M17=\"Y\",$B17=\"GOB\"),IF('Main Details'!$G$28,\nIF('Main Details'!$F$10=\"2c\",IF(AND($J17>0,$J17<=2350),($J17/1000)+0.24,\"\"),IF(AND($J17>0,$J17<=2400),($J17/1000)+0.27,\"\")),\nIF('Main Details'!$F$10=\"2c\",IF(AND($J17>0,$J17<=2050),($J17/1000)+0.24,\"\"),IF(AND($J17>0,$J17<=2100),($J17/1000)+0.27,\"\"))\n),\"\")","v":""},{"$f":"IF($M17=\"Y\",IF('Main Details'!$G$28,\nIF('Main Details'!$F$10=\"2c\",IF(AND($J17>2350,$J17<=2650),($J17/1000)+0.3,\"\"),IF(AND($J17>2400,$J17<=2650),($J17/1000)+0.3,\"\")),\nIF('Main Details'!$F$10=\"2c\",IF(AND($J17>2050,$J17<=2250),($J17/1000)+0.3,\"\"),IF(AND($J17>2100,$J17<=2250),($J17/1000)+0.3,\"\"))\n),\"\")","v":""},{"$f":"IF($M17=\"Y\",IF('Main Details'!$G$28,\nIF('Main Details'!$F$10=\"2c\",IF(AND($J17>2650,$J17<=3450),($J17/1000)+0.3,\"\"),\"\"),\nIF('Main Details'!$F$10=\"2c\",IF(AND($J17>2250,$J17<=3000),($J17/1000)+0.3,\"\"),\"\")\n),\"\")","v":""},{"$f":"IF($M17=\"Y\",IF('Main Details'!$G$28,\nIF('Main Details'!$F$10=\"2c\",IF(AND($J17>3450,$J17<=3850),($J17/1000)+0.3,\"\"),IF(AND($J17>2650,$J17<=3850),($J17/1000)+0.3,\"\")),\nIF('Main Details'!$F$10=\"2c\",IF(AND($J17>3000,$J17<=3450),($J17/1000)+0.3,\"\"),IF(AND($J17>2250,$J17<=3450),($J17/1000)+0.3,\"\"))\n),\"\")","v":""},null,null,{"$f":"IF(AND($J17<=7199,$J17>=4001),($J17+'BUILDERS SETTINGS'!$C$15)/1000,\" \")","v":" "},{"$f":"IF(AND(#REF!>0,G17>0),(#REF!*0.086)*(J17/1000),\" \")","v":{"$error":"#REF!"}},null,200,"0","0","0","0",null,0,0,"","","","","","","","","","","",""]
[{"$f":"IF(Q18>0,I18+#REF!)","v":false},null,null,null,null,null,null,"x",6.666666666666667,null,null,null,null,null,"",null,null,null,null,0,0,0,null,null,null,{"$f":"IF('Main Details'!$G$28,IF(AND($J18>0,$J18<=1600,$B18<>\"GOB\"),($J18/1000)+0.2,\"\"),IF(AND($J18>0,$J18<=1200),($J18/1000)+0.2,\"\"))","v":""},{"$f":"IF('Main Details'!$G$28,IF(AND($J18>1600,$J18<=1900),($J18/1000)+0.2,\"\"),IF(AND($J18>1200,$J18<=1500),($J18/1000)+0.2,\"\"))","v":""},{"$f":"IF('Main Details'!$G$28,IF(AND($J18>1900,$J18<=2600),($J18/1000)+0.27,\"\"),IF(AND($J18>1500,$J18<=2200),($J18/1000)+0.27,\"\"))","v":""},{"$f":"IF('Main Details'!$G$28,IF(AND($J18>2600,$J18<=3100),($J18/1000)+0.3,\"\"),IF(AND($J18>2200,$J18<=2600),($J18/1000)+0.3,\"\"))","v":""},{"$f":"IF('Main Details'!$G$28,IF(AND($J18>3100,$J18<=3450),($J18/1000)+0.3,\"\"),IF(AND($J18>2600,$J18<=3000),($J18/1000)+0.3,\"\"))","v":""},{"$f":"IF('Main Details'!$G$28,IF(AND($J18>3450,$J18<=3850),($J18/1000)+0.3,\"\"),IF(AND($J18>3000,$J18<=3450),($J18/1000)+0.3,\"\"))","v":""},null," ",{"$f":"IF(OR($M18=\"Y\",$B18=\"GOB\"),IF('Main Details'!$G$28,\nIF('Main Details'!$F$10=\"2c\",IF(AND($J18>0,$J18<=2350),($J18/1000)+0.24,\"\"),IF(AND($J18>0,$J18<=2400),($J18/1000)+0.27,\"\")),\nIF('Main Details'!$F$10=\"2c\",IF(AND($J18>0,$J18<=2050),($J18/1000)+0.24,\"\"),IF(AND($J18>0,$J18<=2100),($J18/1000)+0.27,\"\"))\n),\"\")","v":""},{"$f":"IF($M18=\"Y\",IF('Main Details'!$G$28,\nIF('Main Details'!$F$10=\"2c\",IF(AND($J18>2350,$J18<=2650),($J18/1000)+0.3,\"\"),IF(AND($J18>2400,$J18<=2650),($J18/1000)+0.3,\"\")),\nIF('Main Details'!$F$10=\"2c\",IF(AND($J18>2050,$J18<=2250),($J18/1000)+0.3,\"\"),IF(AND($J18>2100,$J18<=2250),($J18/1000)+0.3,\"\"))\n),\"\")","v":""},{"$f":"IF($M18=\"Y\",IF('Main Details'!$G$28,\nIF('Main Details'!$F$10=\"2c\",IF(AND($J18>2650,$J18<=3450),($J18/1000)+0.3,\"\"),\"\"),\nIF('Main Details'!$F$10=\"2c\",IF(AND($J18>2250,$J18<=3000),($J18/1000)+0.3,\"\"),\"\")\n),\"\")","v":""},{"$f":"IF($M18=\"Y\",IF('Main Details'!$G$28,\nIF('Main Details'!$F$10=\"2c\",IF(AND($J18>3450,$J18<=3850),($J18/1000)+0.3,\"\"),IF(AND($J18>2650,$J18<=3850),($J18/1000)+0.3,\"\")),\nIF('Main Details'!$F$10=\"2c\",IF(AND($J18>3000,$J18<=3450),($J18/1000)+0.3,\"\"),IF(AND($J18>2250,$J18<=3450),($J18/1000)+0.3,\"\"))\n),\"\")","v":""},null,null,{"$f":"IF(AND($J18<=7199,$J18>=4001),($J18+'BUILDERS SETTINGS'!$C$15)/1000,\" \")","v":" "},{"$f":"IF(AND(#REF!>0,G18>0),(#REF!*0.086)*(J18/1000),\" \")","v":{"$error":"#REF!"}},null,200,"0","0","0","0",null,0,0,"","","","","","","","","","","",""]
[{"$f":"IF(Q19>0,I19+#REF!)","v":false},null,null,null,null,null,null,"x",6.666666666666667,null,null,null,null,null,"",null,null,null,null,0,0,0,null,null,null,{"$f":"IF('Main Details'!$G$28,IF(AND($J19>0,$J19<=1600,$B19<>\"GOB\"),($J19/1000)+0.2,\"\"),IF(AND($J19>0,$J19<=1200),($J19/1000)+0.2,\"\"))","v":""},{"$f":"IF('Main Details'!$G$28,IF(AND($J19>1600,$J19<=1900),($J19/1000)+0.2,\"\"),IF(AND($J19>1200,$J19<=1500),($J19/1000)+0.2,\"\"))","v":""},{"$f":"IF('Main Details'!$G$28,IF(AND($J19>1900,$J19<=2600),($J19/1000)+0.27,\"\"),IF(AND($J19>1500,$J19<=2200),($J19/1000)+0.27,\"\"))","v":""},{"$f":"IF('Main Details'!$G$28,IF(AND($J19>2600,$J19<=3100),($J19/1000)+0.3,\"\"),IF(AND($J19>2200,$J19<=2600),($J19/1000)+0.3,\"\"))","v":""},{"$f":"IF('Main Details'!$G$28,IF(AND($J19>3100,$J19<=3450),($J19/1000)+0.3,\"\"),IF(AND($J19>2600,$J19<=3000),($J19/1000)+0.3,\"\"))","v":""},{"$f":"IF('Main Details'!$G$28,IF(AND($J19>3450,$J19<=3850),($J19/1000)+0.3,\"\"),IF(AND($J19>3000,$J19<=3450),($J19/1000)+0.3,\"\"))","v":""},null," ",{"$f":"IF(OR($M19=\"Y\",$B19=\"GOB\"),IF('Main Details'!$G$28,\nIF('Main Details'!$F$10=\"2c\",IF(AND($J19>0,$J19<=2350),($J19/1000)+0.24,\"\"),IF(AND($J19>0,$J19<=2400),($J19/1000)+0.27,\"\")),\nIF('Main Details'!$F$10=\"2c\",IF(AND($J19>0,$J19<=2050),($J19/1000)+0.24,\"\"),IF(AND($J19>0,$J19<=2100),($J19/1000)+0.27,\"\"))\n),\"\")","v":""},{"$f":"IF($M19=\"Y\",IF('Main Details'!$G$28,\nIF('Main Details'!$F$10=\"2c\",IF(AND($J19>2350,$J19<=2650),($J19/1000)+0.3,\"\"),IF(AND($J19>2400,$J19<=2650),($J19/1000)+0.3,\"\")),\nIF('Main Details'!$F$10=\"2c\",IF(AND($J19>2050,$J19<=2250),($J19/1000)+0.3,\"\"),IF(AND($J19>2100,$J19<=2250),($J19/1000)+0.3,\"\"))\n),\"\")","v":""},{"$f":"IF($M19=\"Y\",IF('Main Details'!$G$28,\nIF('Main Details'!$F$10=\"2c\",IF(AND($J19>2650,$J19<=3450),($J19/1000)+0.3,\"\"),\"\"),\nIF('Main Details'!$F$10=\"2c\",IF(AND($J19>2250,$J19<=3000),($J19/1000)+0.3,\"\"),\"\")\n),\"\")","v":""},{"$f":"IF($M19=\"Y\",IF('Main Details'!$G$28,\nIF('Main Details'!$F$10=\"2c\",IF(AND($J19>3450,$J19<=3850),($J19/1000)+0.3,\"\"),IF(AND($J19>2650,$J19<=3850),($J19/1000)+0.3,\"\")),\nIF('Main Details'!$F$10=\"2c\",IF(AND($J19>3000,$J19<=3450),($J19/1000)+0.3,\"\"),IF(AND($J19>2250,$J19<=3450),($J19/1000)+0.3,\"\"))\n),\"\")","v":""},null,null,{"$f":"IF(AND($J19<=7199,$J19>=4001),($J19+'BUILDERS SETTINGS'!$C$15)/1000,\" \")","v":" "},{"$f":"IF(AND(#REF!>0,G19>0),(#REF!*0.086)*(J19/1000),\" \")","v":{"$error":"#REF!"}},null,200,"0","0","0","0",null,0,0,"","","","","","","","","","","",""]
[{"$f":"IF(Q20>0,I20+#REF!)","v":false},null,null,null,null,null,null,"x",2.9166666666666665,null,null,null,null,null,"",null,null,null,null,0,0,0,null,null,null,{"$f":"IF('Main Details'!$G$28,IF(AND($J20>0,$J20<=1600,$B20<>\"GOB\"),($J20/1000)+0.2,\"\"),IF(AND($J20>0,$J20<=1200),($J20/1000)+0.2,\"\"))","v":""},{"$f":"IF('Main Details'!$G$28,IF(AND($J20>1600,$J20<=1900),($J20/1000)+0.2,\"\"),IF(AND($J20>1200,$J20<=1500),($J20/1000)+0.2,\"\"))","v":""},{"$f":"IF('Main Details'!$G$28,IF(AND($J20>1900,$J20<=2600),($J20/1000)+0.27,\"\"),IF(AND($J20>1500,$J20<=2200),($J20/1000)+0.27,\"\"))","v":""},{"$f":"IF('Main Details'!$G$28,IF(AND($J20>2600,$J20<=3100),($J20/1000)+0.3,\"\"),IF(AND($J20>2200,$J20<=2600),($J20/1000)+0.3,\"\"))","v":""},{"$f":"IF('Main Details'!$G$28,IF(AND($J20>3100,$J20<=3450),($J20/1000)+0.3,\"\"),IF(AND($J20>2600,$J20<=3000),($J20/1000)+0.3,\"\"))","v":""},{"$f":"IF('Main Details'!$G$28,IF(AND($J20>3450,$J20<=3850),($J20/1000)+0.3,\"\"),IF(AND($J20>3000,$J20<=3450),($J20/1000)+0.3,\"\"))","v":""},null," ",{"$f":"IF(OR($M20=\"Y\",$B20=\"GOB\"),IF('Main Details'!$G$28,\nIF('Main Details'!$F$10=\"2c\",IF(AND($J20>0,$J20<=2350),($J20/1000)+0.24,\"\"),IF(AND($J20>0,$J20<=2400),($J20/1000)+0.27,\"\")),\nIF('Main Details'!$F$10=\"2c\",IF(AND($J20>0,$J20<=2050),($J20/1000)+0.24,\"\"),IF(AND($J20>0,$J20<=2100),($J20/1000)+0.27,\"\"))\n),\"\")","v":""},{"$f":"IF($M20=\"Y\",IF('Main Details'!$G$28,\nIF('Main Details'!$F$10=\"2c\",IF(AND($J20>2350,$J20<=2650),($J20/1000)+0.3,\"\"),IF(AND($J20>2400,$J20<=2650),($J20/1000)+0.3,\"\")),\nIF('Main Details'!$F$10=\"2c\",IF(AND($J20>2050,$J20<=2250),($J20/1000)+0.3,\"\"),IF(AND($J20>2100,$J20<=2250),($J20/1000)+0.3,\"\"))\n),\"\")","v":""},{"$f":"IF($M20=\"Y\",IF('Main Details'!$G$28,\nIF('Main Details'!$F$10=\"2c\",IF(AND($J20>2650,$J20<=3450),($J20/1000)+0.3,\"\"),\"\"),\nIF('Main Details'!$F$10=\"2c\",IF(AND($J20>2250,$J20<=3000),($J20/1000)+0.3,\"\"),\"\")\n),\"\")","v":""},{"$f":"IF($M20=\"Y\",IF('Main Details'!$G$28,\nIF('Main Details'!$F$10=\"2c\",IF(AND($J20>3450,$J20<=3850),($J20/1000)+0.3,\"\"),IF(AND($J20>2650,$J20<=3850),($J20/1000)+0.3,\"\")),\nIF('Main Details'!$F$10=\"2c\",IF(AND($J20>3000,$J20<=3450),($J20/1000)+0.3,\"\"),IF(AND($J20>2250,$J20<=3450),($J20/1000)+0.3,\"\"))\n),\"\")","v":""},null,null,{"$f":"IF(AND($J20<=7199,$J20>=4001),($J20+'BUILDERS SETTINGS'!$C$15)/1000,\" \")","v":" "},{"$f":"IF(AND(#REF!>0,G20>0),(#REF!*0.086)*(J20/1000),\" \")","v":{"$error":"#REF!"}},null,200,"0","0","0","0",null,0,0,"","","","","","","","","","","",""]
[{"$f":"IF(Q21>0,I21+#REF!)","v":false},null,null,null,null,null,null,"x",7.5,null,null,null,null,null,"",null,null,null,null,0,0,0,null,null,null,{"$f":"IF('Main Details'!$G$28,IF(AND($J21>0,$J21<=1600,$B21<>\"GOB\"),($J21/1000)+0.2,\"\"),IF(AND($J21>0,$J21<=1200),($J21/1000)+0.2,\"\"))","v":""},{"$f":"IF('Main Details'!$G$28,IF(AND($J21>1600,$J21<=1900),($J21/1000)+0.2,\"\"),IF(AND($J21>1200,$J21<=1500),($J21/1000)+0.2,\"\"))","v":""},{"$f":"IF('Main Details'!$G$28,IF(AND($J21>1900,$J21<=2600),($J21/1000)+0.27,\"\"),IF(AND($J21>1500,$J21<=2200),($J21/1000)+0.27,\"\"))","v":""},{"$f":"IF('Main Details'!$G$28,IF(AND($J21>2600,$J21<=3100),($J21/1000)+0.3,\"\"),IF(AND($J21>2200,$J21<=2600),($J21/1000)+0.3,\"\"))","v":""},{"$f":"IF('Main Details'!$G$28,IF(AND($J21>3100,$J21<=3450),($J21/1000)+0.3,\"\"),IF(AND($J21>2600,$J21<=3000),($J21/1000)+0.3,\"\"))","v":""},{"$f":"IF('Main Details'!$G$28,IF(AND($J21>3450,$J21<=3850),($J21/1000)+0.3,\"\"),IF(AND($J21>3000,$J21<=3450),($J21/1000)+0.3,\"\"))","v":""},null," ",{"$f":"IF(OR($M21=\"Y\",$B21=\"GOB\"),IF('Main Details'!$G$28,\nIF('Main Details'!$F$10=\"2c\",IF(AND($J21>0,$J21<=2350),($J21/1000)+0.24,\"\"),IF(AND($J21>0,$J21<=2400),($J21/1000)+0.27,\"\")),\nIF('Main Details'!$F$10=\"2c\",IF(AND($J21>0,$J21<=2050),($J21/1000)+0.24,\"\"),IF(AND($J21>0,$J21<=2100),($J21/1000)+0.27,\"\"))\n),\"\")","v":""},{"$f":"IF($M21=\"Y\",IF('Main Details'!$G$28,\nIF('Main Details'!$F$10=\"2c\",IF(AND($J21>2350,$J21<=2650),($J21/1000)+0.3,\"\"),IF(AND($J21>2400,$J21<=2650),($J21/1000)+0.3,\"\")),\nIF('Main Details'!$F$10=\"2c\",IF(AND($J21>2050,$J21<=2250),($J21/1000)+0.3,\"\"),IF(AND($J21>2100,$J21<=2250),($J21/1000)+0.3,\"\"))\n),\"\")","v":""},{"$f":"IF($M21=\"Y\",IF('Main Details'!$G$28,\nIF('Main Details'!$F$10=\"2c\",IF(AND($J21>2650,$J21<=3450),($J21/1000)+0.3,\"\"),\"\"),\nIF('Main Details'!$F$10=\"2c\",IF(AND($J21>2250,$J21<=3000),($J21/1000)+0.3,\"\"),\"\")\n),\"\")","v":""},{"$f":"IF($M21=\"Y\",IF('Main Details'!$G$28,\nIF('Main Details'!$F$10=\"2c\",IF(AND($J21>3450,$J21<=3850),($J21/1000)+0.3,\"\"),IF(AND($J21>2650,$J21<=3850),($J21/1000)+0.3,\"\")),\nIF('Main Details'!$F$10=\"2c\",IF(AND($J21>3000,$J21<=3450),($J21/1000)+0.3,\"\"),IF(AND($J21>2250,$J21<=3450),($J21/1000)+0.3,\"\"))\n),\"\")","v":""},null,null,{"$f":"IF(AND($J21<=7199,$J21>=4001),($J21+'BUILDERS SETTINGS'!$C$15)/1000,\" \")","v":" "},{"$f":"IF(AND(#REF!>0,G21>0),(#REF!*0.086)*(J21/1000),\" \")","v":{"$error":"#REF!"}},null,200,"0","0","0","0",null,0,0,"","","","","","","","","","","",""]
[{"$f":"IF(Q22>0,I22+#REF!)","v":false},null,null,null,null,null,null,"x",7.5,null,null,null,null,null,"",null,null,null,null,0,0,0,null,null,null,{"$f":"IF('Main Details'!$G$28,IF(AND($J22>0,$J22<=1600,$B22<>\"GOB\"),($J22/1000)+0.2,\"\"),IF(AND($J22>0,$J22<=1200),($J22/1000)+0.2,\"\"))","v":""},{"$f":"IF('Main Details'!$G$28,IF(AND($J22>1600,$J22<=1900),($J22/1000)+0.2,\"\"),IF(AND($J22>1200,$J22<=1500),($J22/1000)+0.2,\"\"))","v":""},{"$f":"IF('Main Details'!$G$28,IF(AND($J22>1900,$J22<=2600),($J22/1000)+0.27,\"\"),IF(AND($J22>1500,$J22<=2200),($J22/1000)+0.27,\"\"))","v":""},{"$f":"IF('Main Details'!$G$28,IF(AND($J22>2600,$J22<=3100),($J22/1000)+0.3,\"\"),IF(AND($J22>2200,$J22<=2600),($J22/1000)+0.3,\"\"))","v":""},{"$f":"IF('Main Details'!$G$28,IF(AND($J22>3100,$J22<=3450),($J22/1000)+0.3,\"\"),IF(AND($J22>2600,$J22<=3000),($J22/1000)+0.3,\"\"))","v":""},{"$f":"IF('Main Details'!$G$28,IF(AND($J22>3450,$J22<=3850),($J22/1000)+0.3,\"\"),IF(AND($J22>3000,$J22<=3450),($J22/1000)+0.3,\"\"))","v":""},null," ",{"$f":"IF(OR($M22=\"Y\",$B22=\"GOB\"),IF('Main Details'!$G$28,\nIF('Main Details'!$F$10=\"2c\",IF(AND($J22>0,$J22<=2350),($J22/1000)+0.24,\"\"),IF(AND($J22>0,$J22<=2400),($J22/1000)+0.27,\"\")),\nIF('Main Details'!$F$10=\"2c\",IF(AND($J22>0,$J22<=2050),($J22/1000)+0.24,\"\"),IF(AND($J22>0,$J22<=2100),($J22/1000)+0.27,\"\"))\n),\"\")","v":""},{"$f":"IF($M22=\"Y\",IF('Main Details'!$G$28,\nIF('Main Details'!$F$10=\"2c\",IF(AND($J22>2350,$J22<=2650),($J22/1000)+0.3,\"\"),IF(AND($J22>2400,$J22<=2650),($J22/1000)+0.3,\"\")),\nIF('Main Details'!$F$10=\"2c\",IF(AND($J22>2050,$J22<=2250),($J22/1000)+0.3,\"\"),IF(AND($J22>2100,$J22<=2250),($J22/1000)+0.3,\"\"))\n),\"\")","v":""},{"$f":"IF($M22=\"Y\",IF('Main Details'!$G$28,\nIF('Main Details'!$F$10=\"2c\",IF(AND($J22>2650,$J22<=3450),($J22/1000)+0.3,\"\"),\"\"),\nIF('Main Details'!$F$10=\"2c\",IF(AND($J22>2250,$J22<=3000),($J22/1000)+0.3,\"\"),\"\")\n),\"\")","v":""},{"$f":"IF($M22=\"Y\",IF('Main Details'!$G$28,\nIF('Main Details'!$F$10=\"2c\",IF(AND($J22>3450,$J22<=3850),($J22/1000)+0.3,\"\"),IF(AND($J22>2650,$J22<=3850),($J22/1000)+0.3,\"\")),\nIF('Main Details'!$F$10=\"2c\",IF(AND($J22>3000,$J22<=3450),($J22/1000)+0.3,\"\"),IF(AND($J22>2250,$J22<=3450),($J22/1000)+0.3,\"\"))\n),\"\")","v":""},null,null,{"$f":"IF(AND($J22<=7199,$J22>=4001),($J22+'BUILDERS SETTINGS'!$C$15)/1000,\" \")","v":" "},{"$f":"IF(AND(#REF!>0,G22>0),(#REF!*0.086)*(J22/1000),\" \")","v":{"$error":"#REF!"}},null,200,"0","0","0","0",null,0,0,"","","","","","","","","","","","",null,"r"]
[{"$f":"IF(Q23>0,I23+#REF!)","v":false},null,null,null,null,null,null,"x",{"$f":"(IF(J23=\"\",\" \",(J23-10)/240))","v":" "},null,{"$f":"IF(G23>0,(J23+160)/1000,\" \")","v":" "},null,null,null,"",null,null,null,null,0,0,0,null,null,null,{"$f":"IF('Main Details'!$G$28,IF(AND($J23>0,$J23<=1600,$B23<>\"GOB\"),($J23/1000)+0.2,\"\"),IF(AND($J23>0,$J23<=1200),($J23/1000)+0.2,\"\"))","v":""},{"$f":"IF('Main Details'!$G$28,IF(AND($J23>1600,$J23<=1900),($J23/1000)+0.2,\"\"),IF(AND($J23>1200,$J23<=1500),($J23/1000)+0.2,\"\"))","v":""},{"$f":"IF('Main Details'!$G$28,IF(AND($J23>1900,$J23<=2600),($J23/1000)+0.27,\"\"),IF(AND($J23>1500,$J23<=2200),($J23/1000)+0.27,\"\"))","v":""},{"$f":"IF('Main Details'!$G$28,IF(AND($J23>2600,$J23<=3100),($J23/1000)+0.3,\"\"),IF(AND($J23>2200,$J23<=2600),($J23/1000)+0.3,\"\"))","v":""},{"$f":"IF('Main Details'!$G$28,IF(AND($J23>3100,$J23<=3450),($J23/1000)+0.3,\"\"),IF(AND($J23>2600,$J23<=3000),($J23/1000)+0.3,\"\"))","v":""},{"$f":"IF('Main Details'!$G$28,IF(AND($J23>3450,$J23<=3850),($J23/1000)+0.3,\"\"),IF(AND($J23>3000,$J23<=3450),($J23/1000)+0.3,\"\"))","v":""},null," ",{"$f":"IF(OR($M23=\"Y\",$B23=\"GOB\"),IF('Main Details'!$G$28,\nIF('Main Details'!$F$10=\"2c\",IF(AND($J23>0,$J23<=2350),($J23/1000)+0.24,\"\"),IF(AND($J23>0,$J23<=2400),($J23/1000)+0.27,\"\")),\nIF('Main Details'!$F$10=\"2c\",IF(AND($J23>0,$J23<=2050),($J23/1000)+0.24,\"\"),IF(AND($J23>0,$J23<=2100),($J23/1000)+0.27,\"\"))\n),\"\")","v":""},{"$f":"IF($M23=\"Y\",IF('Main Details'!$G$28,\nIF('Main Details'!$F$10=\"2c\",IF(AND($J23>2350,$J23<=2650),($J23/1000)+0.3,\"\"),IF(AND($J23>2400,$J23<=2650),($J23/1000)+0.3,\"\")),\nIF('Main Details'!$F$10=\"2c\",IF(AND($J23>2050,$J23<=2250),($J23/1000)+0.3,\"\"),IF(AND($J23>2100,$J23<=2250),($J23/1000)+0.3,\"\"))\n),\"\")","v":""},{"$f":"IF($M23=\"Y\",IF('Main Details'!$G$28,\nIF('Main Details'!$F$10=\"2c\",IF(AND($J23>2650,$J23<=3450),($J23/1000)+0.3,\"\"),\"\"),\nIF('Main Details'!$F$10=\"2c\",IF(AND($J23>2250,$J23<=3000),($J23/1000)+0.3,\"\"),\"\")\n),\"\")","v":""},{"$f":"IF($M23=\"Y\",IF('Main Details'!$G$28,\nIF('Main Details'!$F$10=\"2c\",IF(AND($J23>3450,$J23<=3850),($J23/1000)+0.3,\"\"),IF(AND($J23>2650,$J23<=3850),($J23/1000)+0.3,\"\")),\nIF('Main Details'!$F$10=\"2c\",IF(AND($J23>3000,$J23<=3450),($J23/1000)+0.3,\"\"),IF(AND($J23>2250,$J23<=3450),($J23/1000)+0.3,\"\"))\n),\"\")","v":""},null,null,{"$f":"IF(AND($J23<=7199,$J23>=4001),($J23+'BUILDERS SETTINGS'!$C$15)/1000,\" \")","v":" "},{"$f":"IF(AND(#REF!>0,G23>0),(#REF!*0.086)*(J23/1000),\" \")","v":{"$error":"#REF!"}},null,200,"0","0","0","0",null,0,0,"","","","","","","","","","","","",null,"r"]
[{"$f":"IF(Q24>0,I24+#REF!)","v":false},null,null,null,null,null,null,"x"," ",null," ",null,null,null,"",null,null,null,null,0,0,0,null,null,null,{"$f":"IF('Main Details'!$G$28,IF(AND($J24>0,$J24<=1600,$B24<>\"GOB\"),($J24/1000)+0.2,\"\"),IF(AND($J24>0,$J24<=1200),($J24/1000)+0.2,\"\"))","v":""},{"$f":"IF('Main Details'!$G$28,IF(AND($J24>1600,$J24<=1900),($J24/1000)+0.2,\"\"),IF(AND($J24>1200,$J24<=1500),($J24/1000)+0.2,\"\"))","v":""},{"$f":"IF('Main Details'!$G$28,IF(AND($J24>1900,$J24<=2600),($J24/1000)+0.27,\"\"),IF(AND($J24>1500,$J24<=2200),($J24/1000)+0.27,\"\"))","v":""},{"$f":"IF('Main Details'!$G$28,IF(AND($J24>2600,$J24<=3100),($J24/1000)+0.3,\"\"),IF(AND($J24>2200,$J24<=2600),($J24/1000)+0.3,\"\"))","v":""},{"$f":"IF('Main Details'!$G$28,IF(AND($J24>3100,$J24<=3450),($J24/1000)+0.3,\"\"),IF(AND($J24>2600,$J24<=3000),($J24/1000)+0.3,\"\"))","v":""},{"$f":"IF('Main Details'!$G$28,IF(AND($J24>3450,$J24<=3850),($J24/1000)+0.3,\"\"),IF(AND($J24>3000,$J24<=3450),($J24/1000)+0.3,\"\"))","v":""},null," ",{"$f":"IF(OR($M24=\"Y\",$B24=\"GOB\"),IF('Main Details'!$G$28,\nIF('Main Details'!$F$10=\"2c\",IF(AND($J24>0,$J24<=2350),($J24/1000)+0.24,\"\"),IF(AND($J24>0,$J24<=2400),($J24/1000)+0.27,\"\")),\nIF('Main Details'!$F$10=\"2c\",IF(AND($J24>0,$J24<=2050),($J24/1000)+0.24,\"\"),IF(AND($J24>0,$J24<=2100),($J24/1000)+0.27,\"\"))\n),\"\")","v":""},{"$f":"IF($M24=\"Y\",IF('Main Details'!$G$28,\nIF('Main Details'!$F$10=\"2c\",IF(AND($J24>2350,$J24<=2650),($J24/1000)+0.3,\"\"),IF(AND($J24>2400,$J24<=2650),($J24/1000)+0.3,\"\")),\nIF('Main Details'!$F$10=\"2c\",IF(AND($J24>2050,$J24<=2250),($J24/1000)+0.3,\"\"),IF(AND($J24>2100,$J24<=2250),($J24/1000)+0.3,\"\"))\n),\"\")","v":""},{"$f":"IF($M24=\"Y\",IF('Main Details'!$G$28,\nIF('Main Details'!$F$10=\"2c\",IF(AND($J24>2650,$J24<=3450),($J24/1000)+0.3,\"\"),\"\"),\nIF('Main Details'!$F$10=\"2c\",IF(AND($J24>2250,$J24<=3000),($J24/1000)+0.3,\"\"),\"\")\n),\"\")","v":""},{"$f":"IF($M24=\"Y\",IF('Main Details'!$G$28,\nIF('Main Details'!$F$10=\"2c\",IF(AND($J24>3450,$J24<=3850),($J24/1000)+0.3,\"\"),IF(AND($J24>2650,$J24<=3850),($J24/1000)+0.3,\"\")),\nIF('Main Details'!$F$10=\"2c\",IF(AND($J24>3000,$J24<=3450),($J24/1000)+0.3,\"\"),IF(AND($J24>2250,$J24<=3450),($J24/1000)+0.3,\"\"))\n),\"\")","v":""},null,null,{"$f":"IF(AND($J24<=7199,$J24>=4001),($J24+'BUILDERS SETTINGS'!$C$15)/1000,\" \")","v":" "},{"$f":"IF(AND(#REF!>0,G24>0),(#REF!*0.086)*(J24/1000),\" \")","v":{"$error":"#REF!"}},null,200,"0","0","0","0",null,0,0,"","","","","","","","","","","",""]
[{"$f":"IF(Q25>0,I25+#REF!)","v":false},null,null,null,null,null,null,"x"," ",null," ",null,null,null,"",null,null,null,null,0,0,0,null,null,null,{"$f":"IF('Main Details'!$G$28,IF(AND($J25>0,$J25<=1600,$B25<>\"GOB\"),($J25/1000)+0.2,\"\"),IF(AND($J25>0,$J25<=1200),($J25/1000)+0.2,\"\"))","v":""},{"$f":"IF('Main Details'!$G$28,IF(AND($J25>1600,$J25<=1900),($J25/1000)+0.2,\"\"),IF(AND($J25>1200,$J25<=1500),($J25/1000)+0.2,\"\"))","v":""},{"$f":"IF('Main Details'!$G$28,IF(AND($J25>1900,$J25<=2600),($J25/1000)+0.27,\"\"),IF(AND($J25>1500,$J25<=2200),($J25/1000)+0.27,\"\"))","v":""},{"$f":"IF('Main Details'!$G$28,IF(AND($J25>2600,$J25<=3100),($J25/1000)+0.3,\"\"),IF(AND($J25>2200,$J25<=2600),($J25/1000)+0.3,\"\"))","v":""},{"$f":"IF('Main Details'!$G$28,IF(AND($J25>3100,$J25<=3450),($J25/1000)+0.3,\"\"),IF(AND($J25>2600,$J25<=3000),($J25/1000)+0.3,\"\"))","v":""},{"$f":"IF('Main Details'!$G$28,IF(AND($J25>3450,$J25<=3850),($J25/1000)+0.3,\"\"),IF(AND($J25>3000,$J25<=3450),($J25/1000)+0.3,\"\"))","v":""},null," ",{"$f":"IF(OR($M25=\"Y\",$B25=\"GOB\"),IF('Main Details'!$G$28,\nIF('Main Details'!$F$10=\"2c\",IF(AND($J25>0,$J25<=2350),($J25/1000)+0.24,\"\"),IF(AND($J25>0,$J25<=2400),($J25/1000)+0.27,\"\")),\nIF('Main Details'!$F$10=\"2c\",IF(AND($J25>0,$J25<=2050),($J25/1000)+0.24,\"\"),IF(AND($J25>0,$J25<=2100),($J25/1000)+0.27,\"\"))\n),\"\")","v":""},{"$f":"IF($M25=\"Y\",IF('Main Details'!$G$28,\nIF('Main Details'!$F$10=\"2c\",IF(AND($J25>2350,$J25<=2650),($J25/1000)+0.3,\"\"),IF(AND($J25>2400,$J25<=2650),($J25/1000)+0.3,\"\")),\nIF('Main Details'!$F$10=\"2c\",IF(AND($J25>2050,$J25<=2250),($J25/1000)+0.3,\"\"),IF(AND($J25>2100,$J25<=2250),($J25/1000)+0.3,\"\"))\n),\"\")","v":""},{"$f":"IF($M25=\"Y\",IF('Main Details'!$G$28,\nIF('Main Details'!$F$10=\"2c\",IF(AND($J25>2650,$J25<=3450),($J25/1000)+0.3,\"\"),\"\"),\nIF('Main Details'!$F$10=\"2c\",IF(AND($J25>2250,$J25<=3000),($J25/1000)+0.3,\"\"),\"\")\n),\"\")","v":""},{"$f":"IF($M25=\"Y\",IF('Main Details'!$G$28,\nIF('Main Details'!$F$10=\"2c\",IF(AND($J25>3450,$J25<=3850),($J25/1000)+0.3,\"\"),IF(AND($J25>2650,$J25<=3850),($J25/1000)+0.3,\"\")),\nIF('Main Details'!$F$10=\"2c\",IF(AND($J25>3000,$J25<=3450),($J25/1000)+0.3,\"\"),IF(AND($J25>2250,$J25<=3450),($J25/1000)+0.3,\"\"))\n),\"\")","v":""},null,null,{"$f":"IF(AND($J25<=7199,$J25>=4001),($J25+'BUILDERS SETTINGS'!$C$15)/1000,\" \")","v":" "},{"$f":"IF(AND(#REF!>0,G25>0),(#REF!*0.086)*(J25/1000),\" \")","v":{"$error":"#REF!"}},null,200,"0","0","0","0",null,0,0,"","","","","","","","","","","",""]
[{"$f":"IF(Q26>0,I26+#REF!)","v":false},null,null,null,null,null,null,"x"," ",null," ",null,null,null,"",null,null,null,null,0,0,0,null,null,null,{"$f":"IF('Main Details'!$G$28,IF(AND($J26>0,$J26<=1600,$B26<>\"GOB\"),($J26/1000)+0.2,\"\"),IF(AND($J26>0,$J26<=1200),($J26/1000)+0.2,\"\"))","v":""},{"$f":"IF('Main Details'!$G$28,IF(AND($J26>1600,$J26<=1900),($J26/1000)+0.2,\"\"),IF(AND($J26>1200,$J26<=1500),($J26/1000)+0.2,\"\"))","v":""},{"$f":"IF('Main Details'!$G$28,IF(AND($J26>1900,$J26<=2600),($J26/1000)+0.27,\"\"),IF(AND($J26>1500,$J26<=2200),($J26/1000)+0.27,\"\"))","v":""},{"$f":"IF('Main Details'!$G$28,IF(AND($J26>2600,$J26<=3100),($J26/1000)+0.3,\"\"),IF(AND($J26>2200,$J26<=2600),($J26/1000)+0.3,\"\"))","v":""},{"$f":"IF('Main Details'!$G$28,IF(AND($J26>3100,$J26<=3450),($J26/1000)+0.3,\"\"),IF(AND($J26>2600,$J26<=3000),($J26/1000)+0.3,\"\"))","v":""},{"$f":"IF('Main Details'!$G$28,IF(AND($J26>3450,$J26<=3850),($J26/1000)+0.3,\"\"),IF(AND($J26>3000,$J26<=3450),($J26/1000)+0.3,\"\"))","v":""},null," ",{"$f":"IF(OR($M26=\"Y\",$B26=\"GOB\"),IF('Main Details'!$G$28,\nIF('Main Details'!$F$10=\"2c\",IF(AND($J26>0,$J26<=2350),($J26/1000)+0.24,\"\"),IF(AND($J26>0,$J26<=2400),($J26/1000)+0.27,\"\")),\nIF('Main Details'!$F$10=\"2c\",IF(AND($J26>0,$J26<=2050),($J26/1000)+0.24,\"\"),IF(AND($J26>0,$J26<=2100),($J26/1000)+0.27,\"\"))\n),\"\")","v":""},{"$f":"IF($M26=\"Y\",IF('Main Details'!$G$28,\nIF('Main Details'!$F$10=\"2c\",IF(AND($J26>2350,$J26<=2650),($J26/1000)+0.3,\"\"),IF(AND($J26>2400,$J26<=2650),($J26/1000)+0.3,\"\")),\nIF('Main Details'!$F$10=\"2c\",IF(AND($J26>2050,$J26<=2250),($J26/1000)+0.3,\"\"),IF(AND($J26>2100,$J26<=2250),($J26/1000)+0.3,\"\"))\n),\"\")","v":""},{"$f":"IF($M26=\"Y\",IF('Main Details'!$G$28,\nIF('Main Details'!$F$10=\"2c\",IF(AND($J26>2650,$J26<=3450),($J26/1000)+0.3,\"\"),\"\"),\nIF('Main Details'!$F$10=\"2c\",IF(AND($J26>2250,$J26<=3000),($J26/1000)+0.3,\"\"),\"\")\n),\"\")","v":""},{"$f":"IF($M26=\"Y\",IF('Main Details'!$G$28,\nIF('Main Details'!$F$10=\"2c\",IF(AND($J26>3450,$J26<=3850),($J26/1000)+0.3,\"\"),IF(AND($J26>2650,$J26<=3850),($J26/1000)+0.3,\"\")),\nIF('Main Details'!$F$10=\"2c\",IF(AND($J26>3000,$J26<=3450),($J26/1000)+0.3,\"\"),IF(AND($J26>2250,$J26<=3450),($J26/1000)+0.3,\"\"))\n),\"\")","v":""},null,null,{"$f":"IF(AND($J26<=7199,$J26>=4001),($J26+'BUILDERS SETTINGS'!$C$15)/1000,\" \")","v":" "},{"$f":"IF(AND(#REF!>0,G26>0),(#REF!*0.086)*(J26/1000),\" \")","v":{"$error":"#REF!"}},null,200,"0","0","0","0",null,0,0,"","","","","","","","","","","",""]
[{"$f":"IF(Q27>0,I27+#REF!)","v":false},null,null,null,null,null,null,"x"," ",null," ",null,null,null,"",null,null,null,null,0,0,0,null,null,null,{"$f":"IF('Main Details'!$G$28,IF(AND($J27>0,$J27<=1600,$B27<>\"GOB\"),($J27/1000)+0.2,\"\"),IF(AND($J27>0,$J27<=1200),($J27/1000)+0.2,\"\"))","v":""},{"$f":"IF('Main Details'!$G$28,IF(AND($J27>1600,$J27<=1900),($J27/1000)+0.2,\"\"),IF(AND($J27>1200,$J27<=1500),($J27/1000)+0.2,\"\"))","v":""},{"$f":"IF('Main Details'!$G$28,IF(AND($J27>1900,$J27<=2600),($J27/1000)+0.27,\"\"),IF(AND($J27>1500,$J27<=2200),($J27/1000)+0.27,\"\"))","v":""},{"$f":"IF('Main Details'!$G$28,IF(AND($J27>2600,$J27<=3100),($J27/1000)+0.3,\"\"),IF(AND($J27>2200,$J27<=2600),($J27/1000)+0.3,\"\"))","v":""},{"$f":"IF('Main Details'!$G$28,IF(AND($J27>3100,$J27<=3450),($J27/1000)+0.3,\"\"),IF(AND($J27>2600,$J27<=3000),($J27/1000)+0.3,\"\"))","v":""},{"$f":"IF('Main Details'!$G$28,IF(AND($J27>3450,$J27<=3850),($J27/1000)+0.3,\"\"),IF(AND($J27>3000,$J27<=3450),($J27/1000)+0.3,\"\"))","v":""},null," ",{"$f":"IF(OR($M27=\"Y\",$B27=\"GOB\"),IF('Main Details'!$G$28,\nIF('Main Details'!$F$10=\"2c\",IF(AND($J27>0,$J27<=2350),($J27/1000)+0.24,\"\"),IF(AND($J27>0,$J27<=2400),($J27/1000)+0.27,\"\")),\nIF('Main Details'!$F$10=\"2c\",IF(AND($J27>0,$J27<=2050),($J27/1000)+0.24,\"\"),IF(AND($J27>0,$J27<=2100),($J27/1000)+0.27,\"\"))\n),\"\")","v":""},{"$f":"IF($M27=\"Y\",IF('Main Details'!$G$28,\nIF('Main Details'!$F$10=\"2c\",IF(AND($J27>2350,$J27<=2650),($J27/1000)+0.3,\"\"),IF(AND($J27>2400,$J27<=2650),($J27/1000)+0.3,\"\")),\nIF('Main Details'!$F$10=\"2c\",IF(AND($J27>2050,$J27<=2250),($J27/1000)+0.3,\"\"),IF(AND($J27>2100,$J27<=2250),($J27/1000)+0.3,\"\"))\n),\"\")","v":""},{"$f":"IF($M27=\"Y\",IF('Main Details'!$G$28,\nIF('Main Details'!$F$10=\"2c\",IF(AND($J27>2650,$J27<=3450),($J27/1000)+0.3,\"\"),\"\"),\nIF('Main Details'!$F$10=\"2c\",IF(AND($J27>2250,$J27<=3000),($J27/1000)+0.3,\"\"),\"\")\n),\"\")","v":""},{"$f":"IF($M27=\"Y\",IF('Main Details'!$G$28,\nIF('Main Details'!$F$10=\"2c\",IF(AND($J27>3450,$J27<=3850),($J27/1000)+0.3,\"\"),IF(AND($J27>2650,$J27<=3850),($J27/1000)+0.3,\"\")),\nIF('Main Details'!$F$10=\"2c\",IF(AND($J27>3000,$J27<=3450),($J27/1000)+0.3,\"\"),IF(AND($J27>2250,$J27<=3450),($J27/1000)+0.3,\"\"))\n),\"\")","v":""},null,null,{"$f":"IF(AND($J27<=7199,$J27>=4001),($J27+'BUILDERS SETTINGS'!$C$15)/1000,\" \")","v":" "},{"$f":"IF(AND(#REF!>0,G27>0),(#REF!*0.086)*(J27/1000),\" \")","v":{"$error":"#REF!"}},null,200,"0","0","0","0",null,0,0,"","","","","","","","","","","",""]
[{"$f":"IF(Q28>0,I28+#REF!)","v":false},null,{"$f":"IF(D28=\"Y\",G28*I28,0)","v":0},"N",null,{"$f":"IF(AND(#REF!>0,G28>0),(#REF!*0.086)*(J28/1000),\" \")","v":{"$error":"#REF!"}},null,"x"," ",null," ",null,null,null,"",null,null,null,null,0,0,0,null,null,null,{"$f":"IF('Main Details'!$G$28,IF(AND($J28>0,$J28<=1600,$B28<>\"GOB\"),($J28/1000)+0.2,\"\"),IF(AND($J28>0,$J28<=1200),($J28/1000)+0.2,\"\"))","v":""},{"$f":"IF('Main Details'!$G$28,IF(AND($J28>1600,$J28<=1900),($J28/1000)+0.2,\"\"),IF(AND($J28>1200,$J28<=1500),($J28/1000)+0.2,\"\"))","v":""},{"$f":"IF('Main Details'!$G$28,IF(AND($J28>1900,$J28<=2600),($J28/1000)+0.27,\"\"),IF(AND($J28>1500,$J28<=2200),($J28/1000)+0.27,\"\"))","v":""},{"$f":"IF('Main Details'!$G$28,IF(AND($J28>2600,$J28<=3100),($J28/1000)+0.3,\"\"),IF(AND($J28>2200,$J28<=2600),($J28/1000)+0.3,\"\"))","v":""},{"$f":"IF('Main Details'!$G$28,IF(AND($J28>3100,$J28<=3450),($J28/1000)+0.3,\"\"),IF(AND($J28>2600,$J28<=3000),($J28/1000)+0.3,\"\"))","v":""},{"$f":"IF('Main Details'!$G$28,IF(AND($J28>3450,$J28<=3850),($J28/1000)+0.3,\"\"),IF(AND($J28>3000,$J28<=3450),($J28/1000)+0.3,\"\"))","v":""},null," ",{"$f":"IF(OR($M28=\"Y\",$B28=\"GOB\"),IF('Main Details'!$G$28,\nIF('Main Details'!$F$10=\"2c\",IF(AND($J28>0,$J28<=2350),($J28/1000)+0.24,\"\"),IF(AND($J28>0,$J28<=2400),($J28/1000)+0.27,\"\")),\nIF('Main Details'!$F$10=\"2c\",IF(AND($J28>0,$J28<=2050),($J28/1000)+0.24,\"\"),IF(AND($J28>0,$J28<=2100),($J28/1000)+0.27,\"\"))\n),\"\")","v":""},{"$f":"IF($M28=\"Y\",IF('Main Details'!$G$28,\nIF('Main Details'!$F$10=\"2c\",IF(AND($J28>2350,$J28<=2650),($J28/1000)+0.3,\"\"),IF(AND($J28>2400,$J28<=2650),($J28/1000)+0.3,\"\")),\nIF('Main Details'!$F$10=\"2c\",IF(AND($J28>2050,$J28<=2250),($J28/1000)+0.3,\"\"),IF(AND($J28>2100,$J28<=2250),($J28/1000)+0.3,\"\"))\n),\"\")","v":""},{"$f":"IF($M28=\"Y\",IF('Main Details'!$G$28,\nIF('Main Details'!$F$10=\"2c\",IF(AND($J28>2650,$J28<=3450),($J28/1000)+0.3,\"\"),\"\"),\nIF('Main Details'!$F$10=\"2c\",IF(AND($J28>2250,$J28<=3000),($J28/1000)+0.3,\"\"),\"\")\n),\"\")","v":""},{"$f":"IF($M28=\"Y\",IF('Main Details'!$G$28,\nIF('Main Details'!$F$10=\"2c\",IF(AND($J28>3450,$J28<=3850),($J28/1000)+0.3,\"\"),IF(AND($J28>2650,$J28<=3850),($J28/1000)+0.3,\"\")),\nIF('Main Details'!$F$10=\"2c\",IF(AND($J28>3000,$J28<=3450),($J28/1000)+0.3,\"\"),IF(AND($J28>2250,$J28<=3450),($J28/1000)+0.3,\"\"))\n),\"\")","v":""},null,null,{"$f":"IF(AND($J28<=7199,$J28>=4001),($J28+'BUILDERS SETTINGS'!$C$15)/1000,\" \")","v":" "},{"$f":"IF(AND(#REF!>0,G28>0),(#REF!*0.086)*(J28/1000),\" \")","v":{"$error":"#REF!"}},null,200,"0","0","0","0",null,0,0,"","","","","","","","","","","",""]
[{"$f":"IF(Q29>0,I29+#REF!)","v":false},null,{"$f":"IF(D29=\"Y\",G29*I29,0)","v":0},"N",null,{"$f":"IF(AND(#REF!>0,G29>0),(#REF!*0.086)*(J29/1000),\" \")","v":{"$error":"#REF!"}},null,"x",{"$f":"(IF(J29=\"\",\" \",(J29-10)/240))","v":" "},null," ",null,null,null,"",null,null,null,null,0,0,0,null,null,null,{"$f":"IF('Main Details'!$G$28,IF(AND($J29>0,$J29<=1600,$B29<>\"GOB\"),($J29/1000)+0.2,\"\"),IF(AND($J29>0,$J29<=1200),($J29/1000)+0.2,\"\"))","v":""},{"$f":"IF('Main Details'!$G$28,IF(AND($J29>1600,$J29<=1900),($J29/1000)+0.2,\"\"),IF(AND($J29>1200,$J29<=1500),($J29/1000)+0.2,\"\"))","v":""},{"$f":"IF('Main Details'!$G$28,IF(AND($J29>1900,$J29<=2600),($J29/1000)+0.27,\"\"),IF(AND($J29>1500,$J29<=2200),($J29/1000)+0.27,\"\"))","v":""},{"$f":"IF('Main Details'!$G$28,IF(AND($J29>2600,$J29<=3100),($J29/1000)+0.3,\"\"),IF(AND($J29>2200,$J29<=2600),($J29/1000)+0.3,\"\"))","v":""},{"$f":"IF('Main Details'!$G$28,IF(AND($J29>3100,$J29<=3450),($J29/1000)+0.3,\"\"),IF(AND($J29>2600,$J29<=3000),($J29/1000)+0.3,\"\"))","v":""},{"$f":"IF('Main Details'!$G$28,IF(AND($J29>3450,$J29<=3850),($J29/1000)+0.3,\"\"),IF(AND($J29>3000,$J29<=3450),($J29/1000)+0.3,\"\"))","v":""},null," ",{"$f":"IF(OR($M29=\"Y\",$B29=\"GOB\"),IF('Main Details'!$G$28,\nIF('Main Details'!$F$10=\"2c\",IF(AND($J29>0,$J29<=2350),($J29/1000)+0.24,\"\"),IF(AND($J29>0,$J29<=2400),($J29/1000)+0.27,\"\")),\nIF('Main Details'!$F$10=\"2c\",IF(AND($J29>0,$J29<=2050),($J29/1000)+0.24,\"\"),IF(AND($J29>0,$J29<=2100),($J29/1000)+0.27,\"\"))\n),\"\")","v":""},{"$f":"IF($M29=\"Y\",IF('Main Details'!$G$28,\nIF('Main Details'!$F$10=\"2c\",IF(AND($J29>2350,$J29<=2650),($J29/1000)+0.3,\"\"),IF(AND($J29>2400,$J29<=2650),($J29/1000)+0.3,\"\")),\nIF('Main Details'!$F$10=\"2c\",IF(AND($J29>2050,$J29<=2250),($J29/1000)+0.3,\"\"),IF(AND($J29>2100,$J29<=2250),($J29/1000)+0.3,\"\"))\n),\"\")","v":""},{"$f":"IF($M29=\"Y\",IF('Main Details'!$G$28,\nIF('Main Details'!$F$10=\"2c\",IF(AND($J29>2650,$J29<=3450),($J29/1000)+0.3,\"\"),\"\"),\nIF('Main Details'!$F$10=\"2c\",IF(AND($J29>2250,$J29<=3000),($J29/1000)+0.3,\"\"),\"\")\n),\"\")","v":""},{"$f":"IF($M29=\"Y\",IF('Main Details'!$G$28,\nIF('Main Details'!$F$10=\"2c\",IF(AND($J29>3450,$J29<=3850),($J29/1000)+0.3,\"\"),IF(AND($J29>2650,$J29<=3850),($J29/1000)+0.3,\"\")),\nIF('Main Details'!$F$10=\"2c\",IF(AND($J29>3000,$J29<=3450),($J29/1000)+0.3,\"\"),IF(AND($J29>2250,$J29<=3450),($J29/1000)+0.3,\"\"))\n),\"\")","v":""},null,null,{"$f":"IF(AND($J29<=7199,$J29>=4001),($J29+'BUILDERS SETTINGS'!$C$15)/1000,\" \")","v":" "},{"$f":"IF(AND(#REF!>0,G29>0),(#REF!*0.086)*(J29/1000),\" \")","v":{"$error":"#REF!"}},null,200,"0","0","0","0",null,0,0,"","","","","","","","","","","",""]
[{"$f":"IF(Q30>0,I30+#REF!)","v":false},null,{"$f":"IF(D30=\"Y\",G30*I30,0)","v":0},"N",null,{"$f":"IF(AND(#REF!>0,G30>0),(#REF!*0.086)*(J30/1000),\" \")","v":{"$error":"#REF!"}},null,"x",{"$f":"(IF(J30=\"\",\" \",(J30-10)/240))","v":" "},null," ",null,null,null,"",null,null,null,null,0,0,0,null,null,null,{"$f":"IF('Main Details'!$G$28,IF(AND($J30>0,$J30<=1600,$B30<>\"GOB\"),($J30/1000)+0.2,\"\"),IF(AND($J30>0,$J30<=1200),($J30/1000)+0.2,\"\"))","v":""},{"$f":"IF('Main Details'!$G$28,IF(AND($J30>1600,$J30<=1900),($J30/1000)+0.2,\"\"),IF(AND($J30>1200,$J30<=1500),($J30/1000)+0.2,\"\"))","v":""},{"$f":"IF('Main Details'!$G$28,IF(AND($J30>1900,$J30<=2600),($J30/1000)+0.27,\"\"),IF(AND($J30>1500,$J30<=2200),($J30/1000)+0.27,\"\"))","v":""},{"$f":"IF('Main Details'!$G$28,IF(AND($J30>2600,$J30<=3100),($J30/1000)+0.3,\"\"),IF(AND($J30>2200,$J30<=2600),($J30/1000)+0.3,\"\"))","v":""},{"$f":"IF('Main Details'!$G$28,IF(AND($J30>3100,$J30<=3450),($J30/1000)+0.3,\"\"),IF(AND($J30>2600,$J30<=3000),($J30/1000)+0.3,\"\"))","v":""},{"$f":"IF('Main Details'!$G$28,IF(AND($J30>3450,$J30<=3850),($J30/1000)+0.3,\"\"),IF(AND($J30>3000,$J30<=3450),($J30/1000)+0.3,\"\"))","v":""},null," ",{"$f":"IF(OR($M30=\"Y\",$B30=\"GOB\"),IF('Main Details'!$G$28,\nIF('Main Details'!$F$10=\"2c\",IF(AND($J30>0,$J30<=2350),($J30/1000)+0.24,\"\"),IF(AND($J30>0,$J30<=2400),($J30/1000)+0.27,\"\")),\nIF('Main Details'!$F$10=\"2c\",IF(AND($J30>0,$J30<=2050),($J30/1000)+0.24,\"\"),IF(AND($J30>0,$J30<=2100),($J30/1000)+0.27,\"\"))\n),\"\")","v":""},{"$f":"IF($M30=\"Y\",IF('Main Details'!$G$28,\nIF('Main Details'!$F$10=\"2c\",IF(AND($J30>2350,$J30<=2650),($J30/1000)+0.3,\"\"),IF(AND($J30>2400,$J30<=2650),($J30/1000)+0.3,\"\")),\nIF('Main Details'!$F$10=\"2c\",IF(AND($J30>2050,$J30<=2250),($J30/1000)+0.3,\"\"),IF(AND($J30>2100,$J30<=2250),($J30/1000)+0.3,\"\"))\n),\"\")","v":""},{"$f":"IF($M30=\"Y\",IF('Main Details'!$G$28,\nIF('Main Details'!$F$10=\"2c\",IF(AND($J30>2650,$J30<=3450),($J30/1000)+0.3,\"\"),\"\"),\nIF('Main Details'!$F$10=\"2c\",IF(AND($J30>2250,$J30<=3000),($J30/1000)+0.3,\"\"),\"\")\n),\"\")","v":""},{"$f":"IF($M30=\"Y\",IF('Main Details'!$G$28,\nIF('Main Details'!$F$10=\"2c\",IF(AND($J30>3450,$J30<=3850),($J30/1000)+0.3,\"\"),IF(AND($J30>2650,$J30<=3850),($J30/1000)+0.3,\"\")),\nIF('Main Details'!$F$10=\"2c\",IF(AND($J30>3000,$J30<=3450),($J30/1000)+0.3,\"\"),IF(AND($J30>2250,$J30<=3450),($J30/1000)+0.3,\"\"))\n),\"\")","v":""},null,null,{"$f":"IF(AND($J30<=7199,$J30>=4001),($J30+'BUILDERS SETTINGS'!$C$15)/1000,\" \")","v":" "},{"$f":"IF(AND(#REF!>0,G30>0),(#REF!*0.086)*(J30/1000),\" \")","v":{"$error":"#REF!"}},null,200,"0","0","0","0",null,0,0,"","","","","","","","","","","",""]
[{"$f":"IF(Q31>0,I31+#REF!)","v":false},null,{"$f":"IF(D31=\"Y\",G31*I31,0)","v":0},"N",null,{"$f":"IF(AND(#REF!>0,G31>0),(#REF!*0.086)*(J31/1000),\" \")","v":{"$error":"#REF!"}},null,"x",{"$f":"(IF(J31=\"\",\" \",(J31-10)/240))","v":" "},null," ",null,null,null,"",null,null,null,null,0,0,0,null,null,null,{"$f":"IF('Main Details'!$G$28,IF(AND($J31>0,$J31<=1600,$B31<>\"GOB\"),($J31/1000)+0.2,\"\"),IF(AND($J31>0,$J31<=1200),($J31/1000)+0.2,\"\"))","v":""},{"$f":"IF('Main Details'!$G$28,IF(AND($J31>1600,$J31<=1900),($J31/1000)+0.2,\"\"),IF(AND($J31>1200,$J31<=1500),($J31/1000)+0.2,\"\"))","v":""},{"$f":"IF('Main Details'!$G$28,IF(AND($J31>1900,$J31<=2600),($J31/1000)+0.27,\"\"),IF(AND($J31>1500,$J31<=2200),($J31/1000)+0.27,\"\"))","v":""},{"$f":"IF('Main Details'!$G$28,IF(AND($J31>2600,$J31<=3100),($J31/1000)+0.3,\"\"),IF(AND($J31>2200,$J31<=2600),($J31/1000)+0.3,\"\"))","v":""},{"$f":"IF('Main Details'!$G$28,IF(AND($J31>3100,$J31<=3450),($J31/1000)+0.3,\"\"),IF(AND($J31>2600,$J31<=3000),($J31/1000)+0.3,\"\"))","v":""},{"$f":"IF('Main Details'!$G$28,IF(AND($J31>3450,$J31<=3850),($J31/1000)+0.3,\"\"),IF(AND($J31>3000,$J31<=3450),($J31/1000)+0.3,\"\"))","v":""},null," ",{"$f":"IF(OR($M31=\"Y\",$B31=\"GOB\"),IF('Main Details'!$G$28,\nIF('Main Details'!$F$10=\"2c\",IF(AND($J31>0,$J31<=2350),($J31/1000)+0.24,\"\"),IF(AND($J31>0,$J31<=2400),($J31/1000)+0.27,\"\")),\nIF('Main Details'!$F$10=\"2c\",IF(AND($J31>0,$J31<=2050),($J31/1000)+0.24,\"\"),IF(AND($J31>0,$J31<=2100),($J31/1000)+0.27,\"\"))\n),\"\")","v":""},{"$f":"IF($M31=\"Y\",IF('Main Details'!$G$28,\nIF('Main Details'!$F$10=\"2c\",IF(AND($J31>2350,$J31<=2650),($J31/1000)+0.3,\"\"),IF(AND($J31>2400,$J31<=2650),($J31/1000)+0.3,\"\")),\nIF('Main Details'!$F$10=\"2c\",IF(AND($J31>2050,$J31<=2250),($J31/1000)+0.3,\"\"),IF(AND($J31>2100,$J31<=2250),($J31/1000)+0.3,\"\"))\n),\"\")","v":""},{"$f":"IF($M31=\"Y\",IF('Main Details'!$G$28,\nIF('Main Details'!$F$10=\"2c\",IF(AND($J31>2650,$J31<=3450),($J31/1000)+0.3,\"\"),\"\"),\nIF('Main Details'!$F$10=\"2c\",IF(AND($J31>2250,$J31<=3000),($J31/1000)+0.3,\"\"),\"\")\n),\"\")","v":""},{"$f":"IF($M31=\"Y\",IF('Main Details'!$G$28,\nIF('Main Details'!$F$10=\"2c\",IF(AND($J31>3450,$J31<=3850),($J31/1000)+0.3,\"\"),IF(AND($J31>2650,$J31<=3850),($J31/1000)+0.3,\"\")),\nIF('Main Details'!$F$10=\"2c\",IF(AND($J31>3000,$J31<=3450),($J31/1000)+0.3,\"\"),IF(AND($J31>2250,$J31<=3450),($J31/1000)+0.3,\"\"))\n),\"\")","v":""},null,null,{"$f":"IF(AND($J31<=7199,$J31>=4001),($J31+'BUILDERS SETTINGS'!$C$15)/1000,\" \")","v":" "},{"$f":"IF(AND(#REF!>0,G31>0),(#REF!*0.086)*(J31/1000),\" \")","v":{"$error":"#REF!"}},null,200,"0","0","0","0",null,0,0,"","","","","","","","","","","",""]
[{"$f":"IF(Q32>0,I32+#REF!)","v":false},null,{"$f":"IF(D32=\"Y\",G32*I32,0)","v":0},"N",null,{"$f":"IF(AND(#REF!>0,G32>0),(#REF!*0.086)*(J32/1000),\" \")","v":{"$error":"#REF!"}},null,"x",{"$f":"(IF(J32=\"\",\" \",(J32-10)/240))","v":" "},null," ",null,null,null,"",null,null,null,null,0,0,0,null,null,null,{"$f":"IF('Main Details'!$G$28,IF(AND($J32>0,$J32<=1600,$B32<>\"GOB\"),($J32/1000)+0.2,\"\"),IF(AND($J32>0,$J32<=1200),($J32/1000)+0.2,\"\"))","v":""},{"$f":"IF('Main Details'!$G$28,IF(AND($J32>1600,$J32<=1900),($J32/1000)+0.2,\"\"),IF(AND($J32>1200,$J32<=1500),($J32/1000)+0.2,\"\"))","v":""},{"$f":"IF('Main Details'!$G$28,IF(AND($J32>1900,$J32<=2600),($J32/1000)+0.27,\"\"),IF(AND($J32>1500,$J32<=2200),($J32/1000)+0.27,\"\"))","v":""},{"$f":"IF('Main Details'!$G$28,IF(AND($J32>2600,$J32<=3100),($J32/1000)+0.3,\"\"),IF(AND($J32>2200,$J32<=2600),($J32/1000)+0.3,\"\"))","v":""},{"$f":"IF('Main Details'!$G$28,IF(AND($J32>3100,$J32<=3450),($J32/1000)+0.3,\"\"),IF(AND($J32>2600,$J32<=3000),($J32/1000)+0.3,\"\"))","v":""},{"$f":"IF('Main Details'!$G$28,IF(AND($J32>3450,$J32<=3850),($J32/1000)+0.3,\"\"),IF(AND($J32>3000,$J32<=3450),($J32/1000)+0.3,\"\"))","v":""},null," ",{"$f":"IF(OR($M32=\"Y\",$B32=\"GOB\"),IF('Main Details'!$G$28,\nIF('Main Details'!$F$10=\"2c\",IF(AND($J32>0,$J32<=2350),($J32/1000)+0.24,\"\"),IF(AND($J32>0,$J32<=2400),($J32/1000)+0.27,\"\")),\nIF('Main Details'!$F$10=\"2c\",IF(AND($J32>0,$J32<=2050),($J32/1000)+0.24,\"\"),IF(AND($J32>0,$J32<=2100),($J32/1000)+0.27,\"\"))\n),\"\")","v":""},{"$f":"IF($M32=\"Y\",IF('Main Details'!$G$28,\nIF('Main Details'!$F$10=\"2c\",IF(AND($J32>2350,$J32<=2650),($J32/1000)+0.3,\"\"),IF(AND($J32>2400,$J32<=2650),($J32/1000)+0.3,\"\")),\nIF('Main Details'!$F$10=\"2c\",IF(AND($J32>2050,$J32<=2250),($J32/1000)+0.3,\"\"),IF(AND($J32>2100,$J32<=2250),($J32/1000)+0.3,\"\"))\n),\"\")","v":""},{"$f":"IF($M32=\"Y\",IF('Main Details'!$G$28,\nIF('Main Details'!$F$10=\"2c\",IF(AND($J32>2650,$J32<=3450),($J32/1000)+0.3,\"\"),\"\"),\nIF('Main Details'!$F$10=\"2c\",IF(AND($J32>2250,$J32<=3000),($J32/1000)+0.3,\"\"),\"\")\n),\"\")","v":""},{"$f":"IF($M32=\"Y\",IF('Main Details'!$G$28,\nIF('Main Details'!$F$10=\"2c\",IF(AND($J32>3450,$J32<=3850),($J32/1000)+0.3,\"\"),IF(AND($J32>2650,$J32<=3850),($J32/1000)+0.3,\"\")),\nIF('Main Details'!$F$10=\"2c\",IF(AND($J32>3000,$J32<=3450),($J32/1000)+0.3,\"\"),IF(AND($J32>2250,$J32<=3450),($J32/1000)+0.3,\"\"))\n),\"\")","v":""},null,null,{"$f":"IF(AND($J32<=7199,$J32>=4001),($J32+'BUILDERS SETTINGS'!$C$15)/1000,\" \")","v":" "},{"$f":"IF(AND(#REF!>0,G32>0),(#REF!*0.086)*(J32/1000),\" \")","v":{"$error":"#REF!"}},null,200,"0","0","0","0",null,0,0,"","","","","","","","","","","",""]
[{"$f":"IF(Q33>0,I33+#REF!)","v":false},null,{"$f":"IF(D33=\"Y\",G33*I33,0)","v":0},"N",null,{"$f":"IF(AND(#REF!>0,G33>0),(#REF!*0.086)*(J33/1000),\" \")","v":{"$error":"#REF!"}},null,"x",{"$f":"(IF(J33=\"\",\" \",(J33-10)/240))","v":" "},null," ",null,null,null,"",null,null,null,null,0,0,0,null,null,null,{"$f":"IF('Main Details'!$G$28,IF(AND($J33>0,$J33<=1600,$B33<>\"GOB\"),($J33/1000)+0.2,\"\"),IF(AND($J33>0,$J33<=1200),($J33/1000)+0.2,\"\"))","v":""},{"$f":"IF('Main Details'!$G$28,IF(AND($J33>1600,$J33<=1900),($J33/1000)+0.2,\"\"),IF(AND($J33>1200,$J33<=1500),($J33/1000)+0.2,\"\"))","v":""},{"$f":"IF('Main Details'!$G$28,IF(AND($J33>1900,$J33<=2600),($J33/1000)+0.27,\"\"),IF(AND($J33>1500,$J33<=2200),($J33/1000)+0.27,\"\"))","v":""},{"$f":"IF('Main Details'!$G$28,IF(AND($J33>2600,$J33<=3100),($J33/1000)+0.3,\"\"),IF(AND($J33>2200,$J33<=2600),($J33/1000)+0.3,\"\"))","v":""},{"$f":"IF('Main Details'!$G$28,IF(AND($J33>3100,$J33<=3450),($J33/1000)+0.3,\"\"),IF(AND($J33>2600,$J33<=3000),($J33/1000)+0.3,\"\"))","v":""},{"$f":"IF('Main Details'!$G$28,IF(AND($J33>3450,$J33<=3850),($J33/1000)+0.3,\"\"),IF(AND($J33>3000,$J33<=3450),($J33/1000)+0.3,\"\"))","v":""},null," ",{"$f":"IF(OR($M33=\"Y\",$B33=\"GOB\"),IF('Main Details'!$G$28,\nIF('Main Details'!$F$10=\"2c\",IF(AND($J33>0,$J33<=2350),($J33/1000)+0.24,\"\"),IF(AND($J33>0,$J33<=2400),($J33/1000)+0.27,\"\")),\nIF('Main Details'!$F$10=\"2c\",IF(AND($J33>0,$J33<=2050),($J33/1000)+0.24,\"\"),IF(AND($J33>0,$J33<=2100),($J33/1000)+0.27,\"\"))\n),\"\")","v":""},{"$f":"IF($M33=\"Y\",IF('Main Details'!$G$28,\nIF('Main Details'!$F$10=\"2c\",IF(AND($J33>2350,$J33<=2650),($J33/1000)+0.3,\"\"),IF(AND($J33>2400,$J33<=2650),($J33/1000)+0.3,\"\")),\nIF('Main Details'!$F$10=\"2c\",IF(AND($J33>2050,$J33<=2250),($J33/1000)+0.3,\"\"),IF(AND($J33>2100,$J33<=2250),($J33/1000)+0.3,\"\"))\n),\"\")","v":""},{"$f":"IF($M33=\"Y\",IF('Main Details'!$G$28,\nIF('Main Details'!$F$10=\"2c\",IF(AND($J33>2650,$J33<=3450),($J33/1000)+0.3,\"\"),\"\"),\nIF('Main Details'!$F$10=\"2c\",IF(AND($J33>2250,$J33<=3000),($J33/1000)+0.3,\"\"),\"\")\n),\"\")","v":""},{"$f":"IF($M33=\"Y\",IF('Main Details'!$G$28,\nIF('Main Details'!$F$10=\"2c\",IF(AND($J33>3450,$J33<=3850),($J33/1000)+0.3,\"\"),IF(AND($J33>2650,$J33<=3850),($J33/1000)+0.3,\"\")),\nIF('Main Details'!$F$10=\"2c\",IF(AND($J33>3000,$J33<=3450),($J33/1000)+0.3,\"\"),IF(AND($J33>2250,$J33<=3450),($J33/1000)+0.3,\"\"))\n),\"\")","v":""},null,null,{"$f":"IF(AND($J33<=7199,$J33>=4001),($J33+'BUILDERS SETTINGS'!$C$15)/1000,\" \")","v":" "},{"$f":"IF(AND(#REF!>0,G33>0),(#REF!*0.086)*(J33/1000),\" \")","v":{"$error":"#REF!"}},null,200,"0","0","0","0",null,0,0,"","","","","","","","","","","",""]
[{"$f":"IF(Q34>0,I34+#REF!)","v":false},null,{"$f":"IF(D34=\"Y\",G34*I34,0)","v":0},"N",null,{"$f":"IF(AND(#REF!>0,G34>0),(#REF!*0.086)*(J34/1000),\" \")","v":{"$error":"#REF!"}},null,"x",{"$f":"(IF(J34=\"\",\" \",(J34-10)/240))","v":" "},null," ",null,null,null,"",null,null,null,null,0,0,0,null,null,null,{"$f":"IF('Main Details'!$G$28,IF(AND($J34>0,$J34<=1600,$B34<>\"GOB\"),($J34/1000)+0.2,\"\"),IF(AND($J34>0,$J34<=1200),($J34/1000)+0.2,\"\"))","v":""},{"$f":"IF('Main Details'!$G$28,IF(AND($J34>1600,$J34<=1900),($J34/1000)+0.2,\"\"),IF(AND($J34>1200,$J34<=1500),($J34/1000)+0.2,\"\"))","v":""},{"$f":"IF('Main Details'!$G$28,IF(AND($J34>1900,$J34<=2600),($J34/1000)+0.27,\"\"),IF(AND($J34>1500,$J34<=2200),($J34/1000)+0.27,\"\"))","v":""},{"$f":"IF('Main Details'!$G$28,IF(AND($J34>2600,$J34<=3100),($J34/1000)+0.3,\"\"),IF(AND($J34>2200,$J34<=2600),($J34/1000)+0.3,\"\"))","v":""},{"$f":"IF('Main Details'!$G$28,IF(AND($J34>3100,$J34<=3450),($J34/1000)+0.3,\"\"),IF(AND($J34>2600,$J34<=3000),($J34/1000)+0.3,\"\"))","v":""},{"$f":"IF('Main Details'!$G$28,IF(AND($J34>3450,$J34<=3850),($J34/1000)+0.3,\"\"),IF(AND($J34>3000,$J34<=3450),($J34/1000)+0.3,\"\"))","v":""},null," ",{"$f":"IF(OR($M34=\"Y\",$B34=\"GOB\"),IF('Main Details'!$G$28,\nIF('Main Details'!$F$10=\"2c\",IF(AND($J34>0,$J34<=2350),($J34/1000)+0.24,\"\"),IF(AND($J34>0,$J34<=2400),($J34/1000)+0.27,\"\")),\nIF('Main Details'!$F$10=\"2c\",IF(AND($J34>0,$J34<=2050),($J34/1000)+0.24,\"\"),IF(AND($J34>0,$J34<=2100),($J34/1000)+0.27,\"\"))\n),\"\")","v":""},{"$f":"IF($M34=\"Y\",IF('Main Details'!$G$28,\nIF('Main Details'!$F$10=\"2c\",IF(AND($J34>2350,$J34<=2650),($J34/1000)+0.3,\"\"),IF(AND($J34>2400,$J34<=2650),($J34/1000)+0.3,\"\")),\nIF('Main Details'!$F$10=\"2c\",IF(AND($J34>2050,$J34<=2250),($J34/1000)+0.3,\"\"),IF(AND($J34>2100,$J34<=2250),($J34/1000)+0.3,\"\"))\n),\"\")","v":""},{"$f":"IF($M34=\"Y\",IF('Main Details'!$G$28,\nIF('Main Details'!$F$10=\"2c\",IF(AND($J34>2650,$J34<=3450),($J34/1000)+0.3,\"\"),\"\"),\nIF('Main Details'!$F$10=\"2c\",IF(AND($J34>2250,$J34<=3000),($J34/1000)+0.3,\"\"),\"\")\n),\"\")","v":""},{"$f":"IF($M34=\"Y\",IF('Main Details'!$G$28,\nIF('Main Details'!$F$10=\"2c\",IF(AND($J34>3450,$J34<=3850),($J34/1000)+0.3,\"\"),IF(AND($J34>2650,$J34<=3850),($J34/1000)+0.3,\"\")),\nIF('Main Details'!$F$10=\"2c\",IF(AND($J34>3000,$J34<=3450),($J34/1000)+0.3,\"\"),IF(AND($J34>2250,$J34<=3450),($J34/1000)+0.3,\"\"))\n),\"\")","v":""},null,null,{"$f":"IF(AND($J34<=7199,$J34>=4001),($J34+'BUILDERS SETTINGS'!$C$15)/1000,\" \")","v":" "},{"$f":"IF(AND(#REF!>0,G34>0),(#REF!*0.086)*(J34/1000),\" \")","v":{"$error":"#REF!"}},null,200,"0","0","0","0",null,0,0,"","","","","","","","","","","",""]
[{"$f":"IF(Q35>0,I35+#REF!)","v":false},null,{"$f":"IF(D35=\"Y\",G35*I35,0)","v":0},"N",null,{"$f":"IF(AND(#REF!>0,G35>0),(#REF!*0.086)*(J35/1000),\" \")","v":{"$error":"#REF!"}},null,"x",{"$f":"(IF(J35=\"\",\" \",(J35-10)/240))","v":" "},null," ",null,null,null,"",null,null,null,null,0,0,0,null,null,null,{"$f":"IF('Main Details'!$G$28,IF(AND($J35>0,$J35<=1600,$B35<>\"GOB\"),($J35/1000)+0.2,\"\"),IF(AND($J35>0,$J35<=1200),($J35/1000)+0.2,\"\"))","v":""},{"$f":"IF('Main Details'!$G$28,IF(AND($J35>1600,$J35<=1900),($J35/1000)+0.2,\"\"),IF(AND($J35>1200,$J35<=1500),($J35/1000)+0.2,\"\"))","v":""},{"$f":"IF('Main Details'!$G$28,IF(AND($J35>1900,$J35<=2600),($J35/1000)+0.27,\"\"),IF(AND($J35>1500,$J35<=2200),($J35/1000)+0.27,\"\"))","v":""},{"$f":"IF('Main Details'!$G$28,IF(AND($J35>2600,$J35<=3100),($J35/1000)+0.3,\"\"),IF(AND($J35>2200,$J35<=2600),($J35/1000)+0.3,\"\"))","v":""},{"$f":"IF('Main Details'!$G$28,IF(AND($J35>3100,$J35<=3450),($J35/1000)+0.3,\"\"),IF(AND($J35>2600,$J35<=3000),($J35/1000)+0.3,\"\"))","v":""},{"$f":"IF('Main Details'!$G$28,IF(AND($J35>3450,$J35<=3850),($J35/1000)+0.3,\"\"),IF(AND($J35>3000,$J35<=3450),($J35/1000)+0.3,\"\"))","v":""},null," ",{"$f":"IF(OR($M35=\"Y\",$B35=\"GOB\"),IF('Main Details'!$G$28,\nIF('Main Details'!$F$10=\"2c\",IF(AND($J35>0,$J35<=2350),($J35/1000)+0.24,\"\"),IF(AND($J35>0,$J35<=2400),($J35/1000)+0.27,\"\")),\nIF('Main Details'!$F$10=\"2c\",IF(AND($J35>0,$J35<=2050),($J35/1000)+0.24,\"\"),IF(AND($J35>0,$J35<=2100),($J35/1000)+0.27,\"\"))\n),\"\")","v":""},{"$f":"IF($M35=\"Y\",IF('Main Details'!$G$28,\nIF('Main Details'!$F$10=\"2c\",IF(AND($J35>2350,$J35<=2650),($J35/1000)+0.3,\"\"),IF(AND($J35>2400,$J35<=2650),($J35/1000)+0.3,\"\")),\nIF('Main Details'!$F$10=\"2c\",IF(AND($J35>2050,$J35<=2250),($J35/1000)+0.3,\"\"),IF(AND($J35>2100,$J35<=2250),($J35/1000)+0.3,\"\"))\n),\"\")","v":""},{"$f":"IF($M35=\"Y\",IF('Main Details'!$G$28,\nIF('Main Details'!$F$10=\"2c\",IF(AND($J35>2650,$J35<=3450),($J35/1000)+0.3,\"\"),\"\"),\nIF('Main Details'!$F$10=\"2c\",IF(AND($J35>2250,$J35<=3000),($J35/1000)+0.3,\"\"),\"\")\n),\"\")","v":""},{"$f":"IF($M35=\"Y\",IF('Main Details'!$G$28,\nIF('Main Details'!$F$10=\"2c\",IF(AND($J35>3450,$J35<=3850),($J35/1000)+0.3,\"\"),IF(AND($J35>2650,$J35<=3850),($J35/1000)+0.3,\"\")),\nIF('Main Details'!$F$10=\"2c\",IF(AND($J35>3000,$J35<=3450),($J35/1000)+0.3,\"\"),IF(AND($J35>2250,$J35<=3450),($J35/1000)+0.3,\"\"))\n),\"\")","v":""},null,null,{"$f":"IF(AND($J35<=7199,$J35>=4001),($J35+'BUILDERS SETTINGS'!$C$15)/1000,\" \")","v":" "},{"$f":"IF(AND(#REF!>0,G35>0),(#REF!*0.086)*(J35/1000),\" \")","v":{"$error":"#REF!"}},null,200,"0","0","0","0",null,0,0,"","","","","","","","","","","",""]
[{"$f":"IF(Q36>0,I36+#REF!)","v":false},null,{"$f":"IF(D36=\"Y\",G36*I36,0)","v":0},"N",null,{"$f":"IF(AND(#REF!>0,G36>0),(#REF!*0.086)*(J36/1000),\" \")","v":{"$error":"#REF!"}},null,"x",{"$f":"(IF(J36=\"\",\" \",(J36-10)/240))","v":" "},null," ",null,null,null,"",null,null,null,null,0,0,0,null,null,null,{"$f":"IF('Main Details'!$G$28,IF(AND($J36>0,$J36<=1600,$B36<>\"GOB\"),($J36/1000)+0.2,\"\"),IF(AND($J36>0,$J36<=1200),($J36/1000)+0.2,\"\"))","v":""},{"$f":"IF('Main Details'!$G$28,IF(AND($J36>1600,$J36<=1900),($J36/1000)+0.2,\"\"),IF(AND($J36>1200,$J36<=1500),($J36/1000)+0.2,\"\"))","v":""},{"$f":"IF('Main Details'!$G$28,IF(AND($J36>1900,$J36<=2600),($J36/1000)+0.27,\"\"),IF(AND($J36>1500,$J36<=2200),($J36/1000)+0.27,\"\"))","v":""},{"$f":"IF('Main Details'!$G$28,IF(AND($J36>2600,$J36<=3100),($J36/1000)+0.3,\"\"),IF(AND($J36>2200,$J36<=2600),($J36/1000)+0.3,\"\"))","v":""},{"$f":"IF('Main Details'!$G$28,IF(AND($J36>3100,$J36<=3450),($J36/1000)+0.3,\"\"),IF(AND($J36>2600,$J36<=3000),($J36/1000)+0.3,\"\"))","v":""},{"$f":"IF('Main Details'!$G$28,IF(AND($J36>3450,$J36<=3850),($J36/1000)+0.3,\"\"),IF(AND($J36>3000,$J36<=3450),($J36/1000)+0.3,\"\"))","v":""},null," ",{"$f":"IF(OR($M36=\"Y\",$B36=\"GOB\"),IF('Main Details'!$G$28,\nIF('Main Details'!$F$10=\"2c\",IF(AND($J36>0,$J36<=2350),($J36/1000)+0.24,\"\"),IF(AND($J36>0,$J36<=2400),($J36/1000)+0.27,\"\")),\nIF('Main Details'!$F$10=\"2c\",IF(AND($J36>0,$J36<=2050),($J36/1000)+0.24,\"\"),IF(AND($J36>0,$J36<=2100),($J36/1000)+0.27,\"\"))\n),\"\")","v":""},{"$f":"IF($M36=\"Y\",IF('Main Details'!$G$28,\nIF('Main Details'!$F$10=\"2c\",IF(AND($J36>2350,$J36<=2650),($J36/1000)+0.3,\"\"),IF(AND($J36>2400,$J36<=2650),($J36/1000)+0.3,\"\")),\nIF('Main Details'!$F$10=\"2c\",IF(AND($J36>2050,$J36<=2250),($J36/1000)+0.3,\"\"),IF(AND($J36>2100,$J36<=2250),($J36/1000)+0.3,\"\"))\n),\"\")","v":""},{"$f":"IF($M36=\"Y\",IF('Main Details'!$G$28,\nIF('Main Details'!$F$10=\"2c\",IF(AND($J36>2650,$J36<=3450),($J36/1000)+0.3,\"\"),\"\"),\nIF('Main Details'!$F$10=\"2c\",IF(AND($J36>2250,$J36<=3000),($J36/1000)+0.3,\"\"),\"\")\n),\"\")","v":""},{"$f":"IF($M36=\"Y\",IF('Main Details'!$G$28,\nIF('Main Details'!$F$10=\"2c\",IF(AND($J36>3450,$J36<=3850),($J36/1000)+0.3,\"\"),IF(AND($J36>2650,$J36<=3850),($J36/1000)+0.3,\"\")),\nIF('Main Details'!$F$10=\"2c\",IF(AND($J36>3000,$J36<=3450),($J36/1000)+0.3,\"\"),IF(AND($J36>2250,$J36<=3450),($J36/1000)+0.3,\"\"))\n),\"\")","v":""},null,null,{"$f":"IF(AND($J36<=7199,$J36>=4001),($J36+'BUILDERS SETTINGS'!$C$15)/1000,\" \")","v":" "},{"$f":"IF(AND(#REF!>0,G36>0),(#REF!*0.086)*(J36/1000),\" \")","v":{"$error":"#REF!"}},null,200,"0","0","0","0",null,0,0,"","","","","","","","","","","",""]
[{"$f":"IF(Q37>0,I37+#REF!)","v":false},null,{"$f":"IF(D37=\"Y\",G37*I37,0)","v":0},"N",null,{"$f":"IF(AND(#REF!>0,G37>0),(#REF!*0.086)*(J37/1000),\" \")","v":{"$error":"#REF!"}},null,"x",{"$f":"(IF(J37=\"\",\" \",(J37-10)/240))","v":" "},null," ",null,null,null,"",null,null,null,null,0,0,0,null,null,null,{"$f":"IF('Main Details'!$G$28,IF(AND($J37>0,$J37<=1600,$B37<>\"GOB\"),($J37/1000)+0.2,\"\"),IF(AND($J37>0,$J37<=1200),($J37/1000)+0.2,\"\"))","v":""},{"$f":"IF('Main Details'!$G$28,IF(AND($J37>1600,$J37<=1900),($J37/1000)+0.2,\"\"),IF(AND($J37>1200,$J37<=1500),($J37/1000)+0.2,\"\"))","v":""},{"$f":"IF('Main Details'!$G$28,IF(AND($J37>1900,$J37<=2600),($J37/1000)+0.27,\"\"),IF(AND($J37>1500,$J37<=2200),($J37/1000)+0.27,\"\"))","v":""},{"$f":"IF('Main Details'!$G$28,IF(AND($J37>2600,$J37<=3100),($J37/1000)+0.3,\"\"),IF(AND($J37>2200,$J37<=2600),($J37/1000)+0.3,\"\"))","v":""},{"$f":"IF('Main Details'!$G$28,IF(AND($J37>3100,$J37<=3450),($J37/1000)+0.3,\"\"),IF(AND($J37>2600,$J37<=3000),($J37/1000)+0.3,\"\"))","v":""},{"$f":"IF('Main Details'!$G$28,IF(AND($J37>3450,$J37<=3850),($J37/1000)+0.3,\"\"),IF(AND($J37>3000,$J37<=3450),($J37/1000)+0.3,\"\"))","v":""},null," ",{"$f":"IF(OR($M37=\"Y\",$B37=\"GOB\"),IF('Main Details'!$G$28,\nIF('Main Details'!$F$10=\"2c\",IF(AND($J37>0,$J37<=2350),($J37/1000)+0.24,\"\"),IF(AND($J37>0,$J37<=2400),($J37/1000)+0.27,\"\")),\nIF('Main Details'!$F$10=\"2c\",IF(AND($J37>0,$J37<=2050),($J37/1000)+0.24,\"\"),IF(AND($J37>0,$J37<=2100),($J37/1000)+0.27,\"\"))\n),\"\")","v":""},{"$f":"IF($M37=\"Y\",IF('Main Details'!$G$28,\nIF('Main Details'!$F$10=\"2c\",IF(AND($J37>2350,$J37<=2650),($J37/1000)+0.3,\"\"),IF(AND($J37>2400,$J37<=2650),($J37/1000)+0.3,\"\")),\nIF('Main Details'!$F$10=\"2c\",IF(AND($J37>2050,$J37<=2250),($J37/1000)+0.3,\"\"),IF(AND($J37>2100,$J37<=2250),($J37/1000)+0.3,\"\"))\n),\"\")","v":""},{"$f":"IF($M37=\"Y\",IF('Main Details'!$G$28,\nIF('Main Details'!$F$10=\"2c\",IF(AND($J37>2650,$J37<=3450),($J37/1000)+0.3,\"\"),\"\"),\nIF('Main Details'!$F$10=\"2c\",IF(AND($J37>2250,$J37<=3000),($J37/1000)+0.3,\"\"),\"\")\n),\"\")","v":""},{"$f":"IF($M37=\"Y\",IF('Main Details'!$G$28,\nIF('Main Details'!$F$10=\"2c\",IF(AND($J37>3450,$J37<=3850),($J37/1000)+0.3,\"\"),IF(AND($J37>2650,$J37<=3850),($J37/1000)+0.3,\"\")),\nIF('Main Details'!$F$10=\"2c\",IF(AND($J37>3000,$J37<=3450),($J37/1000)+0.3,\"\"),IF(AND($J37>2250,$J37<=3450),($J37/1000)+0.3,\"\"))\n),\"\")","v":""},null,null,{"$f":"IF(AND($J37<=7199,$J37>=4001),($J37+'BUILDERS SETTINGS'!$C$15)/1000,\" \")","v":" "},{"$f":"IF(AND(#REF!>0,G37>0),(#REF!*0.086)*(J37/1000),\" \")","v":{"$error":"#REF!"}},null,200,"0","0","0","0",null,0,0,"","","","","","","","","","","",""]
[{"$f":"IF(Q38>0,I38+#REF!)","v":false},null,0,"N",null,{"$f":"IF(AND(#REF!>0,G38>0),(#REF!*0.086)*(J38/1000),\" \")","v":{"$error":"#REF!"}},null,"x"," ",null," ",null,null,null,"",null,null,null,null,0,0,0,null,null,null,{"$f":"IF('Main Details'!$G$28,IF(AND($J38>0,$J38<=1600,$B38<>\"GOB\"),($J38/1000)+0.2,\"\"),IF(AND($J38>0,$J38<=1200),($J38/1000)+0.2,\"\"))","v":""},{"$f":"IF('Main Details'!$G$28,IF(AND($J38>1600,$J38<=1900),($J38/1000)+0.2,\"\"),IF(AND($J38>1200,$J38<=1500),($J38/1000)+0.2,\"\"))","v":""},{"$f":"IF('Main Details'!$G$28,IF(AND($J38>1900,$J38<=2600),($J38/1000)+0.27,\"\"),IF(AND($J38>1500,$J38<=2200),($J38/1000)+0.27,\"\"))","v":""},{"$f":"IF('Main Details'!$G$28,IF(AND($J38>2600,$J38<=3100),($J38/1000)+0.3,\"\"),IF(AND($J38>2200,$J38<=2600),($J38/1000)+0.3,\"\"))","v":""},{"$f":"IF('Main Details'!$G$28,IF(AND($J38>3100,$J38<=3450),($J38/1000)+0.3,\"\"),IF(AND($J38>2600,$J38<=3000),($J38/1000)+0.3,\"\"))","v":""},{"$f":"IF('Main Details'!$G$28,IF(AND($J38>3450,$J38<=3850),($J38/1000)+0.3,\"\"),IF(AND($J38>3000,$J38<=3450),($J38/1000)+0.3,\"\"))","v":""},null," ",{"$f":"IF(OR($M38=\"Y\",$B38=\"GOB\"),IF('Main Details'!$G$28,\nIF('Main Details'!$F$10=\"2c\",IF(AND($J38>0,$J38<=2350),($J38/1000)+0.24,\"\"),IF(AND($J38>0,$J38<=2400),($J38/1000)+0.27,\"\")),\nIF('Main Details'!$F$10=\"2c\",IF(AND($J38>0,$J38<=2050),($J38/1000)+0.24,\"\"),IF(AND($J38>0,$J38<=2100),($J38/1000)+0.27,\"\"))\n),\"\")","v":""},{"$f":"IF($M38=\"Y\",IF('Main Details'!$G$28,\nIF('Main Details'!$F$10=\"2c\",IF(AND($J38>2350,$J38<=2650),($J38/1000)+0.3,\"\"),IF(AND($J38>2400,$J38<=2650),($J38/1000)+0.3,\"\")),\nIF('Main Details'!$F$10=\"2c\",IF(AND($J38>2050,$J38<=2250),($J38/1000)+0.3,\"\"),IF(AND($J38>2100,$J38<=2250),($J38/1000)+0.3,\"\"))\n),\"\")","v":""},{"$f":"IF($M38=\"Y\",IF('Main Details'!$G$28,\nIF('Main Details'!$F$10=\"2c\",IF(AND($J38>2650,$J38<=3450),($J38/1000)+0.3,\"\"),\"\"),\nIF('Main Details'!$F$10=\"2c\",IF(AND($J38>2250,$J38<=3000),($J38/1000)+0.3,\"\"),\"\")\n),\"\")","v":""},{"$f":"IF($M38=\"Y\",IF('Main Details'!$G$28,\nIF('Main Details'!$F$10=\"2c\",IF(AND($J38>3450,$J38<=3850),($J38/1000)+0.3,\"\"),IF(AND($J38>2650,$J38<=3850),($J38/1000)+0.3,\"\")),\nIF('Main Details'!$F$10=\"2c\",IF(AND($J38>3000,$J38<=3450),($J38/1000)+0.3,\"\"),IF(AND($J38>2250,$J38<=3450),($J38/1000)+0.3,\"\"))\n),\"\")","v":""},null,null,{"$f":"IF(AND($J38<=7199,$J38>=4001),($J38+'BUILDERS SETTINGS'!$C$15)/1000,\" \")","v":" "},{"$f":"IF(AND(#REF!>0,G38>0),(#REF!*0.086)*(J38/1000),\" \")","v":{"$error":"#REF!"}},null,200,"0","0","0","0",null,0,0,"","","","","","","","","","","",""]
[{"$f":"IF(Q39>0,I39+#REF!)","v":false},null,0,"N",null,{"$f":"IF(AND(#REF!>0,G39>0),(#REF!*0.086)*(J39/1000),\" \")","v":{"$error":"#REF!"}},null,"x"," ",null," ",null,null,null,"",null,null,null,null,0,0,0,null,null,null,{"$f":"IF('Main Details'!$G$28,IF(AND($J39>0,$J39<=1600,$B39<>\"GOB\"),($J39/1000)+0.2,\"\"),IF(AND($J39>0,$J39<=1200),($J39/1000)+0.2,\"\"))","v":""},{"$f":"IF('Main Details'!$G$28,IF(AND($J39>1600,$J39<=1900),($J39/1000)+0.2,\"\"),IF(AND($J39>1200,$J39<=1500),($J39/1000)+0.2,\"\"))","v":""},{"$f":"IF('Main Details'!$G$28,IF(AND($J39>1900,$J39<=2600),($J39/1000)+0.27,\"\"),IF(AND($J39>1500,$J39<=2200),($J39/1000)+0.27,\"\"))","v":""},{"$f":"IF('Main Details'!$G$28,IF(AND($J39>2600,$J39<=3100),($J39/1000)+0.3,\"\"),IF(AND($J39>2200,$J39<=2600),($J39/1000)+0.3,\"\"))","v":""},{"$f":"IF('Main Details'!$G$28,IF(AND($J39>3100,$J39<=3450),($J39/1000)+0.3,\"\"),IF(AND($J39>2600,$J39<=3000),($J39/1000)+0.3,\"\"))","v":""},{"$f":"IF('Main Details'!$G$28,IF(AND($J39>3450,$J39<=3850),($J39/1000)+0.3,\"\"),IF(AND($J39>3000,$J39<=3450),($J39/1000)+0.3,\"\"))","v":""},null," ",{"$f":"IF(OR($M39=\"Y\",$B39=\"GOB\"),IF('Main Details'!$G$28,\nIF('Main Details'!$F$10=\"2c\",IF(AND($J39>0,$J39<=2350),($J39/1000)+0.24,\"\"),IF(AND($J39>0,$J39<=2400),($J39/1000)+0.27,\"\")),\nIF('Main Details'!$F$10=\"2c\",IF(AND($J39>0,$J39<=2050),($J39/1000)+0.24,\"\"),IF(AND($J39>0,$J39<=2100),($J39/1000)+0.27,\"\"))\n),\"\")","v":""},{"$f":"IF($M39=\"Y\",IF('Main Details'!$G$28,\nIF('Main Details'!$F$10=\"2c\",IF(AND($J39>2350,$J39<=2650),($J39/1000)+0.3,\"\"),IF(AND($J39>2400,$J39<=2650),($J39/1000)+0.3,\"\")),\nIF('Main Details'!$F$10=\"2c\",IF(AND($J39>2050,$J39<=2250),($J39/1000)+0.3,\"\"),IF(AND($J39>2100,$J39<=2250),($J39/1000)+0.3,\"\"))\n),\"\")","v":""},{"$f":"IF($M39=\"Y\",IF('Main Details'!$G$28,\nIF('Main Details'!$F$10=\"2c\",IF(AND($J39>2650,$J39<=3450),($J39/1000)+0.3,\"\"),\"\"),\nIF('Main Details'!$F$10=\"2c\",IF(AND($J39>2250,$J39<=3000),($J39/1000)+0.3,\"\"),\"\")\n),\"\")","v":""},{"$f":"IF($M39=\"Y\",IF('Main Details'!$G$28,\nIF('Main Details'!$F$10=\"2c\",IF(AND($J39>3450,$J39<=3850),($J39/1000)+0.3,\"\"),IF(AND($J39>2650,$J39<=3850),($J39/1000)+0.3,\"\")),\nIF('Main Details'!$F$10=\"2c\",IF(AND($J39>3000,$J39<=3450),($J39/1000)+0.3,\"\"),IF(AND($J39>2250,$J39<=3450),($J39/1000)+0.3,\"\"))\n),\"\")","v":""},null,null,{"$f":"IF(AND($J39<=7199,$J39>=4001),($J39+'BUILDERS SETTINGS'!$C$15)/1000,\" \")","v":" "},{"$f":"IF(AND(#REF!>0,G39>0),(#REF!*0.086)*(J39/1000),\" \")","v":{"$error":"#REF!"}},null,200,"0","0","0","0",null,0,0,"","","","","","","","","","","",""]
[{"$f":"IF(Q40>0,I40+#REF!)","v":false},null,0,"N",null,{"$f":"IF(AND(#REF!>0,G40>0),(#REF!*0.086)*(J40/1000),\" \")","v":{"$error":"#REF!"}},null,"x"," ",null," ",null,null,null,"",null,null,null,null,0,0,0,null,null,null,{"$f":"IF('Main Details'!$G$28,IF(AND($J40>0,$J40<=1600,$B40<>\"GOB\"),($J40/1000)+0.2,\"\"),IF(AND($J40>0,$J40<=1200),($J40/1000)+0.2,\"\"))","v":""},{"$f":"IF('Main Details'!$G$28,IF(AND($J40>1600,$J40<=1900),($J40/1000)+0.2,\"\"),IF(AND($J40>1200,$J40<=1500),($J40/1000)+0.2,\"\"))","v":""},{"$f":"IF('Main Details'!$G$28,IF(AND($J40>1900,$J40<=2600),($J40/1000)+0.27,\"\"),IF(AND($J40>1500,$J40<=2200),($J40/1000)+0.27,\"\"))","v":""},{"$f":"IF('Main Details'!$G$28,IF(AND($J40>2600,$J40<=3100),($J40/1000)+0.3,\"\"),IF(AND($J40>2200,$J40<=2600),($J40/1000)+0.3,\"\"))","v":""},{"$f":"IF('Main Details'!$G$28,IF(AND($J40>3100,$J40<=3450),($J40/1000)+0.3,\"\"),IF(AND($J40>2600,$J40<=3000),($J40/1000)+0.3,\"\"))","v":""},{"$f":"IF('Main Details'!$G$28,IF(AND($J40>3450,$J40<=3850),($J40/1000)+0.3,\"\"),IF(AND($J40>3000,$J40<=3450),($J40/1000)+0.3,\"\"))","v":""},null," ",{"$f":"IF(OR($M40=\"Y\",$B40=\"GOB\"),IF('Main Details'!$G$28,\nIF('Main Details'!$F$10=\"2c\",IF(AND($J40>0,$J40<=2350),($J40/1000)+0.24,\"\"),IF(AND($J40>0,$J40<=2400),($J40/1000)+0.27,\"\")),\nIF('Main Details'!$F$10=\"2c\",IF(AND($J40>0,$J40<=2050),($J40/1000)+0.24,\"\"),IF(AND($J40>0,$J40<=2100),($J40/1000)+0.27,\"\"))\n),\"\")","v":""},{"$f":"IF($M40=\"Y\",IF('Main Details'!$G$28,\nIF('Main Details'!$F$10=\"2c\",IF(AND($J40>2350,$J40<=2650),($J40/1000)+0.3,\"\"),IF(AND($J40>2400,$J40<=2650),($J40/1000)+0.3,\"\")),\nIF('Main Details'!$F$10=\"2c\",IF(AND($J40>2050,$J40<=2250),($J40/1000)+0.3,\"\"),IF(AND($J40>2100,$J40<=2250),($J40/1000)+0.3,\"\"))\n),\"\")","v":""},{"$f":"IF($M40=\"Y\",IF('Main Details'!$G$28,\nIF('Main Details'!$F$10=\"2c\",IF(AND($J40>2650,$J40<=3450),($J40/1000)+0.3,\"\"),\"\"),\nIF('Main Details'!$F$10=\"2c\",IF(AND($J40>2250,$J40<=3000),($J40/1000)+0.3,\"\"),\"\")\n),\"\")","v":""},{"$f":"IF($M40=\"Y\",IF('Main Details'!$G$28,\nIF('Main Details'!$F$10=\"2c\",IF(AND($J40>3450,$J40<=3850),($J40/1000)+0.3,\"\"),IF(AND($J40>2650,$J40<=3850),($J40/1000)+0.3,\"\")),\nIF('Main Details'!$F$10=\"2c\",IF(AND($J40>3000,$J40<=3450),($J40/1000)+0.3,\"\"),IF(AND($J40>2250,$J40<=3450),($J40/1000)+0.3,\"\"))\n),\"\")","v":""},null,null,{"$f":"IF(AND($J40<=7199,$J40>=4001),($J40+'BUILDERS SETTINGS'!$C$15)/1000,\" \")","v":" "},{"$f":"IF(AND(#REF!>0,G40>0),(#REF!*0.086)*(J40/1000),\" \")","v":{"$error":"#REF!"}},null,200,"0","0","0","0",null,0,0,"","","","","","","","","","",{"$f":"IF(OR(P40=\"Y\",#REF!=\"y\",#REF!=\"Y\",AND(B40=\"Y\")),(J40/1000),\"\")","v":{"$error":"#REF!"}},""]
[null,null,{"$f":"SUM(C9:C40)","v":0},null,null,{"$f":"SUM(F9:F40)","v":{"$error":"#REF!"}},null,null,null,null,null,null,null,null,"",null,null,null,null,{"$f":"SUM(T9:T40)","v":0},{"$f":"SUM(U9:U40)","v":0},{"$f":"SUM(V9:V40)","v":0},null,null,{"$f":"SUM(Y9:Y40)","v":0},0,0,0,0,0,0,0,0,0,0,0,0,0,null,{"$f":"SUM(AN9:AN40)","v":0},{"$f":"SUM(AO9:AO40)","v":{"$error":"#REF!"}},null,null,null,null,null,null,null,{"$f":"SUM(AW10:AW40)","v":0},{"$f":"SUM(AX10:AX40)","v":0},{"$f":"SUM(AY10:AY40)","v":0},0,0,{"$f":"SUM(BB10:BB40)","v":0},0,0,{"$f":"SUM(BE10:BE40)","v":0},0,{"$f":"SUM(BG10:BG40)","v":0},0,{"$error":"#REF!"},0]
[{"$f":"SUM(A9:A40)","v":0},null,{"$f":"C41/'BUILDERS SETTINGS'!C36","v":0},null,null,{"$f":"SUM(I9:I40)+SUM(#REF!)-A42","v":{"$error":"#REF!"}},{"$f":"J44+J45+J46","v":0},null,null,{"$f":"SUM(J10:J40)/1000","v":0},null,{"$f":"SUM(J9:J40)/1000","v":0},null,null,{"$f":"SUM(O10:O40)/1000","v":0},null,null,null,null,null,null,null,"TOTAL LONGREACH limestone EXT",null,"L/M TOTAL OPENINGS=",null,null,{"$f":"SUM(J9:J40)/1000","v":0},"TOTAL LENGTH ALL LINTELS OF THE SAME DIMENSIONS=",null,null,null,null,null,null,{"$f":"AD41+AJ41","v":0},{"$f":"AE41+AK41","v":0},{"$f":"AF41+AL41","v":0}]
[null,null,null,null,null,null,null,null,null,null,null,null,null,null,null,null,null,null,null,null,null,null,"TOTAL SILL/FINISH",null,null,null,null,null,"qty","Extras",null,null,null,"Column Base Plates = ",null,null,{"$f":"SUM(AJ45,AJ46,AJ47)","v":0}]
[null,"Render Area Deductions",null,null,null,null,null,null,null,{"$f":"BF41","v":0},null,null,"m2",null,null,null,null,null,null,null,null,null,null,null,"Lintel Mitre Factory Cut & Weld",null,null,null,null,null,null,null,null,"L/M OF SLOTS & LUGS",null,"Columns","length","H/D RODS (off centre)"]
[null,"Face Brick Deductions",null,null,null,null,null,null,null,{"$f":"BE41","v":0},null,null,"m2",null,null,null,null,null,null,"TOTAL LENGTH OF OPENINGS=",{"$f":"SUM(J9:J40)/1000","v":0},null,null,null,"Lintel Mitre Factory Cut Only",null,null,null,null,null,null,null,null,"INT LINTELS",{"$f":"SUM(Z41:AF41)","v":0},null,null,"SC Columns (select)"]
[null,"Face Feature Deductions",null,null,null,null,null,null,null,{"$f":"BG41","v":0},null,null,"m2",null,null,null,null,null,null,null,null,null,null,null,"T-Bar Mitre Factory Cut & Weld",null,null,null,null,null,null,null,null,"ADD LINTELS",null,null,null,"SC Columns (select)"]
[null,null,null,null,null,null,null,null,null,null,null,null,null,null,null,null,null,null,null,null,null,null,null,null,"T-Bar Mitre Factory Cut Only",null,null,null,null,null,null,null,null,"TOTAL",{"$f":"SUM(AI45:AI46)","v":0},null,null,"SC Columns (select)"]
[]
[]
[]
[null,null,{"$f":"COUNT(J10:J40)","v":0},null,null,null,"no of openings"]
[null,null,{"$f":"SUM(J10:J40)/1000","v":0},null,null,null,"lm openings"]
[]
[]
[]
[]
[]
[null,null,null,null,null,null,null,null,null,null,null,null,null,null,"Total Openings"]
[]
[]
[]
[]
[]
[]
[]
[]
[]
[]
[]
[]
[]
[]
[]
[]
[]
[]
[]
[]
[]
[]
[]
[]
[]
[]
[]
[]
[]
[]
[]
[]
[]
[]
[]
[]
[]
[]
[]
[]
[]
[]
[]
[]
[]
[]
[]
[]
[]
[]
[]
[]
[]
[]
[]
[]
[]
[]
[]
[]
[]
[]
[]
[]
[]
[]
[]
[]
[null,null,{"$f":"IF(D127=\"Y\",G127*I127,0)","v":0},"N",null,{"$f":"IF(AND(#REF!>0,G127>0),(#REF!*0.086)*(J127/1000),\" \")","v":{"$error":"#REF!"}},null,"x",{"$f":"(IF(J127=\"\",\" \",(J127-10)/240))","v":" "},null,{"$f":"IF(G127>0,(J127+160)/1000,\" \")","v":" "},null,null,null,{"$f":"IF(#REF!=\"Y\",I127,\" \")","v":{"$error":"#REF!"}},null,null,null,null,{"$f":"(OR(G127=25,))","v":false},{"$f":"IF(T127=TRUE,J127/1000,\" \")","v":" "},{"$f":"(OR(G127=23))","v":false},{"$f":"IF(V127=TRUE,(J127/1000),\" \")","v":" "},{"$f":"(OR(G127=22,G127=20,G127=18,G127=16,G127=14,G127=12,G127=10,G127=8,G127=6,G127=4,G127=2))","v":false},{"$f":"IF(X127=TRUE,J127/1000,\"\")","v":""},{"$f":"(OR(G127=21,G127=19,G127=17,G127=15,G127=13,G127=11,G127=9,G127=7,G127=5,G127=3,G127=1))","v":false},{"$f":"IF(Z127=TRUE,J127/1000,\" \")","v":" "},null,{"$f":"IF(AND(AB127>0,G127>0),(AB127*0.086)*(J127/1000),\" \")","v":" "},null,{"$f":"IF(AND(AD127>0,I127>0),(AD127*0.086)*(J127/1000),\" \")","v":" "},{"$f":"ROUNDUP(G127/2,0)+1","v":1},{"$f":"ROUNDUP(G127/2,0)+2","v":2},{"$f":"ROUNDUP(G127/2,0)+1","v":1},null,null,null,{"$f":"IF(AND($J127<=1499,$J127>=0.1),($J127+'BUILDERS SETTINGS'!$C$8)/1000,\" \")","v":" "},{"$f":"IF(AND($J127<=1799,$J127>=1500),($J127+'BUILDERS SETTINGS'!$C$9)/1000,\" \")","v":" "},{"$f":"IF(AND($J127<=2399,$J127>=1800),($J127+'BUILDERS SETTINGS'!$C$11)/1000,\" \")","v":" "},{"$f":"IF(AND($J127<=2999,$J127>=2400),($J127+'BUILDERS SETTINGS'!$C$13)/1000,\" \")","v":" "},{"$f":"IF(AND($J127<=3299,$J127>=3000),($J127+'BUILDERS SETTINGS'!$C$14)/1000,\" \")","v":" "},{"$f":"IF(AND($J127<=3599,$J127>=3300),($J127+'BUILDERS SETTINGS'!$C$15)/1000,\" \")","v":" "},{"$f":"IF(AND($J127<=3999,$J127>=3600),($J127+'BUILDERS SETTINGS'!$C$16)/1000,\" \")","v":" "},{"$f":"IF(AND($J127<=4400,$J127>=4000),($J127+'BUILDERS SETTINGS'!$C$17)/1000,\" \")","v":" "},{"$f":"IF(AND($J127<=2199,$J127>=0.1,M127=\"Y\"),($J127+'BUILDERS SETTINGS'!$C$10)/1000,\" \")","v":" "},{"$f":"IF(AND($J127<=2699,$J127>=2200,M127=\"y\"),($J127+'BUILDERS SETTINGS'!$C$12)/1000,\" \")","v":" "}]

{"sheet":"External Brickwork","index":9,"n_rows":90,"n_cols":72,"rows_kept":90,"cut":false,"hidden":false,"merged":[[3,49,3,54],[4,49,4,54],[49,49,49,54],[50,49,50,54],[8,49,8,54],[16,49,16,54],[12,58,12,59],[12,60,12,61],[17,58,17,60],[63,25,64,30],[65,25,65,30],[52,25,52,28],[52,37,52,40],[52,43,52,46],[35,43,35,46],[35,25,35,28],[50,37,50,42],[50,43,50,48],[49,37,49,42],[49,43,49,48],[35,49,35,52],[52,49,52,52],[3,37,3,42],[3,43,3,48],[8,37,8,42],[8,43,8,48],[63,19,63,24],[3,31,3,36],[16,19,16,24],[16,25,16,30],[16,37,16,42],[16,43,16,48],[25,19,25,24],[25,25,25,30],[25,37,25,42],[25,43,25,48],[3,1,3,6],[45,1,45,6],[3,19,3,24],[3,25,3,30],[49,25,49,30],[3,7,3,12],[3,13,3,18],[4,1,4,6],[45,7,45,12],[45,13,45,18],[4,7,4,12],[4,13,4,18],[64,19,64,24],[50,19,50,24],[4,37,4,42],[4,43,4,48],[49,19,49,24],[8,19,8,24],[50,31,50,36],[50,25,50,30],[49,31,49,36],[4,19,4,24],[4,25,4,30],[4,31,4,36],[8,25,8,30],[55,37,55,40]]}
[]
[null,{"$f":"'Main Details'!$B$2","v":"QUANTITY SHEET FOR EASY START HOMES"},null,null,null,null,"PG 5",null,null,null,null,null,"PG 5",null,null,null,null,null,"PG 5",{"$f":"'Main Details'!$B$2","v":"QUANTITY SHEET FOR EASY START HOMES"},null,null,null,null,null,null,null,null,null,null,null,null,null,null,null,null,"PG 5",{"$f":"'Main Details'!B2","v":"QUANTITY SHEET FOR EASY START HOMES"},null,null,null,null,"PG 5",null,null,null,null,null,null,null,null,null,null,null,"PG 5"]
[null,{"$f":"'Main Details'!$D$6","v":0},null,null,null,null,null,null,null,null,null,null,null,null,null,null,null,null,null,{"$f":"'Main Details'!$D$6","v":0},null,null,null,null,null,null,null,null,null,null,null,null,null,null,null,null,null,{"$f":"'Main Details'!D6","v":0}]
[null,"1C FACE BRICK CORED ",null,null,null,null,null,"EXT CONTRAST 1c FACE CORED   ",null,null,null,null,null,"2ND EXTERNAL CONTRAST 1C FACE CORED",null,null,null,null,null,"2C RENDER BLOCKS EXTERNAL",null,null,null,null,null,"1C RENDERED LONGREACH",null,null,null,null,null,"COMMONS EXTERNAL",null,null,null,null,null,"2C FACE BLOCK 290X90X162",null,null,null,null,null,"1C FACE 290X90X76 CORED",null,null,null,null,null,"1C FEATURE FACE 230X110X76 CORED",null,null,null,null,null,"C","HEIGHT"]
[null,{"$f":"'Main Details'!$I$12","v":"MIDLAND- Burnished Red"},null,null,null,null,null,{"$f":"'Main Details'!I13","v":"NO SELECTION MADE"},null,null,null,null,null,{"$f":"'Main Details'!P17","v":"230x110x76"},null,null,null,null,null,{"$f":"'Main Details'!I14","v":"MIDLAND MAXIBRICK"},null,null,null,null,null,{"$f":"'Main Details'!I15","v":"MIDLAND LONGREACH"},null,null,null,null,null,{"$f":"'Main Details'!I16","v":"NO SELECTION MADE"},null,null,null,null,null,{"$f":"'Main Details'!I18","v":"NO SELECTION MADE"},null,null,null,null,null,{"$f":"'Main Details'!I18","v":"NO SELECTION MADE"},null,null,null,null,null,{"$f":"'Main Details'!I12","v":"MIDLAND- Burnished Red"},null,null,null,null,null,1,86]
[null,null,"length","x","height",null,"Extd",null,"length","x","height",null,"Extd",null,"length","x","height",null,"Extd",{"$f":"'Main Details'!P14","v":"305x90x162"},"length","x","height",null,"Extd",{"$f":"'Main Details'!P15","v":"305x90x76"},"length","x","height",null,"Extd",{"$f":"'Main Details'!P16","v":" "},"length","x","height",null,"Extd",null,"length","x","height",null,"Extd",null,"length","x","height",null,"Extd",null,"length","x","height",null,"Extd",2,172,null,null,null,null,null,null,null,null,"NEW WALL","1C",null,"STD WALL"]
[null,"EXTERNAL PERIMETER",{"$f":"IF('Main Details'!R32=\"Y\",'Main Details'!D37,IF('Main Details'!R33=\"Y\",'Main Details'!D45,\"0.00\"))","v":"0.00"},"L/m",2.3140000000000001,"=",{"$f":"C7*E7","v":0},"EXTERNAL PERIMETER",null,"L/m",null,"=",{"$f":"IF(AND('Main Details'!$C$13=\"Y\",I7>0),I7*K7,\"\")","v":""},"EXTERNAL PERIMETER",null,"L/m",null,"=",{"$f":"IF(AND('Main Details'!$C$17=\"Y\",O7>0),O7*Q7,\"\")","v":""},"25c  External House Perimeter",null,"L/m",2.2290000000000001,"=",{"$f":"U7*W7","v":0},"25c  External House Perimeter",{"$f":"U7","v":0},"L/m",8.5999999999999993E-2,"=",{"$f":"AA7*AC7","v":0},"External Perimeter",null,"L/m",null,"=",{"$f":"IF(AND('Main Details'!$C$16=\"y\",AG7>0),AG7*AI7,\"\")","v":""},"25c  External House Perimeter",{"$f":"'Main Details'!D37-'External Brickwork'!U7-AY7","v":0},"L/m",2.2290000000000001,"=",{"$f":"AM7*AO7","v":0},"25c  External House Perimeter",{"$f":"'Main Details'!D37-'External Brickwork'!AA7","v":0},"L/m",8.5999999999999993E-2,"=",{"$f":"AS7*AU7","v":0},"25c  External House Perimeter",null,"L/m",8.5999999999999993E-2,"=",{"$f":"AY7*BA7","v":0},3,257,null,null,null,null,null,null,null,null,"EAVE = EVEN",{"$f":"IF(ISBLANK(BG14),\"0\",(IF(MOD(BG14,2)=0,\"1\",\"0\")))","v":"0"},null,"EAVE = EVEN",{"$f":"IF(ISBLANK(BI14),\"0\",(IF(MOD(BI14,2)=0,\"1\",\"0\")))","v":"1"}]
[null,null,null,"Other Lengths per l/m",null,null,null,null,null,"Other Lengths per l/m",null,null,null,null,null,"Other Lengths per l/m",null,null,null,null,null,null,null,null,null,null,null,null,null,null,null,"Other Lengths per l/m",null,null,null,null,null,null,null,null,null,null,null,null,null,null,null,null,null,null,null,null,null,null,null,4,343]
[null,null,null,"l/m x",null,"=",{"$f":"IF(AND('Main Details'!$C$12=\"Y\",C9>0),C9*E9,\"\")","v":""}," 1c Brick Band",null,"l/m x",8.5999999999999993E-2,"=",{"$f":"IF(AND('Main Details'!$C$13=\"Y\",I9>0),I9*K9,\"\")","v":""}," 1c Brick Band",null,"l/m x",8.5999999999999993E-2,"=",{"$f":"IF(AND('Main Details'!$C$17=\"Y\",O9>0),O9*Q9,\"\")","v":""},"Garage Brickwork",null,null,null,null,null,"Garage Brickwork",null,null,null,null,null,null,null,"l/m x",null,"=",{"$f":"IF(AND('Main Details'!$C$16=\"y\",AG9>0),AG9*AI9,\"\")","v":""},"Garage Brickwork",null,null,null,null,null,"Garage Brickwork",null,null,null,null,null,"Garage Brickwork",null,null,null,null,null,5,429,null,null,null,null,null,null,null,null,"TOF = EVEN",{"$f":"IF(ISBLANK(BG15),\"0\",(IF(MOD(BG15,2)=0,\"1\",\"0\")))","v":"1"},null,"TOF = EVEN",{"$f":"IF(ISBLANK(BI15),\"0\",(IF(MOD(BI15,2)=0,\"1\",\"0\")))","v":"0"}]
[null,"Garage Perimeter",{"$f":"IF(OR('Main Details'!R32=\"Y\",'Main Details'!R33=\"Y\"),'Concrete & Reo'!C17,\"0.00\")","v":"0.00"},"No x",null,"=",{"$f":"IF(AND('Main Details'!$C$12=\"Y\",C10>0),C10*E10,\"\")","v":""}," 2c Brick Band",null,"l/m x",0.17199999999999999,"=",{"$f":"IF(AND('Main Details'!$C$13=\"Y\",I10>0),I10*K10,\"\")","v":""}," 2c Brick Band",null,"l/m x",0.17199999999999999,"=",{"$f":"IF(AND('Main Details'!$C$17=\"Y\",O10>0),O10*Q10,\"\")","v":""},null,null,"l/m x",null,"=",{"$f":"IF(AND('Main Details'!$C$14=\"Y\",U10>0),U10*W10,\"\")","v":""},null,null,"l/m x",null,"=",{"$f":"IF(AND('Main Details'!$C$15=\"y\",AA10>0),AA10*AC10,\"\")","v":""},null,null,"l/m x",null,"=",{"$f":"IF(AND('Main Details'!$C$16=\"y\",AG10>0),AG10*AI10,\"\")","v":""},null,null,"l/m x",null,"=",{"$f":"IF(AND('Main Details'!$C$18=\"y\",AM10>0),AM10*AO10,\" \")","v":" "},null,null,"l/m x",null,"=",{"$f":"IF(AND('Main Details'!$C$18=\"y\",AS10>0),AS10*AU10,\"\")","v":""},null,null,"l/m x",null,"=",{"$f":"IF(AND('Main Details'!$C$18=\"y\",AY10>0),AY10*BA10,\"\")","v":""},6,514]
[null,null,null,"l/m x",null,"=",{"$f":"IF(AND('Main Details'!$C$12=\"Y\",C11>0),C11*E11,\"\")","v":""}," 3c Brick Band",null,"l/m x",0.25700000000000001,"=",{"$f":"IF(AND('Main Details'!$C$13=\"Y\",I11>0),I11*K11,\"\")","v":""}," 3c Brick Band",null,"l/m x",0.25700000000000001,"=",{"$f":"IF(AND('Main Details'!$C$17=\"Y\",O11>0),O11*Q11,\"\")","v":""},null,null,"No x",null,"=",{"$f":"IF(AND('Main Details'!$C$14=\"Y\",U11>0),U11*W11,\"\")","v":""},null,null,"No x",null,"=",{"$f":"IF(AND('Main Details'!$C$15=\"y\",AA11>0),AA11*AC11,\"\")","v":""},null,null,"l/m x",null,"=",{"$f":"IF(AND('Main Details'!$C$16=\"y\",AG11>0),AG11*AI11,\"\")","v":""},"Garage Perimeter",{"$f":"'Concrete & Reo'!C17","v":0},"No x",null,"=",{"$f":"IF(AND('Main Details'!$C$18=\"y\",AM11>0),AM11*AO11,\" \")","v":" "},"Garage Perimeter",{"$f":"AM11","v":0},"No x",null,"=",{"$f":"IF(AND('Main Details'!$C$18=\"y\",AS11>0),AS11*AU11,\"\")","v":""},null,null,"No x",null,"=",{"$f":"IF(AND('Main Details'!$C$18=\"y\",AY11>0),AY11*BA11,\"\")","v":""},7,600]
[null,"ODD Ceiling  - GOB Shelf Lintel",null,"l/m x",0.34300000000000003,"=",{"$f":"IF(AND('Main Details'!$C$12=\"Y\",C12>0),C12*E12,\"\")","v":""}," 5c Brick Band",null,"l/m x",0.42899999999999999,"=",{"$f":"IF(AND('Main Details'!$C$13=\"Y\",I12>0),I12*K12,\"\")","v":""}," 5c Brick Band",null,"l/m x",0.42899999999999999,"=",{"$f":"IF(AND('Main Details'!$C$17=\"Y\",O12>0),O12*Q12,\"\")","v":""},null,null,"l/m x",null,"=",{"$f":"IF(AND('Main Details'!$C$14=\"Y\",U12>0),U12*W12,\"\")","v":""},null,null,"l/m x",null,"=",{"$f":"IF(AND('Main Details'!$C$15=\"y\",AA12>0),AA12*AC12,\"\")","v":""},null,null,"l/m x",null,"=",{"$f":"IF(AND('Main Details'!$C$16=\"y\",AG12>0),AG12*AI12,\"\")","v":""},null,null,"l/m x",null,"=",{"$f":"IF(AND('Main Details'!$C$18=\"y\",AM12>0),AM12*AO12,\" \")","v":" "},null,null,"l/m x",null,"=",{"$f":"IF(AND('Main Details'!$C$18=\"y\",AS12>0),AS12*AU12,\"\")","v":""},null,null,"l/m x",null,"=",{"$f":"IF(AND('Main Details'!$C$18=\"y\",AY12>0),AY12*BA12,\"\")","v":""},8,686,null,"OVER",31,"CALC",null,null,null,null,"TOTAL 2C",{"$f":"BG16-BO13","v":32},null,"TOTAL 2C",{"$f":"BI16-BR13","v":28}]
[null,"EVEN Ceiling - GOB Shelf Lintel",null,"l/m x",0.25700000000000001,"=",{"$f":"IF(AND('Main Details'!$C$12=\"Y\",C13>0),C13*E13,\"\")","v":""}," 7c Brick Band",null,"l/m x",0.6,"=",{"$f":"IF(AND('Main Details'!$C$13=\"Y\",I13>0),I13*K13,\"\")","v":""}," 7c Brick Band",null,"l/m x",0.6,"=",{"$f":"IF(AND('Main Details'!$C$17=\"Y\",O13>0),O13*Q13,\"\")","v":""},null,null,"l/m x",null,"=",{"$f":"IF(AND('Main Details'!$C$14=\"Y\",U13>0),U13*W13,\"\")","v":""},null,null,"l/m x",null,"=",{"$f":"IF(AND('Main Details'!$C$15=\"y\",AA13>0),AA13*AC13,\"\")","v":""},null,null,"l/m x",null,"=",{"$f":"IF(AND('Main Details'!$C$16=\"y\",AG13>0),AG13*AI13,\"\")","v":""},"Garage Attached Piers",null,"l/m x",{"$f":"AO11","v":0},"=",{"$f":"IF(AND('Main Details'!$C$18=\"y\",AM13>0),AM13*AO13,\" \")","v":" "},"Garage Attached Piers",{"$f":"AM13","v":0},"l/m x",{"$f":"AU11","v":0},"=",{"$f":"IF(AND('Main Details'!$C$18=\"y\",AS13>0),AS13*AU13,\"\")","v":""},null,null,"l/m x",null,"=",{"$f":"IF(AND('Main Details'!$C$18=\"y\",AY13>0),AY13*BA13,\"\")","v":""},9,772,null,"NEW WALL",null,"STANDARD WALL ",null,null,null,null,"TOTAL 1C",{"$f":"BO7+BO9","v":1},null,"TOTAL 1C",{"$f":"+BR7+BR9","v":1}]
[null,"Garage Attached Piers",null,"l/m x",null,"=",{"$f":"IF(AND('Main Details'!$C$12=\"Y\",C14>0),C14*E14,\"\")","v":""},"9c Brick Band",null,"l/m x",0.77200000000000002,"=",{"$f":"IF(AND('Main Details'!$C$13=\"Y\",I14>0),I14*K14,\"\")","v":""},"9c Brick Band",null,"l/m x",0.77200000000000002,"=",{"$f":"IF(AND('Main Details'!$C$17=\"Y\",O14>0),O14*Q14,\"\")","v":""},null,null,"l/m x",null,"=",{"$f":"IF(AND('Main Details'!$C$14=\"Y\",U14>0),U14*W14,\"\")","v":""},null,null,"No x",null,"=",{"$f":"IF(AND('Main Details'!$C$15=\"y\",AA14>0),AA14*AC14,\"\")","v":""},null,null,"l/m x",null,"=",{"$f":"IF(AND('Main Details'!$C$16=\"y\",AG14>0),AG14*AI14,\"\")","v":""},null,null,"l/m x",null,"=",{"$f":"IF(AND('Main Details'!$C$18=\"y\",AM14>0),AM14*AO14,\" \")","v":" "},"Garage Boundary Even Course",null,"l/m x",8.5999999999999993E-2,"=",{"$f":"IF(AND('Main Details'!$C$18=\"y\",AS14>0),AS14*AU14,\"\")","v":""},null,null,"l/m x",null,"=",{"$f":"IF(AND('Main Details'!$C$18=\"y\",AY14>0),AY14*BA14,\"\")","v":""},10,857.36111111111097,"EAVE",31,"C",26,"C"]
[null,null,null,"l/m x",null,"=",{"$f":"IF(AND('Main Details'!$C$12=\"Y\",C15>0),C15*E15,\"\")","v":""},"e/o Sloping Sills",null,"l/m x",7.0000000000000007E-2,"=",{"$f":"IF(AND('Main Details'!$C$13=\"Y\",I15>0),I15*K15,\"\")","v":""},"e/o Sloping Sills",null,"l/m x",7.0000000000000007E-2,"=",{"$f":"IF(AND('Main Details'!$C$17=\"Y\",O15>0),O15*Q15,\"\")","v":""},null,null,"l/m x",null,"=",{"$f":"IF(AND('Main Details'!$C$14=\"Y\",U15>0),U15*W15,\"\")","v":""},null,null,"l/m x",null,"=",{"$f":"IF(AND('Main Details'!$C$15=\"y\",AA15>0),AA15*AC15,\"\")","v":""},null,null,"l/m x",null,"=",{"$f":"IF(AND('Main Details'!$C$16=\"y\",AG15>0),AG15*AI15,\"\")","v":""},"Garage Boundary Odd Course",null,"l/m x",0.17199999999999999,"=",{"$f":"IF(AND('Main Details'!$C$18=\"y\",AM15>0),AM15*AO15,\" \")","v":" "},"Garage Boundary Odd Course",{"$f":"AM15","v":0},"l/m x",-8.5999999999999993E-2,"=",{"$f":"IF(AND('Main Details'!$C$18=\"y\",AS15>0),AS15*AU15,\"\")","v":""},null,null,"l/m x",null,"=",{"$f":"IF(AND('Main Details'!$C$18=\"y\",AY15>0),AY15*BA15,\"\")","v":""},11,943.07777777777699,"T.O.F",-2,"C",-3,"C"]
[null,null,null,"No x",null,"=",{"$f":"IF(AND('Main Details'!$C$12=\"Y\",C16>0),C16*E16,\"\")","v":""}," e/o 2c Sloping Sills",null,"l/m x",0.17199999999999999,"=",{"$f":"IF(AND('Main Details'!$C$13=\"Y\",I16>0),I16*K16,\"\")","v":""}," e/o 2c Sloping Sills",null,"l/m x",0.17199999999999999,"=",{"$f":"IF(AND('Main Details'!$C$17=\"Y\",O16>0),O16*Q16,\"\")","v":""},null,null,"l/m x",null,"=",{"$f":"IF(AND('Main Details'!$C$14=\"Y\",U16>0),U16*W16,\"\")","v":""},null,null,"l/m x",null,"=",{"$f":"IF(AND('Main Details'!$C$15=\"y\",AA16>0),AA16*AC16,\"\")","v":""},null,null,"l/m x",null,"=",{"$f":"IF(AND('Main Details'!$C$16=\"y\",AG16>0),AG16*AI16,\"\")","v":""},null,null,"l/m x",null,"=",{"$f":"IF(AND('Main Details'!$C$18=\"y\",AM16>0),AM16*AO16,\" \")","v":" "},null,null,"l/m x",null,"=",{"$f":"IF(AND('Main Details'!$C$18=\"y\",AS16>0),AS16*AU16,\"\")","v":""},null,null,"l/m x",null,"=",{"$f":"IF(AND('Main Details'!$C$18=\"y\",AY16>0),AY16*BA16,\"\")","v":""},12,1028.7944444444399,"TOTAL",{"$f":"BG14-BG15","v":33},"C",{"$f":"BI14-BI15","v":29},"C",null,null,null,null,null,null,"UPTO 2C",{"$f":"IF(BI16>BH12,BH12-BT16,BI16-BT16-BT17)","v":28},"UPTO 1C",{"$f":"IF(MOD(BI15,2)=0,\"1\",\"0\")+IF(AND(MOD(BI14,2)=0,(BI16<=BH12)),\"1\",\"0\")","v":1}]
[null,null,null,"l/m x",null,"=",{"$f":"IF(AND('Main Details'!$C$12=\"Y\",C17>0),C17*E17,\"\")","v":""},null,null,"l/m x",null,"=",{"$f":"IF(AND('Main Details'!$C$13=\"Y\",I17>0),I17*K17,\"\")","v":""},null,null,"l/m x",null,"=",{"$f":"IF(AND('Main Details'!$C$17=\"Y\",O17>0),O17*Q17,\"\")","v":""},"Std Brickwork not requiring Brick Ties",null,null,null,null,null,"Std Brickwork not requiring Brick Ties",null,null,null,null,null,null,null,null,null,null,null,"Std Brickwork not requiring Brick Ties",null,null,null,null,null,"Std Brickwork not requiring Brick Ties",null,null,null,null,null,null,null,null,null,null,null,13,1114.51111111111,null,null,null,null,null,null,null,null,"31C CUT POINT",{"$f":"IF(BG16>BH12,BH12+BG15,\"0\")","v":29},"C","OVER 2C",{"$f":"IF(BI16>BH12,BI16-BH12-BT17,\"0\")","v":"0"},"OVER 1C",{"$f":"IF(AND(MOD(BI14,2)=0,(BI16>BH12)),\"1\",\"0\")","v":"0"}]
[null,null,null,"l/m x",null,"=",{"$f":"IF(AND('Main Details'!$C$12=\"Y\",C18>0),C18*E18,\"\")","v":""},null,null,"l/m x",null,"=",{"$f":"IF(AND('Main Details'!$C$13=\"Y\",I18>0),I18*K18,\"\")","v":""},null,null,"l/m x",null,"=",{"$f":"IF(AND('Main Details'!$C$17=\"Y\",O18>0),O18*Q18,\"\")","v":""},null,null,"l/m x",null,"=",{"$f":"IF(AND('Main Details'!$C$14=\"Y\",U18>0),U18*W18,\"\")","v":""},null,null,"l/m x",null,"=",{"$f":"IF(AND('Main Details'!$C$15=\"y\",AA18>0),AA18*AC18,\"\")","v":""},null,null,"l/m x",null,"=",{"$f":"IF(AND('Main Details'!$C$16=\"y\",AG18>0),AG18*AI18,\"\")","v":""},null,null,"l/m x",null,"=",{"$f":"IF(AND('Main Details'!$C$18=\"y\",AM18>0),AM18*AO18,\" \")","v":" "},null,null,"l/m x",null,"=",{"$f":"IF(AND('Main Details'!$C$18=\"y\",AS18>0),AS18*AU18,\"\")","v":""},null,null,"l/m x",null,"=",{"$f":"IF(AND('Main Details'!$C$18=\"y\",AY18>0),AY18*BA18,\"\")","v":""},14,1200.2277777777699,null,"DIFFERENCE OF HEIGHT BETWEEN WALLS",null,null,{"$f":"(BG16-BI16)","v":4}]
[null,null,null,"l/m x",null,"=",{"$f":"IF(AND('Main Details'!$C$12=\"Y\",C19>0),C19*E19,\"\")","v":""},null,null,"l/m x",null,"=",{"$f":"IF(AND('Main Details'!$C$13=\"Y\",I19>0),I19*K19,\"\")","v":""},null,null,"l/m x",null,"=",{"$f":"IF(AND('Main Details'!$C$17=\"Y\",O19>0),O19*Q19,\"\")","v":""},null,null,"l/m x",null,"=",{"$f":"IF(AND('Main Details'!$C$14=\"Y\",U19>0),U19*W19,\"\")","v":""},null,null,"l/m x",null,"=",{"$f":"IF(AND('Main Details'!$C$15=\"y\",AA19>0),AA19*AC19,\"\")","v":""},null,null,"l/m x",null,"=",{"$f":"IF(AND('Main Details'!$C$16=\"y\",AG19>0),AG19*AI19,\"\")","v":""},null,null,"l/m x",null,"=",{"$f":"IF(AND('Main Details'!$C$18=\"y\",AM19>0),AM19*AO19,\" \")","v":" "},null,null,"l/m x",null,"=",{"$f":"IF(AND('Main Details'!$C$18=\"y\",AS19>0),AS19*AU19,\"\")","v":""},null,null,"l/m x",null,"=",{"$f":"IF(AND('Main Details'!$C$18=\"y\",AY19>0),AY19*BA19,\"\")","v":""},15,1285.94444444444,null,null,null,null,null,null,null,null,"courses over cut",{"$f":"IF(BG16>BH12,BG16-BO17,\"0\")+BG15","v":2},"c"]
[null,null,null,"l/m x",null,"=",{"$f":"IF(AND('Main Details'!$C$12=\"Y\",C20>0),C20*E20,\"\")","v":""},null,null,"l/m x",null,"=",{"$f":"IF(AND('Main Details'!$C$13=\"Y\",I20>0),I20*K20,\"\")","v":""},null,null,"l/m x",null,"=",{"$f":"IF(AND('Main Details'!$C$17=\"Y\",O20>0),O20*Q20,\"\")","v":""},null,null,"l/m x",null,"=",{"$f":"IF(AND('Main Details'!$C$14=\"Y\",U20>0),U20*W20,\"\")","v":""},null,null,"l/m x",null,"=",{"$f":"IF(AND('Main Details'!$C$15=\"y\",AA20>0),AA20*AC20,\"\")","v":""},null,null,"l/m x",null,"=",{"$f":"IF(AND('Main Details'!$C$16=\"y\",AG20>0),AG20*AI20,\"\")","v":""},null,null,"l/m x",null,"=",{"$f":"IF(AND('Main Details'!$C$18=\"y\",AM20>0),AM20*AO20,\" \")","v":" "},null,null,"l/m x",null,"=",{"$f":"IF(AND('Main Details'!$C$18=\"y\",AS20>0),AS20*AU20,\"\")","v":""},null,null,"l/m x",null,"=",{"$f":"IF(AND('Main Details'!$C$18=\"y\",AY20>0),AY20*BA20,\"\")","v":""},16,1371.6611111111099]
[null,null,null,"l/m x",null,"=",{"$f":"IF(AND('Main Details'!$C$12=\"Y\",C21>0),C21*E21,\"\")","v":""},null,null,"l/m x",null,"=",{"$f":"IF(AND('Main Details'!$C$13=\"Y\",I21>0),I21*K21,\"\")","v":""},null,null,"l/m x",null,"=",{"$f":"IF(AND('Main Details'!$C$17=\"Y\",O21>0),O21*Q21,\"\")","v":""},null,null,"l/m x",null,"=",{"$f":"IF(AND('Main Details'!$C$14=\"Y\",U21>0),U21*W21,\"\")","v":""},null,null,"l/m x",null,"=",{"$f":"IF(AND('Main Details'!$C$15=\"y\",AA21>0),AA21*AC21,\"\")","v":""},null,null,"l/m x",null,"=",{"$f":"IF(AND('Main Details'!$C$16=\"y\",AG21>0),AG21*AI21,\"\")","v":""},null,null,"l/m x",null,"=",{"$f":"IF(AND('Main Details'!$C$18=\"y\",AM21>0),AM21*AO21,\" \")","v":" "},null,null,"l/m x",null,"=",{"$f":"IF(AND('Main Details'!$C$18=\"y\",AS21>0),AS21*AU21,\"\")","v":""},null,null,"l/m x",null,"=",{"$f":"IF(AND('Main Details'!$C$18=\"y\",AY21>0),AY21*BA21,\"\")","v":""},17,1457.37777777777]
[null,null,null,"l/m x",null,"=",{"$f":"IF(AND('Main Details'!$C$12=\"Y\",C22>0),C22*E22,\"\")","v":""},null,null,"l/m x",null,"=",{"$f":"IF(AND('Main Details'!$C$13=\"Y\",I22>0),I22*K22,\"\")","v":""},null,null,"l/m x",null,"=",{"$f":"IF(AND('Main Details'!$C$17=\"Y\",O22>0),O22*Q22,\"\")","v":""},null,null,"l/m x",null,"=",{"$f":"IF(AND('Main Details'!$C$14=\"Y\",U22>0),U22*W22,\"\")","v":""},null,null,"l/m x",null,"=",{"$f":"IF(AND('Main Details'!$C$15=\"y\",AA22>0),AA22*AC22,\"\")","v":""},null,null,"l/m x",null,"=",{"$f":"IF(AND('Main Details'!$C$16=\"y\",AG22>0),AG22*AI22,\"\")","v":""},null,null,"l/m x",null,"=",{"$f":"IF(AND('Main Details'!$C$18=\"y\",AM22>0),AM22*AO22,\" \")","v":" "},null,null,"l/m x",null,"=",{"$f":"IF(AND('Main Details'!$C$18=\"y\",AS22>0),AS22*AU22,\"\")","v":""},null,null,"l/m x",null,"=",{"$f":"IF(AND('Main Details'!$C$18=\"y\",AY22>0),AY22*BA22,\"\")","v":""},18,1543.0944444444399]
[null,null,null,"l/m x",null,"=",{"$f":"IF(AND('Main Details'!$C$12=\"Y\",C23>0),C23*E23,\"\")","v":""},null,null,"l/m x",null,"=",{"$f":"IF(AND('Main Details'!$C$13=\"Y\",I23>0),I23*K23,\"\")","v":""},null,null,"l/m x",null,"=",{"$f":"IF(AND('Main Details'!$C$17=\"Y\",O23>0),O23*Q23,\"\")","v":""},null,null,"l/m x",null,"=",{"$f":"IF(AND('Main Details'!$C$14=\"Y\",U23>0),U23*W23,\"\")","v":""},null,null,"l/m x",null,"=",{"$f":"IF(AND('Main Details'!$C$15=\"y\",AA23>0),AA23*AC23,\"\")","v":""},null,null,"l/m x",null,"=",{"$f":"IF(AND('Main Details'!$C$16=\"y\",AG23>0),AG23*AI23,\"\")","v":""},null,null,"l/m x",null,"=",{"$f":"IF(AND('Main Details'!$C$18=\"y\",AM23>0),AM23*AO23,\" \")","v":" "},null,null,"l/m x",null,"=",{"$f":"IF(AND('Main Details'!$C$18=\"y\",AS23>0),AS23*AU23,\"\")","v":""},null,null,"l/m x",null,"=",{"$f":"IF(AND('Main Details'!$C$18=\"y\",AY23>0),AY23*BA23,\"\")","v":""},19,1628.81111111111]
[null,null,null,"l/m x",null,"=",{"$f":"IF(AND('Main Details'!$C$12=\"Y\",C24>0),C24*E24,\"\")","v":""},null,null,"l/m x",null,"=",{"$f":"IF(AND('Main Details'!$C$13=\"Y\",I24>0),I24*K24,\"\")","v":""},null,null,"l/m x",null,"=",{"$f":"IF(AND('Main Details'!$C$17=\"Y\",O24>0),O24*Q24,\"\")","v":""},null,null,"l/m x",null,"=",{"$f":"IF(AND('Main Details'!$C$14=\"Y\",U24>0),U24*W24,\"\")","v":""},null,null,"l/m x",null,"=",{"$f":"IF(AND('Main Details'!$C$15=\"y\",AA24>0),AA24*AC24,\"\")","v":""},null,null,"l/m x",null,"=",{"$f":"IF(AND('Main Details'!$C$16=\"y\",AG24>0),AG24*AI24,\"\")","v":""},null,null,"l/m x",null,"=",{"$f":"IF(AND('Main Details'!$C$18=\"y\",AM24>0),AM24*AO24,\" \")","v":" "},null,null,"l/m x",null,"=",{"$f":"IF(AND('Main Details'!$C$18=\"y\",AS24>0),AS24*AU24,\"\")","v":""},null,null,"l/m x",null,"=",{"$f":"IF(AND('Main Details'!$C$18=\"y\",AY24>0),AY24*BA24,\"\")","v":""},20,1714.5277777777701,null,"UPTO 31 AMOUNT INC DIFF",null,null,{"$f":"BJ18-#REF!","v":{"$error":"#REF!"}},null,null,null,"DIFFERENCE 2C",{"$f":"BO12-BR12","v":4}]
[null,"↓↓↓↓ OVER 31C ↓↓↓↓     ",null,"l/m x",null,"=",{"$f":"IF(AND('Main Details'!$C$12=\"Y\",C25>0),C25*E25,\"\")","v":""},null,null,"l/m x",null,"=",{"$f":"IF(AND('Main Details'!$C$13=\"Y\",I25>0),I25*K25,\"\")","v":""},null,null,"l/m x",null,"=",{"$f":"IF(AND('Main Details'!$C$17=\"Y\",O25>0),O25*Q25,\"\")","v":""},null,null,"l/m x",null,"=",{"$f":"IF(AND('Main Details'!$C$14=\"Y\",U25>0),U25*W25,\"\")","v":""},null,null,"l/m x",null,"=",{"$f":"IF(AND('Main Details'!$C$15=\"y\",AA25>0),AA25*AC25,\"\")","v":""},null,null,"l/m x",null,"=",{"$f":"IF(AND('Main Details'!$C$16=\"y\",AG25>0),AG25*AI25,\"\")","v":""},null,null,"l/m x",null,"=",{"$f":"IF(AND('Main Details'!$C$18=\"y\",AM25>0),AM25*AO25,\" \")","v":" "},null,null,"l/m x",null,"=",{"$f":"IF(AND('Main Details'!$C$18=\"y\",AS25>0),AS25*AU25,\"\")","v":""},null,null,"l/m x",null,"=",{"$f":"IF(AND('Main Details'!$C$18=\"y\",AY25>0),AY25*BA25,\"\")","v":""},21,1800.24444444444]
[null,null,null,"l/m x",null,"=",{"$f":"IF(AND('Main Details'!$C$12=\"Y\",C26>0),C26*E26,\"\")","v":""},null,"Items per No",null,null,null,null,null,"Items per No",null,null,null,null,"Brickwork above Std External House Perimeter",null,null,null,null,null,"Brickwork above Std External House Perimeter",null,null,null,null,null,null,null,null,null,null,null,"Brickwork above Std External House Perimeter",null,null,null,null,null,"Brickwork above Std External House Perimeter",null,null,null,null,null,null,null,null,null,null,null,22,1885.9611111111101]
[null,null,null,"l/m x",null,"=",{"$f":"IF(AND('Main Details'!$C$12=\"Y\",C27>0),C27*E27,\"\")","v":""},null,null,"No /",{"$f":"I40","v":0},"=",{"$f":"IF(AND('Main Details'!$C$13=\"Y\",I27>0),I27/K27,\"\")","v":""},null,null,"No /",{"$f":"O40","v":0},"=",{"$f":"IF(AND('Main Details'!$C$17=\"Y\",O27>0),O27/Q27,\"\")","v":""},null,null,"l/m x",null,"=",{"$f":"IF(AND('Main Details'!$C$14=\"Y\",U27>0),U27*W27,\"\")","v":""},null,null,"l/m x",null,"=",{"$f":"IF(AND('Main Details'!$C$15=\"y\",AA27>0),AA27*AC27,\"\")","v":""},null,null,"No /",{"$f":"AG44","v":0},"=",{"$f":"IF(AND('Main Details'!$C$16=\"y\",AG27>0),AG27/AI27,\"\")","v":""},null,null,"l/m x",null,"=",{"$f":"IF(AND('Main Details'!$C$18=\"y\",AM27>0),AM27*AO27,\" \")","v":" "},null,null,"l/m x",null,"=",{"$f":"IF(AND('Main Details'!$C$18=\"y\",AS27>0),AS27*AU27,\"\")","v":""},null,null,"l/m x",null,"=",{"$f":"IF(AND('Main Details'!$C$18=\"y\",AY27>0),AY27*BA27,\"\")","v":""},23,1971.67777777777]
[null,"↓↓↓↓ OVER 31C ↓↓↓↓     ",null,"l/m x",null,"=",{"$f":"IF(AND('Main Details'!$C$12=\"Y\",C28>0),C28*E28,\"\")","v":""},null,null,"l/m x",null,"=",{"$f":"IF(AND('Main Details'!$C$13=\"Y\",I28>0),I28*K28,\"\")","v":""},null,null,"l/m x",null,"=",{"$f":"IF(AND('Main Details'!$C$17=\"Y\",O28>0),O28*Q28,\"\")","v":""},null,null,"l/m x",null,"=",{"$f":"IF(AND('Main Details'!$C$14=\"Y\",U28>0),U28*W28,\"\")","v":""},null,null,"l/m x",null,"=",{"$f":"IF(AND('Main Details'!$C$15=\"y\",AA28>0),AA28*AC28,\"\")","v":""},null,null,null,null,null,null,null,null,"l/m x",null,"=",{"$f":"IF(AND('Main Details'!$C$18=\"y\",AM28>0),AM28*AO28,\" \")","v":" "},null,null,"l/m x",null,"=",{"$f":"IF(AND('Main Details'!$C$18=\"y\",AS28>0),AS28*AU28,\"\")","v":""},null,null,"l/m x",null,"=",{"$f":"IF(AND('Main Details'!$C$18=\"y\",AY28>0),AY28*BA28,\"\")","v":""},24,2057.3944444444401]
[null,null,null,"l/m x",null,"=",{"$f":"IF(AND('Main Details'!$C$12=\"Y\",C29>0),C29*E29,\"\")","v":""},null,null,"No /",{"$f":"I43","v":50.5},"=",{"$f":"IF(AND('Main Details'!$C$13=\"Y\",I29>0),I29/K29,\"\")","v":""},null,null,"No /",{"$f":"O43","v":50.5},"=",{"$f":"IF(AND('Main Details'!$C$17=\"Y\",O29>0),O29/Q29,\"\")","v":""},null,null,"l/m x",null,"=",{"$f":"IF(AND('Main Details'!$C$14=\"Y\",U29>0),U29*W29,\"\")","v":""},null,null,"l/m x",null,"=",{"$f":"IF(AND('Main Details'!$C$15=\"y\",AA29>0),AA29*AC29,\"\")","v":""},null,null,null,null,null,null,null,null,"l/m x",null,"=",{"$f":"IF(AND('Main Details'!$C$18=\"y\",AM29>0),AM29*AO29,\" \")","v":" "},null,null,"l/m x",null,"=",{"$f":"IF(AND('Main Details'!$C$18=\"y\",AS29>0),AS29*AU29,\"\")","v":""},null,null,"l/m x",null,"=",{"$f":"IF(AND('Main Details'!$C$18=\"y\",AY29>0),AY29*BA29,\"\")","v":""},25,2143.1111111110999]
[null,null,null,"l/m x",null,"=",{"$f":"IF(AND('Main Details'!$C$12=\"Y\",C30>0),C30*E30,\"\")","v":""},null,null,"No /",{"$f":"I43","v":50.5},"=",{"$f":"IF(AND('Main Details'!$C$13=\"Y\",I30>0),I30/K30,\"\")","v":""},null,null,"No /",{"$f":"O43","v":50.5},"=",{"$f":"IF(AND('Main Details'!$C$17=\"Y\",O30>0),O30/Q30,\"\")","v":""},null,null,"l/m x",null,"=",{"$f":"IF(AND('Main Details'!$C$14=\"Y\",U30>0),U30*W30,\"\")","v":""},null,null,"l/m x",null,"=",{"$f":"IF(AND('Main Details'!$C$15=\"y\",AA30>0),AA30*AC30,\"\")","v":""},null,null,null,null,null,null,null,null,"l/m x",null,"=",{"$f":"IF(AND('Main Details'!$C$18=\"y\",AM30>0),AM30*AO30,\" \")","v":" "},null,null,"l/m x",null,"=",{"$f":"IF(AND('Main Details'!$C$18=\"y\",AS30>0),AS30*AU30,\"\")","v":""},null,null,"l/m x",null,"=",{"$f":"IF(AND('Main Details'!$C$18=\"y\",AY30>0),AY30*BA30,\"\")","v":""},26,2228.8277777777698]
[null,null,null,"l/m x",null,"=",{"$f":"IF(AND('Main Details'!$C$12=\"Y\",C31>0),C31*E31,\"\")","v":""},null,null,"No /",{"$f":"I43","v":50.5},"=",{"$f":"IF(AND('Main Details'!$C$13=\"Y\",I31>0),I31/K31,\"\")","v":""},null,null,"No /",{"$f":"O43","v":50.5},"=",{"$f":"IF(AND('Main Details'!$C$17=\"Y\",O31>0),O31/Q31,\"\")","v":""},null,null,"l/m x",null,"=",{"$f":"IF(AND('Main Details'!$C$14=\"Y\",U31>0),U31*W31,\"\")","v":""},null,null,"l/m x",null,"=",{"$f":"IF(AND('Main Details'!$C$15=\"y\",AA31>0),AA31*AC31,\"\")","v":""},null,null,"l/m x",null,"=",{"$f":"IF(AND('Main Details'!$C$16=\"y\",AG31>0),AG31*AI31,\"\")","v":""},null,null,"l/m x",null,"=",{"$f":"IF(AND('Main Details'!$C$18=\"y\",AM31>0),AM31*AO31,\" \")","v":" "},null,null,"l/m x",null,"=",{"$f":"IF(AND('Main Details'!$C$18=\"y\",AS31>0),AS31*AU31,\"\")","v":""},null,null,"l/m x",null,"=",{"$f":"IF(AND('Main Details'!$C$18=\"y\",AY31>0),AY31*BA31,\"\")","v":""},27,2314.5444444444402]
[null,null,null,"l/m x",null,"=",{"$f":"IF(AND('Main Details'!$C$12=\"Y\",C32>0),C32*E32,\"\")","v":""},null,null,"No /",{"$f":"I43","v":50.5},"=",{"$f":"IF(AND('Main Details'!$C$13=\"Y\",I32>0),I32/K32,\"\")","v":""},null,null,"No /",{"$f":"O43","v":50.5},"=",{"$f":"IF(AND('Main Details'!$C$17=\"Y\",O32>0),O32/Q32,\"\")","v":""},null,null,"l/m x",null,"=",{"$f":"IF(AND('Main Details'!$C$14=\"Y\",U32>0),U32*W32,\"\")","v":""},null,null,"l/m x",null,"=",{"$f":"IF(AND('Main Details'!$C$15=\"y\",AA32>0),AA32*AC32,\"\")","v":""},null,null,null,null,null,null,null,null,"l/m x",null,"=",{"$f":"IF(AND('Main Details'!$C$18=\"y\",AM32>0),AM32*AO32,\" \")","v":" "},null,null,"l/m x",null,"=",{"$f":"IF(AND('Main Details'!$C$18=\"y\",AS32>0),AS32*AU32,\"\")","v":""},null,null,"l/m x",null,"=",{"$f":"IF(AND('Main Details'!$C$18=\"y\",AY32>0),AY32*BA32,\"\")","v":""},28,2400.2611111111]
[null,"Garage / House Wall 25 - 28c",{"$f":"IF(OR('Main Details'!R32=\"Y\",'Main Details'!R33=\"Y\"),'Main Details'!D45,\"0.00\")","v":"0.00"},"l/m x",0.25700000000000001,"=",{"$f":"IF(AND('Main Details'!$C$12=\"Y\",C33>0),C33*E33,\"\")","v":""},null,null,"No /",{"$f":"I43","v":50.5},"=",{"$f":"IF(AND('Main Details'!$C$13=\"Y\",I33>0),I33/K33,\"\")","v":""},null,null,"No /",{"$f":"O43","v":50.5},"=",{"$f":"IF(AND('Main Details'!$C$17=\"Y\",O33>0),O33/Q33,\"\")","v":""},null,null,"l/m x",null,"=",{"$f":"IF(AND('Main Details'!$C$14=\"Y\",U33>0),U33*W33,\"\")","v":""},null,null,"l/m x",null,"=",{"$f":"IF(AND('Main Details'!$C$15=\"y\",AA33>0),AA33*AC33,\"\")","v":""},null,null,"No /",{"$f":"AG47","v":48.5},"=",{"$f":"IF(AND('Main Details'!$C$16=\"y\",AG33>0),AG33/AI33,\"\")","v":""},null,null,"l/m x",null,"=",{"$f":"IF(AND('Main Details'!$C$18=\"y\",AM33>0),AM33*AO33,\" \")","v":" "},null,null,"l/m x",null,"=",{"$f":"IF(AND('Main Details'!$C$18=\"y\",AS33>0),AS33*AU33,\"\")","v":""},null,null,"l/m x",null,"=",{"$f":"IF(AND('Main Details'!$C$18=\"y\",AY33>0),AY33*BA33,\"\")","v":""},29,2485.9777777777699]
[null,null,null,null,null,null,null,null,null,null,null,null,null,null,null,null,null,null,null,null,null,"l/m x",null,"=",{"$f":"IF(AND('Main Details'!$C$14=\"Y\",U34>0),U34*W34,\"\")","v":""},null,null,"l/m x",null,"=",{"$f":"IF(AND('Main Details'!$C$15=\"y\",AA34>0),AA34*AC34,\"\")","v":""},null,null,"No /",{"$f":"AG47","v":48.5},"=",{"$f":"IF(AND('Main Details'!$C$16=\"y\",AG34>0),AG34/AI34,\"\")","v":""},null,null,"l/m x",null,"=",{"$f":"IF(AND('Main Details'!$C$18=\"y\",AM34>0),AM34*AO34,\" \")","v":" "},null,null,"l/m x",null,"=",{"$f":"IF(AND('Main Details'!$C$18=\"y\",AS34>0),AS34*AU34,\"\")","v":""},null,null,"l/m x",null,"=",{"$f":"IF(AND('Main Details'!$C$18=\"y\",AY34>0),AY34*BA34,\"\")","v":""},30,2571.6944444444398]
[null,"Garage / House Wall Over 28c",null,"l/m x",null,"=",{"$f":"IF(AND('Main Details'!$C$12=\"Y\",C35>0),C35*E35,\"0.00\")","v":"0.00"},null,null,"No /",{"$f":"I43","v":50.5},"=",{"$f":"IF(AND('Main Details'!$C$13=\"Y\",I35>0),I35/K35,\"\")","v":""},null,null,"No /",{"$f":"O43","v":50.5},"=",{"$f":"IF(AND('Main Details'!$C$17=\"Y\",O35>0),O35/Q35,\"\")","v":""},null,null,"l/m x",null,"=",{"$f":"IF(AND('Main Details'!$C$14=\"Y\",U35>0),U35*W35,\"\")","v":""},null,null,"l/m x",null,"=",{"$f":"IF(AND('Main Details'!$C$15=\"y\",AA35>0),AA35*AC35,\"\")","v":""},null,null,"No /",{"$f":"AG47","v":48.5},"=",{"$f":"IF(AND('Main Details'!$C$16=\"y\",AG35>0),AG35/AI35,\"\")","v":""},null,null,"l/m x",null,"=",{"$f":"IF(AND('Main Details'!$C$18=\"y\",AM35>0),AM35*AO35,\" \")","v":" "},null,null,"l/m x",null,"=",{"$f":"IF(AND('Main Details'!$C$18=\"y\",AS35>0),AS35*AU35,\"\")","v":""},null,null,"l/m x",null,"=",{"$f":"IF(AND('Main Details'!$C$18=\"y\",AY35>0),AY35*BA35,\"\")","v":""},31,2657.4111111111001]
[null,null,null,null,null,null,null,null,null,null,null,null,null,null,null,null,null,null,null,null,null,"l/m x",null,"=",{"$f":"IF(AND('Main Details'!$C$14=\"Y\",U36>0),U36*W36,\"\")","v":""},"1C RENDERED CORED SILLS",null,null,null,"=",{"$f":"Lintels.windows!BA41","v":0},null,null,"No /",{"$f":"AG47","v":48.5},"=",{"$f":"IF(AND('Main Details'!$C$16=\"y\",AG36>0),AG36/AI36,\"\")","v":""},null,null,"l/m x",null,"=",{"$f":"IF(AND('Main Details'!$C$18=\"y\",AM36>0),AM36*AO36,\" \")","v":" "},"1c FACE CORED SILLS ",null,null,null,"=",{"$f":"Lintels.windows!AY41+'Internal deductions & int walls'!K26/2","v":0},"1c FACE FEATURE CORED SILLS ",null,"l/m x",null,"=",{"$f":"Lintels.windows!BC41","v":0},32,2743.12777777777]
[null,null,null,null,"TOTAL DEDUCTION","=",{"$f":"IF('Main Details'!$C$12=\"Y\",-D79,\"0\")","v":"0"},null,null,null,"TOTAL DEDUCTION","=",{"$f":"IF('Main Details'!C13=\"Y\",-(J79),0)","v":0},null,null,null,"TOTAL DEDUCTION","=",{"$f":"IF('Main Details'!$C$17=\"Y\",-P79,\"\")","v":""},"Garage / House Wall 25 - 28c",null,"l/m x",null,"=",{"$f":"IF(AND('Main Details'!$C$14=\"Y\",U37>0),U37*W37,\"\")","v":""},"Garage / House Wall 25 - 28c",{"$f":"U37","v":0},"l/m x",null,"=",{"$f":"IF(AND('Main Details'!$C$15=\"y\",AA37>0),AA37*AC37,\"\")","v":""},null,null,"No /",{"$f":"AG47","v":48.5},"=",{"$f":"IF(AND('Main Details'!$C$16=\"y\",AG37>0),AG37/AI37,\"\")","v":""},"Garage / House Wall 25 - 28c",{"$f":"'Main Details'!D45","v":0},"l/m x",0.17199999999999999,"=",{"$f":"IF(AND('Main Details'!$C$18=\"y\",AM37>0),AM37*AO37,\" \")","v":" "},"Garage / House Wall 25 - 28c",{"$f":"AM37","v":0},"l/m x",8.5999999999999993E-2,"=",{"$f":"IF(AND('Main Details'!$C$18=\"y\",AS37>0),AS37*AU37,\"\")","v":""},"Garage / House Wall 25 - 28c",{"$f":"AS37","v":0},"l/m x",null,"=",{"$f":"IF(AND('Main Details'!$C$18=\"y\",AY37>0),AY37*BA37,\"\")","v":""},33,2828.8444444444399]
[null,null,null,null,"TOTAL m2","=",{"$f":"IF('Main Details'!C12=\"y\",SUM(G7:G24,G33,G35,G37),\"0\")","v":"0"},null,null,null,"TOTAL m2","=",{"$f":"SUM(M7:M24,M29:M37)","v":0},null,null,null,"TOTAL m2","=",{"$f":"SUM(S7:S24,S29:S37)","v":0},"Garage / House Wall Over 28c",null,"l/m x",null,"=",{"$f":"IF(AND('Main Details'!$C$14=\"Y\",U38>0),U38*W38,\"\")","v":""},"Garage / House Wall Over 28c",null,"l/m x",null,"=",{"$f":"IF(AND('Main Details'!$C$15=\"y\",AA38>0),AA38*AC38,\"\")","v":""},null,null,null,null,null,null,"Garage / House Wall Over 28c",null,"l/m x",null,"=",{"$f":"IF(AND('Main Details'!$C$18=\"y\",AM38>0),AM38*AO38,\" \")","v":" "},"Garage / House Wall Over 28c",null,"l/m x",null,"=",{"$f":"IF(AND('Main Details'!$C$18=\"y\",AS38>0),AS38*AU38,\"\")","v":""},"Garage / House Wall Over 28c",null,"l/m x",null,"=",{"$f":"IF(AND('Main Details'!$C$18=\"y\",AY38>0),AY38*BA38,\"\")","v":""},34,2914.5611111111002]
[null,null,null,null,"TOTAL LABOUR NET","=",{"$f":"SUM(G38*C43)-G42","v":0},null,null,null,"TOTAL LABOUR NET","=",{"$f":"M38*I43","v":0},null,null,null,"TOTAL LABOUR NET","=",{"$f":"S38*O43","v":0},"Garage / House Wall Over 28c",null,"l/m x",null,"=",{"$f":"IF(AND('Main Details'!$C$14=\"Y\",U39>0),U39*W39,\"\")","v":""},"Garage / House Wall Over 28c",{"$f":"U39","v":0},"l/m x",null,"=",{"$f":"IF(AND('Main Details'!$C$15=\"y\",AA39>0),AA39*AC39,\"\")","v":""},null,null,"No /",{"$f":"AG47","v":48.5},"=",{"$f":"IF(AND('Main Details'!$C$16=\"y\",AG39>0),AG39/AI39,\"\")","v":""},"Garage / House Wall Over 28c",null,"l/m x",null,"=",{"$f":"IF(AND('Main Details'!$C$18=\"y\",AM39>0),AM39*AO39,\"\")","v":""},"Garage / House Wall Over 28c",null,"l/m x",null,"=",{"$f":"IF(AND('Main Details'!$C$18=\"y\",AS39>0),AS39*AU39,\"\")","v":""},"Garage / House Wall Over 28c",{"$f":"AS39","v":0},"l/m x",null,"=",{"$f":"IF(AND('Main Details'!$C$18=\"y\",AY39>0),AY39*BA39,\"\")","v":""},35,3000.2777777777701]
[null,null,null,"WASTAGE +",{"$f":"'BUILDERS SETTINGS'!C20/100","v":0},"=",{"$f":"G39/100*'BUILDERS SETTINGS'!C20","v":0},null,null,"WASTAGE +",{"$f":"'BUILDERS SETTINGS'!C20/100","v":0},"=",{"$f":"M39/100*'BUILDERS SETTINGS'!C20","v":0},null,null,"WASTAGE +",{"$f":"'BUILDERS SETTINGS'!C20/100","v":0},"=",{"$f":"S39/100*'BUILDERS SETTINGS'!C20","v":0},null,null,null,null,null,null,null,null,null,null,null,null,null,null,null,null,null,null,null,null,null,null,null,null,null,null,null,null,null,null,null,null,null,null,null,null,36,3085.99444444444]
[null,null,null,null,"TOTAL BRICKS","=",{"$f":"G39+G40","v":0},null,null,null,"TOTAL CONTRAST BRICKS","=",{"$f":"M39+M40","v":0},null,null,null,"TOTAL CONTRAST BRICKS","=",{"$f":"S39+S40","v":0},null,null,null,"TOTAL DEDUCTION","=",{"$f":"-Lintels.windows!J44","v":0},null,null,null,"TOTAL DEDUCTION","=",{"$f":"IF('Main Details'!$C$15=\"Y\",-AC90,\"\")","v":0},null,null,null,"DDT",null,{"$f":"IF('Main Details'!$C$16=\"Y\",-AI92,\"\")","v":""},null,null,null,"TOTAL DEDUCTION","=",{"$f":"-Lintels.windows!J45-'Internal deductions & int walls'!E44","v":0},null,null,null,"TOTAL DEDUCTION","=",{"$f":"IF('Main Details'!$C$18=\"Y\",-AU90,\"\")","v":0},null,null,null,"TOTAL DEDUCTION","=",{"$f":"-Lintels.windows!J46","v":0},37,3171.7111111110999]
[null,null,null,null,"TOTAL NUMBER SOLID FACE BRICKS","=",{"$f":"IF('Main Details'!$C$12=\"Y\",(Lintels.windows!$F$42+G56)-((Lintels.windows!O41+Lintels.windows!#REF!)+(Lintels.windows!#REF!+Lintels.windows!#REF!)),\"0\")","v":"0"},null,null,null,"TOTAL SOLID CONTRAST 1 FACE BRICKS","=",{"$f":"IF('Main Details'!$C$13=\"y\",(Lintels.windows!O41+Lintels.windows!#REF!)+M56,\" \")","v":" "},null,null,null,"TOTAL SOLID CONTRAST 2 FACE BRICKS","=",{"$f":"IF('Main Details'!$C$17=\"y\",(Lintels.windows!#REF!+Lintels.windows!#REF!)+S56,\" \")","v":" "},null,null,null,"TOTAL m2","=",{"$f":"SUM(Y7:Y36,Y37,Y38,Y39,Y41)","v":0},null,null,null,"TOTAL m2","=",{"$f":"SUM(AE7:AE36,AE37:AE39)","v":0},null,null,null,"Total m2","=",{"$f":"IF(AND('Main Details'!$C$16=\"y\"),SUM(AK7:AK26,AK27:AK39),0)","v":0},null,null,null,"TOTAL m2","=",{"$f":"SUM(AQ7:AQ36,AQ37:AQ38,AQ39,AQ41)","v":0},null,null,null,"Total m2","=",{"$f":"SUM(AW7:AW36,AW37:AW39,AW41)","v":0},null,null,null,"Total m2","=",{"$f":"IF(AND('Main Details'!$C$18=\"y\"),SUM(BC7:BC36,BC37:BC39,BC41),\"0\")","v":0}]
[null,null,{"$f":"'Main Details'!N12","v":48.5},"Bricks per m2",null,null,null,null,{"$f":"'Main Details'!N13","v":50.5},"Bricks per m2",null,null,null,null,{"$f":"'Main Details'!N17","v":50.5},"Bricks per m2",null,null,null,null,null,null,"TOTAL LABOUR NET","=",{"$f":"SUM(Y42*U47)","v":0},null,null,null,"TOTAL LABOUR NET","=",{"$f":"SUM(AE42*AA47)","v":0},null,null,null,"Net labour/No of bricks","=",{"$f":"SUM(AK42*AG47)-AK46","v":0},null,null,null,"LABOUR NET","=",{"$f":"AQ42*AM47","v":{"$error":"#VALUE!"}},null,null,null,"Net labour/No of bricks","=",{"$f":"SUM((AW42*AS47))","v":0},null,null,null,"Net labour/No of bricks","=",{"$f":"SUM((BC42*AY47))","v":0}]
[null,null,{"$f":"'Main Details'!K12","v":264},"Pack Size","OVER 31c","=",{"$f":"SUM(G28:G32)-IF(C69=\"Y\",M44,\"0\")-IF(C70=\"Y\",S44,\"0\")-IF(C71=\"Y\",Y47,\"0\")-IF(C72=\"Y\",AE49,\"0\")-IF(C73=\"Y\",AK49,\"0\")-IF(C74=\"Y\",AQ47,\"0\")-IF(C75=\"Y\",AW49,\"0\")","v":0},null,{"$f":"'Main Details'!K13","v":264},"Pack Size","<31C",null,{"$f":"SUM(M28:M28)-IF(I70=\"Y\",S44,\"0\")-IF(I71=\"Y\",Y47,\"0\")-IF(I72=\"Y\",AE49,\"0\")-IF(I73=\"Y\",AK49,\"0\")-IF(I74=\"Y\",AQ47,\"0\")-IF(I75=\"Y\",AW49,\"0\")","v":0},null,{"$f":"'Main Details'!K17","v":264},"Pack Size","<31C",null,{"$f":"SUM(S28:S28)-IF(O69=\"Y\",M44,\"0\")-IF(O71=\"Y\",Y47,\"0\")-IF(O72=\"Y\",AE49,\"0\")-IF(O73=\"Y\",AK49,\"0\")-IF(O74=\"Y\",AQ47,\"0\")-IF(O75=\"Y\",AW49,\"0\")","v":0},null,null,null,"Total Number of Packs","=",{"$f":"(ROUNDUP(SUM(Y43/(U48/U49)),0))/U49","v":0},null,null,null,"TOTAL No CORED PKS","=",{"$f":"(ROUNDUP(SUM(AE43/(AA48/AA49)),0))/AA49","v":0},null,null,null,"Number of packs","=",{"$f":"(ROUNDUP(SUM(AK43/(AG48/AG49)),0))/AG49","v":0},null,null,"Wastage :",0,"=",{"$f":"(AQ43*AO44)","v":{"$error":"#VALUE!"}},null,null,null,"Number of packs","=",{"$f":"(ROUNDUP(SUM(AW43/(AS48/AS49)),0))/AS49","v":0},null,null,null,"Number of packs","=",{"$f":"(ROUNDUP(SUM(BC43/(AY48/AY49)),0))/AY49","v":0}]
[null,null,{"$f":"'Main Details'!M12","v":4},"No leaves per pack",null,null,null,null,{"$f":"'Main Details'!M13","v":4},"No leaves per pack",null,null,null,null,{"$f":"'Main Details'!M17","v":4},"No leaves per pack",null,null,null,null,null,null,"Total Number of Bricks","=",{"$f":"SUM(Y44*U48)","v":0},null,null,null,"Total No Cored Bricks","=",{"$f":"SUM(AE44*AA48)","v":0},null,null,null,"Total Number of Bricks","=",{"$f":"SUM(AK44*AG48)","v":0},null,null,null,"Total Number of Bricks","=",{"$f":"AQ43+AQ44-(Y61/2)","v":{"$error":"#VALUE!"}},null,null,null,"Total Number of Bricks","=",{"$f":"SUM(AW44*AS48)","v":0},null,null,null,"Total Number of Bricks","=",{"$f":"SUM(BC44*AY48)","v":0}]
[null,"EXTRA EXT FACE SOLIDS",null,null,null,null,null,"EXTRA EXT FACE CONTRAST 1 SOLIDS",null,null,null,null,null," EXTRA EXT CONTRAST 2 SOLIDS",null,null,null,null,null,null,null,null,null,null,null,null,null,null,null,null,null,null,null,null,"Total Bricks Solids","=",{"$f":"IF('Main Details'!$C$16=\"y\",AK61,\"0\")","v":"0"}]
[null,null,"length","x","height",null,"Extd",null,"length","x","height",null,"Extd",null,"length","x","height",null,"Extd","Bricks per m2",{"$f":"'Main Details'!N14","v":18.5},null,null,null,null,"Bricks per m2",{"$f":"'Main Details'!N15","v":37},null,null,null,null,"Bricks per m2",48.5,null,"No / packs","=",{"$f":"(ROUNDUP(SUM(AK46/(AG48/AG49)),0))/AG49","v":0},"Bricks per m2",{"$f":"'Main Details'!N18","v":" "},null,null,null,null,"Bricks per m2",38.75,null,null,null,null,"Bricks per m2",48.5]
[null," Above T.Bars",null,"l/m x",8.5999999999999993E-2,"=",{"$f":"IF(AND('Main Details'!$C$12=\"Y\",C48>0),C48*E48,\"\")","v":""}," 1c Header Corbel",null,"l/m x",8.5999999999999993E-2,"=",{"$f":"IF(AND('Main Details'!$C$13=\"Y\",I48>0),I48*K48,\"\")","v":""}," 1c Header Corbel",null,"l/m x",8.5999999999999993E-2,"=",{"$f":"IF(AND('Main Details'!$C$17=\"Y\",O48>0),O48*Q48,\"\")","v":""},"Pack Size",{"$f":"'Main Details'!K14","v":138},null,null,null,null,"Pack Size",{"$f":"'Main Details'!K15","v":252},null,null,null,null,"Pack Size",264,null,"Total Solids","=",{"$f":"SUM(AK47*AG48)","v":0},"Pack Size",{"$f":"'Main Details'!K18","v":138},null,null,null,null,"Pack Size",264,null,null,null,null,"Pack Size",264]
[null,"ext opening with lintel above",null,"l/m x",8.5999999999999993E-2,"=",{"$f":"IF(AND('Main Details'!$C$12=\"Y\",C49>0),C49*E49,\"\")","v":""},null,null,"l/m x",null,"=",{"$f":"IF(AND('Main Details'!$C$13=\"Y\",I49>0),I49*K49,\"\")","v":""},null,null,"l/m x",null,"=",{"$f":"IF(AND('Main Details'!$C$17=\"Y\",O49>0),O49*Q49,\"\")","v":""},"No leaves per pack",{"$f":"'Main Details'!M14","v":3},null,null,null,null,"No leaves per pack",{"$f":"'Main Details'!M15","v":3},null,null,null,null,"No leaves per pack",4,null,"Total over 31C",null,null,"No leaves per pack",{"$f":"'Main Details'!M18","v":" "},null,null,null,null,"No leaves per pack",{"$f":"'Main Details'!M19","v":3},null,null,null,null,"No leaves per pack",4]
[null,"Above Garage Lintels G.O.B",{"$f":"SUM(C12:C13)","v":0},"l/m x",8.5999999999999993E-2,"=",{"$f":"IF(AND('Main Details'!$C$12=\"Y\",C50>0),C50*E50,\"\")","v":""},null,null,"l/m x",null,"=",{"$f":"IF(AND('Main Details'!$C$13=\"Y\",I50>0),I50*K50,\"\")","v":""},null,null,"l/m x",null,"=",{"$f":"IF(AND('Main Details'!$C$17=\"Y\",O50>0),O50*Q50,\"\")","v":""},"2C FACE  190 SNAPS",null,null,null,null,null,"1C RENDERED LONGREACH SOLID",null,null,null,null,null,"COMMONS SOLIDS EXTERNAL",null,null,null,null,null,"2C FINISHING BRICK 290x90x162",null,null,null,null,null,"1C FACE  290x90x76 SOLIDS",null,null,null,null,null,"1C FEATURE FACE  290x90x76 SOLIDS"]
[null,null,null,"l/m x",null,"=",{"$f":"IF(AND('Main Details'!$C$12=\"Y\",C51>0),C51*E51,\"\")","v":""},null,null,"l/m x",null,"=",{"$f":"IF(AND('Main Details'!$C$13=\"Y\",I51>0),I51*K51,\"\")","v":""},null,null,"l/m x",null,"=",{"$f":"IF(AND('Main Details'!$C$17=\"Y\",O51>0),O51*Q51,\"\")","v":""},{"$f":"'Main Details'!I18","v":"NO SELECTION MADE"},null,null,null,null,null,{"$f":"Z5","v":"MIDLAND LONGREACH"},null,null,null,null,null,{"$f":"AF5","v":"NO SELECTION MADE"},null,null,null,null,null,null,null,null,null,null,null,{"$f":"AR5","v":"NO SELECTION MADE"},null,null,null,null,null,{"$f":"AX5","v":"MIDLAND- Burnished Red"}]
[null,"Quioning",null,"No /",{"$f":"C43","v":48.5},"=",{"$f":"IF(AND('Main Details'!$C$12=\"Y\",C52>0),C52/E52,\"\")","v":""},"Quioning",null,"No /",{"$f":"I43","v":50.5},"=",{"$f":"IF(AND('Main Details'!$C$13=\"Y\",I52>0),I52/K52,\"\")","v":""},"Quioning",null,"No /",{"$f":"O43","v":50.5},"=",{"$f":"IF(AND('Main Details'!$C$17=\"Y\",O52>0),O52/Q52,\"\")","v":""},null,"length","x","height",null,"Extd","RENDER 1C SOLIDS TO ALL SILLS","length","x","height",null,"Extd",{"$f":"AF6","v":" "},"length","x","height",null,"Extd",null,"length","x","height",null,"Extd",null,"length","x","height",null,null,null,"length","x","height",null,"Extd"]
[null,"Extra Bricks Per No",null,"No /",{"$f":"C43","v":48.5},"=",{"$f":"IF(AND('Main Details'!$C$12=\"Y\",C53>0),C53/E53,\"\")","v":""},"Extra Bricks Per No",null,"No /",{"$f":"I43","v":50.5},"=",{"$f":"IF(AND('Main Details'!$C$13=\"Y\",I53>0),I53/K53,\"\")","v":""},"Extra Bricks Per No",null,"No /",{"$f":"O43","v":50.5},"=",{"$f":"IF(AND('Main Details'!$C$17=\"Y\",O53>0),O53/Q53,\"\")","v":""},"Either Side of Openings every 2nd crs",{"$f":"IF('Main Details'!C30=\"N\",Lintels.windows!V41,0)","v":0},"No /",{"$f":"$AO$65","v":19.399999999999999},"=",{"$f":"IF(AND('Main Details'!$C$18=\"y\",U53>0),U53/W53,\"\")","v":""},"1c RENDER SOLIDS",null,"l/m x",null,"=",{"$f":"Lintels.windows!BB41","v":0}," 1c Header Corbel",null,"l/m x",8.5999999999999993E-2,"=",{"$f":"IF(AND('Main Details'!$C$16=\"y\",AG53>0),AG53*AI53,\"\")","v":""},null,null,null,null,"=",null,"1c FACE SOLIDS",null,null,"To 1c sills","=",{"$f":"Lintels.windows!AZ41+'Internal deductions & int walls'!K26/2","v":0},"1c FACE SOLIDS",null,null,"To 1c sills","=",{"$f":"Lintels.windows!BD41","v":0}]
[null,"Extra Bricks Per No",null,"No /",{"$f":"C43","v":48.5},"=",{"$f":"IF(AND('Main Details'!$C$12=\"Y\",C54>0),C54/E54,\"\")","v":""},"Extra Bricks Per No",null,"No /",{"$f":"I43","v":50.5},"=",{"$f":"IF(AND('Main Details'!$C$13=\"Y\",I54>0),I54/K54,\"\")","v":""},"Extra Bricks Per No",null,"No /",{"$f":"O43","v":50.5},"=",{"$f":"IF(AND('Main Details'!$C$17=\"Y\",O54>0),O54/Q54,\"\")","v":""},"Garage opening either side 490 returns",null,"No /",19.399999999999999,"=",{"$f":"U54/W54","v":0},null,null,"l/m x",null,"=",{"$f":"AA54*AC54","v":0},null,null,"l/m x",8.5999999999999993E-2,"=",{"$f":"IF(AND('Main Details'!$C$16=\"y\",AG54>0),AG54*AI54,\"\")","v":""},null,null,"l/m x",null,"=",{"$f":"AM54*AO54","v":0},null,null,"l/m x",null,"=",{"$f":"AS54*AU54","v":0},null,null,"l/m x",null,"=",{"$f":"AY54*BA54","v":0}]
[null,"Extra Bricks Per No",null,"No /",{"$f":"C43","v":48.5},"=",{"$f":"IF(AND('Main Details'!$C$12=\"Y\",C55>0),C55/E55,\"\")","v":""},"Extra Bricks Per No",null,"No /",{"$f":"I43","v":50.5},"=",{"$f":"IF(AND('Main Details'!$C$13=\"Y\",I55>0),I55/K55,\"\")","v":""},"Extra Bricks Per No",null,"No /",{"$f":"O43","v":50.5},"=",{"$f":"IF(AND('Main Details'!$C$17=\"Y\",O55>0),O55/Q55,\"\")","v":""},null,null,"No /",19.399999999999999,"=",{"$f":"IF(AND('Main Details'!$C$18=\"y\",U55>0),U55/W55,\"\")","v":""},null,null,"l/m x",null,"=",0,null,null,"l/m x",null,"=",{"$f":"IF(AND('Main Details'!$C$16=\"y\",AG55>0),AG55*AI55,\"\")","v":""},null,null,"l/m x",null,"=",{"$f":"AM55*AO55","v":0},null,null,"l/m x",null,"=",{"$f":"AS55*AU55","v":0},null,null,"l/m x",null,"=",{"$f":"AY55*BA55","v":0}]
[null,null,null,null,"Total Extra Main Face Solids","=",{"$f":"ROUNDUP(SUM(G48:G55)*C43,0)","v":0},null,null,null,"Total Extra Contrast Face Solids","=",{"$f":"ROUNDUP(SUM(M48:M55)*I43,0)","v":0},null,null,null,null,"=",{"$f":"ROUNDUP(SUM(S48:S55)*O43,0)","v":0},null,null,"No /",19.399999999999999,"=",{"$f":"IF(AND('Main Details'!$C$18=\"y\",U56>0),U56/W56,\"\")","v":""},null,null,"l/m x",null,"=",0,null,null,"l/m x",null,"=",{"$f":"IF(AND('Main Details'!$C$16=\"y\",AG56>0),AG56*AI56,\"\")","v":""},"No longer allow Finishing Bricks",null,"l/m x",null,"=",0,null,null,"l/m x",null,"=",0,null,null,"l/m x",null,"=",0]
[null,null,null,null,null,null,null,null,null,null,null,null,null,null,null,null,null,null,null,null,null,"No /",19.399999999999999,"=",{"$f":"IF(AND('Main Details'!$C$18=\"y\",U57>0),U57/W57,\"\")","v":""},null,null,"l/m x",null,"=",0,"Quioning",null,"No /",{"$f":"AG47","v":48.5},"=",{"$f":"IF(AND('Main Details'!$C$16=\"y\",AG57>0),AG57/AI57,\"\")","v":""},null,null,"l/m x",null,"=",0,null,null,"l/m x",null,"=",0,null,null,"l/m x",null,"=",0]
[null,null,null,null,null,null,null,null,null,null,null,null,null,null,null,null,null,null,null,null,null,"No /",19.399999999999999,"=",{"$f":"IF(AND('Main Details'!$C$18=\"y\",U58>0),U58/W58,\"\")","v":""},null,null,"l/m x",null,"=",0,"Extra Bricks Per No",null,"No /",{"$f":"AG47","v":48.5},"=",{"$f":"IF(AND('Main Details'!$C$16=\"y\",AG58>0),AG58/AI58,\"\")","v":""},null,null,"l/m x",null,"=",0,null,null,"l/m x",null,"=",0,null,null,"l/m x",null,"=",0]
[null,null,null,null,null,null,null,null,null,null,null,null,null,null,null,null,null,null,null,null,null,"l/m x",null,"=",{"$f":"IF(AND('Main Details'!$C$18=\"y\",U59>0),U59*W59,\"\")","v":""},null,null,"l/m x",null,"=",0,"Extra Bricks Per No",null,"No /",{"$f":"AG47","v":48.5},"=",{"$f":"IF(AND('Main Details'!$C$16=\"y\",AG59>0),AG59/AI59,\"\")","v":""},null,null,"l/m x",null,"=",0,null,null,"l/m x",null,"=",0,null,null,"l/m x",null,"=",0]
[null,null,null,null,null,null,null,null,null,null,null,null,null,null,null,null,null,null,null,null,null,"l/m x",null,"=",{"$f":"IF(AND('Main Details'!$C$18=\"y\",U60>0),U60*W60,\"\")","v":""},null,null,"l/m x",null,"=",0,"Extra Bricks Per No",null,"No /",{"$f":"AG47","v":48.5},"=",{"$f":"IF(AND('Main Details'!$C$16=\"y\",AG60>0),AG60/AI60,\"\")","v":""},null,null,"l/m x",null,"=",0,null,null,"l/m x",null,"=",0,null,null,"l/m x",null,"=",0]
[null,null,null,null,null,null,null,null,null,null,null,null,null,null,null,null,null,null,null,null,null,null,"Total Snaps","=",{"$f":"ROUNDUP(SUM(Y53:Y60)*U47,0)","v":0},null,null,null,"Total Solids","=",{"$f":"ROUNDUP(SUM(AE53:AE60)*AA47,0)","v":0},"Total Extra Internal Face Solids",null,null,null,"=",{"$f":"ROUNDUP(SUM(AK53:AK60)*AG47,0)","v":0},null,null,null,"Total","=",{"$f":"ROUNDUP(SUM(AQ53:AQ60)*AM47,0)","v":{"$error":"#VALUE!"}},null,null,null,"Total Solids","=",{"$f":"ROUNDUP(SUM(AW53:AW60)*AS47,0)","v":0},null,null,null,"Total Solids","=",{"$f":"ROUNDUP(SUM(BC53:BC60)*AY47,0)","v":0}]
[]
[]
[null,null,null,null,null,null,null,null,null,null,null,null,null,null,null,null,null,null,null,"2C FACE  140 SNAPS",null,null,null,null,null,"2C FACE  240 SNAPS",null,null,null,null,null,null,{"$f":"(Y42+AE42+AQ42+AW42)-Lintels.windows!#REF!","v":{"$error":"#REF!"}},null,null,null,null,"SNAPS",140,null,190,null,240]
[null,null,null,null,null,null,null,null,null,null,null,null,null,null,null,null,null,null,null,{"$f":"'Main Details'!I18","v":"NO SELECTION MADE"},null,null,null,null,null,null,null,null,null,null,null,null,{"$f":"AG64*4.5/50+1","v":{"$error":"#REF!"}},null,null,null,null,"Bricks per m2",41.667000000000002,null,19.399999999999999,null,24.39]
[null,null,null,null,null,null,null,null,null,null,null,null,null,null,null,null,null,null,null,null,null,null,null,null,"Extd",{"$f":"'Main Details'!I18","v":"NO SELECTION MADE"},null,null,null,null,null,null,null,null,null,null,null,"Pack Size",{"$f":"'Main Details'!K18","v":138},null,{"$f":"'Main Details'!K18","v":138},null,{"$f":"'Main Details'!K18","v":138}]
[null,"Metal Frame Deduction","Y",{"$f":"IF(C67=\"Y\",'Internal deductions & int walls'!$G$33,\" \")","v":0},null,null,null,"Metal Frame Deduction","N",{"$f":"IF(I67=\"Y\",'Internal deductions & int walls'!$G$33,\" \")","v":" "},null,null,null,"Metal Frame Deduction","N",{"$f":"IF(O67=\"Y\",'Internal deductions & int walls'!$G$33,\" \")","v":" "},null,null,null,"Either Side of Openings every 2nd crs",{"$f":"IF('Main Details'!$C$30=\"Y\",Lintels.windows!V41,0)","v":0},"No /",{"$f":"$AM$65","v":41.667000000000002},"=",{"$f":"IF(AND('Main Details'!$C$18=\"y\",U67>0),U67/W67,\"\")","v":""},null,null,null,null,null,"Extd",null,null,null,null,null,null,"No Leaves Per Pk",3,null,3,null,3]
[null,"DDT Ext Openings as Main","Y",{"$f":"IF(C68=\"Y\",Lintels.windows!$G$42,\" \")","v":0},null,null,null,"DDT Ext Openings as Main","N",{"$f":"IF(I68=\"Y\",Lintels.windows!$G$42,Lintels.windows!$F$41)","v":{"$error":"#REF!"}},null,null,null,"DDT Ext Openings as Main","N",{"$f":"IF(O68=\"Y\",Lintels.windows!$G$42,Lintels.windows!$AO$41)","v":{"$error":"#REF!"}},null,null,null,null,null,"No /",{"$f":"$AM$65","v":41.667000000000002},"=",{"$f":"IF(AND('Main Details'!$C$18=\"y\",U68>0),U68/W68,\"\")","v":""},"No of Ext / Int 90 Corners to 25c",null,"No x",0.54,"=",{"$f":"IF(AND('Main Details'!$C$18=\"y\",AA68>0),AA68*AC68,\"\")","v":""}]
[null,"Deduct Contrast 1","Y",{"$f":"IF(C69=\"Y\",$M$38,\" \")","v":0},null,null,null,null,null,null,null,null,null,"Deduct Contrast 1","N",{"$f":"IF(O69=\"Y\",$M$38,\" \")","v":" "},null,null,null,"Garage opening either side 490 returns",null,"No /",{"$f":"$AM$65","v":41.667000000000002},"=",{"$f":"IF(AND('Main Details'!$C$18=\"y\",U69>0),U69/W69,\"\")","v":""},"No of Ext / Int 90 Corners to 28c",null,"No x",0.56999999999999995,"=",{"$f":"IF(AND('Main Details'!$C$18=\"y\",AA69>0),AA69*AC69,\"\")","v":""}]
[null,"Deduct Contrast 2","Y",{"$f":"IF(C70=\"Y\",$S$38,\" \")","v":0},null,null,null,"Deduct Contrast 2","N",{"$f":"IF(I70=\"Y\",$S$38,\" \")","v":" "},null,null,null,null,null,null,null,null,null,null,null,"No /",{"$f":"$AM$65","v":41.667000000000002},"=",{"$f":"IF(AND('Main Details'!$C$18=\"y\",U70>0),U70/W70,\"\")","v":""},"No of Ext / Int 90 Corners to 30c",null,"No x",0.62,"=",{"$f":"IF(AND('Main Details'!$C$18=\"y\",AA70>0),AA70*AC70,\"\")","v":""},null,null,null,null,null,null,"Total m2",{"$f":"IF('Main Details'!C18=\"Y\",SUM(Y67:Y74),0)","v":0},null,{"$f":"IF('Main Details'!C18=\"Y\",SUM(Y53:Y61),0)","v":0},null,{"$f":"IF('Main Details'!C18=\"Y\",SUM(AE68:AE75),0)","v":0}]
[null,"DDT Ext Render Blocks","N",{"$f":"IF(C71=\"Y\",$Y$42,\" \")","v":" "},null,null,null,"Deduct Ext Blocks","N",{"$f":"IF(I71=\"Y\",$Y$42,\" \")","v":" "},null,null,null,"Deduct Ext Blocks","N",{"$f":"IF(O71=\"Y\",$Y$42,\" \")","v":" "},null,null,null,null,null,"No /",{"$f":"$AM$65","v":41.667000000000002},"=",{"$f":"IF(AND('Main Details'!$C$18=\"y\",U71>0),U71/W71,\"\")","v":""},"No of Ext / Int 90 Corners to 32c",null,"No x",0.66,"=",{"$f":"IF(AND('Main Details'!$C$18=\"y\",AA71>0),AA71*AC71,\"\")","v":""},null,"Metal Frame Deduction","N",{"$f":"IF(AH71=\"Y\",'Internal deductions & int walls'!$G$33,\" \")","v":" "},null,null,"Net Labour of Bricks",{"$f":"(AM70*AM65)","v":0},null,{"$f":"SUM(AO70*AO65)-U61","v":0},null,{"$f":"AQ70*AQ65","v":0}]
[null,"DDT Ext Render Longreach","N",{"$f":"IF(C72=\"Y\",$AE$42,\" \")","v":" "},null,null,null,"Deduct Ext Longreach","N",{"$f":"IF(I72=\"Y\",$AE$42,\" \")","v":" "},null,null,null,"Deduct Ext Longreach","N",{"$f":"IF(O72=\"Y\",$AE$42,\" \")","v":" "},null,null,null,null,null,"l/m x",null,"=",{"$f":"IF(AND('Main Details'!$C$18=\"y\",U72>0),U72*W72,\"\")","v":""},null,null,"No /",23.25,"=",{"$f":"IF(AND('Main Details'!$C$18=\"y\",AA72>0),AA72/AC72,\"\")","v":""},null,"DDT Ext Openings as Main","N",{"$f":"IF(AH72=\"Y\",Lintels.windows!$G$42,Lintels.windows!#REF!)","v":{"$error":"#REF!"}},null,null,"Wastage (set on main Blocks)",{"$f":"AM71*AO44","v":0},null,{"$f":"AO71*AO44","v":0},null,{"$f":"AQ71*AO44","v":0}]
[null,"DDT External Commons","Y",{"$f":"IF(C73=\"Y\",$AK$42,\" \")","v":0},null,null,null,"DDT External Commons","N",{"$f":"IF(I73=\"Y\",$AK$42,\" \")","v":" "},null,null,null,"DDT External Commons","N",{"$f":"IF(O73=\"Y\",$AK$42,\" \")","v":" "},null,null,null,null,null,"l/m x",null,"=",{"$f":"IF(AND('Main Details'!$C$18=\"y\",U73>0),U73*W73,\"\")","v":""},null,null,"No /",23.25,"=",{"$f":"IF(AND('Main Details'!$C$18=\"y\",AA73>0),AA73/AC73,\"\")","v":""},null,"Deduct Contrast 1","N",{"$f":"IF(AH73=\"Y\",$M$38,\" \")","v":" "},null,null,"Total No of Bricks",{"$f":"AM74*AM66","v":0},null,{"$f":"AO74*AO66","v":0},null,{"$f":"AQ74*AQ66","v":0}]
[null,"Deduct Limestone Blocks","N",{"$f":"IF(C74=\"Y\",$AQ$42,\" \")","v":" "},null,null,null,"Deduct Limestone Blocks","N",{"$f":"IF(I74=\"Y\",$AQ$42,\" \")","v":" "},null,null,null,"Deduct Limestone Blocks","N",{"$f":"IF(O74=\"Y\",$AQ$42,\" \")","v":" "},null,null,null,null,null,"l/m x",null,"=",{"$f":"IF(AND('Main Details'!$C$18=\"y\",U74>0),U74*W74,\"\")","v":""},null,null,"l/m x",null,"=",{"$f":"IF(AND('Main Details'!$C$18=\"y\",AA74>0),AA74*AC74,\"\")","v":""},null,"Deduct Contrast 2","N",{"$f":"IF(AH74=\"Y\",$S$38,\" \")","v":" "},null,null,"Total No of packs",{"$f":"ROUNDUP(SUM(AM72+AM71)/(AM66/AM67),0)/AM67","v":0},null,{"$f":"ROUNDUP(SUM(AO72+AO71)/(AO66/AO67),0)/AO67","v":0},null,{"$f":"ROUNDUP(SUM(AQ72+AQ71)/(AQ66/AQ67),0)/AQ67","v":0}]
[null,"DDT Limestone Longreach","N",{"$f":"IF(C75=\"Y\",$AW$42,\" \")","v":" "},null,null,null,"DDT Limestone Longreach","N",{"$f":"IF(I75=\"Y\",$AW$42,\" \")","v":" "},null,null,null,"DDT Limestone Longreach","N",{"$f":"IF(O75=\"Y\",$AW$42,\" \")","v":" "},null,null,null,null,null,"l/m x",null,"=",{"$f":"IF(AND('Main Details'!$C$18=\"y\",U75>0),U75*W75,\"\")","v":""},null,null,"l/m x",null,"=",{"$f":"IF(AND('Main Details'!$C$18=\"y\",AA75>0),AA75*AC75,\"\")","v":""},null,"Deduct Ext Blocks","N",{"$f":"IF(AH75=\"Y\",$Y$42,\" \")","v":" "}]
[null,"Deduct 240 Snaps","N",{"$f":"IF(C76=\"Y\",$AQ$70,\" \")","v":" "},null,null,null,"Deduct 240 Snaps","N",{"$f":"IF(I76=\"Y\",$AQ$70,\" \")","v":" "},null,null,null,"Deduct 240 Snaps","N",{"$f":"IF(O76=\"Y\",$AQ$70,\" \")","v":" "},null,null,null,null,null,null,null,null,null,null,null,null,null,null,null,null,"Deduct Ext Longreach","N",{"$f":"IF(AH76=\"Y\",$AE$42,\" \")","v":" "}]
[null,"Deduct 190 Snaps","N",{"$f":"IF(C77=\"Y\",$AO$70,\" \")","v":" "},null,null,null,"Deduct 190 Snaps","N",{"$f":"IF(I77=\"Y\",$AO$70,\" \")","v":" "},null,null,null,"Deduct 190 Snaps","N",{"$f":"IF(O77=\"Y\",$AO$70,\" \")","v":" "}]
[null,"Deduct 140 Snaps","N",{"$f":"IF(C78=\"Y\",$AM$70,\" \")","v":" "},null,null,null,"Deduct 140 Snaps","N",{"$f":"IF(I78=\"Y\",$AM$70,\" \")","v":" "},null,null,null,"Deduct 140 Snaps","N",{"$f":"IF(O78=\"Y\",$AM$70,\" \")","v":" "},null,null,null,null,"Metal Frame Deduction","N",{"$f":"IF(V78=\"Y\",'Internal deductions & int walls'!$G$33,\" \")","v":" "},null,null,null,"Metal Frame Deduction","N",{"$f":"IF(AB78=\"Y\",'Internal deductions & int walls'!$G$33,\" \")","v":" "},null,null,null,"TOTAL DEDUCTION=",null,{"$f":"SUM(AI71:AI77)","v":{"$error":"#REF!"}},"m2",null,null,"Metal Frame Deduction","Y",{"$f":"IF(AN78=\"Y\",'Internal deductions & int walls'!$G$33,\" \")","v":0},null,null,null,"Metal Frame Deduction","N",{"$f":"IF(AT78=\"Y\",'Internal deductions & int walls'!$G$33,\" \")","v":" "}]
[null,"TOTAL DEDUCTION=",null,{"$f":"SUM(D67:D78)","v":0},"m2",null,null,"TOTAL DEDUCTION=",null,{"$f":"SUM(J67:J78)","v":{"$error":"#REF!"}},"m2",null,null,"TOTAL DEDUCTION=",null,{"$f":"SUM(P67:P78)","v":{"$error":"#REF!"}},"m2",null,null,null,"Deduct Openings from render","N",{"$f":"IF(V79=\"Y\",Lintels.windows!$G$42,Lintels.windows!$R$41)","v":0},null,null,null,"Deduct Openings from render","N",{"$f":"IF(AB79=\"Y\",Lintels.windows!$G$42,\" \")","v":" "},null,null,null,null,null,null,null,null,null,"Deduct ALL Ext Openings as Main","Y",null,null,null,null,"Deduct Ext Openings as Main","N",{"$f":"IF(AT79=\"Y\",Lintels.windows!$G$42,\" \")","v":" "}]
[null,null,null,null,null,null,null,null,null,null,null,null,null,null,null,null,null,null,null,null,"Deduct Contrast 1","N",{"$f":"IF(V80=\"Y\",$M$38,\" \")","v":" "},null,null,null,"Deduct Contrast 1","N",{"$f":"IF(AB80=\"Y\",$M$38,\" \")","v":" "},null,null,null,null,null,null,null,null,null,"Deduct Contrast 1","Y",{"$f":"IF(AN80=\"Y\",$M$38,\" \")","v":0},null,null,null,"Deduct Contrast 1","N",{"$f":"IF(AT80=\"Y\",$M$38,\" \")","v":" "}]
[null,null,null,null,null,null,null,null,null,null,null,null,null,null,null,null,null,null,null,null,"Deduct Contrast 2","N",{"$f":"IF(V81=\"Y\",$S$38,\" \")","v":" "},null,null,null,"Deduct Contrast 2","N",{"$f":"IF(AB81=\"Y\",$S$38,\" \")","v":" "},null,null,null,null,null,null,null,null,null,"Deduct Contrast 2","Y",{"$f":"IF(AN81=\"Y\",$S$38,\" \")","v":0},null,null,null,"Deduct Contrast 2","N",{"$f":"IF(AT81=\"Y\",$S$38,\" \")","v":" "}]
[null,null,null,null,null,null,null,null,null,null,null,null,null,null,null,null,null,null,null,null,null,null,null,null,null,null,"Deduct Ext Blocks","N",{"$f":"IF(AB82=\"Y\",$Y$42,\" \")","v":" "},null,null,null,null,null,null,null,null,null,"Deduct Ext Rendered Blocks","Y",{"$f":"IF(AN82=\"Y\",$Y$42,\" \")","v":0},null,null,null,"Deduct Ext Rendered Blocks","N",{"$f":"IF(AT82=\"Y\",$Y$42,\" \")","v":" "}]
[null,null,null,null,null,null,null,null,null,null,null,null,null,null,null,null,null,null,null,null,"Deduct Ext Longreach","N",{"$f":"IF(V83=\"Y\",$AE$42,\" \")","v":" "},null,null,null,null,null,null,null,null,null,null,null,null,null,null,null,"Deduct Ext Rendered Longreach","N",{"$f":"IF(AN83=\"Y\",$AE$42,\" \")","v":" "},null,null,null,"Deduct Ext Rendered Longreach","N",{"$f":"IF(AT83=\"Y\",$AE$42,\" \")","v":" "}]
[null,null,null,null,null,null,null,null,null,null,null,null,null,null,null,null,null,null,null,null,"DDT External Commons","N",{"$f":"IF(V84=\"Y\",$AK$42,\" \")","v":" "},null,null,null,"DDT External Commons","N",{"$f":"IF(AB84=\"Y\",$AK$42,\" \")","v":" "},null,null,null,null,null,null,null,null,null,"Deduct External Rendered Commons","Y",{"$f":"IF(AN84=\"Y\",$AK$42,\" \")","v":0},null,null,null,"Deduct External Rendered Commons","N",{"$f":"IF(AT84=\"Y\",$AK$42,\" \")","v":" "}]
[null,null,null,null,null,null,null,null,null,null,null,null,null,null,null,null,null,null,null,null,"Deduct Limestone Blocks","N",{"$f":"IF(V85=\"Y\",$AQ$42,\" \")","v":" "},null,null,null,"Deduct Limestone Blocks","N",{"$f":"IF(AB85=\"Y\",$AQ$42,\" \")","v":" "},null,null,null,null,null,null,null,null,null,null,null,null,null,null,null,"Deduct Limestone Blocks","N",{"$f":"IF(AT85=\"Y\",$AQ$42,\" \")","v":" "}]
[null,null,null,null,null,null,null,null,null,null,null,null,null,null,null,null,null,null,null,null,"DDT Limestone Longreach","N",{"$f":"IF(V86=\"Y\",$AW$42,\" \")","v":" "},null,null,null,"DDT Limestone Longreach","N",{"$f":"IF(AB86=\"Y\",$AW$42,\" \")","v":" "},null,null,null,null,null,null,null,null,null,"Deduct Limestone cored/solid 290x90x76","N",{"$f":"IF(AN86=\"Y\",$AW$42,\" \")","v":" "}]
[null,null,null,null,null,null,null,null,null,null,null,null,null,null,null,null,null,null,null,null,"Deduct 240 Snaps","N",{"$f":"IF(V87=\"Y\",$AQ$70,\" \")","v":" "},null,null,null,"Deduct 240 Snaps","N",{"$f":"IF(AB87=\"Y\",$AQ$70,\" \")","v":" "},null,null,null,null,null,null,null,null,null,"Deduct 240 Snaps","Y",{"$f":"IF(AN87=\"Y\",$AQ$70,\" \")","v":0},null,null,null,"Deduct 240 Snaps","N",{"$f":"IF(AT87=\"Y\",$AQ$70,\" \")","v":" "}]
[null,null,null,null,null,null,null,null,null,null,null,null,null,null,null,null,null,null,null,null,"Deduct 190 Snaps","N",{"$f":"IF(V88=\"Y\",$AO$70,\" \")","v":" "},null,null,null,"Deduct 190 Snaps","N",{"$f":"IF(AB88=\"Y\",$AO$70,\" \")","v":" "},null,null,null,null,null,null,null,null,null,"Deduct 190 Snaps","Y",{"$f":"IF(AN88=\"Y\",$AO$70,\" \")","v":0},null,null,null,"Deduct 190 Snaps","N",{"$f":"IF(AT88=\"Y\",$AO$70,\" \")","v":" "}]
[null,null,null,null,null,null,null,null,null,null,null,null,null,null,null,null,null,null,null,null,"Deduct 140 Snaps","N",{"$f":"IF(V89=\"Y\",$AM$70,\" \")","v":" "},null,null,null,"Deduct 140 Snaps","N",{"$f":"IF(AB89=\"Y\",$AM$70,\" \")","v":" "},null,null,null,null,null,null,null,null,null,"Deduct 140 Snaps","Y",{"$f":"IF(AN89=\"Y\",$AM$70,\" \")","v":0},null,null,null,"Deduct 140 Snaps","N",{"$f":"IF(AT89=\"Y\",$AM$70,\" \")","v":" "}]
[null,null,null,null,null,null,null,null,null,null,null,null,null,null,null,null,null,null,null,null,"TOTAL DEDUCTION=",null,{"$f":"SUM(W78:W89,AE20)","v":0},"m2",null,null,"TOTAL DEDUCTION=",null,{"$f":"SUM(AC78:AC89)","v":0},"m2",null,null,null,null,null,null,null,null,"TOTAL DEDUCTION=",null,null,"m2",null,null,"TOTAL DEDUCTION=",null,{"$f":"SUM(AU78:AU89)","v":0},"m2"]

{"sheet":"Internal Brickwork","index":10,"n_rows":55,"n_cols":31,"rows_kept":55,"cut":false,"hidden":false,"merged":[[4,13,4,18],[4,19,4,24],[44,13,44,18],[44,19,44,24],[5,13,5,18],[5,19,5,24],[4,1,4,6],[5,1,5,6],[4,7,4,12],[5,7,5,12],[44,7,44,12],[26,1,26,6],[32,3,32,4],[33,7,33,10]]}
[]
[null,{"$f":"'Main Details'!B2","v":"QUANTITY SHEET FOR EASY START HOMES"},null,null,null,null,"PG 6",null,null,null,null,null,"PG 6",null,null,null,null,null,"PG 6",null,null,null,null,null,"PG 6"]
[null,{"$f":"'Main Details'!D6","v":0}]
[]
[null,"BLOCKS INTERNAL",null,null,null,null,null,"LONGREACH  INTERNAL",null,null,null,null,null,"COMMONS INTERNAL",null,null,null,null,null,"INTERNAL FACE CORED"]
[null,{"$f":"'Main Details'!I21","v":"NO SELECTION MADE"},null,null,null,null,null,{"$f":"'Main Details'!I22","v":"NO SELECTION MADE"},null,null,null,null,null,{"$f":"'Main Details'!I23","v":"NO SELECTION MADE"},null,null,null,null,null,{"$f":"'Main Details'!$I$20","v":"NO SELECTION MADE"}]
[null,{"$f":"'Main Details'!P21","v":" "},"length","x","height",null,"Extd",{"$f":"'Main Details'!P22","v":" "},"length","x","height",null,"Extd",null,null,null,null,null,null,null,null,null,null,null,null,null,null,null,null,null,"wire ties"]
[null,"External Perimeter Walls",{"$f":"IF('Main Details'!$C$21=\"y\",'Main Details'!$U$20+'Main Details'!$X$20-'Main Details'!$D$45,0)","v":0},"l/m x",2.2290000000000001,"=",{"$f":"IF(AND('Main Details'!$C$21=\"y\"),C8*E8,\"\")","v":0},"External Perimeter Walls",{"$f":"C8","v":0},"l/m x",0.17199999999999999,"=",{"$f":"IF(AND('Main Details'!$C$22=\"y\",I8>0),I8*K8,\"\")","v":""},null,null,null,null,null,{"$f":"IF(AND('Main Details'!$C$23=\"y\",O8>0),O8*Q8,\"\")","v":""},null,null,null,null,null,null,null,"INTERNAL PLASTER OVER 31C"]
[null,"Internal Partition Walls",{"$f":"IF('Main Details'!$C$21=\"y\",'Main Details'!$D$38+'Internal deductions & int walls'!$R$29,0)","v":0},"l/m x",2.2290000000000001,"=",{"$f":"IF(AND('Main Details'!$C$21=\"y\"),C9*E9,\"\")","v":0},"Internal Partition Walls",{"$f":"C9","v":0},"l/m x",0.17199999999999999,"=",{"$f":"IF(AND('Main Details'!$C$22=\"y\",I9>0),I9*K9,\"\")","v":""},null,"Length","l/m x","Height",null,null,null,"Length","l/m x","Height",null,null,null,"TOTALS 1 SIDE",null,null,null,{"$f":"SUM(G8+M8)","v":0}]
[null,"31c Plaster-         1 Side",null,"l/m x",null,"=",{"$f":"IF(AND('Main Details'!$C$21=\"y\",C10>0),C10*E10,\"\")","v":""},"31c Plaster-          1 Side",{"$f":"C10","v":0},"l/m x",8.5999999999999993E-2,"=",{"$f":"IF(AND('Main Details'!$C$22=\"y\",I10>0),I10*K10,\"\")","v":""},"Over 28c Plaster-          1 Side",null,"l/m x",null,"=",{"$f":"IF(AND('Main Details'!$C$23=\"y\",O10>0),O10*Q10,\"\")","v":""},"Over 31c",null,"l/m x",null,"=",{"$f":"IF(AND('Main Details'!$C$20=\"Y\",U10>0),U10*W10,\"\")","v":""},null,{"$f":"SUM(G13,M13,S12)","v":0}]
[null,"30c Plaster-          1 Side",null,"l/m x",null,"=",{"$f":"IF(AND('Main Details'!$C$21=\"y\",C11>0),C11*E11,\"\")","v":""},"Over 28c Plaster-          1 Side",null,"l/m x",null,"=",{"$f":"IF(AND('Main Details'!$C$22=\"y\",I11>0),I11*K11,\"\")","v":""},"Over 28c Plaster-          1 Side",null,"l/m x",null,"=",{"$f":"IF(AND('Main Details'!$C$23=\"y\",O11>0),O11*Q11,\"\")","v":""},"Over 31c",null,"l/m x",null,"=",{"$f":"IF(AND('Main Details'!$C$20=\"Y\",U11>0),U11*W11,\"\")","v":""}]
[null,"Over 28c Plaster-          1 Side",null,"l/m x",null,"=",{"$f":"IF(AND('Main Details'!$C$21=\"y\",C12>0),C12*E12,\"\")","v":""},"Over 28c Plaster-          1 Side",null,"l/m x",null,"=",{"$f":"IF(AND('Main Details'!$C$22=\"y\",I12>0),I12*K12,\"\")","v":""},"Over 31C Plaster-          1 Side",null,"l/m x",null,"=",{"$f":"IF(AND('Main Details'!$C$23=\"y\",O12>0),O12*Q12,\"\")","v":""},"Over 31c",null,"l/m x",null,"=",{"$f":"IF(AND('Main Details'!$C$20=\"Y\",U12>0),U12*W12,\"\")","v":""},null,"TOTALS 2 SIDES"]
[null,"Over 31C Plaster-          1 Side",null,"l/m x",null,"=",{"$f":"IF(AND('Main Details'!$C$21=\"y\",C13>0),C13*E13,\"\")","v":""},"Over 31C Plaster-          1 Side",null,"l/m x",null,"=",{"$f":"IF(AND('Main Details'!$C$22=\"y\",I13>0),I13*K13,\"\")","v":""},"Over 28c Plaster-        2 Sides",null,"l/m x",null,"=",{"$f":"IF(AND('Main Details'!$C$23=\"y\",O13>0),O13*Q13,\"\")","v":""},"Over 31c",null,"l/m x",null,"=",{"$f":"IF(AND('Main Details'!$C$20=\"Y\",U13>0),U13*W13,\"\")","v":""},null,{"$f":"SUM(G17,M17,S15)*2","v":0}]
[null,"31c Plaster-      2 Sides",null,"l/m x",null,"=",{"$f":"IF(AND('Main Details'!$C$21=\"y\",C14>0),C14*E14,\"\")","v":""},"28-31C Over 28c Plaster-        2 Sides",{"$f":"C14","v":0},"l/m x",null,"=",{"$f":"IF(AND('Main Details'!$C$22=\"y\",I14>0),I14*K14,\"\")","v":""},"Over 28c Plaster-        2 Sides",null,"l/m x",null,"=",{"$f":"IF(AND('Main Details'!$C$23=\"y\",O14>0),O14*Q14,\"\")","v":""},null,null,"l/m x",null,"=",{"$f":"IF(AND('Main Details'!$C$20=\"Y\",U14>0),U14*W14,\"\")","v":""}]
[null,"30c Plaster-       2 Sides",null,"l/m x",null,"=",{"$f":"IF(AND('Main Details'!$C$21=\"y\",C15>0),C15*E15,\"\")","v":""},"Over 28c Plaster-        2 Sides",null,"l/m x",null,"=",{"$f":"IF(AND('Main Details'!$C$22=\"y\",I15>0),I15*K15,\"\")","v":""},"Over 31C Plaster-          2 Side",null,"l/m x",null,"=",{"$f":"IF(AND('Main Details'!$C$23=\"y\",O15>0),O15*Q15,\"\")","v":""},"To 31c",null,"l/m x",null,"=",{"$f":"IF(AND('Main Details'!$C$20=\"Y\",U15>0),U15*W15,\"\")","v":""},null,"INTERNAL PLASTER 28-31C"]
[null,"Over 28c Plaster-       2 Sides",null,"l/m x",null,"=",{"$f":"IF(AND('Main Details'!$C$21=\"y\",C16>0),C16*E16,\"\")","v":""},"Over 28c Plaster-        2 Sides",null,"l/m x",null,"=",{"$f":"IF(AND('Main Details'!$C$22=\"y\",I16>0),I16*K16,\"\")","v":""},"Over 28c-                No Plaster",null,"l/m x",null,"=",{"$f":"IF(AND('Main Details'!$C$23=\"y\",O16>0),O16*Q16,\"\")","v":""},"To 31c",null,"l/m x",null,"=",{"$f":"IF(AND('Main Details'!$C$20=\"Y\",U16>0),U16*W16,\"\")","v":""}]
[null,"Over 31C Plaster-          2 Side",null,"l/m x",null,"=",{"$f":"IF(AND('Main Details'!$C$21=\"y\",C17>0),C17*E17,\"\")","v":""},"Over 31C Plaster-          2 Side",null,"l/m x",null,"=",{"$f":"IF(AND('Main Details'!$C$22=\"y\",I17>0),I17*K17,\"\")","v":""},"Over 31c-                No Plaster",null,"l/m x",null,"=",{"$f":"IF(AND('Main Details'!$C$23=\"y\",O17>0),O17*Q17,\"\")","v":""},"To 31c",null,"l/m x",null,"=",{"$f":"IF(AND('Main Details'!$C$20=\"Y\",U17>0),U17*W17,\"\")","v":""},null,"TOTALS 1 SIDE"]
[null,"Over 28c-                No Plaster",null,"l/m x",null,"=",{"$f":"IF(AND('Main Details'!$C$21=\"y\",C18>0),C18*E18,\"\")","v":""},"Over 28c-                No Plaster",null,"l/m x",null,"=",{"$f":"IF(AND('Main Details'!$C$22=\"y\",I18>0),I18*K18,\"\")","v":""},"To 28c Plaster-              1 Side",null,"l/m x",null,"=",{"$f":"IF(AND('Main Details'!$C$23=\"y\",O18>0),O18*Q18,\"\")","v":""},"To 31c",null,"l/m x",null,"=",{"$f":"IF(AND('Main Details'!$C$20=\"Y\",U18>0),U18*W18,\"\")","v":""},null,{"$f":"SUM(G10:G12,M10:M12,S10:S11)","v":0}]
[null,"Over 28c-                No Plaster",null,"l/m x",null,"=",{"$f":"IF(AND('Main Details'!$C$21=\"y\",C19>0),C19*E19,\"\")","v":""},"Over 28c-                No Plaster",null,"l/m x",null,"=",{"$f":"IF(AND('Main Details'!$C$22=\"y\",I19>0),I19*K19,\"\")","v":""},"To 28c Plaster-              1 Side",null,"l/m x",null,"=",{"$f":"IF(AND('Main Details'!$C$23=\"y\",O19>0),O19*Q19,\"\")","v":""},"To 31c",null,"l/m x",null,"=",{"$f":"IF(AND('Main Details'!$C$20=\"Y\",U19>0),U19*W19,\"\")","v":""}]
[null,"Over 31C Plaster-          No Plaster",null,"l/m x",null,"=",{"$f":"IF(AND('Main Details'!$C$21=\"y\",C20>0),C20*E20,\"\")","v":""},"Over 31C Plaster-          No Plaster",null,"l/m x",null,"=",{"$f":"IF(AND('Main Details'!$C$22=\"y\",I20>0),I20*K20,\"\")","v":""},"To 28c Plaster-              1 Side",null,"l/m x",null,"=",{"$f":"IF(AND('Main Details'!$C$23=\"y\",O20>0),O20*Q20,\"\")","v":""},"To 31c",null,"l/m x",null,"=",{"$f":"IF(AND('Main Details'!$C$20=\"Y\",U20>0),U20*W20,\"\")","v":""},null,"TOTALS 2 SIDES"]
[null,null,null,"l/m x",null,null,{"$f":"IF(AND('Main Details'!$C$21=\"y\",C21>0),C21*E21,\"\")","v":""},"Over Steel Lintels (25c Only)",null,"l/m x",0.25700000000000001,"=",{"$f":"IF(AND('Main Details'!$C$22=\"y\",I21>0),I21*K21,\"\")","v":""},"To 28c Plaster-              1 Side",null,"l/m x",null,"=",{"$f":"IF(AND('Main Details'!$C$23=\"y\",O21>0),O21*Q21,\"\")","v":""},"To 31c",null,"l/m x",null,"=",{"$f":"IF(AND('Main Details'!$C$20=\"Y\",U21>0),U21*W21,\"\")","v":""},null,{"$f":"SUM(G14:G16,M14:M16,S13:S14)*2","v":0}]
[null,"10c Low Wall",null,"l/m x",0.85699999999999998,"=",{"$f":"IF(AND('Main Details'!$C$21=\"y\",C22>0),C22*E22,\"\")","v":""},"Over All Openings",{"$f":"Lintels.windows!J42","v":0},null,0.17199999999999999,"=",{"$f":"IF(AND('Main Details'!$C$22=\"y\",I22>0),I22*K22,\"\")","v":""},"To 28c Plaster-              1 Side",null,"l/m x",null,"=",{"$f":"IF(AND('Main Details'!$C$23=\"y\",O22>0),O22*Q22,\"\")","v":""},"To 31c",null,"l/m x",null,"=",{"$f":"IF(AND('Main Details'!$C$20=\"Y\",U22>0),U22*W22,\"\")","v":""}]
[null,"12c Low Wall",null,"l/m x",1.0289999999999999,"=",{"$f":"IF(AND('Main Details'!$C$21=\"y\",C23>0),C23*E23,\"\")","v":""},"even course sills (manual enter)",null,"l/m x",8.5999999999999993E-2,"=",{"$f":"IF(AND('Main Details'!$C$22=\"y\",I23>0),I23*K23,\"\")","v":""},null,null,"l/m x",null,"=",{"$f":"IF(AND('Main Details'!$C$23=\"y\",O23>0),O23*Q23,\"\")","v":""},"To 31c",null,"l/m x",null,"=",{"$f":"IF(AND('Main Details'!$C$20=\"Y\",U23>0),U23*W23,\"\")","v":""}]
[null,"13c Low Wall",null,"l/m x",1.0289999999999999,"=",{"$f":"IF(AND('Main Details'!$C$21=\"y\",C24>0),C24*E24,\"\")","v":""},"between windows (manual enter)",null,null,0.17199999999999999,null,{"$f":"IF(AND('Main Details'!$C$22=\"y\",I24>0),I24*K24,\"\")","v":""},"To 28c Plaster-           2 Sides",null,"l/m x",null,"=",{"$f":"IF(AND('Main Details'!$C$23=\"y\",O24>0),O24*Q24,\"\")","v":""},"To 31c",null,"l/m x",null,"=",{"$f":"IF(AND('Main Details'!$C$20=\"Y\",U24>0),U24*W24,\"\")","v":""}]
[null,"21c Low Wall",null,"l/m x",1.714,"=",{"$f":"IF(AND('Main Details'!$C$21=\"y\",C25>0),C25*E25,\"\")","v":""},"Over Armaclay Lintels",{"$f":"SUM('Brick Final Sheet'!S99:S105)","v":0},"l/m x",8.5999999999999993E-2,"=",{"$f":"IF(AND('Main Details'!$C$22=\"y\",I25>0),I25*K25,\"\")","v":""},"To 28c Plaster-           2 Sides",null,"l/m x",null,"=",{"$f":"IF(AND('Main Details'!$C$23=\"y\",O25>0),O25*Q25,\"\")","v":""},"To 31c",null,"l/m x",null,"=",{"$f":"IF(AND('Main Details'!$C$20=\"Y\",U25>0),U25*W25,\"\")","v":""}]
[null,"Low Wall or Pier",null,"l/m x",null,"=",{"$f":"IF(AND('Main Details'!$C$21=\"y\",C26>0),C26*E26,\"\")","v":""},"13c Low Wall",{"$f":"C24","v":0},"l/m x",8.5999999999999993E-2,"=",{"$f":"IF(AND('Main Details'!$C$22=\"y\",I26>0),I26*K26,\"\")","v":""},"To 28c Plaster-           2 Sides",null,"l/m x",null,"=",{"$f":"IF(AND('Main Details'!$C$23=\"y\",O26>0),O26*Q26,\"\")","v":""},"To 31c",null,"l/m x",null,"=",{"$f":"IF(AND('Main Details'!$C$20=\"Y\",U26>0),U26*W26,\"\")","v":""}]
[null,"INTERNAL VERTICALLY CORED BLOCKS  (>31c walls)",null,null,null,null,null,"21c Low Wall",{"$f":"C25","v":0},"l/m x",8.5999999999999993E-2,"=",{"$f":"IF(AND('Main Details'!$C$22=\"y\",I27>0),I27*K27,\"\")","v":""},"Calculation By Number of Bricks:-",null,null,null,null,null,"Calculation By Number of Bricks:-",null,null,null,null,null,null,"BRICKWORK:-"]
[null,"Verti Blocks up to 31c",null,"l/m x",2.5720000000000001,"=",{"$f":"IF(C28>0,C28*E28,\"0.00\")","v":"0.00"},"Low Wall or Pier",null,"l/m x",null,"=",{"$f":"IF(AND('Main Details'!$C$22=\"y\",I28>0),I28*K28,\"\")","v":""},null,null,"No /",{"$f":"O42","v":48.5},"=",{"$f":"IF(AND('Main Details'!$C$23=\"y\",O28>0),O28/Q28,\"\")","v":""},null,null,"No /",{"$f":"U42","v":48.5},"=",{"$f":"IF(AND('Main Details'!$C$20=\"Y\",U28>0),U28/W28,\"\")","v":""},null,"COMMONS TO 28C"]
[null,"Verti Blocks up to 31c",null,"l/m x",2.5720000000000001,"=",{"$f":"IF(C29>0,C29*E29,\"0.00\")","v":"0.00"},"Calculation By Number of Bricks:-",null,null,null,null,null,null,null,"No /",{"$f":"O42","v":48.5},"=",{"$f":"IF(AND('Main Details'!$C$23=\"y\",O29>0),O29/Q29,\"\")","v":""},null,null,"No /",{"$f":"U42","v":48.5},"=",{"$f":"IF(AND('Main Details'!$C$20=\"Y\",U29>0),U29/W29,\"\")","v":""},null,{"$f":"SUM(S18:S22,S24:S26)","v":0}]
[null,"Verti Blocks over 31c",null,"l/m x",null,"=",{"$f":"IF(C30>0,C30*E30,\"0.00\")","v":"0.00"},null,null,"No /",{"$f":"I42","v":" "},"=",{"$f":"IF(AND('Main Details'!$C$22=\"y\",I30>0),I30/K30,\"\")","v":""},null,null,"No /",{"$f":"O42","v":48.5},"=",{"$f":"IF(AND('Main Details'!$C$23=\"y\",O30>0),O30/Q30,\"\")","v":""},null,null,"No /",{"$f":"U42","v":48.5},"=",{"$f":"IF(AND('Main Details'!$C$20=\"Y\",U30>0),U30/W30,\"\")","v":""}]
[null,"Verti Blocks over 31c",null,"l/m x",null,"=",{"$f":"IF(C31>0,C31*E31,\"0.00\")","v":"0.00"},null,null,"No /",{"$f":"I42","v":" "},"=",{"$f":"IF(AND('Main Details'!$C$22=\"y\",I31>0),I31/K31,\"\")","v":""},null,null,"No /",{"$f":"O42","v":48.5},"=",{"$f":"IF(AND('Main Details'!$C$23=\"y\",O31>0),O31/Q31,\"\")","v":""},null,null,"No /",{"$f":"U42","v":48.5},"=",{"$f":"IF(AND('Main Details'!$C$20=\"Y\",U31>0),U31/W31,\"\")","v":""},null,"INT FACE TO 28C (minus ddtns)"]
[null,"Deduct Openings up to 31c",null,"m2",null,"=",{"$f":"IF(C32>0,C32*E32,\"0.00\")","v":"0.00"},null,null,"No /",{"$f":"I42","v":" "},"=",{"$f":"IF(AND('Main Details'!$C$22=\"y\",I32>0),I32/K32,\"\")","v":""},null,null,"No /",{"$f":"O42","v":48.5},"=",{"$f":"IF(AND('Main Details'!$C$23=\"y\",O32>0),O32/Q32,\"\")","v":""},null,null,"No /",{"$f":"U42","v":48.5},"=",{"$f":"IF(AND('Main Details'!$C$20=\"Y\",U32>0),U32/W32,\"\")","v":""},null,{"$f":"SUM(Y15:Y26,Y36)","v":0}]
[null,null,null,"TOTAL",null,"=",{"$f":"IF(G28+G29+G30+G31>0,G28+G29+G30+G31-G32,\"\")","v":""},null,null,"No /",{"$f":"I42","v":" "},"=",{"$f":"IF(AND('Main Details'!$C$22=\"y\",I33>0),I33/K33,\"\")","v":""},null,null,"No /",{"$f":"O42","v":48.5},"=",{"$f":"IF(AND('Main Details'!$C$23=\"y\",O33>0),O33/Q33,\"\")","v":""},null,null,"No /",{"$f":"U42","v":48.5},"=",{"$f":"IF(AND('Main Details'!$C$20=\"Y\",U33>0),U33/W33,\"\")","v":""}]
[]
[null,null,null,null,"External & Internal deductions","=",{"$f":"IF('Main Details'!C21=\"Y\",(-(Lintels.windows!J44+Lintels.windows!J45+Lintels.windows!J46+'Internal deductions & int walls'!E43+M34+M25+M30))-M22-M24-M21-M23-AA29-AA32)","v":0},null,null,null,null,null,null,null,null,null,null,null,null,"Deduct ext & int openings"]
[null,null,null,null,"Total m2","=",{"$f":"IF(AND('Main Details'!$C$21=\"y\"),SUM($G$8:$G$13,G14:G17,G18:G20,G22:G26,G35),\" \")","v":0},"Wastage Percent",{"$f":"'BUILDERS SETTINGS'!C42","v":0},null,"Total m2","=",{"$f":"IF(AND('Main Details'!$C$22=\"y\"),SUM($M$8:$M$13,M14:AF17,M18:M20,M21:M34),\" \")","v":0},null,null,null,null,null,null,"relevant to face bricks? -","n",null,null,"=",{"$f":"IF(AND('Main Details'!$C$20=\"Y\",U36=\"y\"),-(Lintels.windows!#REF!+'Internal deductions & int walls'!E43),\"\")","v":""}]
[null,"Wastage Percent",{"$f":"'BUILDERS SETTINGS'!C42","v":0},null," Lab /bricks","=",{"$f":"SUM(G36*C42)","v":0},null,null,null,"Net labour/No of bricks","=",{"$f":"SUM(M36*I42)-M41","v":0},null,null,null,"Total m2","=",{"$f":"IF(AND('Main Details'!$C$23=\"y\"),SUM(S10:S11,S13:S14,S16,S18:S35))","v":false},null,"Total m2",null,"Nett m2","=",{"$f":"SUM(Y10:Y36)","v":0}]
[null,null,null,null,"including wastage","=",{"$f":"((G37/100)*C37)+G37","v":0},null,null,null,"Including Wastage","=",{"$f":"((M37/100)*I36)+M37","v":0},null,null,null,"Net labour/No of bricks","=",{"$f":"SUM(S37*O42)-S41","v":0},null,null,null,"Labour Net:","=",{"$f":"Y37*U42","v":0}]
[null,null,null,null,"Number of packs","=",{"$f":"IF(G38=0,0,(ROUNDUP(SUM(G38/(C43/C44)),0))/C44)","v":0},null,null,null,"Number of packs","=",{"$f":"IF(M38=0,0,(ROUNDUP(SUM($M$38/($I$43/$I$44)),0))/$I$44)","v":0},null,null,null,"Number of packs","=",{"$f":"IF(S38=0,0,(ROUNDUP(SUM($S$38/($O$43/$O$44)),0))/$O$44)","v":0},null,null,"Wastage=",{"$f":"'BUILDERS SETTINGS'!C20/100","v":0},"=",{"$f":"Y38/100*'BUILDERS SETTINGS'!O23","v":0}]
[null,null,null,null,"Total Number of Bricks","=",{"$f":"SUM(G39*C43)","v":0},null,null,null,"Total Number of Bricks","=",{"$f":"SUM(M39*I43)","v":0},null,null,null,"Total Number of Bricks","=",{"$f":"SUM(S39*O43)","v":0},null,null,null,"Total Number Face Bricks:","=",{"$f":"Y38+Y39-Y41","v":0}]
[null,null,null,null,null,null,null,null,null,null,"Total Bricks Solids","=",{"$f":"IF('Main Details'!$C$22=\"y\",M55,\"0\")","v":0},null,null,null,"Total Bricks Solids","=",{"$f":"IF('Main Details'!$C$23=\"y\",S55,\"0\")","v":"0"}]
[null,"Bricks per m2",{"$f":"'Main Details'!N21","v":" "},null,null,null,null,"Bricks per m2",{"$f":"'Main Details'!N22","v":" "},null,"No / packs","=",{"$f":"IF(M41=0,0,(ROUNDUP(SUM($M$41/($I$43/$I$44)),0))/$I$44)","v":0},"Bricks per m3",48.5,null,"No / packs","=",{"$f":"IF(S41=0,0,(ROUNDUP(SUM($S$41/($O$43/$O$44)),0))/$O$44)","v":0},null,48.5,"Bricks per m2"]
[null,"Pack Size",{"$f":"'Main Details'!K21","v":132},null,null,null,null,"Pack Size",{"$f":"'Main Details'!K22","v":252},null,"Total Solids","=",{"$f":"SUM(M42*I43)","v":0},"Pack Size",264,null,"Total Solids","=",{"$f":"SUM(S42*O43)","v":0},null,{"$f":"'Main Details'!K20","v":264},"Pack Size"]
[null,"No leaves per pack",{"$f":"'Main Details'!M21","v":" "},null,null,null,null,"No leaves per pack",{"$f":"'Main Details'!M22","v":" "},null,null,null,null,"No leaves per pack",4,null,null,null,null,null,{"$f":"'Main Details'!M20","v":4},"No leaves per pack"]
[null,"NOTE TO SCHEDULERS:",null,null,null,null,null,"EXTRA SOLID LONGREACH",null,null,null,null,null,"EXTRA SOLID COMMONS",null,null,null,null,null,"EXTRA INTERNAL FACE SOLIDS"]
[null,"All commons & internal face \"to 28c\" are automatically deducted",null,null,null,null,null,null,"length","x","height",null,"Extd",null,"length","x","height",null,"Extd",null,"length","x","height"]
[null,"from the blocks to 28c.",null,null,null,null,null," 1c Header Corbel",null,"l/m x",0.17199999999999999,"=",{"$f":"IF(AND('Main Details'!$C$22=\"y\",I47>0),I47*K47,\"\")","v":""}," 1c Header Corbel",null,"l/m x",8.5999999999999993E-2,"=",{"$f":"IF(AND('Main Details'!$C$23=\"y\",O47>0),O47*Q47,\"\")","v":""}," 1c Header Corbel",null,"l/m x",8.5999999999999993E-2,"=",{"$f":"IF(AND('Main Details'!$C$20=\"Y\",U47>0),U47*W47,\"\")","v":""}]
[null,"All commons & internal face \"over 28c\" DO NOT get deducted",null,{"$f":"SUM('Internal Brickwork'!Y10:Y13)*'Internal Brickwork'!U42","v":0},null,null,null,null,null,"l/m x",null,"=",{"$f":"IF(AND('Main Details'!$C$22=\"y\",I48>0),I48*K48,\"\")","v":""},null,null,"l/m x",null,"=",{"$f":"IF(AND('Main Details'!$C$23=\"y\",O48>0),O48*Q48,\"\")","v":""},null,null,"l/m x",null,"=",{"$f":"IF(AND('Main Details'!$C$20=\"Y\",U48>0),U48*W48,\"\")","v":""}]
[null,"from the blocks & longreach at all.",null,null,null,null,null,null,null,"l/m x",null,"=",{"$f":"IF(AND('Main Details'!$C$22=\"y\",I49>0),I49*K49,\"\")","v":""},null,null,"l/m x",null,"=",{"$f":"IF(AND('Main Details'!$C$23=\"y\",O49>0),O49*Q49,\"\")","v":""},null,null,"l/m x",null,"=",{"$f":"IF(AND('Main Details'!$C$20=\"Y\",U49>0),U49*W49,\"\")","v":""}]
[null,null,null,null,null,null,null,null,null,"l/m x",null,"=",{"$f":"IF(AND('Main Details'!$C$22=\"y\",I50>0),I50*K50,\"\")","v":""},null,null,"l/m x",null,"=",{"$f":"IF(AND('Main Details'!$C$23=\"y\",O50>0),O50*Q50,\"\")","v":""},null,null,"l/m x",null,"=",{"$f":"IF(AND('Main Details'!$C$20=\"Y\",U50>0),U50*W50,\"\")","v":""}]
[null,null,null,null,null,null,null,null,null,"No /",{"$f":"I42","v":" "},"=",{"$f":"IF(AND('Main Details'!$C$22=\"y\",I51>0),I51/K51,\"\")","v":""},"Quioning per No",null,"No /",{"$f":"O42","v":48.5},"=",{"$f":"IF(AND('Main Details'!$C$23=\"y\",O51>0),O51/Q51,\"\")","v":""},"Quioning",null,"No /",{"$f":"U42","v":48.5},"=",{"$f":"IF(AND('Main Details'!$C$20=\"Y\",U51>0),U51/W51,\"\")","v":""}]
[null,null,null,null,null,null,null,null,null,"No /",{"$f":"I42","v":" "},"=",{"$f":"IF(AND('Main Details'!$C$22=\"y\",I52>0),I52/K52,\"\")","v":""},"Extra Bricks Per No",null,"No /",{"$f":"O42","v":48.5},"=",{"$f":"IF(AND('Main Details'!$C$23=\"y\",O52>0),O52/Q52,\"\")","v":""},"Extra Bricks Per No",null,"No /",{"$f":"U42","v":48.5},"=",{"$f":"IF(AND('Main Details'!$C$20=\"Y\",U52>0),U52/W52,\"\")","v":""}]
[null,null,null,null,null,null,null,null,null,"No /",{"$f":"I42","v":" "},"=",{"$f":"IF(AND('Main Details'!$C$22=\"y\",I53>0),I53/K53,\"\")","v":""},"Extra Bricks Per No",null,"No /",{"$f":"O42","v":48.5},"=",{"$f":"IF(AND('Main Details'!$C$23=\"y\",O53>0),O53/Q53,\"\")","v":""},"Extra Bricks Per No",null,"No /",{"$f":"U42","v":48.5},"=",{"$f":"IF(AND('Main Details'!$C$20=\"Y\",U53>0),U53/W53,\"\")","v":""}]
[null,null,null,null,null,null,null,null,null,"No /",{"$f":"I42","v":" "},"=",{"$f":"IF(AND('Main Details'!$C$22=\"y\",I54>0),I54/K54,\"\")","v":""},"Extra Bricks Per No",null,"No /",{"$f":"O42","v":48.5},"=",{"$f":"IF(AND('Main Details'!$C$23=\"y\",O54>0),O54/Q54,\"\")","v":""},"Extra Bricks Per No",null,"No /",{"$f":"U42","v":48.5},"=",{"$f":"IF(AND('Main Details'!$C$20=\"Y\",U54>0),U54/W54,\"\")","v":""}]
[null,null,null,null,null,null,null,null,null,null,"Total Longreach Solids","=",{"$f":"ROUNDUP(SUM(M47:M54)*I42,0)","v":0},null,null,null,"Total Common Solids=","=",{"$f":"ROUNDUP(SUM(S47:S54)*O42,0)","v":0},null,null,null,"Total Extra Internal Face Solids","=",{"$f":"ROUNDUP(SUM(Y47:Y54)*U42,0)","v":0}]

{"sheet":"Brick Final Sheet","index":11,"n_rows":168,"n_cols":30,"rows_kept":168,"cut":false,"hidden":false,"merged":[[64,2,65,2],[64,1,65,1],[18,1,19,12],[52,3,52,4],[37,3,37,4],[34,3,34,4],[48,1,48,2],[50,3,50,4],[27,1,27,2],[30,3,30,4],[33,1,33,2],[27,3,27,4],[28,3,28,4],[38,9,38,11],[54,9,54,11],[40,3,40,4],[53,1,53,2],[53,3,53,4],[46,3,46,4],[62,1,63,2],[60,3,60,5],[22,1,22,2],[20,1,20,2],[21,1,21,2],[23,1,23,2],[28,1,28,2],[26,1,26,2],[29,1,29,2],[55,1,55,2],[55,3,55,4],[31,1,32,12],[33,3,33,4],[37,1,37,2],[35,3,35,4],[35,1,35,2],[34,1,34,2],[36,1,36,2],[41,1,41,2],[29,3,29,4],[23,3,23,4],[23,9,23,11],[47,3,47,4],[35,9,35,11],[26,9,26,11],[27,9,27,11],[26,3,26,4],[58,3,58,5],[59,3,59,4],[52,9,52,11],[41,10,41,11],[33,9,33,11],[49,9,49,11],[46,9,46,11],[34,9,34,11],[28,9,28,11],[40,9,40,11],[39,9,39,11],[37,9,37,11],[36,9,36,11],[29,10,29,11],[51,9,51,11],[47,9,47,11],[58,1,58,2],[38,3,38,4],[44,1,45,12],[49,3,49,4],[51,1,51,2],[49,1,49,2],[52,1,52,2],[48,3,48,4],[47,1,47,2],[41,3,41,4],[38,1,38,2],[56,6,56,7],[57,6,57,7],[54,3,54,4],[39,1,39,2],[50,1,50,2],[48,9,48,11],[50,9,50,11],[39,3,39,4],[51,3,51,4],[40,1,40,2],[46,1,46,2],[54,1,54,2],[53,9,53,11],[20,9,20,11],[21,9,21,11],[14,9,14,11],[22,3,22,4],[15,10,15,11],[15,3,15,4],[5,7,6,7],[5,8,6,8],[7,8,8,8],[7,7,8,7],[9,9,10,11],[20,3,20,4],[21,3,21,4],[22,9,22,11],[4,3,4,4],[4,9,4,11],[2,1,3,12],[5,12,6,12],[5,9,6,11],[7,9,8,11],[7,12,8,12],[15,1,15,2],[4,1,4,2],[5,1,6,2],[5,3,6,4],[5,5,6,5],[5,6,6,6],[7,1,8,2],[7,3,8,4],[7,5,8,5],[7,6,8,6],[14,3,14,4],[9,1,10,2],[9,3,10,4],[9,5,10,5],[9,6,10,6],[9,7,10,7],[9,8,10,8],[55,22,55,29],[68,22,68,26],[65,6,65,7],[66,6,66,7],[67,6,67,7],[64,6,64,7],[62,6,62,7],[63,6,63,7],[58,15,58,19],[61,6,61,7],[65,15,65,18],[66,15,66,16],[68,15,68,16],[66,22,66,23],[60,6,60,7],[59,15,59,16],[60,15,60,16],[61,15,61,16],[62,15,62,16],[63,15,63,16],[58,6,58,12],[59,6,59,7],[55,10,55,11],[68,6,68,7],[71,15,71,20],[90,15,90,17],[91,15,91,17],[88,15,88,16],[89,15,89,16],[81,15,81,17],[80,15,80,19],[73,15,73,16],[82,15,82,17],[9,12,10,12],[11,1,13,2],[11,3,13,4],[11,5,13,5],[11,6,13,6],[11,7,13,7],[11,8,13,8],[11,9,13,11],[11,12,13,12]]}
[]
[null,{"$f":"'Main Details'!B2","v":"QUANTITY SHEET FOR EASY START HOMES"},null,null,null,{"$f":"'Main Details'!D6","v":0},null,null,null,null,null,null,"PG 7"]
[null,"TOTALS FOR EXTERNAL FACE BLOCKWORK"]
[]
[null,"EXTERNAL BLOCKWORK",null,"No Bricks",null,"Pk size","No Pks","Order Pks","Total Brks","TYPE OF BRICK",null,null,"Labour"]
[null,{"$f":"'External Brickwork'!AL4","v":"2C FACE BLOCK 290X90X162"},null,{"$f":"'External Brickwork'!AQ43","v":{"$error":"#VALUE!"}},null,{"$f":"'External Brickwork'!AM48","v":138},{"$f":"IF(D6>0,D6/F6+0.138,\"0\")","v":{"$error":"#VALUE!"}},{"$f":"(ROUNDUP(((SUM(G6:G7))*3),0))/3+1","v":{"$error":"#VALUE!"}},{"$f":"F6*H6","v":{"$error":"#VALUE!"}},{"$f":"'Main Details'!$I$18","v":"NO SELECTION MADE"},null,null,{"$f":"D6","v":{"$error":"#VALUE!"}}]
[]
[null,{"$f":"'External Brickwork'!AR4","v":"1C FACE 290X90X76 CORED"},null,{"$f":"'External Brickwork'!AW43","v":0},null,{"$f":"'External Brickwork'!AS48","v":264},{"$f":"IF(D8>0,D8/F8,\"0\")","v":"0"},{"$f":"(ROUNDUP(((SUM(G8:G9))*3),0))/3","v":0},{"$f":"H8*F8","v":0},{"$f":"'Main Details'!$I$18","v":"NO SELECTION MADE"},null,null,{"$f":"D8","v":0}]
[]
[null,{"$f":"'External Brickwork'!AR50","v":"1C FACE  290x90x76 SOLIDS"},null,{"$f":"'External Brickwork'!AW61","v":0},null,{"$f":"'External Brickwork'!AS48","v":264},{"$f":"IF(D10>0,D10/F10,\"0\")","v":"0"},{"$f":"(ROUNDUP(((SUM(G10))*3),0)/3)","v":0},{"$f":"H10*F10","v":0},{"$f":"'Main Details'!$I$18","v":"NO SELECTION MADE"},null,null,{"$f":"D10","v":0}]
[null,null,null,null,null,{"$f":"'External Brickwork'!AM66","v":138},{"$f":"IF(D11>0,D11/F11,\" \")","v":" "},{"$f":"'External Brickwork'!AM74","v":0}]
[null,{"$f":"'External Brickwork'!T50","v":"2C FACE  190 SNAPS"},null,{"$f":"'External Brickwork'!Y61","v":0},null,{"$f":"'External Brickwork'!AO66","v":138},{"$f":"IF(D12>0,D12/F12,\" 0\")","v":" 0"},{"$f":"(ROUNDUP(SUM(G12*3),0)/3)","v":0},{"$f":"H12*F12","v":0},{"$f":"'Main Details'!$I$18","v":"NO SELECTION MADE"},null,null,{"$f":"D12","v":0}]
[null,null,null,null,null,null,{"$f":"IF(D13>0,D13/F13,\" \")","v":" "}]
[null,null,null,null,null,null,{"$f":"IF(D14>0,D14/F14,\" \")","v":" "}]
[null,null,null,null,null,null,null,null,null,null,null,null,{"$f":"D15","v":0}]
[null,null,null,null,null,null,null,"TOTAL ORDER:",{"$f":"SUM(I6:I15)","v":{"$error":"#VALUE!"}},null,"TOTAL LABOUR:",null,{"$f":"SUM(M6:M15)","v":{"$error":"#VALUE!"}}]
[null,null,null,null,null,null,null,null,null,"1c Total",{"$f":"M8+M10","v":0}]
[null,null,null,null,null,null,null,null,null,"2c Total",{"$f":"M6+M12","v":{"$error":"#VALUE!"}}]
[null,"1c FEATURE FACE BRICKWORK"]
[]
[null,"MAIN EXT BRICKS",null,"No Bricks",null,"Pk size","No Pks","Order Pks","Total Brks","TYPE OF BRICK",null,null,"Labour"]
[null,"EXTERNAL FACE CORED",null,{"$f":"'External Brickwork'!BC43","v":0},null,{"$f":"'External Brickwork'!AY48","v":264},{"$f":"IF(D22>0,D22/F22,\"0\")","v":"0"},{"$f":"(ROUNDUP(((SUM(G22:G22))*4),0))/4","v":0},{"$f":"F22*H22","v":0},{"$f":"'External Brickwork'!$AX$5","v":"MIDLAND- Burnished Red"},null,null,{"$f":"D22","v":0}]
[null,"EXTERNAL FACE SOLID",null,{"$f":"'External Brickwork'!BC61","v":0},null,{"$f":"'External Brickwork'!AY48","v":264},{"$f":"IF(D23>0,D23/F23,\"0\")","v":"0"},{"$f":"(ROUNDUP(((SUM(G23:G23))*4),0))/4","v":0},{"$f":"F23*H23","v":0},{"$f":"'External Brickwork'!$AX$5","v":"MIDLAND- Burnished Red"},null,null,{"$f":"D23","v":0}]
[null,null,null,null,null,null,null,"TOTAL ORDER:",{"$f":"SUM(I22:I23)","v":0},"TOTAL LABOUR:",null,null,{"$f":"SUM(M22:M23)","v":0}]
[null,null,null,null,null,null,null,"INTERNAL FACE BRICKWORK"]
[]
[null,"INT FACE BRICKS",null,"No Bricks",null,"Pk size","No Pks","Order Pks","Total Brks","TYPE OF BRICK",null,null,"Labour"]
[null,"INTERNAL FACE CORED",null,{"$f":"'Internal Brickwork'!Y40","v":0},null,{"$f":"IF(D28>0,'Main Details'!K20,\"0\")","v":"0"},{"$f":"IF(D28>0,D28/F28,\" \")","v":" "},{"$f":"(ROUNDUP(((SUM(G28:G28))*'Internal Brickwork'!U44),0))/'Internal Brickwork'!U44","v":0},{"$f":"SUM(H28*'Internal Brickwork'!U43)","v":0},{"$f":"'Internal Brickwork'!T6","v":"NO SELECTION MADE"},null,null,{"$f":"I28","v":0}]
[null,"INTERNAL FACE SOLIDS",null,{"$f":"'Internal Brickwork'!Y55","v":0},null,{"$f":"IF(D29>0,'Main Details'!K20,\"0\")","v":"0"},{"$f":"IF(D29>0,D29/F29,\" \")","v":" "},{"$f":"ROUNDUP(SUM(D29/('Internal Brickwork'!U43/'Internal Brickwork'!U44)),0)/'Internal Brickwork'!U44","v":0},{"$f":"H29*F29","v":0},{"$f":"'Internal Brickwork'!T6","v":"NO SELECTION MADE"},null,null,{"$f":"I29","v":0}]
[null,"EXTRAS",null,"No Bricks",null,null,null,"TOTAL ORDER:",{"$f":"SUM(I28:I29)","v":0},null,"TOTAL LABOUR:",null,{"$f":"SUM(M28:M29)","v":0}]
[null,null,"EXT CONT' SQUINT CORED",null,null,{"$f":"IF(D31=\"\",\" \",$J$28)","v":" "}]
[null,"TOTALS FOR INTERNAL  BLOCKWORK"]
[]
[null,"INTERNAL BLOCKWORK",null,"No Bricks",null,"Pk size","No Pks","Order Pks","Total Brks","TYPE OF BRICK",null,null,"Labour"]
[null,"INTERNALVERTICAL 2C",null,{"$f":"SUM('Internal Brickwork'!G38)","v":0},null,{"$f":"'Internal Brickwork'!C43","v":132},{"$f":"IF(D35>0,D35/F35,\"0\")","v":"0"},{"$f":"(ROUNDUP(((SUM(G35:G35))*3),0))/3","v":0},{"$f":"F35*H35","v":0},{"$f":"'Main Details'!I21","v":"NO SELECTION MADE"},null,null,{"$f":"D35","v":0}]
[null,"INTERNAL CORED 1C",null,{"$f":"SUM('Internal Brickwork'!M38)","v":0},null,{"$f":"'Internal Brickwork'!I43","v":252},{"$f":"IF(D36>0,D36/F36,\"0\")","v":"0"},{"$f":"(ROUNDUP(((SUM(G36))*3),0))/3","v":0},{"$f":"F36*H36","v":0},{"$f":"'Main Details'!I22","v":"NO SELECTION MADE"},null,null,0]
[null,null,null,null,null,null,null,null,null,null,null,null,0]
[null,"INTERNAL COMMONS CORED",null,{"$f":"SUM('Internal Brickwork'!S40)","v":0},null,{"$f":"'Internal Brickwork'!O43","v":264},{"$f":"IF(D38>0,D38/F38,\"0 \")","v":"0 "},{"$f":"(ROUNDUP(((SUM(G38))*3),0))/3","v":0},{"$f":"F38*H38","v":0},{"$f":"'Main Details'!I23","v":"NO SELECTION MADE"},null,null,0]
[null,null,null,{"$f":"SUM('Internal Brickwork'!S12,'Internal Brickwork'!S15,'Internal Brickwork'!S17)*'Internal Brickwork'!O42","v":0},null,null,null,null,null,null,null,null,0,null,null,null,"Reo Type (select)"]
[null,"INTERNAL SOLIDS 1C",null,{"$f":"'Internal Brickwork'!M55","v":0},null,{"$f":"'Internal Brickwork'!I43","v":252},{"$f":"IF(D40>0,D40/F40,\"0\")","v":"0"},{"$f":"(ROUNDUP(((SUM(G40))*3),0))/3","v":0},{"$f":"H40*F40","v":0},{"$f":"'Main Details'!I22","v":"NO SELECTION MADE"},null,null,0,null,null,null,"Order 6m Rods"]
[null,"INTERNAL COMMON SOLIDS",null,{"$f":"'Internal Brickwork'!S55","v":0},null,{"$f":"'Internal Brickwork'!O43","v":264},{"$f":"IF(D41>0,D41/F41,\"0 \")","v":"0 "},{"$f":"(ROUNDUP(((SUM(G41))*4),0))/4","v":0},{"$f":"H41*F41","v":0},{"$f":"'Main Details'!I23","v":"NO SELECTION MADE"},null,null,0,null,null,null,"Order MRBL50 Mesh"]
[null,null,null,null,null,null,null,"TOTAL ORDER:",{"$f":"SUM(I34:I41)","v":0},null,"TOTAL LABOUR:",null,{"$f":"SUM(M34:M41)","v":0},null,null,null,null,null,null,null,0]
[null,null,null,null,null,null,null,null,null,"1c Total",{"$f":"M36+M40+M38+M41","v":0},null,null,null,null,null,null,null,null,null,1]
[null,null,null,null,null,null,null,null,null,"2c Total",{"$f":"M35","v":0},null,null,null,null,null,null,"940mm",null,null,2]
[null,"TOTALS FOR EXTERNAL  BLOCKWORK",null,null,null,null,null,null,null,null,null,null,null,null,null,null,null,"1250mm",null,null,3]
[null,null,null,null,null,null,null,null,null,null,null,null,null,null,null,null,null,"1570mm",null,null,4]
[null,"EXTERNAL BLOCKWORK",null,"No Bricks",null,"Pk size","No Pks","Order Pks","Total Brks","TYPE OF BRICK",null,null,"Labour",null,null,null,null,"1890mm",null,null,5]
[null,"EXT RENDER 2C",null,{"$f":"'External Brickwork'!Y43","v":0},null,{"$f":"'External Brickwork'!U48","v":138},{"$f":"IF(D48>0,D48/F48,\"0\")","v":"0"},{"$f":"(ROUNDUP(((SUM(G48))*3),0))/3","v":0},{"$f":"SUM(H48*'External Brickwork'!U48)","v":0},{"$f":"'Main Details'!I14","v":"MIDLAND MAXIBRICK"},null,null,{"$f":"D48","v":0},null,null,null,null,"2200mm",null,null,6]
[null,null,null,null,null,null,null,null,null,null,null,null,null,{"$f":"MROUND(O106,2)","v":0},null,null,null,"2500mm",null,null,7]
[null,"EXT RENDER CORED 1C",null,{"$f":"'External Brickwork'!AE43","v":0},null,{"$f":"'External Brickwork'!AA48","v":252},{"$f":"IF(D50>0,D50/F50,\"0\")","v":"0"},{"$f":"(ROUNDUP(((SUM(G50:G50))*3),0))/3","v":0},{"$f":"SUM(H50*'External Brickwork'!AA48)","v":0},{"$f":"'Main Details'!I15","v":"MIDLAND LONGREACH"},null,null,{"$f":"D50","v":0},null,null,null,null,"2830mm",null,null,8]
[null,null,null,null,null,null,null,null,null,null,null,null,0,null,null,null,null,"3140mm",null,null,9]
[null,"EXT RENDER COMMONS CORED",null,{"$f":"'External Brickwork'!AK43","v":0},null,{"$f":"'External Brickwork'!AG48","v":264},{"$f":"IF(D52>0,D52/F52,\"0\")","v":"0"},{"$f":"(ROUNDUP(((SUM(G52))*3),0))/3","v":0},{"$f":"SUM(H52*'External Brickwork'!AG48)","v":0},{"$f":"'Main Details'!I16","v":"NO SELECTION MADE"},null,null,0,null,null,null,null,null,null,null,10]
[null,null,null,null,null,null,null,null,null,null,null,null,0]
[null,"EXT RENDER 1C SOLIDS",null,{"$f":"'External Brickwork'!AE61","v":0},null,{"$f":"'External Brickwork'!AA48","v":252},{"$f":"IF(D54>0,D54/F54,\"0\")","v":"0"},{"$f":"(ROUNDUP(((SUM(G54))*3),0))/3","v":0},{"$f":"H54*F54","v":0},{"$f":"'Main Details'!I15","v":"MIDLAND LONGREACH"},null,null,0]
[null,"EXT RENDER COMMONS SOLIDS",null,{"$f":"'External Brickwork'!AK61","v":0},null,{"$f":"'External Brickwork'!AG48","v":264},"0",{"$f":"(ROUNDUP(((SUM(G55))*4),0))/4","v":0},{"$f":"H55*F55","v":0},{"$f":"'Main Details'!I16","v":"NO SELECTION MADE"},null,null,0]
[null,null,null,null,null,null,null,"TOTAL ORDER:",{"$f":"SUM(I45:I55)","v":0},null,"TOTAL LABOUR:",null,{"$f":"SUM(M45:M55)","v":0},null,null,null,null,null,null,null,null,null,"REINFORCEMENT ROD CALCULATION"]
[null,"WEEPA's",{"$f":"(ROUNDUP((SUM('Main Details'!D37-'Main Details'!D45)/0.9/25),0))","v":0},null,null,null,"ABBTF FUND 1C",null,{"$f":"I8+I10+I36+I38+I40+I41+I50+I52+I54+I55+I23+I22","v":0},"1c Total",{"$f":"M50+M54+M52+M55","v":0},null,null,null,null,null,null,null,null,null,null,null,null,null,"Length ","x","Rows",null,"Total"]
[null,null,null,null,null,null,"ABBTF FUND 2C",null,{"$f":"I6+I12+I35+I48","v":{"$error":"#VALUE!"}},"2c Total",{"$f":"M48","v":0},null,null,null,null,null,null,null,null,null,null,null,"Internal Perimeter",null,{"$f":"'Main Details'!D37","v":0},"x",2,null,{"$f":"Y58*AA58","v":0},"lm"]
[null,"ALCOR FLASHINGS",null,"Mortar Filled Piers",null,null,"BRICK HARDWARE",null,null,null,null,null,null,null,null,"Cement Calc",null,null,null,null,null,null,"Garage Perimeter",null,{"$f":"'Concrete & Reo'!C17","v":0},"x",2,null,{"$f":"Y59*AA59","v":0},"lm"]
[null,"Alcor Total",{"$f":"ROUNDUP((Lintels.windows!O42/10)+(C61*3/10)+(C62*3/10),\"0\")","v":0},"BAGS",null,0,"Grey Cement Total",null,{"$f":"T60+T61+F60","v":0},"bags","Order Sand",{"$f":"R67","v":{"$error":"#VALUE!"}},"m3",null,null,"internal grey",null,{"$f":"I35+I36+I38+I40+I41","v":0},{"$f":"R60/1000*1.1","v":0},{"$f":"S60*10.8","v":0},null,null,"Under Openings",null,{"$f":"Lintels.windows!AW41","v":0},"x",4,null,0,"lm"]
[null,"Cavity Closers no",null,"BRICK LINTELS",null,null,"Lite Cement Total",null,{"$f":"T63+T64","v":{"$error":"#VALUE!"}},"bags","Wire Ties DB",{"$f":"VLOOKUP(K61,P74:S78,4,0)","v":1},{"$f":"VLOOKUP(K61,P74:R78,3,0)","v":"pks"},null,null,"external grey",null,{"$f":"I48+I50+I52+I54+I55","v":0},{"$f":"R61/1000*1.2","v":0},{"$f":"S61*10.8","v":0},null,null,"Over Openings",null,null,"x",4,null,0,"lm"]
[null,"Structural Col's no",null,null,"at",null,"Cartage Totals",null,"Zones",1,"DBL BOUNDARY BV",{"$f":"IF(K61=\"Wire Ties BV\",S75,\" \")","v":" "},"pack",null,null,null,null,null,0,{"$f":"S62*10.8","v":0},null,null,"Internal Partition Openings",null,{"$f":"'Internal deductions & int walls'!L26","v":0},"x",2,null,0,"lm"]
[null,"BRICKWORK REINFORCEMENT",null,null,"at",null,"STD Cored Face",null,{"$f":"I28+I22","v":0},"1C","3.0m Hoop Iron",null,"no",null,null,"Brickies Lite 1c",null,{"$f":"I8+I22+I23+I28+I29+I10","v":0},{"$f":"R63/1000*1.1","v":0},{"$f":"S63*11.2","v":0},null,null,"Ext B/work over 25c",null,null,"x",2,null,0,"lm"]
[null,null,null,null,"at",null,"STD Solid Face",null,{"$f":"I29+I23","v":0},"1C","Hoop Iron Strap 30m",{"$f":"VLOOKUP(K64,P82:U83,6,FALSE)","v":0},"rolls",null,null,"Brickies lite 2c",null,{"$f":"I6+I12+I8+I10","v":{"$error":"#VALUE!"}},{"$error":"#VALUE!"},{"$f":"S64*11.2","v":{"$error":"#VALUE!"}},null,null,"T-bars ",null,null,"x",null,null,0,"lm"]
[null,null,"= Enter nett l/m of Reo to pay Brickie",null,"at",null,"Cored Longreach",null,{"$f":"I8+I36+I50","v":0},"1C","10mm Dyna Bolts",null,"no",null,null,null,null,null,null,null,null,null,"Corner Windows ",null,null,"x",null,null,0,"lm"]
[null,null,null,null,"at",null,"Solid Longreach",null,{"$f":"I10+I40+I54","v":0},"1C","12mm Dyna Bolts",null,"no",null,null,"Sand Calculations",null,null,null,null,null,null,"Brick Bulkhead ",null,null,"x",4,null,0,"lm"]
[null,{"$f":"O166","v":0},"Reo Type (select)",null,"at",null,"Fastwall/Maxi brick",null,{"$f":"I35+I48","v":0},"2C","Brick Clean 1c",{"$f":"T90-('Elec,Ceiling,Plaster '!M53)","v":0},"no",null,null,"Total Bricks",null,{"$f":"(I16+I24+I30+I42+I56)/1000+2","v":{"$error":"#VALUE!"}},"m3",null,null,null,"*Spare*",null,0,"x",null,null,0,"lm"]
[null,null,"Order 500 cogs",null,null,null,"2c Facebrick",null,{"$f":"I6+I12+I14","v":{"$error":"#VALUE!"}},"2C","Brick Clean 2c",{"$f":"T89-('Elec,Ceiling,Plaster '!M54*19.5)","v":{"$error":"#VALUE!"}},"no"]
[null,null,null,null,"at",null,null,null,null,null,"E/O Red Bricks",{"$f":"IF(OR('Main Details'!G2=TRUE,'Main Details'!G3=TRUE,'Main Details'!G8=TRUE,'Main Details'!G10=TRUE),\"REQUIRED\",\" \")","v":" "},null,null,null,null,null,null,null,null,null,null,null,null,null,null,null,"Total :",{"$f":"SUM(AC58:AC67)","v":0},"lm"]
[]
[]
[null,null,null,null,null,null,null,null,null,null,null,null,null,null,null,"Wire Ties Calculation"]
[null,null,null,null,null,null,null,null,null,null,null,null,null,null,null,null,null,null,null,"Perimeter M2","Gge/House"]
[null,null,null,null,null,null,null,null,null,null,null,null,null,null,"No","Wire Ties BV",null,"each",{"$f":"(T74-U74)*5+30","v":30},{"$f":"('External Brickwork'!Y7+'External Brickwork'!AE7+'External Brickwork'!AQ7+'External Brickwork'!AW7+'External Brickwork'!BC7)+SUM('External Brickwork'!Y27:Y36)+SUM('External Brickwork'!AE27:AE35)+SUM('External Brickwork'!AQ27:AQ36)+SUM('External Brickwork'!AW27:AW35)-(Lintels.windows!G42)-T75","v":0},{"$f":"'Main Details'!D45*'External Brickwork'!AO7","v":0}]
[null,null,null,null,null,null,null,null,null,null,null,null,null,null,null,null,null,"pks",{"$f":"(T75-U75)*4.5/50","v":0},{"$f":"'Main Details'!E50","v":0}]
[null,null,null,null,null,null,null,null,null,null,null,null,null,null,null,null,null,null,null,"Perimeter M2","Gge/House"]
[null,null,null,null,null,null,null,null,null,null,null,null,null,null,"Yes","Wire Ties DB",null,"pks",{"$f":"(T77-U77)*4.5/50+1","v":1},{"$f":"('External Brickwork'!Y42+'External Brickwork'!AE42+'External Brickwork'!AQ42+'External Brickwork'!AW42+'External Brickwork'!BC42)","v":0},{"$f":"SUM('External Brickwork'!Y37:Y39,'External Brickwork'!AE37:AE39,'External Brickwork'!AQ37:AQ39,'External Brickwork'!AW37:AW39,'External Brickwork'!BC37:BC39)+'Main Details'!D45*'External Brickwork'!AO7","v":0}]
[null,null,null,null,null,null,null,null,null,null,null,null,null,null,null,"Framed N/A",null,null,0]
[]
[]
[null,null,null,null,null,null,null,null,null,null,null,null,null,null,null,"Hoop Iron Conversion"]
[null,null,null,null,null,null,null,null,null,null,null,null,null,null,null,"Hoop Iron Strap 30m",null,null,{"$f":"('Main Details'!D37-'Main Details'!D45)/1.2*3","v":0},null,{"$f":"S84/30","v":0}]
[null,null,null,null,null,null,null,null,null,null,null,null,null,null,null,"Brick Veneer Strap 30m",null,null,{"$f":"(L63*3)","v":0},{"$f":"L63*3+Q84*3","v":3},{"$f":"ROUNDUP(T84/30,0)","v":1}]
[null,null,null,null,null,null,null,null,null,null,null,null,null,null,null,"DBL bound",{"$f":"ROUNDUP('Main Details'!D49/1.2,0)+1","v":1},{"$f":"Q84*3","v":3},{"$f":"S82+S83","v":0},{"$f":"T82+T83","v":3}]
[]
[]
[]
[null,null,null,null,null,null,null,null,null,null,null,null,null,null,null,"Brick Clean Calculator"]
[null,null,null,null,null,null,null,null,null,null,null,null,null,null,null,"2c Bricks",null,{"$f":"M16","v":{"$error":"#VALUE!"}},{"$f":"IF('External Brickwork'!AM11>0,('External Brickwork'!AQ11*'External Brickwork'!AM47),\"0\")","v":"0"},{"$f":"R89+S89","v":{"$error":"#VALUE!"}}]
[null,null,null,null,null,null,null,null,null,null,null,null,null,null,null,"1c Face Brick",null,{"$f":"M24+M30","v":0},null,{"$f":"R90+S90","v":0}]
[]
[]
[]
[]
[]
[]
[]
[]
[]
[]
[]
[]
[]
[]
[]
[]
[]
[]
[]
[]
[]
[]
[]
[]
[]
[]
[]
[]
[]
[]
[]
[]
[]
[]
[]
[]
[]
[]
[]
[]
[]
[]
[]
[]
[]
[]
[]
[]
[]
[]
[]
[]
[]
[]
[]
[]
[]
[]
[]
[]
[]
[]
[]
[]
[]
[]
[]
[]
[]
[]
[]
[]
[]
[]
[null,null,null,null,null,null,null,null,null,null,null,null,null,null,{"$f":"IF(C67=Q39,\"0\",IF(C67=Q40,B65/5.5,IF(C67=Q41,B65/2.5+2)))","v":"0"}]
[null,null,null,null,null,null,null,null,null,null,null,null,null,null,{"$f":"CEILING(O165,1)","v":0}]
[null,null,null,null,null,null,null,null,null,null,null,null,null,null,null,"REO RODS NETT"]
[null,null,null,null,null,null,null,null,null,null,null,null,null,null,null,"REO RODS ROUNDUP EVEN"]

{"sheet":"Facia & Steel & Roof Hardware","index":12,"n_rows":42,"n_cols":49,"rows_kept":42,"cut":false,"hidden":false,"merged":[[35,41,35,43],[32,41,32,43],[33,41,33,43],[34,41,34,43],[29,41,29,43],[20,41,20,43],[21,28,21,34],[10,28,10,34],[11,28,11,34],[20,28,20,40],[14,28,14,40],[15,28,15,34],[39,1,39,2],[19,7,20,8],[39,7,39,10],[19,24,21,24],[39,14,39,17],[19,20,21,20],[19,21,20,22],[19,10,21,10],[19,13,21,13],[19,11,21,11],[19,17,21,17],[19,18,21,18],[19,14,20,15],[27,1,27,2],[35,21,35,28],[19,12,21,12],[19,25,21,25],[19,26,21,26],[19,19,21,19],[19,27,21,27],[19,28,19,34],[4,41,4,45],[6,41,6,45],[4,7,4,27],[12,28,12,34],[8,28,8,40],[13,28,13,34],[4,28,4,40],[6,28,6,34],[9,28,9,34],[6,18,8,18],[7,28,7,34],[11,41,11,43],[12,41,12,45],[10,41,10,43],[6,12,8,12],[6,19,8,19],[4,1,4,5],[6,11,8,11],[6,27,8,27],[6,7,7,8],[6,14,7,15],[6,17,8,17],[6,24,8,24],[6,20,8,20],[6,10,8,10],[6,13,8,13],[6,26,8,26],[6,25,8,25],[6,21,7,22],[16,56,16,60],[18,28,18,34],[16,28,16,34],[33,21,33,28],[32,21,32,28],[21,41,21,45],[27,41,27,45],[31,41,31,43],[30,41,30,43],[28,41,28,43],[22,41,22,43],[24,41,24,43],[28,28,28,40],[32,34,32,40],[22,28,22,34],[23,28,23,34],[24,28,24,34],[25,28,25,34],[26,28,26,34],[37,41,37,43],[38,41,38,43],[39,41,39,43],[40,41,40,43],[41,41,41,43],[41,34,41,37],[36,41,36,43],[3,41,3,43],[37,34,37,37],[38,34,38,37],[39,34,39,37],[40,34,40,37],[27,28,27,34],[31,28,31,34],[29,28,29,34],[30,28,30,34],[35,34,35,37],[36,34,36,37],[36,21,36,28],[37,21,37,28],[34,21,34,28],[33,34,33,37],[34,34,34,37],[17,28,17,34]]}
[]
[null,{"$f":"'Main Details'!B2","v":"QUANTITY SHEET FOR EASY START HOMES"},null,null,null,null,null,null,null,null,null,null,null,null,null,null,null,null,null,null,null,null,null,null,null,null,null,null,null,null,null,null,null,null,null,null,null,null,null,null,null,null,null,null,null,"PG 8"]
[null,{"$f":"'Main Details'!D6","v":0}]
[null,null,null,null,null,null,null,null,null,null,null,null,null,null,null,null,null,null,null,null,null,null,null,null,null,null,null,null,null,null,null,null,null,null,null,null,null,null,null,null,null,"DURALUX PLUS  AREA",null,null,null,"m2"]
[null,"METAL FASCIA",null,null,null,null,null,"STEEL  BEAMS",null,null,null,null,null,null,null,null,null,null,null,null,null,null,null,null,null,null,null,null,"HARDWARE",null,null,null,null,null,null,null,null,null,null,null,null,"CFC SHEETS/BOARDS"]
[]
[null,null,null,1,{"$f":"IF($C7*$D7=0,\" \",$C7*$D7)","v":" "},null,null,"150 UB 14",null,null,"Splay & Packer","Point Splay 1,2","Packer","Slot        1,2","180 UB 16",null,null,"Splay & Packer","Point Splay 1,2","Packer","Slot        1,2","180 UB 22",null,null,"Splay & Packer","Point Splay 1,2","Packer","Slot        1,2","TENSIONER BRACKETS",null,null,null,null,null,null,{"$f":"SUM('Main Details'!D37/1/6)+('Brick Final Sheet'!L63/6)","v":0},null,"PACK",null,null,null,"DURALUX PLUS"]
[null,null,null,1.5,{"$f":"IF($C8*$D8=0,\" \",$C8*$D8)","v":" "},null,null,null,null,null,null,null,null,null,null,null,null,null,null,null,null,null,null,null,null,null,null,null,"WPA BOLTS ",null,null,null,null,null,null,"BBS",null,"No",null,null,null,2400,"x",1200,null,"No",null,null,{"$f":"AP8*AR8/1000000","v":2.88}]
[null,null,null,2," ",null,null,"l/m",{"$f":"IF(SUM(J10:J19)=0,\"0\",SUM(J10:J19))","v":"0"},null,null,null,null,null,"l/m",{"$f":"IF(SUM(Q10:Q19)=0,\"0\",SUM(Q10:Q19))","v":"0"},null,null,null,null,null,"l/m",{"$f":"IF(SUM(X10:X19)=0,\"0\",SUM(X10:X19))","v":"0"},null,null,null,null,null,"STEEL TRUSS HARDWARE",null,null,null,null,null,null,null,null,null,null,null,null,3000,"x",1200,null,"No",null,null,{"$f":"AP9*AR9/1000000","v":3.6}]
[null,null,null,2.5," ",null,null,null,null,{"$f":"H10*I10","v":0},null,null,null,null,null,null,{"$f":"O10*P10","v":0},null,null,null,null,null,null,{"$f":"V10*W10","v":0},null,null,null,null,"CLADDING Screws",null,null,null,null,null,null,{"$f":"IF('Main Details'!G31=TRUE,ROUNDUP(((((AS29+AS32)*4.2/0.45))/50),0),\" \")","v":0},null,"BOX 50",null,null,null,3600,"x",1200,null,"No",null,null,{"$f":"AP10*AR10/1000000","v":4.32}]
[null,null,null,3," ",null,null,null,null,0,null,null,null,null,null,null,0,null,null,null,null,null,null,0,null,null,null,null,"BARGE Screws",null,null,null,null,null,null,{"$f":"IF('Main Details'!G31=TRUE,ROUNDUP(((((AM37/4.2)/0.6))/50),0),\" \")","v":0},null,"BOX 50",null,null,null,"6mm Negative Joiner 3m",null,null,null,"No",null,null,{"$f":"AP11*AR11/1000000","v":{"$error":"#VALUE!"}}]
[null,null,null,3.5," ",null,null,null,null,0,null,null,null,null,null,null,0,null,null,null,null,null,null,0,null,null,null,null,"FLOOR Screws",null,null,null,null,null,null,{"$f":"ROUNDUP(SUM(AS23+AS24+AS26)*10/50,0)","v":0},null,"BOX 50",null,null,null,"6mm Divisional Mould 3m",null,null,null,"No"]
[null,null,null,4," ",null,null,null,null,0,null,null,null,null,null,null,0,null,null,null,null,null,null,0,null,null,null,null,"EAVE SHEET SCREW",null,null,null,null,null,null,{"$f":"IF('Main Details'!G31=TRUE,ROUNDUP(((SUM(AW14*AS14,AW15*AS15,AW16*AS16,AW17*AS17,AW18*AS18,AW19*AS19,AW20*AS20)*7)/100),0),\" \")","v":0},null,"BOX 100",null,null,null,"DURASHEET"]
[null,null,null,4.5," ",null,null,null,null,0,null,null,null,null,null,null,0,null,null,null,null,null,null,0,null,null,null,null,"VERSILUX SCREW",null,null,null,null,null,null,{"$f":"IF('Main Details'!G31=TRUE,ROUNDUP(SUM(AW8*AS8,AW9*AS9,AW10*AS10)*7/100,0),\" \")","v":0},null,"BOX 100",null,null,null,2400,"x",450,null,"No",null,null,{"$f":"AP14*AR14/1000000","v":1.08}]
[null,null,null,5," ",null,null,null,null,0,null,null,null,null,null,null,0,null,null,null,null,null,null,0,null,null,null,null,"TIMBER HARDWARE",null,null,null,null,null,null,null,null,null,null,null,null,2400,"x",600,null,"No",null,null,1.44]
[null,null,null,5.5," ",null,null,null,null,0,null,null,null,null,null,null,0,null,null,null,null,null,null,0,null,null,null,null,"MULTIGRIPS",null,null,null,null,null,null,null,null,"No",null,null,null,2400,"x",750,null,"No",null,null,1.8]
[null,null,null,6," ",null,null,null,null,0,null,null,null,null,null,null,0,null,null,null,null,null,null,0,null,null,null,null,"CYCLONE STRAPS",null,null,null,null,null,null,{"$f":"IF('Main Details'!E31=TRUE,SUM('Roof & Ceiling Quantities '!F28,'Roof & Ceiling Quantities '!J22,'Roof & Ceiling Quantities '!J40)/'Main Details'!D44,\" \")","v":" "},null,"No",null,null,null,1800,"x",1200,null,"No",null,null,2.16]
[null,null,null,6.5," ",null,null,null,null,0,null,null,null,null,null,null,0,null,null,null,null,null,null,0,null,null,null,null,"TRUSS GRIP MITEK",null,null,null,null,null,null,{"$f":"IF(AND('Main Details'!C28=\"N\",'Main Details'!E31=TRUE),SUM('Roof & Ceiling Quantities '!AC28+'Roof & Ceiling Quantities '!AG28)/0.9,\" \")","v":" "},null,"No",null,null,null,2400,"x",1200,null,"No",null,null,2.88]
[null,null,null,7," ",null,null,null,null,0,null,null,null,null,null,null,0,null,null,null,null,null,null,0,null,null,null,null,"MITEK STRAP NAIL ",null,null,null,null,null,null,{"$f":"IF(AND('Main Details'!C28=\"N\",'Main Details'!E31=TRUE),SUM('Roof & Ceiling Quantities '!AC28,'Roof & Ceiling Quantities '!AG28)/1.5,\" \")","v":" "},null,"No",null,null,null,2700,"x",1200,null,"No",null,null,3.24]
[null,null,null,7.5," ",null,null,"200 UB 18",null,0,"Splay & Packer","Point Splay 1,2","Packer","Slot        1,2","200 UB 22.3",null,0,"Splay & Packer","Point Splay 1,2","Packer","Slot        1,2","250 UB 25.7",null,0,"Splay & Packer","Point Splay 1,2","Packer","Slot        1,2","HANGER STRAPS",null,null,null,null,null,null,{"$f":"IF('Main Details'!E31=TRUE,SUM('Roof & Ceiling Quantities '!P16,'Roof & Ceiling Quantities '!P24,'Roof & Ceiling Quantities '!P36)/0.53,\" \")","v":" "},null,"No",null,null,null,3000,"x",1200,null,"No",null,null,3.6]
[null,null,null,8," ",null,null,null,null,0,null,null,null,null,null,null,0,null,null,null,null,null,null,0,null,null,null,null,"TIMBER BOLTS / SCREWS",null,null,null,null,null,null,null,null,null,null,null,null,"4.5mm Divisional Mould 3m",null,null,null,"No"]
[null,null,null,8.5," ",null,null,"l/m",{"$f":"IF(SUM(J23:J32)=0,\"0\",SUM(J23:J32))","v":"0"},0,null,null,null,null,"l/m",{"$f":"IF(SUM(Q23:Q32)=0,\"0\",SUM(Q23:Q32))","v":"0"},0,null,null,null,null,"l/m",{"$f":"IF(SUM(X23:X32)=0,\"0\",SUM(X23:X32))","v":"0"},0,null,null,null,null,"C/HD 63.5 x 10",null,null,null,null,null,null,{"$f":"IF('Main Details'!E31,SUM(((I9+P9+W9+W22+P22+I22)/0.6))+(AM35*2),\" \")","v":" "},null,"No",null,null,null,"FLOORING"]
[null,null,null,9,{"$f":"IF($C23*$D23=0,\" \",$C23*$D23)","v":" "},null,null,null,null,{"$f":"H23*I23","v":0},null,null,null,null,null,null,{"$f":"O23*P23","v":0},null,null,null,null,null,null,{"$f":"V23*W23","v":0},null,null,null,null,"C/HD 115 x 10",null,null,null,null,null,null,{"$f":"SUM('Roof & Ceiling Quantities '!AW32:AW40)*2","v":0},null,"No","NOTE",null,null,"PARTICLE BOARD 19mm ",null,null,null,"No"]
[null,"TOTAL:",{"$f":"SUM(E7:E23)","v":0},"l/m",null,null,null,null,null,0,null,null,null,null,null,null,0,null,null,null,null,null,null,0,null,null,null,null,"C/HD 90 x 10",null,null,null,null,null,null,{"$f":"SUM(AD34,AD35,AD37,AD38)*2","v":0},null,"No",null,null,null,3600,"x",1200,null,"No",null,null,{"$f":"AP24*AR24/1000000","v":4.32}]
[null,null,"Ext corners=",null,null,"No",null,null,null,0,null,null,null,null,null,null,0,null,null,null,null,null,null,0,null,null,null,null,"DYNA 10 X 100mm ",null,null,null,null,null,null,{"$f":"SUM(AD34,AD35,AD37,AD38)*2","v":0},null,"No",null,null,null,"DURAFLOOR 19mm",null,null,null,"No"]
[null,null,"Int corners=",null,null,"No",null,null,null,0,null,null,null,null,null,null,0,null,null,null,null,null,null,0,null,null,null,null,"MUNGO 10 x 100 ",null,null,null,null,null,null,null,null,"No",null,null,null,2700,"x",600,null,"No",null,null,{"$f":"AP26*AR26/1000000","v":1.62}]
[null,null,"Bracket/clip=",{"$f":"IF('Main Details'!E28=TRUE,(ROUNDUP(C24/0.6,0)),(ROUNDUP(C24/0.9,0)))+5","v":5},null,"No",null,null,null,0,null,null,null,null,null,null,0,null,null,null,null,null,null,0,null,null,null,null,"ROOF BATTEN SCREW",null,null,null,null,null,null,null,null,"BOX",null,null,null,null,null,null,null,null,null,null,{"$f":"AP27*AR27/1000000","v":0}]
[null,"Straights/joins=",null,null,null,"No",null,null,null,0,null,null,null,null,null,null,0,null,null,null,null,null,null,0,null,null,null,null,"C/HD 140 X 10 POST SHOE  ",null,null,null,null,null,null,{"$f":"SUM(AD37:AD38)*2","v":0},null,"No",null,null,null,"CLADDING"]
[null,null,"135 deg ext =",null,null,"No",null,null,null,0,null,null,null,null,null,null,0,null,null,null,null,null,null,0,null,null,null,null,"STEEL BATTENS W/- TIMBER ROOF",null,null,null,null,null,null,null,null,null,null,null,null,"Weather Boards 4.2m",null,null,null,"No",null,null,{"$f":"IF('Main Details'!G31=TRUE,ROUNDUP((((SUM(AW24*AS24,AW26*AS26,AW27*AS27)*10)/50)+((AS29+AM37)*4.2/0.6)/50),0),\" \")","v":0}]
[null,null,"135 deg int =",null,null,"No",null,null,null,0,null,null,null,null,null,null,0,null,null,null,null,null,null,0,null,null,null,null,"ROOF BATTEN G550 40mm",null,null,null,null,null,null,null,null,6.1,"M lengths",null,null,"BBS Membrane 1350mm",null,null,null,"L/m"]
[null,null,"Stop end: Lh",null,null,"No",null,null,null,0,null,null,null,null,null,null,0,null,null,null,null,null,null,0,null,null,null,null,"BATTEN ZIP SCREW",null,null,null,null,null,null,{"$f":"ROUNDUP(SUM(((AJ30*AL30)/0.9)*2)/1000,0.1)","v":0},null,"BOX",1000,null,null,"Plascourse 150mm x 30m",null,null,null,"Rolls"]
[null,null,"Rh",null,null,"No",null,null,null,0,null,null,null,null,null,null,0,null,null,null,null,null,null,0,null,null,null,null,null,null,null,null,null,null,null,null,null,null,null,null,null,"Nuline Plus Square 4.2x175mm",null,null,null,"No"]
[null,null,"C/B Pop Rvts",{"$f":"ROUNDUP((SUM(D25+D26+D28+D29+D30+D31+D32)*4)/100,0)","v":0},null,"Pkt",null,null,null,"No",null,null,null,null,null,null,"No",null,null,null,null,"STEEL POSTS",null,null,null,null,null,null,null,"QTY.",null,"LGTH.","CNR.","STR.","MISC. ITEMS",null,null,null,null,null,null,"Thermal Break Tape 12.5m",null,null,null,"Rolls"]
[null,null,null,null,null,null,null,null,null,"No",null,null,null,null,null,null,"No",null,null,null,null,"100X100 ADJ. DURAGAL POST",null,null,null,null,null,null,null,null,null,null,null,null,"LEAD FLASHING",null,null,null,{"$f":"IF('Main Details'!E28=TRUE,\"Check\",\" \")","v":" "},"Roll",null,"Starter Strip 2.7m",null,null,null,"No"]
[null,null,null,null,null,null,null,null,null,"No",null,null,null,null,null,null,"No",null,null,null,null,"100X100 TWIN POST",null,null,null,null,null,null,null,null,null,null,null,null,"PERGOLA RAFTER BRCKET",null,null,null,null,"No",null,"Innova Ext Corner 3.0m",null,null,null,"No"]
[null,null,null,null,null,null,null,null,null,"No",null,null,null,null,null,null,"No",null,null,null,null,"TIMBER POST",null,null,null,null,null,null,null,"QTY.",null,"LGTH.",null,null,"TIMBER POST SHOE",null,null,null,{"$f":"SUM(AD37,AD38)","v":0},"No",null,"Innova Int Corner 3.0m",null,null,null,"No"]
[null,null,null,null,null,null,null,null,null,"No",null,null,null,null,null,null,"No",null,null,null,null,"95X95 KAPUR POST",null,null,null,null,null,null,null,null,null,null,null,null,"BARGE BOARD 4.2m",null,null,null,null,"No"]
[null,null,null,null,null,null,null,null,null,"No",null,null,null,null,null,null,"No",null,null,null,null,"120X120 KAPUR POST"]
[null,null,null,null,null,null,null,null,null,"No",null,null,null,null,null,null,"No",null,null,null,null,null,null,null,null,null,null,null,null,null,null,null,null,null,"R2.0 Wall Batts 16m2/PK",null,null,null,null,"Pks"]
[null,"SLOTTED =",null,{"$f":"SUM(N10:N19,U10:U19,AB10:AB19,N23:N32,U23:U32,AB23:AB32)","v":0},null,"no",null,"SPLAY & PACKER =",null,null,null,{"$f":"SUM(K10:K19,R10:R19,Y10:Y19,K23:K32,R23:R32,Y23:Y32)","v":0},"no",null,"POINT SPLAY =",null,null,null,{"$f":"SUM(L10:L19,S10:S19,Z10:Z19,L23:L32,S23:S32,Z23:Z32)","v":0},"no"]
[null,null,null,null,null,null,null,null,null,"No",null,null,null,null,null,null,"No"]
[null,null,null,null,null,null,null,null,null,"No",null,null,null,null,null,null,"No"]

{"sheet":"Roof & Ceiling Quantities ","index":13,"n_rows":41,"n_cols":59,"rows_kept":41,"cut":false,"hidden":true,"merged":[[39,25,39,26],[36,43,36,44],[28,28,28,30],[35,42,40,42],[37,43,37,44],[36,39,37,40],[35,38,40,38],[33,32,34,33],[33,28,34,30],[29,28,29,30],[29,51,30,52],[12,43,13,44],[25,43,26,44],[35,47,40,47],[29,48,30,49],[24,47,26,47],[27,52,28,52],[25,48,26,52],[2,1,2,5],[5,5,6,5],[5,8,7,8],[5,9,6,9],[5,11,6,11],[5,1,7,1],[3,7,4,52],[5,32,6,33],[7,19,7,21],[5,51,6,52],[7,48,7,49],[5,48,6,49],[5,35,6,36],[5,19,6,21],[5,22,6,24],[5,15,6,17],[24,38,26,38],[28,32,28,33],[29,32,29,33],[36,35,37,36],[25,35,26,36],[7,32,7,33],[5,2,6,2],[7,28,7,30],[7,22,7,24],[5,28,6,30],[5,13,6,13],[29,15,29,17],[24,15,26,17],[5,25,6,26],[7,15,7,17],[7,25,7,26],[17,15,17,17],[28,15,28,17],[16,15,16,17],[24,42,26,42],[27,48,28,51],[12,39,13,40],[5,47,13,47],[5,43,6,44],[7,43,7,44],[7,51,7,52],[25,39,26,40],[7,35,7,36],[5,38,13,38],[5,42,13,42],[7,39,7,40],[5,39,6,40],[12,35,13,36]]}
[]
[null,{"$f":"'Main Details'!B2","v":"QUANTITY SHEET FOR EASY START HOMES"},null,null,null,null,null,null,null,null,null,null,null,null,null,null,null,null,null,null,null,null,null,null,null,null,null,null,null,null,null,null,null,null,null,null,null,null,null,null,null,null,null,null,null,null,null,null,null,null,null,"PG 9"]
[null,{"$f":"'Main Details'!D6","v":0}]
[null,null,null,null,null,null,null,"                  ROOF TIMBER QUANTITIES"]
[]
[null,null,"120x35",null,null,"200x25",null,null,null,"170x35",null,"170x35",null,"170x35",null,"120x35",null,null,null,"170x35",null,null,"120x35",null,null,"150x25",null,null,"96x51 U/Purlin",null,null,null,"96x51 U/Purlin",null,null,"70x45",null,null,"           E-SPLAYS   1,2","70x35",null,null,"           E-SPLAYS   1,2","70x45",null,null,null,"           E-SPLAYS   1,2","90x35",null,null,"90x35"]
[]
[null,null,"Rafters",null,null,"Ridges",null,null,null,"Hips",null,"Valleys",null,"Hips",null,"Hangers",null,null,null,"Totals",null,null,"Totals",null,null,"V/boards",null,null,"BOTM ROW",null,null,null,"TOP ROW",null,null,"Eave Trimmers",null,null,null,"Soldiers",null,null,null,"Gable Studs",null,null,null,null,"Pine<6.0",null,null,"Pine>6.0"]
[null,0.6,null,{"$f":"B9*C9","v":0},null,null,{"$f":"B9*F9","v":0},null,2.4,null,{"$f":"I9*J9","v":0},null,{"$f":"I9*L9","v":0},null,null,null,{"$f":"IF(J9=\"\",\"\",J9)","v":""},0.6,null,{"$f":"IF((L9+N9)>0,(L9+N9),\" \")","v":" "},{"$f":"IF(T9=\" \",\" \",I9*T9)","v":" "},0.6,null,null,0.6,null,null,{"$f":"IF(Z9=\" \",\" \",Z9*AA9)","v":0},null,null,1.2,{"$f":"AC9*AE9","v":0},null,1.2,{"$f":"AG9*AH9","v":0},{"$f":"SUM('Facia & Steel & Roof Hardware'!AS16*3.6/3.6)","v":0},3.6,{"$f":"IF(AJ9=\" \",0,AK9*AJ9)","v":0},null,{"$f":"IF(AJ9=\" \",\" \",ROUNDUP(AJ9/2,0))","v":0},3.6,{"$f":"IF(AN9=\" \",0,AO9*AN9)","v":0},null,null,3.6,{"$f":"AR9*AS9","v":0},null,null,null,1.5,{"$f":"AX9*AW9","v":0},null,6.3,{"$f":"BA9*AZ9","v":0},null,"75x38"]
[null,0.9,null,{"$f":"B10*C10","v":0},null,null,0,null,2.7,null,0,null,{"$f":"I10*L10","v":0},null,null,null,{"$f":"IF(J10=\"\",\"\",J10)","v":""},0.9,null," "," ",0.9,null,null,0.9,null,null,0,null,null,1.5,0,null,1.5,0,null,null,{"$f":"AK10*AJ10","v":0},null,null,null,{"$f":"AO10*AN10","v":0},null,null,null,{"$f":"AR10*AS10","v":0},null,null,null,1.8,0,null,6.6,{"$f":"BA10*AZ10","v":0},null,"ROOF AREA",null,"x1.3=",{"$f":"'Main Details'!D35*1.3","v":0}]
[null,1.2,null,{"$f":"B11*C11","v":0},null,null,0,null,3,null,0,null,0,null,null,null,null,1.2,{"$f":"P11*R11","v":0}," "," ",1.2,{"$f":"IF((C11+P11)>0,(C11+P11),\" \")","v":" "},{"$f":"IF(W11=\" \",\" \",Y11*W11)","v":" "},1.2,null,null,0,null,null,1.8,0,null,1.8,0,null,null,0,null,null,null,0,null,null,null,{"$f":"AR11*AS11","v":0},null,null,null,2.1,0,null,6.9,0,null,"ROOF PERIMETER",null,"=",{"$f":"'Main Details'!D39","v":0}]
[null,1.5,null,0,null,null,0,null,3.3,null,0,null,0,null,null,null,null,1.5,{"$f":"P12*R12","v":0}," "," ",1.5,{"$f":"IF((C12+P12)>0,(C12+P12),\" \")","v":" "}," ",1.5,null,null,0,null,null,2.1,0,null,2.1,0,{"$f":"SUM(AL9:AL11)","v":0},"l/m",null,null,{"$f":"SUM(AP5:AP11)","v":0},"l/m","l/m",null,{"$f":"SUM(AT5:AT11)","v":0},"l/m",null,null,null,null,2.4,0,null,7.2,0,null,"RIDGES,HIPS VALLEYS",null,"x2=",{"$f":"SUM(F28+J22+J40+L22+L40)*2","v":0}]
[null,1.8,null,0,null,null,0,null,3.6,null,0,null,0,null,null,null,null,1.8,{"$f":"P13*R13","v":0}," "," ",1.8,{"$f":"IF((C13+P13)>0,(C13+P13),\" \")","v":" "}," ",1.8,null,null,0,null,null,2.4,0,null,2.4,0,"300x45 LVL",null,null,null,"200x63 LVL",null,null,null,"240x63 LVL",null,null,null,null,null,2.7,0,null,7.5,0,null,null,null,"/5.4=",{"$f":"(BG10+BG11+BG12)/5.4","v":0}]
[null,2.1,null,0,null,null,0,null,3.9,null,0,null,0,null,null,null,null,2.1,{"$f":"P14*R14","v":0}," "," ",2.1,{"$f":"IF((C14+P14)>0,(C14+P14),\" \")","v":" "}," ",2.1,null,null,0,null,null,2.7,0,null,2.7,0,null,null,null,null,null,null,null,null,null,null,null,null,null,null,3,0,null,7.8,0,null,null,null,"Total=",{"$f":"ROUNDUP(BG13,0)","v":0}]
[null,2.4,null,0,null,null,0,null,4.2,null,0,null,0,null,null,null,null,2.4,{"$f":"P15*R15","v":0}," "," ",2.4,{"$f":"IF((C15+P15+AW32)>0,(C15+P15+AW32),\" \")","v":" "}," ",2.4,null,null,0,null,null,3,0,null,3,0,null,null,{"$f":"AJ15*AK15","v":0},null,null,null,{"$f":"AN15*AO15","v":0},null,null,null,{"$f":"AR15*AS15","v":0},null,null,null,3.3,0,null,8.1,0,null,null,null,"order=",{"$f":"IF(AND('Main Details'!C28=\"N\",BG14>0),BG14+8,0)","v":0}]
[null,2.7,null,0,null,null,0,null,4.5,null,0,null,0,null,null,{"$f":"SUM(S9:S15)","v":0},null,"l/m",null,{"$f":"IF(L16+N16+J16>0,L16+N16+J16,\"\")","v":""},{"$f":"IF(J16+L16+N16>0,(J16+L16+N16)*2.7,0)","v":0},2.7,{"$f":"IF((C16)>0,(C16),\" \")","v":" "}," ",2.7,null,null,0,null,null,3.3,0,null,3.3,0,null,null,0,null,null,null,0,null,null,null,{"$f":"AS16*AR16","v":0},null,null,null,3.6,0,null,8.4,0]
[null,3,null,0,null,null,0,null,4.8,null,0,null,0,null,null,"170x35",null,null,null,{"$f":"IF(L17+N17+J17>0,L17+N17+J17,\"\")","v":""},{"$f":"IF(J17+L17+N17>0,(J17+L17+N17)*3,0)","v":0},3,{"$f":"IF((C17+AW33)>0,(C17+AW33),\" \")","v":" "}," ",3,null,null,0,null,null,3.6,0,null,3.6,0,null,null,0,null,null,null,0,null,null,null,0,null,null,null,3.9,0,null,8.6999999999999993,{"$f":"BA17*AZ17","v":0}]
[null,3.3,null,0,null,null,0,null,5.0999999999999996,null,0,null,0,null,null,"Hangers",null,null,null,{"$f":"IF(L18+N18+J18>0,L18+N18+J18,\"\")","v":""},{"$f":"IF(J18+L18+N18>0,(J18+L18+N18)*3.3,0)","v":0},3.3,{"$f":"IF((C18)>0,(C18),\" \")","v":" "}," ",3.3,null,null,0,null,null,3.9,0,null,3.9,0,null,null,0,null,null,null,0,null,null,null,0,null,null,null,4.2,0,null,9,0]
[null,3.6,null,0,null,null,0,null,5.4,null,0,null,0,null,null,null,null,2.7,{"$f":"P19*R19","v":0},{"$f":"IF(L19+N19+J19>0,L19+N19+J19,\"\")","v":""},{"$f":"IF(J19+L19+N19>0,(J19+L19+N19)*3.6,0)","v":0},3.6,{"$f":"IF((C19+AW34)>0,(C19+AW34),\" \")","v":" "}," ",3.6,null,3.6,0,null,null,4.2,0,null,4.2,0,null,null,0,null,null,null,0,null,null,null,0,null,null,null,4.5,0,null,9.3000000000000007,0]
[null,3.9,null,0,null,null,0,null,5.7,null,0,null,0,null,null,null,null,3,{"$f":"P20*R20","v":0},{"$f":"IF(L20+N20+J20>0,L20+N20+J20,\"\")","v":""},{"$f":"IF(J20+L20+N20>0,(J20+L20+N20)*3.9,0)","v":0},3.9,{"$f":"IF((C20)>0,(C20),\" \")","v":" "}," ",3.9,null,null,0,null,null,4.5,0,null,4.5,0,null,null,{"$f":"AK20*AJ20","v":0},null,null,null,{"$f":"AO20*AN20","v":0},null,null,null,0,null,null,null,4.8,0,null,null,0]
[null,4.2,null,0,null,null,0,null,6,null,0,null,0,null,null,null,null,3.3,{"$f":"P21*R21","v":0},{"$f":"IF((L21+N21)>0,(L21+N21),\" \")","v":" "},{"$f":"IF(T21=\" \",\" \",I21*T21)","v":" "},4.2,{"$f":"IF((C21+AW35)>0,(C21+AW35),\" \")","v":" "}," ",4.2,null,4.2,0,null,null,4.8,0,null,4.8,0,null,null,0,null,null,null,{"$f":"AO21*AN21","v":0},null,null,null,0,null,null,null,5.0999999999999996,0,null,null,0]
[null,4.5,null,0,null,null,0,null,"l/m",{"$f":"SUM(K9:K21)","v":0},null,{"$f":"SUM(M9:M21)","v":0},null,null,null,null,null,3.6,{"$f":"P22*R22","v":0}," "," ",4.5,{"$f":"IF((C22)>0,(C22),\" \")","v":" "}," ",4.5,null,null,0,null,null,5.0999999999999996,{"$f":"AE22*AC22","v":0},null,5.0999999999999996,0,null,null,0,null,null,null,{"$f":"AO22*AN22","v":0},null,null,null,0,null,null,null,5.4,0,null,null,0]
[null,4.8,null,0,null,null,0,null,null,null,null,null,null,null,null,null,null,3.9,{"$f":"P23*R23","v":0}," "," ",4.8,{"$f":"IF((C23+AW36)>0,(C23+AW36),\" \")","v":" "}," ",4.8,null,4.8,0,null,null,5.4,0,null,5.4,0,null,null,0,null,null,null,{"$f":"AO23*AN23","v":0},null,null,null,0,null,null,null,5.7,0,null,null,0]
[null,5.0999999999999996,null,0,null,null,0,null,null,null,null,null,null,null,null,{"$f":"SUM(S18:S23)","v":0},null,"l/m",null," "," ",5.0999999999999996,{"$f":"IF((C24)>0,(C24),\" \")","v":" "}," ",5.0999999999999996,null,null,0,null,null,5.7,0,null,5.7,0,null,null,0,null,null,null,{"$f":"AO24*AN24","v":0},null,null,null,0,null,null,null,6,0,null,null,0]
[null,5.4,null,0,null,null,0,null,null,null,null,null,null,null,null,null,null,null,null," "," ",5.4,{"$f":"IF((C25+AW37)>0,(C25+AW37),\" \")","v":" "}," ",5.4,null,5.4,0,null,null,6,0,null,6,0,{"$f":"SUM(AL15:AL24)","v":0},"l/m",null,null,{"$f":"SUM(AP15:AP24)","v":0},"l/m",null,null,{"$f":"SUM(AT15:AT24)","v":0},"l/m",null,null,null,{"$f":"SUM(AY9:AY24)","v":0},"l/m",null,{"$f":"SUM(BB9:BB24)","v":0},"l/m"]
[null,5.7,null,0,null,null,0,null,null,null,null,null,null,null,null,null,null,null,null," "," ",5.7,{"$f":"IF((C26)>0,(C26),\" \")","v":" "}," ",5.7,null,null,0,null,null,6.3,0,null,6.3,0,"300x63 LVL",null,null,null,"360x63 LVL",null,null,null,null,null,null,null,null,"E-Splays to LVL Beams"]
[null,6,null,0,null,null,0,null,null,null,null,null,null,null,null,null,null,null,null," "," ",6,{"$f":"IF((C27+AW38)>0,(C27+AW38),\" \")","v":" "}," ",6,null,6,0,null,null,6.6,0,null,6.6,0]
[null,"l/m",{"$f":"SUM(D9:D27)","v":0},null,null,{"$f":"SUM(G9:G27)","v":0},null,null,null,null,null,null,null,{"$f":"SUM(O9:O27)","v":0},null,null,null,null,null,{"$f":"SUM(U9:U27)","v":0},0,"l/m",{"$f":"SUM(X9:X27)","v":0},null,"l/m",{"$f":"SUM(AB9:AB27)","v":0},null,null,{"$f":"SUM(AF3:AF27)","v":0},null,"l/m",null,{"$f":"SUM(AI3:AI27)","v":0},"l/m",null,null,null,{"$f":"AJ28*AK28","v":0},null,null,null,{"$f":"AN28*AO28","v":0},null,null,null,{"$f":"AR28*AS28","v":0},null,null,{"$f":"SUM(AM15:AM24,AQ15:AQ24,AV15:AV24,AM28:AM35,AQ28:AQ35,AV28:AV35)","v":0},null,null,null,"No"]
[null,6.3,null,{"$f":"B29*C29","v":0},null,null,null,null,null,null,null,null,null,null,null,"240x45",null,null,null," "," ",6.3,{"$f":"IF((C29+AW39)>0,(C29+AW39),\" \")","v":" "}," ",6.3,null,null,0,"63x63 Struts",null,null,null,"63x63 Struts",null,null,null,null,{"$f":"AJ29*AK29","v":0},null,null,null,{"$f":"AN29*AO29","v":0},null,null,null,{"$f":"AR29*AS29","v":0}]
[null,6.6,null,0,null,null,null,null,null,null,null,null,null,null,null,"Hangers",null,null,null," "," ",6.6,{"$f":"IF((C30+AW40)>0,(C30+AW40),\" \")","v":" "}," ",6.6,null,null,0,"3.6m",null,null,null,"4.5m",null,null,null,null,{"$f":"AJ30*AK30","v":0},null,null,null,{"$f":"AN30*AO30","v":0},null,null,null,{"$f":"AR30*AS30","v":0},null,null,"120x35 Collar Ties"]
[null,6.9,null,0,null,null,null,null,6.6,null,0,null,0,null,null,null,null,4.2,{"$f":"P31*R31","v":0}," "," ",6.9," "," ",6.9,null,null,0,{"$f":"CEILING((((F28+AC28)/1.5)*1.5)/3.6,1)","v":0},"say:-","say:-",null,{"$f":"CEILING((((AG28)/1.5)*2.1)/4.5,1)","v":0},"say:-",null,null,null,0,null,null,null,{"$f":"AO31*AN31","v":0},null,null,null,{"$f":"AS31*AR31","v":0}]
[null,7.2,null,0,null,null,null,null,7.2,null,0,null,0,null,null,null,null,4.5,{"$f":"P32*R32","v":0}," "," ",7.2," "," ",7.2,null,null,0,{"$f":"IF(AC31>0,AC31, \"\")","v":""},3.6,3.6,{"$f":"IF(AC31>0,AC32*AE32, \"0.0\")","v":"0.0"},{"$f":"IF(AG31>0,AG31+1, \"\")","v":""},4.5,{"$f":"IF(AG31>0,AG32*AH32, \"0.0\")","v":"0.0"},null,null,0,null,null,null,{"$f":"AO32*AN32","v":0},null,null,null,{"$f":"AS32*AR32","v":0},null,null,null,2.4,{"$f":"AW32*AX32","v":0},null,null,{"$f":"AZ32*BA32","v":0}]
[null,7.5,null,0,null,null,null,null,7.8,null,0,null,{"$f":"I33*L33","v":0},null,null,null,null,4.8,{"$f":"P33*R33","v":0}," "," ",7.5," "," ",7.5,null,null,0,{"$f":"AF32","v":"0.0"},"l/m","l/m",null,{"$f":"AI32","v":"0.0"},"l/m",null,null,null,0,null,null,null,{"$f":"AO33*AN33","v":0},null,null,null,{"$f":"AS33*AR33","v":0},null,null,null,3,0,null,null,{"$f":"AZ33*BA33","v":0}]
[null,7.8,null,0,null,null,null,null,8.4,null,0,null,{"$f":"I34*L34","v":0},null,null,null,null,5.0999999999999996,{"$f":"P34*R34","v":0}," "," ",7.8," "," ",7.8,null,null,0,"280x30 LOSP       Barge Board",null,null,null,"70x45         Roof Battens",null,null,null,null,0,null,null,null,{"$f":"AO34*AN34","v":0},null,null,null,{"$f":"AS34*AR34","v":0},null,null,null,3.6,0,null,null,{"$f":"AZ34*BA34","v":0}]
[null,8.1,null,0,null,null,null,null,9,null,0,null,0,null,null,null,null,5.4,{"$f":"P35*R35","v":0}," "," ",8.1," "," ",8.1,null,null,0,null,null,null,null,null,null,null,null,null,0,null,null,null,{"$f":"AO35*AN35","v":0},null,null,null,{"$f":"AS35*AR35","v":0},null,null,null,4.2,0,null,null,{"$f":"BA35*AZ35","v":0}]
[null,8.4,null,0,null,null,null,null,9.6,null,0,null,0,null,null,{"$f":"SUM(S31:S35)","v":0},null,"l/m",null," "," ",8.4," "," ",8.4,null,null,0,null,null,null,{"$f":"AC36*AE36","v":0},{"$f":"BG15","v":0},5.4,{"$f":"AG36*AH36","v":0},{"$f":"SUM(AL28:AL35)","v":0},"l/m",null,null,{"$f":"SUM(AP28:AP35)","v":0},"l/m",null,null,{"$f":"SUM(AT28:AT35)","v":0},"l/m",null,null,null,null,4.8,0,null,null,0]
[null,8.6999999999999993,null,0,null,null,null,null,10.199999999999999,null,0,null,0,null,null,null,null,null,null," "," ",8.6999999999999993," "," ",8.6999999999999993,null,null,0,null,null,null,{"$f":"AC37*AE37","v":0},null,null,{"$f":"AG37*AH37","v":0},"90x35 Wall Plate",null,"l/m",null,"150x25 H3 CCA",null,"l/m",null,"Perimeter",null,"l/m",null,null,null,5.4,0,null,null,0]
[null,9,null,0,null,null,null,null,10.8,null,0,null,0,null,null,null,null,null,null," "," ",9," "," ",9,null,null,0,null,null,null,{"$f":"AC38*AE38","v":0},null,null,{"$f":"AG38*AH38","v":0},null,null,null,null,null,null,null,null,"Batten 70x35",null,null,null,null,null,6,0,null,null,0]
[null,9.3000000000000007,null,0,null,null,null,null,11.4,null,0,null,0,null,null,null,null,null,null," "," ",9.3000000000000007," "," ",9.3000000000000007,null,null,0,null,null,null,{"$f":"AC39*AE39","v":0},null,null,{"$f":"AG39*AH39","v":0},{"$f":"(ROUNDUP((('Facia & Steel & Roof Hardware'!I9+'Facia & Steel & Roof Hardware'!P9+'Facia & Steel & Roof Hardware'!W9+'Facia & Steel & Roof Hardware'!I22+'Facia & Steel & Roof Hardware'!P22+'Facia & Steel & Roof Hardware'!W22)+'Main Details'!$D$37+'Main Details'!$D$38+'Internal deductions & int walls'!R29+'Internal deductions & int walls'!AD32+'Internal deductions & int walls'!#REF!+'Concrete & Reo'!C17)/6,0))","v":{"$error":"#REF!"}},"say:-",null,null,null,null,{"$f":"AN39*AO39","v":0},null,null,6,{"$f":"AR39*AS39","v":0},null,null,null,6.3,0,null,null,0]
[null,"l/m",{"$f":"SUM(D29:D39)","v":0},null,null,null,null,null,"l/m",{"$f":"SUM(K31:K39)","v":0},null,{"$f":"SUM(M31:M39)","v":0},null,{"$f":"SUM(O29:O39)","v":0},null,null,null,null,null,{"$f":"SUM(U29:U39)","v":0},null,"l/m",{"$f":"SUM(X29:X39)","v":0},null,"l/m",null,null,null,{"$f":"SUM(AF36:AF39)","v":0},null,"l/m",null,{"$f":"SUM(AI36:AI39)","v":0},"l/m",null,{"$f":"SUM(AJ39,1)+10","v":{"$error":"#REF!"}},6,{"$f":"AJ40*AK40","v":{"$error":"#REF!"}},null,null,null,{"$f":"AN40*AO40","v":0},null,null,null,{"$f":"AR40*AS40","v":0},null,null,null,6.6,0,null,null,0]
[null,null,null,null,null,null,null,null,null,null,null,null,null,null,null,null,null,null,null,null,null,null,null,null,null,null,null,null,null,null,null,null,null,null,null,{"$f":"AL39+AL40","v":{"$error":"#REF!"}},"l/m",null,null,{"$f":"AP39+AP40","v":0},"l/m",null,null,{"$f":"AT39+AT40","v":0},"l/m",null,null,null,{"$f":"SUM(AY32:AY40)","v":0},"l/m",null,{"$f":"SUM(BB32:BB40)","v":0},"l/m"]

{"sheet":"Elec,Ceiling,Plaster ","index":14,"n_rows":134,"n_cols":20,"rows_kept":134,"cut":false,"hidden":false,"merged":[[3,3,3,5],[3,1,3,2],[4,1,5,5],[7,1,7,3],[72,3,72,4],[46,1,46,3],[45,1,45,3],[44,1,44,3],[43,1,43,3],[39,1,39,3],[6,1,6,5],[55,1,55,3],[56,1,56,3],[57,1,57,3],[58,1,58,3],[52,1,52,3],[56,8,56,10],[57,8,57,10],[58,8,58,10],[17,12,17,15],[37,8,37,9],[55,8,55,10],[39,8,39,10],[49,8,49,10],[31,8,32,13],[54,8,54,10],[47,8,47,10],[41,8,41,10],[18,12,18,14],[11,12,11,15],[15,12,15,15],[16,12,16,15],[19,12,19,15],[41,1,41,3],[34,1,34,3],[38,1,38,3],[35,1,35,3],[28,1,28,3],[30,1,30,3],[33,1,33,3],[32,1,32,3],[40,1,40,3],[37,1,37,3],[24,1,24,3],[15,1,15,3],[51,1,51,3],[59,1,59,3],[4,7,5,15],[51,8,51,10],[38,8,38,10],[44,8,44,10],[12,12,12,15],[53,8,53,10],[45,8,45,10],[46,8,46,10],[43,8,43,10],[18,7,18,9],[34,8,34,10],[48,8,48,10],[52,8,52,10],[54,1,54,3],[16,1,16,3],[17,1,17,3],[29,1,29,3],[31,1,31,3],[25,1,25,3],[26,1,26,3],[27,1,27,3],[18,1,18,3],[19,1,19,3],[20,1,20,3],[7,17,7,18],[8,17,8,18],[9,13,9,15],[10,13,10,15],[23,1,23,3],[13,12,13,15],[14,12,14,15],[8,1,8,3],[9,1,9,3],[10,1,10,3],[11,1,11,3],[12,1,12,3],[21,1,21,3],[22,1,22,3],[13,1,13,3],[14,1,14,3],[50,1,50,3],[42,1,42,3],[36,1,36,3],[47,1,47,3],[48,1,48,3],[49,1,49,3]]}
[{"$f":"'Main Details'!B2","v":"QUANTITY SHEET FOR EASY START HOMES"},null,null,null,null,null,null,null,null,null,null,null,null,null,null,null,null,null,null,"PG 10"]
[{"$f":"'Main Details'!D6","v":0}]
[]
[null,"SYNERGY No."]
[null,"ELECTRICAL",null,null,null,null,null,"CEILINGS"]
[]
[null,"Switch Plate Colour (select)",null,null,null,null,null,"DDT EXT PERIMETER:",{"$f":"'Main Details'!D37","v":0},{"$f":"(('Main Details'!D37-'Main Details'!D45)*'Main Details'!D40)+('Main Details'!D45*'Main Details'!D46)","v":0}]
[null,"Weatherproof Light Point",null,null,null,"No",null,"DDT INT PERIMETER:",{"$f":"'Main Details'!D38*0.09","v":0},{"$f":"(('Main Details'!D38+'Internal deductions & int walls'!R29)*0.09+('Internal deductions & int walls'!$AD$32*0.11))","v":0},null,null,{"$f":"SUM(I14,I16,I18)","v":0},"Flat e/o Int + Flat Ext"]
[null,"LED Downlight",null,null,null,"No",null,"Slab Area:",{"$f":"'Main Details'!D33","v":0},{"$f":"J7+J8","v":0},null,"=",{"$f":"I9-J9","v":0},"Ceiling Area Int Flat"]
[null,"Light Point",null,null,null,"No",null,"Total Raking Int & Ext",{"$f":"SUM(I12:I13,I15)","v":0},"m2",null,null,{"$f":"SUM(I12:I13)","v":0},"DDT Raking area (Int Only)"]
[null,"Shades And Globes",null,null,null,"No",null,"Total e/o 13mm Gypr",{"$f":"SUM(I15:I17)","v":0},"m2",null,"TOTAL",{"$f":"((M9+M8))-M10-K16","v":0},"m2 Flat Ceiling (Int & Ext)"]
[null,"Wall Light",null,null,null,"No",null,"Raking Ceilings     INT",null,"m2",null,"l/m","Steel Frame Roof Coffered Ceiling E/O"]
[null,"Plug Base",null,null,null,"No",null,"Raking Ceilings     INT",null,"m2",null,"m2","Insulation to RAKING ceilings / Bulkheads"]
[null,"LED Linear Batten",null,null,null,"No",null,"E/O Flat Ceilings   INT",null,"m2",null,"m2"]
[null,"Motion Sensor Light",null,null,null,"No",null,"Raking (13mm)    EXT",null,"m2",null,"m2",null,null,null,null,{"$f":"('Main Details'!D37-'Main Details'!D45+'Internal deductions & int walls'!R29)*K38","v":0}]
[null,"Install Feature Light Fixture",null,null,null,"No",null,"Flat (13mm)    EXT",null,"m2 ",null,"m2",null,null,null,null,{"$f":"Q15-'Internal deductions & int walls'!E43-Lintels.windows!G42-'Main Details'!E50+(K20)","v":0}]
[null,null,null,null,null,null,null,"Vertical (13mm)    EXT",null,"m2",null,"m2"]
[null,"Smoke Detector",null,null,null,"No",null,"Flat (10mm)    EXT",null,"m2",null,"l/m",null,null,null,null,"No "]
[null,"Smoke Detector Interconnection",null,null,null,"No",null,"Insulation to FLAT Ceilings",null,null,{"$f":"IF(P19=\"Yes\",Q16,\"\")","v":""},"m2","R2.0 Wall Batts",null,null,"No ","Yes"]
[null,null,null,null,null,null,null,"Garage Area",{"$f":"'Main Details'!D34","v":0},"m2",null,"m2","Additional Wall Height -E/O"]
[null,"Exhaust Fan",null,null,null,"No",null,"P/board Porch",null,"m2"]
[null,"Fan, Light, Heat Combo",null,null,null,"No",null,"Durasheet Porch",null,"m2"]
[null,"Ceiling Fan",null,null,null,"No",null,"P/board Alfresco",null,"m2"]
[null,"Ceiling Fan With Light",null,null,null,"No",null,"House Nett",{"$f":"I25-I23-I21-I20","v":0},"m2",null,null,null,null,null,null,"Ext/Int Wall Intersections L/m"]
[null,null,null,null,null,null,null,"Gross Insulation Area",{"$f":"(('Main Details'!$D$33+'Main Details'!$D$34)+I14+I15+I16)-K13-Q32-Q34","v":0},"m2",null,null,null,null,null,null,{"$f":"'Main Details'!D37+('Main Details'!D38*2)+('Internal deductions & int walls'!R29*2)-(M35*0.09)","v":0}]
[null,"2 Way Switch",null,null,null,"No",null,"Ddt Garage if Separate",null,"m2",null,null,null,null,null,null,1]
[null,"3 Way Switch",null,null,null,"No",null,"Total Nett Insulation",{"$f":"SUM(I25-I26)+I22","v":0},"m2"]
[null,"Dimmer Switch"]
[null,null,null,null,null,"No"]
[null,"Single GPO",null,null,null,"No"]
[null,"Double GPO",null,null,null,"No",null,null,null,null,null,null,null,null,null,null,"EXT PER CAV WALLS (INSUL)"]
[null,"Double GPO With USB",null,null,null,"No",null,null,"PLASTERING",null,null,null,null,null,null,null,{"$f":"'Internal Brickwork'!C8*'Main Details'!D40","v":0}]
[null,"Weatherproof Single GPO",null,null,null,"No",null,null,null,null,null,null,null,null,null,null,"GARAGE WALL DDT (INSUL)"]
[null,"Weatherproof Double GPO",null,null,null,"No",null,null,null,null,null,null,null,null,null,null,{"$f":"('Main Details'!D45+'Concrete & Reo'!C17)*'Main Details'!D46","v":0}]
[null,null,null,null,null,null,null,null,"Internal Wall Intersections",null,null,"=",null,"No"]
[]
[null,"Wall Oven Connection",null,null,null,"No",null,null,null,null,"Length all Plastered Walls","=",{"$f":"Q25","v":0},"lm"]
[null,"Induction Hotplate Connection",null,null,null,"No",null,null,"Plaster To Ceiling = ",null,2.4,"=",{"$f":"M37*K38","v":0},"m2"]
[null,"Solar HWU Connection",null,null,null,"No",null,null,"Deduct Int Face To 28c",null,null,"=",{"$f":"SUM('Internal Brickwork'!Y15:Y26)","v":0},"m2"]
[null,"Heat Pump Connection",null,null,null,"No",null,null,"Garage/House Wall Over 28c",null,null,"=",null,"m2"]
[]
[null,"20mm Conduit",null,null,null,"No",null,null,"Internal Wall Painting",null,null,"=",{"$f":"M38-Tiling!B29","v":0},"m2"]
[null,"20mm Conduit With Blank Plate",null,null,null,"L/m",null,null,null,null,null,null,null,null,null,null,"RENDER RATE WITH FACE BRICKS"]
[null,"25mm Conduit",null,null,null,"No",null,null,"Low Walls",null,null,"=",{"$f":"SUM('Internal Brickwork'!G22:G26,'Internal Brickwork'!M26:M28)*2","v":0},"m2",null,null,null,"2C"]
[null,"25mm Conduit With Blank Plate",null,null,null,"L/m",null,null,"(extra)",null,null,"=",null,"m2",null,null,{"$f":"M53/2.314","v":0},"1C"]
[null,"32mm Conduit",null,null,null,"No",null,null,"Deduct Over Lintels Below 28c",null,null,"=",{"$f":"SUM('Internal Brickwork'!M20)","v":0},"m2"]
[null,"Fuse Box",null,null,null,"Item",null,null,"Deduct Over Lintels Above 28c",null,null,"=",null,"m2"]
[null,"Remote Meter",null,null,null,"Item",null,null,"Deduct Drywall Lining (Plaster Only)",null,null,"=",{"$f":"K15","v":0},"m2"]
[null,"Power Run Single Phase",null,null,null,"L/m",null,null,"Plaster Up To 31c",null,null,"=",{"$f":"SUM(M38,M44:M45)-M39-M46-M48+M40","v":0},"m2",null,null,"1m3 = 75m2"]
[null,"Power Run Three Phase",null,null,null,"L/m",null,null,"Plaster Over 31c",null,null,"=",{"$f":"SUM('Internal Brickwork'!AA10,'Internal Brickwork'!AA13)-M47","v":0},"m2",null,null,"1m3 = 50m2"]
[null,"Comms Run <10m",null,null,null,"No"]
[null,"Comms Run >10m",null,null,null,"lm",null,null,"External Render Total",null,null,"=",{"$f":"('External Brickwork'!Y42+'External Brickwork'!AE42)-'External Brickwork'!Y41+M53+M54","v":0},"m2"]
[null,"Comms Run Separate Trench",null,null,null,"lm",null,null," 1c Face Brick Rendered",null,null,"=",null,"m2"]
[null,null,null,null,null,null,null,null,"2c Face Brick Rendered",null,null,"=",null,"m2"]
[null,"Intelligent Homes Items Quote",null,null,null,"Y/N",null,null,"External Band / Corbel",null,null,"=",null,"L/m"]
[null,"3 Point Pack",null,null,null,"No",null,null,"Int. Plaster Beads",null,null,"=","M2 Rate as above","No"]
[null,"Extra C1 Points",null,null,null,"No",null,null,"Ext. Render beads",null,null,"=",null,"No"]
[null,"TV Splitter for up to 3 C1 points",null,null,null,"No",null,null,"Int Plaster Sand",null,null,"=",{"$f":"SUM(M49:M50)*0.02","v":0},"m3"]
[null,"Network Point",null,null,null,"No",null,null,"Ext Plaster Sand",null,null,"=",{"$f":"ROUNDUP(M52*0.02,0)","v":0},"m3"]
[null,"Antenna",null,null,null,"No"]
[]
[null,"Laminate (select)","Benchtops (select)"]
["e/o Feature Doors (select)"]
[null,"Laminex","Tightwrap***"]
["e/o Contour Doors","Formica","Tightwrap 600mm 1 Side",null,null,null,null,null,"TV Splitter (select)"]
[null,null,"Tightwrap 650mm 1 Side"]
["e/o Vinyl Wrap Doors",null,"Tightwrap 750mm 1 Side",null,null,null,null,null,"2 Way TV Splitter"]
[null,null,"Tightwrap 650mm 2 Side",null,null,null,null,null,"3 Way TV Splitter"]
["e/o Colourtech Doors",null,"Tightwrap 750mm 2 Side",null,null,null,null,null,"4 Way TV Splitter"]
[null,null,"Tightwrap 900mm 2 Side",null,null,null,null,"Switch Plate Colour (select)"]
["e/o Postform Doors",null,"Tightwrap 950mm 2 Side"]
[null,null,null,null,null,null,null,"B/ Alum w/- White Switch"]
[null,null,"Tightform***",null,null,null,null,"B/ Alum w/- Black Switch"]
["e/o Squareform Doors",null,"Tightform 600mm 1 Side",null,null,null,null,"White"]
[null,null,"Tightform 650mm 1 Side",null,null,null,null,"As Per Clipspec"]
["e/o ABS Doors",null,"Tightform 750mm 1 Side",null,null,null,null,"HPM excel life white"]
[null,null,"Tightform 650mm 2 Side",null,null,null,null,"HPM excel life urban grey"]
[null,null,"Tightform 750mm 2 Side"]
["e/o Set Feat Drawers (select)",null,"Tightform 900mm 2 Side"]
[null,null,"Tightform 950mm 2 Side"]
["e/o Set Contour Drawers"]
[null,null,"Square Style***"]
["e/o Set Vinyl Wrap Drawers",null,"Square Style 600mm 1 Side"]
[null,null,"Square Style 650mm 1 Side"]
["e/o Set Colourtech Drawers",null,"Square Style 750mm 1 Side"]
[null,null,"Square Style 650mm 2 Side"]
["e/o Set Postform Drawers",null,"Square Style 750mm 2 Side"]
[null,null,"Square Style 900mm 2 Side"]
["e/o Set Squareform Drawers",null,"Square Style 950mm 2 Side"]
[]
[null,null,"Postform***"]
[null,null,"Postform 600mm 1 Side"]
[null,null,"Postform 650mm 1 Side"]
["e/o Feat Pot Drawers (select)",null,"Postform 750mm 1 Side"]
[null,null,"Postform 650mm 2 Side"]
["e/o Contour Pot Drawers",null,"Postform 750mm 2 Side"]
[null,null,"Postform 900mm 2 Side"]
["e/o Vinyl Wrap Pot Drawers",null,"Postform 950mm 2 Side"]
[]
["e/o Colourtech Pot Drawers",null,"Polyform***"]
[null,null,"Polyform 600mm 1 Side"]
["e/o Postform Pot Drawers",null,"Polyform 750mm 1 Side"]
[null,null,"Polyform 750mm 2 Side"]
["e/o Squareform Pot Drawers",null,"Polyform 900mm 2 Side"]
[]
["e/o ABS Pot Drawers"]
[null,null,"Vanity Benchtops (select)"]
[]
[null,null,"Tightwrap Vanity Tops"]
[null,null,"Tightform Vanity Tops"]
[null,null,"Squarestyle Vanity Tops "]
[null,null,"Postform Vanity Tops"]
[null,null,"Polyform Vanity Tops"]
[null,null,"Std. Laminated Vanity Tops"]
[]
[]
[null,null,"Cupboards (select)"]
[]
[null,null,"Bench Cupboards 600mm"]
[null,null,"Bench Cupboards 650mm"]
[null,null,"Bench Cupboards 700mm"]
[]
[]
[null,null,"Island Cupboards (select)"]
[]
[null,null,"Island Cupboards 600mm"]
[null,null,"Island Cupboards 650mm"]
[]
[]
[null,null,"Stone Benchtops (select)"]
[]
[null,null,"Freestyle Benchtops"]
[null,null,"Essastone Benchtops"]
[null,null,"Granite Benchtops"]

{"sheet":"FIxing Carpentry & Moulding","index":15,"n_rows":57,"n_cols":44,"rows_kept":57,"cut":false,"hidden":false,"merged":[[39,31,40,32],[32,17,32,18],[33,17,33,18],[32,20,32,21],[33,20,33,21],[49,17,49,20],[49,24,49,26],[49,21,49,23],[44,17,44,20],[47,17,47,20],[45,21,45,23],[48,24,48,26],[47,21,47,23],[48,21,48,23],[46,24,46,26],[44,24,44,26],[44,21,44,23],[45,24,45,26],[48,17,48,20],[47,24,47,26],[45,17,45,20],[46,17,46,20],[46,21,46,23],[39,28,40,29],[39,30,40,30],[43,24,43,26],[41,21,42,23],[34,23,34,24],[31,23,31,24],[32,23,32,24],[43,17,43,20],[41,24,42,26],[43,21,43,23],[35,23,35,24],[36,23,36,24],[39,17,40,26],[41,28,42,29],[43,28,43,29],[41,30,42,30],[33,23,33,24],[35,28,35,30],[27,23,27,24],[23,28,24,28],[26,23,26,24],[28,23,28,24],[31,28,32,28],[30,23,30,26],[5,41,5,42],[5,31,5,32],[5,28,6,28],[6,31,6,32],[7,28,8,28],[6,41,6,42],[27,28,28,28],[6,33,6,34],[6,29,6,30],[6,35,6,36],[6,38,6,39],[5,23,6,26],[5,29,5,30],[15,23,15,24],[5,38,5,39],[25,23,25,24],[23,23,23,24],[28,20,28,21],[39,35,39,36],[38,35,38,36],[41,1,42,1],[41,17,42,20],[8,23,8,24],[19,28,20,28],[13,23,13,24],[12,23,12,24],[10,23,10,24],[11,28,12,28],[15,28,16,28],[28,17,28,18],[27,17,27,18],[24,23,24,24],[27,20,27,21],[21,23,22,26],[16,23,16,24],[20,23,20,24],[19,23,19,24],[17,23,17,24],[18,23,18,24],[15,17,15,18],[29,23,29,24],[21,20,22,21],[5,1,6,1],[6,3,6,4],[6,5,6,6],[6,8,6,9],[5,3,5,4],[5,11,5,12],[5,5,5,6],[5,8,5,9],[6,11,6,12],[21,17,22,18],[15,20,15,21],[6,20,6,21],[5,17,5,18],[6,17,6,18],[4,35,4,36],[3,1,4,1],[5,20,5,21],[14,20,14,21],[9,23,9,24],[14,17,14,18],[5,14,5,15],[6,14,6,15],[7,23,7,24],[11,23,11,24],[14,23,14,24],[3,35,3,36],[5,33,5,34],[5,35,5,36],[3,28,4,30]]}
[]
[null,{"$f":"'Main Details'!B2","v":"QUANTITY SHEET FOR EASY START HOMES"},null,null,null,null,null,null,null,null,null,null,null,null,null,null,null,null,null,null,null,null,null,null,null,null,null,null,null,null,null,null,null,null,null,null,null,null,null,null,null,null,"PG 11"]
[null,{"$f":"'Main Details'!D6","v":0}]
[null,"INTERNAL MOULDINGS",null,null,null,null,null,null,null,null,null,null,null,null,null,null,null,null,null,null,null,null,null,null,null,null,null,null,"SHELVING",null,null,null,null,null,null,"600mm Shelves"]
[null,null,null,null,null,null,null,null,null,null,null,null,null,null,null,null,null,null,null,null,null,null,null,null,null,null,null,null,null,null,null,null,null,null,null,"300mm Shelves"]
[null,"ROOM:             ",null,null,null,null,null,null,null,null,null,"175x30 ",null,null,"19x19 ",null,null,"105/80x19",null,null,"30mm Design",null,null,"EXTRA HARDWARE ITEMS",null,null,null,null,"ROOM","450mm 16mm",null,"600mm 16mm",null,"300mm 16mm",null,"67x18mm",null,null,"40x18mm",null,null,"19mm Chrome"]
[null,null,null,"SKIRTING ",null,"NOSING",null,null,"SCOTIA",null,null,"CAPPING",null,null,"SQ BEAD",null,null,"G/batten",null,null,"Pine Scotia",null,null,null,null,null,null,null,null,"Melamine",null,"Melamine",null,"Melamine",null,"MDF",null,null,"MDF Batten",null,null,"Rail"]
[null,null,{"$f":"D8*E8","v":0},null,0.9,{"$f":"IF(G8=\" \",\" \",1)","v":" "},{"$f":"IF(Lintels.windows!E9=\"Y\",((INT(((Lintels.windows!K9*100)+30)/30)*30)/100),\" \")","v":" "},{"$f":"IF(G8=\" \",\" \",F8*G8)","v":" "},{"$f":"IF(F8>0,F8,\" \")","v":" "},{"$f":"IF(G8>0,G8,\" \")","v":" "},{"$f":"IF(AND(G8=\" \"),\" \",I8*J8)","v":" "},null,0.9,{"$f":"L8*M8","v":0},{"$f":"IF(L8>0,L8*2,\" \")","v":" "},{"$f":"IF(M8>0,M8,\" \")","v":0.9},{"$f":"IF(AND(L8>0,M8>0),O8*P8,\" \")","v":" "},null,null,{"$f":"R8*S8","v":0},{"$f":"IF(AND(B8>0,ROUNDUP(B8/V8,0)-B8/V8<=1),ROUNDUP(B8/V8,0)+1,ROUNDUP(B8/V8,0))","v":0},5.4,{"$f":"U8*V8","v":0},"Trico Roller Catch",null,null,"No",null,"PANTRY",null,"3600x450",null,"3600x600",null,"3600x300",null,null,{"$f":"AJ8*AK8","v":0},null,null,{"$f":"AM8*AN8","v":0},null,null,{"$f":"AP8*AQ8","v":0}]
[null,{"$f":"IF(Lintels.windows!E10=\"Y\",Lintels.windows!B10,\"\")","v":""},{"$f":"D9*E9","v":0},null,1.2,{"$f":"IF(G9=\" \",\" \",1)","v":" "},{"$f":"IF(Lintels.windows!E10=\"Y\",((INT(((Lintels.windows!K10*100)+30)/30)*30)/100),\" \")","v":" "}," ",{"$f":"IF(F9>0,F9,\" \")","v":" "},{"$f":"IF(G9>0,G9,\" \")","v":" "}," ",null,1.2,{"$f":"L9*M9","v":0},{"$f":"IF(L9>0,L9*2,\" \")","v":" "},1.2,{"$f":"IF(AND(L9>0,M9>0),O9*P9,\" \")","v":" "},null,null,0,null,null,{"$f":"U9*V9","v":0},null,null,null,null,null,null,null,"2400x450",null,"2400x600",null,"2400x300",null,null,{"$f":"AJ9*AK9","v":0},null,null,{"$f":"AM9*AN9","v":0},null,null,{"$f":"AP9*AQ9","v":0}]
[null,{"$f":"IF(Lintels.windows!E11=\"Y\",Lintels.windows!B11,\"\")","v":""},{"$f":"D10*E10","v":0},null,1.5," ",{"$f":"IF(Lintels.windows!E11=\"Y\",((INT(((Lintels.windows!K11*100)+30)/30)*30)/100),\" \")","v":" "}," ",{"$f":"IF(F10>0,F10,\" \")","v":" "},{"$f":"IF(G10>0,G10,\" \")","v":" "}," ",null,1.5,{"$f":"L10*L10","v":0},{"$f":"IF(L10>0,L10*2,\" \")","v":" "},1.5,{"$f":"IF(AND(L10>0,M10>0),O10*P10,\" \")","v":" "},null,null,{"$f":"R10*S10","v":0},null,null,{"$f":"U10*V10","v":0},"Pelmet",null,null,"No",null,"nett l/m shelving =",null,"1800x450",null,"1800x600",null,"1800x300",null,null,{"$f":"AJ10*AK10","v":0},null,null,{"$f":"AM10*AN10","v":0},null,null,{"$f":"AP10*AQ10","v":0}]
[null,{"$f":"IF(Lintels.windows!E12=\"Y\",Lintels.windows!B12,\"\")","v":""},{"$f":"D11*E11","v":0},null,1.8," ",{"$f":"IF(Lintels.windows!E11=\"Y\",((INT(((Lintels.windows!K11*100)+30)/30)*30)/100),\" \")","v":" "}," "," "," "," ",null,1.8,{"$f":"L11*M11","v":0}," ",1.8,{"$f":"IF(AND(L11>0,M11>0),O11*P11,\" \")","v":" "},null,null,0,null,null,0,"Floor Guide",null,null,"No",null,null,"LM",null,null,null,null,null,null,null,0,null,null,0,null,null,0]
[null,{"$f":"IF(Lintels.windows!E13=\"Y\",Lintels.windows!B13,\"\")","v":""},0,null,2.1," ",{"$f":"IF(Lintels.windows!E12=\"Y\",((INT(((Lintels.windows!K12*100)+30)/30)*30)/100),\" \")","v":" "}," "," "," "," ",null,2.1,0," ",2.1," ",null,null,0,null,null,0,"Track",null,null,"No",null,"LINEN",null,"3600x450",null,"3600x600",null,"3600x300",null,null,0,null,null,0,null,null,0]
[null,null,0,null,2.4," ",{"$f":"IF(Lintels.windows!E13=\"Y\",((INT(((Lintels.windows!K13*100)+30)/30)*30)/100),\" \")","v":" "}," "," "," "," ",null,2.4,0," ",2.4," ",null,null,0,null,null,0,null,null,null,null,null,null,null,"2400x450",null,"2400x600",null,"2400x300",null,null,0,null,null,0,null,null,0]
[null,{"$f":"IF(Lintels.windows!E15=\"Y\",Lintels.windows!B15,\"\")","v":""},0,null,2.7," ",{"$f":"IF(Lintels.windows!E14=\"Y\",((INT(((Lintels.windows!K14*100)+30)/30)*30)/100),\" \")","v":" "}," "," "," "," ",null,2.7,0," ",2.7," ","L/M",{"$f":"SUM(T8:T13)","v":0},null,"L/M",{"$f":"SUM(W8:W13)","v":0},null,"(Tiled Roof) 3.6m Scribe",null,null,"No",null,"nett l/m shelving =",null,"1800x450",null,"1800x600",null,"1800x300",null,null,0,null,null,0,null,null,0]
[null,{"$f":"IF(Lintels.windows!E16=\"Y\",Lintels.windows!B16,\"\")","v":""},0,null,3," ",{"$f":"IF(Lintels.windows!E15=\"Y\",((INT(((Lintels.windows!K15*100)+30)/30)*30)/100),\" \")","v":" "}," "," "," "," ",null,3,0," ",3," "," 13x13 ",null,null,"42 x 18",null,null,null,null,null,null,null,null,"LM",null,null,null,null,null,null,null,0,null,null,0,null,null,0]
[null,{"$f":"IF(Lintels.windows!E17=\"Y\",Lintels.windows!B17,\"\")","v":""},0,null,3.3," ",{"$f":"IF(Lintels.windows!E16=\"Y\",((INT(((Lintels.windows!K16*100)+30)/30)*30)/100),\" \")","v":" "}," "," "," "," ",null,3.3,0," ",3.3," ","Jh Quad",null,null,"DBN Arch.",null,null,"Ball Bearing Hinges",null,null,"No",null,"BROOM",null,"3600x450",null,"3600x600",null,"3600x300",null,null,0,null,null,0,null,null,0]
[null,{"$f":"IF(Lintels.windows!E18=\"Y\",Lintels.windows!B18,\"\")","v":""},0,null,3.6," ",{"$f":"IF(Lintels.windows!E17=\"Y\",((INT(((Lintels.windows!K17*100)+30)/30)*30)/100),\" \")","v":" "}," "," "," "," ",null,3.6,0," ",3.6," ",null,null,{"$f":"R17*S17","v":0},null,5.4,{"$f":"U17*V17","v":0},null,null,null,null,null,null,null,"2400x450",null,"2400x600",null,"2400x300",null,null,0,null,null,0,null,null,0]
[null,{"$f":"IF(Lintels.windows!E19=\"Y\",Lintels.windows!B19,\"\")","v":""},0,null,3.9," ",{"$f":"IF(Lintels.windows!E18=\"Y\",((INT(((Lintels.windows!K18*100)+30)/30)*30)/100),\" \")","v":" "}," "," "," "," ",null,3.9,0," ",3.9," ",null,null,{"$f":"R18*S18","v":0},null,null,{"$f":"U18*V18","v":0},null,null,null,null,null,"nett l/m shelving =",null,"1800x450",null,"1800x600",null,"1800x300",null,null,0,null,null,0,null,null,0]
[null,{"$f":"IF(Lintels.windows!E20=\"Y\",Lintels.windows!B20,\"\")","v":""},0,null,4.2," ",{"$f":"IF(Lintels.windows!E19=\"Y\",((INT(((Lintels.windows!K19*100)+30)/30)*30)/100),\" \")","v":" "}," "," "," "," ",null,4.2,0," ",4.2," ",null,null,{"$f":"R19*S19","v":0},null,null,{"$f":"U19*V19","v":0},"Finial (select)",null,null,"No",null,null,"LM",null,null,null,null,null,null,null,0,null,null,0,null,null,0]
[null,{"$f":"IF(Lintels.windows!E21=\"Y\",Lintels.windows!B21,\"\")","v":""},0,null,4.5," ",{"$f":"IF(Lintels.windows!E20=\"Y\",((INT(((Lintels.windows!K20*100)+30)/30)*30)/100),\" \")","v":" "}," "," "," "," ",null,4.5,0," ",4.5," ",null,null,{"$f":"R20*S20","v":0},null,null,{"$f":"U20*V20","v":0},null,null,null,null,null,"BED 1",null,"3600x450",null,"3600x600",null,"3600x300",null,null,0,null,null,0,null,null,0]
[null,{"$f":"IF(Lintels.windows!E22=\"Y\",Lintels.windows!B22,\"\")","v":""},0,null,4.8," ",{"$f":"IF(Lintels.windows!E21=\"Y\",((INT(((Lintels.windows!K21*100)+30)/30)*30)/100),\" \")","v":" "}," "," "," "," ",null,4.8,0," ",4.8," ","L/M",{"$f":"SUM(T17:T20)","v":0},null,"L/M",{"$f":"SUM(W17:W209)","v":0},null,null,null,null,null,null,null,null,"2400x450",null,"2400x600",null,"2400x300",null,null,0,null,null,0,null,null,0]
[null,{"$f":"IF(Lintels.windows!E23=\"Y\",Lintels.windows!B23,\"\")","v":""},0,null,5.0999999999999996," ",{"$f":"IF(Lintels.windows!E22=\"Y\",((INT(((Lintels.windows!K22*100)+30)/30)*30)/100),\" \")","v":" "}," "," "," "," ",null,5.0999999999999996,0," ",5.0999999999999996," ","Mdf D/Arch",null,null,"Pine Arch",null,null,"EXTRA FIXER ITEMS",null,null,null,null,"nett l/m shelving =",null,"1800x450",null,"1800x600",null,"1800x300",null,null,0,null,null,0,null,null,0]
[null,{"$f":"IF(Lintels.windows!E24=\"Y\",Lintels.windows!B24,\"\")","v":""},0,null,5.4," ",{"$f":"IF(Lintels.windows!E23=\"Y\",((INT(((Lintels.windows!K23*100)+30)/30)*30)/100),\" \")","v":" "}," "," "," "," ",null,5.4,0," ",5.4," ",null,null,null,null,null,null,null,null,null,null,null,null,"LM",null,null,null,null,null,null,null,0,null,null,0,null,null,0]
[null,{"$f":"IF(Lintels.windows!E25=\"Y\",Lintels.windows!B25,\"\")","v":""},0,null,5.7,{"$f":"IF(G24=\" \",\" \",1)","v":" "},{"$f":"IF(Lintels.windows!E24=\"Y\",((INT(((Lintels.windows!K24*100)+30)/30)*30)/100),\" \")","v":" "}," "," "," "," ",null,5.7,0," ",5.7," ",null,5.4,{"$f":"R24*S24","v":0},null,5.4,{"$f":"U24*V24","v":0},"Post Beads",null,null,"No",null,"BED 2",null,"3600x450",null,"3600x600",null,"3600x300",null,null,0,null,null,0,null,null,0]
[null,{"$f":"IF(Lintels.windows!E26=\"Y\",Lintels.windows!B26,\"\")","v":""},0,null,6,{"$f":"IF(G25=\" \",\" \",1)","v":" "},{"$f":"IF(Lintels.windows!E25=\"Y\",((INT(((Lintels.windows!K25*100)+30)/30)*30)/100),\" \")","v":" "}," "," "," "," ",null,6,0," ",6," ",null,null,{"$f":"R25*S25","v":0},null,null,{"$f":"U25*V25","v":0},null,null,null,null,null,null,null,"2400x450",null,"2400x600",null,"2400x300",null,null,0,null,null,0,null,null,0]
[null,{"$f":"IF(Lintels.windows!E27=\"Y\",Lintels.windows!B27,\"\")","v":""},null,null,null," ",{"$f":"IF(Lintels.windows!E26=\"Y\",((INT(((Lintels.windows!K26*100)+30)/30)*30)/100),\" \")","v":" "}," "," "," "," ",null,null,0," "," "," ",null,null,{"$f":"R26*S26","v":0},null,null,{"$f":"U26*V26","v":0},"Wet Area Fixings",null,null,"No",null,"nett l/m shelving =",null,"1800x450",null,"1800x600",null,"1800x300",null,null,0,null,null,0,null,null,0]
[null,{"$f":"IF(Lintels.windows!E28=\"Y\",Lintels.windows!B28,\"\")","v":""},null,null,null," ",{"$f":"IF(Lintels.windows!E27=\"Y\",((INT(((Lintels.windows!K27*100)+30)/30)*30)/100),\" \")","v":" "}," "," "," "," ",null,null,0," "," "," ","L/M",{"$f":"SUM(T24:T26)","v":0},null,"L/M",{"$f":"SUM(W24:W26)","v":0},null,null,null,null,null,null,null,"LM",null,null,null,null,null,null,null,0,null,null,0,null,null,0]
[null,{"$f":"IF(Lintels.windows!E29=\"Y\",Lintels.windows!B29,\"\")","v":""},null,null,null," ",{"$f":"IF(Lintels.windows!E27=\"Y\",((INT(((Lintels.windows!K27*100)+30)/30)*30)/100),\" \")","v":" "}," "," "," "," ",null,null,0," "," "," ","42x10",null,null,"86x10",null,null,null,null,null,null,null,"BED 3",null,"3600x450",null,"3600x600",null,"3600x300",null,null,0,null,null,0,null,null,0]
[null,{"$f":"IF(Lintels.windows!E30=\"Y\",Lintels.windows!B30,\"\")","v":""},null,null,null," ",{"$f":"IF(Lintels.windows!E28=\"Y\",((INT(((Lintels.windows!K28*100)+30)/30)*30)/100),\" \")","v":" "}," "," "," "," ",null,null,0," "," "," ","Des Pine Trim",null,null,"INT. Cedar",null,null,null,null,null,null,null,null,null,"2400x450",null,"2400x600",null,"2400x300",null,null,0,null,null,0,null,null,0]
[null,null,null,null,null," ",{"$f":"IF(Lintels.windows!E29=\"Y\",((INT(((Lintels.windows!K29*100)+30)/30)*30)/100),\" \")","v":" "}," "," "," "," ",null,null,0," "," "," ",{"$f":"IF(AND(B30>0,ROUNDUP(B30/S30,0)-B30/S30<=1),ROUNDUP(B30/S30,0)+1,ROUNDUP(B30/S30,0))","v":0},5.4,{"$f":"R30*S30","v":0},null,null,{"$f":"U30*V30","v":0},null,null,null,null,null,"nett l/m shelving =",null,"1800x450",null,"1800x600",null,"1800x300",null,null,0,null,null,0,null,null,0]
[null,{"$f":"IF(Lintels.windows!E32=\"Y\",Lintels.windows!B32,\"\")","v":""},null,null,null," ",{"$f":"IF(Lintels.windows!E30=\"Y\",((INT(((Lintels.windows!K30*100)+30)/30)*30)/100),\" \")","v":" "}," "," "," "," ",null,null,0," "," "," ",null,null,{"$f":"R31*S31","v":0},null,null,0,"CAVITY SLIDERS",null,null,null,null,null,"LM",null,null,null,null,null,null,null,0,null,null,0,null,null,0]
[null,{"$f":"IF(Lintels.windows!E33=\"Y\",Lintels.windows!B33,\"\")","v":""},null,null,null," ",{"$f":"IF(Lintels.windows!E31=\"Y\",((INT(((Lintels.windows!K31*100)+30)/30)*30)/100),\" \")","v":" "}," "," "," "," ",null,null,0," "," "," ","L/M",{"$f":"SUM(T30:T31)","v":0},null,"L/M",{"$f":"SUM(W30:W31)","v":0},null,null,null,null,null,null,"BED 4",null,"3600x450",null,"3600x600",null,"3600x300",null,null,0,null,null,0,null,null,0]
[null,{"$f":"IF(Lintels.windows!E34=\"Y\",Lintels.windows!B34,\"\")","v":""},null,null,null," ",{"$f":"IF(Lintels.windows!E32=\"Y\",((INT(((Lintels.windows!K32*100)+30)/30)*30)/100),\" \")","v":" "}," "," "," "," ",null,null,0," "," "," ","Gable Batten",null,null,"W/Tex",null,null,"Single Cavity Slider",null,null,"No",null,null,null,"2400x450",null,"2400x600",null,"2400x300",null,null,0,null,null,0,null,null,0]
[null,{"$f":"IF(Lintels.windows!E35=\"Y\",Lintels.windows!B35,\"\")","v":""},null,null,null," ",{"$f":"IF(Lintels.windows!E37=\"Y\",((INT(((Lintels.windows!K37*100)+30)/30)*30)/100),\" \")","v":" "}," "," "," "," ",null,null,0," "," "," ","80x30",null,null,"Scribe",null,null,null,null,null,null,null,"nett l/m shelving =",null,"1800x450",null,"1800x600",null,"1800x300",null,null,0,null,null,0,null,null,0]
[null,{"$f":"IF(Lintels.windows!E36=\"Y\",Lintels.windows!B36,\"\")","v":""},null,null,null," ",{"$f":"IF(Lintels.windows!E38=\"Y\",((INT(((Lintels.windows!K38*100)+30)/30)*30)/100),\" \")","v":" "}," "," "," "," ",null,null,0," "," "," ",null,null,0,null,3.6,0,"Double Cavity Slider",null,null,"No",null,null,"LM",null,null,null,null,null,null,null,0,null,null,0,null,null,0]
[null,{"$f":"IF(Lintels.windows!E37=\"Y\",Lintels.windows!B37,\"\")","v":""},null,null,null," ",{"$f":"IF(Lintels.windows!E39=\"Y\",((INT(((Lintels.windows!K39*100)+30)/30)*30)/100),\" \")","v":" "}," "," "," "," ",null,null,0," "," "," ",null,null,0,null,null,0,null,null,null,null,null,"SHELF RAIL TOTALS: ",null,null,null,null,null,null,{"$f":"IF(AL36>0,AL37,\" \")","v":" "},5.4,{"$f":"SUM(AL8:AL35)","v":0},{"$f":"IF(AO36>0,AO37,\" \")","v":" "},5.4,{"$f":"SUM(AO8:AO35)","v":0}]
[null,"TOTALS:-",null,"L/M",{"$f":"IF((SUM(C8:C25))>0,SUM(C8:C25),\" \")","v":" "},"L/M",{"$f":"IF((SUM(H8:H36))>0,SUM(H8:H36),\" \")","v":" "},null,"L/M",{"$f":"IF((SUM(K8:K36))>0,SUM(K8:K36),\" \")","v":" "},null,"L/M",{"$f":"IF((SUM(N8:N36))>0,SUM(N8:N36),\" \")","v":" "},null,"L/M",{"$f":"IF((SUM(Q8:Q36))>0,SUM(Q8:Q36),\" \")","v":" "},null,"L/M",{"$f":"SUM(T35:T36)","v":0},null,"L/M",{"$f":"SUM(W35:W36)","v":0},null,null,null,null,null,null,"TOTALS:",{"$f":"AD32+AD28+AD24+AD20+AD16+AD12+AD8","v":0},"3600x450",{"$f":"AF8+AF12+AF16+AF20+AF24+AF28+AF32","v":0},"3600x600",{"$f":"AH8+AH12+AH16+AH20+AH24+AH28+AH32","v":0},"3600x300","L/m",{"$f":"IF(AL37>1,AJ36*AK36,\" \")","v":" "},{"$f":"ROUNDUP(AL36/5.4,0)+1","v":1},"L/m",{"$f":"IF(AO37>2,AM36*AN36,\" \")","v":" "},{"$f":"ROUNDUP(AO36/5.4,0)+2","v":2},"L/m",{"$f":"SUM(AR8:AR35)","v":0}]
[null,null,null,null,null,null,null,null,null,null,null,null,null,null,null,null,null,null,null,null,null,null,null,null,null,null,null,null,null,{"$f":"AD9+AD13+AD17+AD21+AD25+AD29+AD33","v":0},"2400x450",{"$f":"AF9+AF13+AF17+AF21+AF25+AF29+AF33","v":0},"2400x600",{"$f":"AH9+AH13+AH17+AH21+AH25+AH29+AH33","v":0},"2400x300"]
[null,null,null,null,null,null,null,null,null,null,null,null,null,null,null,null,null,null,null,null,null,null,null,null,null,null,null,null,null,{"$f":"AD10+AD14+AD18+AD22+AD26+AD30+AD34","v":0},"1800x450",{"$f":"AF10+AF14+AF18+AF22+AF26+AF30+AF34","v":0},"1800x600",{"$f":"AH10+AH14+AH18+AH22+AH26+AH30+AH34","v":0},"1800x300","Gallows Bracket",null,null,null,"Pillars=",null,null,"Each"]
[null,null,null,null,null,null,null,null,null,null,null,null,null,null,null,null,null,"SLIDING LINENS / ROBES",null,null,null,null,null,null,null,null,null,null,"TOTAL NETT L/M SHELVING  =",null,{"$f":"AL36","v":0},null,null,null,null,"Vertical Shelf",null,null,null,"Ends=",null,null,"Pair/s"]
[]
[null,"ROOM",null,null,null,null,null,null,null,null,null,null,null,null,null,null,null,"COLOUR",null,null,null,"SIZE",null,null,"DESCRIPTION"]
[]
[]
[]
[]
[]
[]
[]
[]
[]
[]
[]
[null,null,null,null,null,null,null,null,null,null,null,null,null,null,null,null,null,null,null,null,null,null,null,null,"Finial (select)"]
[null,null,null,null,null,null,null,null,null,null,null,null,null,null,null,null,null,null,null,null,null,null,null,null,"1000mm Finial"]
[null,null,null,null,null,null,null,null,null,null,null,null,null,null,null,null,null,null,null,null,null,null,null,null,"1200mm Finial"]
[null,null,null,null,null,null,null,null,null,null,null,null,null,null,null,null,null,null,null,null,null,null,null,null,"1500mm Finial"]

{"sheet":"Lists","index":16,"n_rows":324,"n_cols":45,"rows_kept":324,"cut":false,"hidden":true,"merged":[]}
[null,null,null,null,null,null,null,null,null,null,null,null,null,null,null,null,null,null,null,null,null,null,1234,null,null,null,null,null,null,null,null,null,null,"Provisional Sums and Extras",null,null,true]
[2,3,4,5,6,7,8,9,10,11,12,13,14,15,16,17,null,null,null,1,null,1,2,null,1,2,3,null,1,2,3,4,null,"cost centre","desc","value","# or UOM",5]
["Item Code","Description","Extra Description","Supplier's Code","Product Cat","Prod Group","Cost Centre","User Code","Sell UOM","Purch UOM","Vendor","Sort Code","Bin No","Drawing No.","Active","Supplier Part Numbers","Column2","Column3",null,null,null,"Description","Item Code"]
["010-010-100100","SURVEYING","AS PER QUOTE",null,"CO","CO",10,"M","QT","QT",null,null,null,"SURVEYS-0001","Y",null,{"$f":"SURVEYORS[[#This Row],[Item Code]]","v":"010-010-100100"},{"$f":"CONCATENATE(SURVEYORS[[#This Row],[Description]], \" \",#REF!)","v":{"$error":"#REF!"}},null,"BRAD ROCKE",null,"N12 RE-ENTRY BAR 1.5m","110-200-100100",null,0.93500000000000005,"MIDLAND FASTWALL 935mm","130-390-100100",null,{"$f":"CONCATENATE(AD4,\" - \",AE4)","v":"VINYL ROBE - 2 DOOR - 1200mm W x 2440mm H"},"VINYL ROBE","2 DOOR - 1200mm W x 2440mm H","420-100-100400",null,null,null,null,null,null,null,"CONC","DISC 1","DISC 2","SHOWER SCREENS","IMF","SIDES"]
["010-100-100100","C1 CONTOURS VACANT (NORMAL)","<1012 M2",null,"CO","CO",10,"S","IT","IT",null,null,null,"SURVEYS-1020","Y",null,{"$f":"SURVEYORS[[#This Row],[Item Code]]","v":"010-100-100100"},{"$f":"CONCATENATE(SURVEYORS[[#This Row],[Description]], \" \",#REF!)","v":{"$error":"#REF!"}},null,"BILLY MOI",null,"N12 RE-ENTRY BAR 2.0m","110-200-100200",null,1.25,"MIDLAND FASTWALL 1250mm","130-390-100200",null,{"$f":"CONCATENATE(AD5,\" - \",AE5)","v":"VINYL ROBE - 2 DOOR - 1500mm W x 2440mm H"},"VINYL ROBE","2 DOOR - 1500mm W x 2440mm H","420-100-100500",null,null,null,null,null,null,null,{"$f":"CONCATENATE(AP5,\" \",AO5)","v":"FRAMED PIVOT DOOR AND PANEL SHOWER SCREEN 1850x1000"},"SHOWER SCREEN 1850x1000","FRAMED PIVOT DOOR AND PANEL",{"$f":"AN5","v":"FRAMED PIVOT DOOR AND PANEL SHOWER SCREEN 1850x1000"},"525-300-100300",1]
["010-100-100200","C2 CONTOURS LARGE / PART LOT","(VACANT) > 1012 M2",null,"CO","CO",10,"S","IT","IT",null,null,null,"SURVEYS-1030","Y",null,{"$f":"SURVEYORS[[#This Row],[Item Code]]","v":"010-100-100200"},{"$f":"CONCATENATE(SURVEYORS[[#This Row],[Description]], \" \",#REF!)","v":{"$error":"#REF!"}},null,"KARA JASKOLA",null,"N16 RE-ENTRY BAR 1.5m","110-200-100300",null,1.5649999999999999,"MIDLAND FASTWALL 1565mm","130-390-100300",null,"VINYL ROBE - 2 DOOR - 1800mm W x 2440mm H","VINYL ROBE","2 DOOR - 1800mm W x 2440mm H","420-100-100600",null,null,null,null,null,null,null,{"$f":"CONCATENATE(AP6,\" \",AO6)","v":"FRAMED PIVOT DOOR AND PANEL SHOWER SCREEN 1850x1100"},"SHOWER SCREEN 1850x1100","FRAMED PIVOT DOOR AND PANEL","FRAMED PIVOT DOOR AND PANEL SHOWER SCREEN 1850x1100","525-300-100400",1]
["010-100-100300","C3 CONTOURS HOUSE EXISTING","< 1012 M2",null,"CO","CO",10,"S","IT","IT",null,null,null,"SURVEYS-1040","Y",null,{"$f":"SURVEYORS[[#This Row],[Item Code]]","v":"010-100-100300"},{"$f":"CONCATENATE(SURVEYORS[[#This Row],[Description]], \" \",#REF!)","v":{"$error":"#REF!"}},null,"BRETT - Boss Man",null,"N16 RE-ENTRY BAR 2.0m","110-200-100400",null,1.88,"MIDLAND FASTWALL 1880mm","130-390-100400",null,{"$f":"CONCATENATE(AD7,\" - \",AE7)","v":"VINYL ROBE - 2 DOOR - 2100mm W x 2440mm H"},"VINYL ROBE","2 DOOR - 2100mm W x 2440mm H","420-100-100700",null,null,null,null,null,null,null,"FRAMED PIVOT DOOR AND PANEL SHOWER SCREEN 1850x1200","SHOWER SCREEN 1850x1200","FRAMED PIVOT DOOR AND PANEL","FRAMED PIVOT DOOR AND PANEL SHOWER SCREEN 1850x1200","525-300-100500",1]
["010-100-100400","C4 CONTOURS STRATA LOT (VAC)","< 1012 M2",null,"CO","CO",10,"S","IT","IT",null,null,null,"SURVEYS-1050","Y",null,{"$f":"SURVEYORS[[#This Row],[Item Code]]","v":"010-100-100400"},{"$f":"CONCATENATE(SURVEYORS[[#This Row],[Description]], \" \",#REF!)","v":{"$error":"#REF!"}},null,"DAN BRADS FAN",null,null,null,null,2.1949999999999998,"MIDLAND FASTWALL 2195mm","130-390-100500",null,"VINYL ROBE - 2 DOOR - 2400mm W x 2440mm H","VINYL ROBE","2 DOOR - 2400mm W x 2440mm H","420-100-100800",null,null,null,null,null,null,null,"FRAMED PIVOT DOOR AND PANEL SHOWER SCREEN 1850x1500","SHOWER SCREEN 1850x1500","FRAMED PIVOT DOOR AND PANEL","FRAMED PIVOT DOOR AND PANEL SHOWER SCREEN 1850x1500","525-300-100800",1]
["010-100-100500","C5 CONTOURS STRATA LOT + HOUSE","< 1012 M2",null,"CO","CO",10,"S","IT","IT",null,null,null,"SURVEYS-1060","Y",null,{"$f":"SURVEYORS[[#This Row],[Item Code]]","v":"010-100-100500"},{"$f":"CONCATENATE(SURVEYORS[[#This Row],[Description]], \" \",#REF!)","v":{"$error":"#REF!"}},null,"SCOTT KENYON",null,null,null,null,2.5099999999999998,"MIDLAND FASTWALL 2510mm","130-390-100600",null,"VINYL ROBE - 3 DOOR - 2400mm W x 2440mm H","VINYL ROBE","3 DOOR - 2400mm W x 2440mm H","420-100-200100",null,null,null,null,null,null,null,"FRAMED PIVOT DOOR AND PANEL SHOWER SCREEN 1850x1700","SHOWER SCREEN 1850x1700","FRAMED PIVOT DOOR AND PANEL","FRAMED PIVOT DOOR AND PANEL SHOWER SCREEN 1850x1700","525-300-101000",1]
["010-100-100600","C6 CONTOURS DISPLAY HOME","< 1012 M2 VACANT",null,"CO","CO",10,"S","IT","IT",null,null,null,"SURVEYS-1070","Y",null,{"$f":"SURVEYORS[[#This Row],[Item Code]]","v":"010-100-100600"},{"$f":"CONCATENATE(SURVEYORS[[#This Row],[Description]], \" \",#REF!)","v":{"$error":"#REF!"}},null,"TOM CONLAN",null,null,null,null,2.8250000000000002,"MIDLAND FASTWALL 2825mm","130-390-100700",null,"VINYL ROBE - 3 DOOR - 2700mm W x 2440mm H","VINYL ROBE","3 DOOR - 2700mm W x 2440mm H","420-100-200200",null,null,null,null,null,null,null,"FRAMED PIVOT DOOR AND PANEL SHOWER SCREEN 1850x1800","SHOWER SCREEN 1850x1800","FRAMED PIVOT DOOR AND PANEL","FRAMED PIVOT DOOR AND PANEL SHOWER SCREEN 1850x1800","525-300-101100",1]
["010-100-200100","A.H.D. WITH C1 TO C6","CONTOURS SURVEYS",null,"CO","CO",10,"M","EA","EA",null,null,null,"SURVEYS-1080","Y",null,{"$f":"SURVEYORS[[#This Row],[Item Code]]","v":"010-100-200100"},{"$f":"CONCATENATE(SURVEYORS[[#This Row],[Description]], \" \",#REF!)","v":{"$error":"#REF!"}},null,"MATT PATERSON",null,"Description","Item Code",null,3.14,"MIDLAND FASTWALL 3140mm","130-390-100800",null,"VINYL ROBE - 3 DOOR - 3000mm W x 2440mm H","VINYL ROBE","3 DOOR - 3000mm W x 2440mm H","420-100-200300",null,null,null,null,null,null,null,"FRAMED PIVOT DOOR AND PANEL SHOWER SCREEN 1850x2000","SHOWER SCREEN 1850x2000","FRAMED PIVOT DOOR AND PANEL","FRAMED PIVOT DOOR AND PANEL SHOWER SCREEN 1850x2000","525-300-101300",1]
["010-100-200200","CONTOURS WITH A.H.D. VARIABLES",null,null,"CO","CO",10,"S","EA","EA",null,null,null,"SURVEYS-4030","Y",null,{"$f":"SURVEYORS[[#This Row],[Item Code]]","v":"010-100-200200"},{"$f":"CONCATENATE(SURVEYORS[[#This Row],[Description]], \" \",#REF!)","v":{"$error":"#REF!"}},null,"JACK GOLDRICK",null,"TRENCHMESH - NO SELECTION",null,null,null,null,null,null,"VINYL ROBE - 3 DOOR - 3300mm W x 2440mm H","VINYL ROBE","3 DOOR - 3300mm W x 2440mm H","420-100-200400",null,null,null,null,null,null,null,"FRAMED PIVOT DOOR AND PANEL SHOWER SCREEN 1850x900x900","SHOWER SCREEN 1850x900x900","FRAMED PIVOT DOOR AND PANEL","FRAMED PIVOT DOOR AND PANEL SHOWER SCREEN 1850x900x900","525-400-100100",2]
["010-200-100100","A21 ESTABLISH A.D.H.","A.H.D. & CERTIFICATES",null,"CO","CO",10,"S","EA","EA",null,null,null,"SURVEYS-4500","Y",null,{"$f":"SURVEYORS[[#This Row],[Item Code]]","v":"010-200-100100"},{"$f":"CONCATENATE(SURVEYORS[[#This Row],[Description]], \" \",#REF!)","v":{"$error":"#REF!"}},null,"JAMES FITZGERALD",null,"TRENCH MESH 8TM - 3 BAR","110-100-200100",null,null,null,null,null,"VINYL ROBE - 4 DOOR - 3600mm W x 2440mm H","VINYL ROBE","4 DOOR - 3600mm W x 2440mm H","420-100-300100",null,null,null,null,null,null,null,"FRAMED PIVOT DOOR AND PANEL SHOWER SCREEN 1850x900x1000","SHOWER SCREEN 1850x900x1000","FRAMED PIVOT DOOR AND PANEL","FRAMED PIVOT DOOR AND PANEL SHOWER SCREEN 1850x900x1000","525-400-100200",2]
["010-300-100050","REPEG (OLD AREA VACANT LOT)","PRE DP15000,PRE D65000 <1000M2",null,"CO","CO",10,"S","IT","IT",null,null,null,"SURVEYS-1995","Y",null,{"$f":"SURVEYORS[[#This Row],[Item Code]]","v":"010-300-100050"},{"$f":"CONCATENATE(SURVEYORS[[#This Row],[Description]], \" \",#REF!)","v":{"$error":"#REF!"}},null,"JESSY GEORGE",null,"TRENCH MESH 8TM - 4 BAR","110-100-200200",null,"INTERNAL SIZE: 235mm x 880mm","RADIANT THERMANICHE RSN04","490-550-100150",null,"VINYL ROBE - 4 DOOR - 3900mm W x 2440mm H","VINYL ROBE","4 DOOR - 3900mm W x 2440mm H","420-100-300200",null,null,null,null,null,null,null,"FRAMED PIVOT DOOR AND PANEL SHOWER SCREEN 1850x1000x1000","SHOWER SCREEN 1850x1000x1000","FRAMED PIVOT DOOR AND PANEL","FRAMED PIVOT DOOR AND PANEL SHOWER SCREEN 1850x1000x1000","525-400-101500",2]
["010-300-100100","B1  REPEG (NORMAL VACANT LOT)","BOUNDARY SURVEYS <1012 M2",null,"CO","CO",10,"S","IT","IT",null,null,null,"SURVEYS-2000","Y",null,{"$f":"SURVEYORS[[#This Row],[Item Code]]","v":"010-300-100100"},{"$f":"CONCATENATE(SURVEYORS[[#This Row],[Description]], \" \",#REF!)","v":{"$error":"#REF!"}},null,"VNIX - CMD",null,"TRENCH MESH 11TM - 3 BAR","110-100-200300",null,"INTERNAL SIZE: 325mm x 325mm","RADIANT THERMANICHE RSN01","490-550-100250",null,"VINYL ROBE - 4 DOOR - 4200mm W x 2440mm H","VINYL ROBE","4 DOOR - 4200mm W x 2440mm H","420-100-300300",null,null,null,null,null,null,null,"FRAMED PIVOT DOOR AND PANEL SHOWER SCREEN 1850x1200x1200","SHOWER SCREEN 1850x1200x1200","FRAMED PIVOT DOOR AND PANEL","FRAMED PIVOT DOOR AND PANEL SHOWER SCREEN 1850x1200x1200","525-400-101700",2]
["010-300-100200","B1 REPEG BOUNDARY SURVEY - OLD","ESTABLISHED AREA VACANT LOT",null,"CO","CO",10,"M","IT","IT",null,null,null,"SURVEYS-2005","Y",null,{"$f":"SURVEYORS[[#This Row],[Item Code]]","v":"010-300-100200"},{"$f":"CONCATENATE(SURVEYORS[[#This Row],[Description]], \" \",#REF!)","v":{"$error":"#REF!"}},null,"VNIX - LM",null,"TRENCH MESH 11TM - 4 BAR","110-100-200310",null,"INTERNAL SIZE: 330mm x 580mm","RADIANT THERMANICHE RSN03","490-550-100350",null,"VINYL ROBE - 4 DOOR - 4500mm W x 2440mm H","VINYL ROBE","4 DOOR - 4500mm W x 2440mm H","420-100-300400",null,null,null,null,null,null,null,"FRAMED PIVOT DOOR AND PANEL E/O WIDTH PER 100mm FDP","E/O WIDTH PER 100mm FDP","FRAMED PIVOT DOOR AND PANEL","FRAMED PIVOT DOOR AND PANEL E/O WIDTH PER 100mm FDP","525-400-102700"]
["010-300-100300","B1RI REPEG REAR LOT","BOUNDARY SURVEYS",null,"CO","CO",10,"S","IT","IT",null,null,null,"SURVEYS-2010","Y",null,{"$f":"SURVEYORS[[#This Row],[Item Code]]","v":"010-300-100300"},{"$f":"CONCATENATE(SURVEYORS[[#This Row],[Description]], \" \",#REF!)","v":{"$error":"#REF!"}},null,null,null,null,null,null,"INTERNAL SIZE: 340mm x 400mm","RADIANT THERMANICHE RSN02","490-550-100450",null,"VINYL ROBE 2 DOOR - 1200mm WIDE x 2700mm HIGH","VINYL ROBE 2 DOOR","1200mm WIDE x 2700mm HIGH","420-110-100100",null,null,null,null,null,null,null,"FRAMED PIVOT DOOR & 2 RETURN SHOWER SCREEN 1850Hx900Wx900R","SHOWER SCREEN 1850Hx900Wx900R","FRAMED PIVOT DOOR & 2 RETURN","FRAMED PIVOT DOOR & 2 RETURN SHOWER SCREEN 1850Hx900Wx900R","525-400-200200",2]
["010-300-100400","B2 REPEG LARGE LOT","BOUNDARY SURVEYS >1013 M2",null,"CO","CO",10,"S","IT","IT",null,null,null,"SURVEYS-2020","Y",null,{"$f":"SURVEYORS[[#This Row],[Item Code]]","v":"010-300-100400"},{"$f":"CONCATENATE(SURVEYORS[[#This Row],[Description]], \" \",#REF!)","v":{"$error":"#REF!"}},null,"COLOURBOND",null,"Description","Item Code",null,"INTERNAL SIZE: 340mm x 975mm","RADIANT THERMANICHE RSN10","490-550-100500",null,"VINYL ROBE 2 DOOR - 1500mm WIDE x 2700mm HIGH","VINYL ROBE 2 DOOR","1500mm WIDE x 2700mm HIGH","420-110-100200",null,null,null,null,"QT",null,null,"SEMI FRAMELESS PIVOT 2 RETURN SHOWER SCREEN 1850Hx1000Wx900R","SHOWER SCREEN 1850Hx1000Wx900R","SEMI FRAMELESS PIVOT 2 RETURN","SEMI FRAMELESS PIVOT 2 RETURN SHOWER SCREEN 1850Hx1000Wx900R","525-400-300100",2]
["010-300-100500","B2F REPEG LARGE FIXED DISTANCE","LINE PEGS.  BOUNDARY SURVEYS",null,"CO","CO",10,"S","IT","IT",null,null,null,"SURVEYS-2030","Y",null,{"$f":"SURVEYORS[[#This Row],[Item Code]]","v":"010-300-100500"},{"$f":"CONCATENATE(SURVEYORS[[#This Row],[Description]], \" \",#REF!)","v":{"$error":"#REF!"}},null,"TILED",null,"SLABMESH - NO SELECTION",null,null,null,null,null,null,"VINYL ROBE 2 DOOR - 1800mm WIDE x 2700mm HIGH","VINYL ROBE 2 DOOR","1800mm WIDE x 2700mm HIGH","420-110-100600",null,null,null,null,"EA",null,null,"SEMI FRAMELESS PIVOT 2 RETURN SHOWER SCREEN 1850Hx1100Wx900R","SHOWER SCREEN 1850Hx1100Wx900R","SEMI FRAMELESS PIVOT 2 RETURN","SEMI FRAMELESS PIVOT 2 RETURN SHOWER SCREEN 1850Hx1100Wx900R","525-400-300200",2]
["010-300-100800","B4 PART REPEG INC. 4 PEGS","BOUNDARY SURVEYS",null,"CO","CO",10,"S","IT","IT",null,null,null,"SURVEYS-2060","Y",null,{"$f":"SURVEYORS[[#This Row],[Item Code]]","v":"010-300-100800"},{"$f":"CONCATENATE(SURVEYORS[[#This Row],[Description]], \" \",#REF!)","v":{"$error":"#REF!"}},null,null,null,"RF52 MESH - 6 x 2.4m","110-100-100125",null,null,null,null,null,"VINYL ROBE 2 DOOR - 2100mm WIDE x 2700mm HIGH","VINYL ROBE 2 DOOR","2100mm WIDE x 2700mm HIGH","420-110-100800",null,null,null,null,"EA",null,null,"SEMI FRAMELESS PIVOT 2 RETURN SHOWER SCREEN 1850Hx1200Wx900R","SHOWER SCREEN 1850Hx1200Wx900R","SEMI FRAMELESS PIVOT 2 RETURN","SEMI FRAMELESS PIVOT 2 RETURN SHOWER SCREEN 1850Hx1200Wx900R","525-400-300300",2]
["010-300-100900","B5 LOCATE (HOUSE POINTS)+ PEGS","BOUNDARY SURVEYS",null,"CO","CO",10,"S","IT","IT",null,null,null,"SURVEYS-2070","Y",null,{"$f":"SURVEYORS[[#This Row],[Item Code]]","v":"010-300-100900"},{"$f":"CONCATENATE(SURVEYORS[[#This Row],[Description]], \" \",#REF!)","v":{"$error":"#REF!"}},null,"STEEL TRUSS",null,"RF63 MESH - 6 x 2.4m","110-100-100200",null,"SURVEYING","AS PER QUOTE","010-010-100100",null,"VINYL ROBE 3 DOOR - 2400mm WIDE x 2700mm HIGH","VINYL ROBE 3 DOOR","2400mm WIDE x 2700mm HIGH","420-110-200500",null,null,null,null,"EA",null,null,"SEMI FRAMELESS PIVOT 2 RETURN SHOWER SCREEN 1850Hx1500Wx900R","SHOWER SCREEN 1850Hx1500Wx900R","SEMI FRAMELESS PIVOT 2 RETURN","SEMI FRAMELESS PIVOT 2 RETURN SHOWER SCREEN 1850Hx1500Wx900R","525-400-300600",2]
["010-300-101000","B5R RE-PEG LOCATE (HOUSE","POINTS + PEGS)BOUNDARY SURVEYS",null,"CO","CO",10,"S","IT","IT",null,null,null,"SURVEYS-2080","Y",null,{"$f":"SURVEYORS[[#This Row],[Item Code]]","v":"010-300-101000"},{"$f":"CONCATENATE(SURVEYORS[[#This Row],[Description]], \" \",#REF!)","v":{"$error":"#REF!"}},null,"TIMBER",null,"RF62 MESH - 6 x 2.4m","110-100-100300",null,"C1 CONTOURS VACANT (NORMAL)","<1012 M2","010-100-100100",null,"VINYL ROBE 3 DOOR - 2700mm WIDE x 2700mm HIGH","VINYL ROBE 3 DOOR","2700mm WIDE x 2700mm HIGH","420-110-200700",null,null,null,null,"EA",null,null,"SEMI FRAMELESS PIVOT DOOR & SHOWER SCREEN 1850x800","SHOWER SCREEN 1850x800","SEMI FRAMELESS PIVOT DOOR &","SEMI FRAMELESS PIVOT DOOR & SHOWER SCREEN 1850x800","525-500-100100",1]
["010-300-101100","B6 ENVELOPE BOUNDARY NOT","PEGGED.BOUNDARY SURVEYS",null,"CO","CO",10,"S","IT","IT",null,null,null,"SURVEYS-2090","Y",null,{"$f":"SURVEYORS[[#This Row],[Item Code]]","v":"010-300-101100"},{"$f":"CONCATENATE(SURVEYORS[[#This Row],[Description]], \" \",#REF!)","v":{"$error":"#REF!"}},null,null,null,"RF72 MESH - 6 x 2.4m","110-100-100400",null,"C2 CONTOURS LARGE / PART LOT","(VACANT) > 1012 M2","010-100-100200",null,"VINYL ROBE 3 DOOR - 3000mm WIDE x 2700mm HIGH","VINYL ROBE 3 DOOR","3000mm WIDE x 2700mm HIGH","420-110-200900",null,null,null,null,"EA",null,null,"SEMI FRAMELESS PIVOT DOOR & SHOWER SCREEN 1850x900","SHOWER SCREEN 1850x900","SEMI FRAMELESS PIVOT DOOR &","SEMI FRAMELESS PIVOT DOOR & SHOWER SCREEN 1850x900","525-500-100200",1]
["010-300-101200","B7 REPLACE PEGS + # OF PEGS",null,null,"CO","CO",10,"S","IT","IT",null,null,null,"SURVEYS-2095","Y",null,{"$f":"SURVEYORS[[#This Row],[Item Code]]","v":"010-300-101200"},{"$f":"CONCATENATE(SURVEYORS[[#This Row],[Description]], \" \",#REF!)","v":{"$error":"#REF!"}},null,"R1",null,null,null,null,"C3 CONTOURS HOUSE EXISTING","< 1012 M2","010-100-100300",null,"VINYL ROBE 3 DOOR - 3300mm WIDE x 2700mm HIGH","VINYL ROBE 3 DOOR","3300mm WIDE x 2700mm HIGH","420-110-201000",null,null,null,null,"EA",null,null,"SEMI FRAMELESS PIVOT DOOR & SHOWER SCREEN 1850x1000","SHOWER SCREEN 1850x1000","SEMI FRAMELESS PIVOT DOOR &","SEMI FRAMELESS PIVOT DOOR & SHOWER SCREEN 1850x1000","525-500-100300",1]
["010-400-100100","S11 SET OUTS PARAPET NAILS","(PREV. RE-PEG) + NAILS / PEG",null,"CO","CO",10,"S","IT","IT",null,null,null,"SURVEYS-3010","Y",null,{"$f":"SURVEYORS[[#This Row],[Item Code]]","v":"010-400-100100"},{"$f":"CONCATENATE(SURVEYORS[[#This Row],[Description]], \" \",#REF!)","v":{"$error":"#REF!"}},null,"R2",null,null,null,null,"C4 CONTOURS STRATA LOT (VAC)","< 1012 M2","010-100-100400",null,"VINYL ROBE 3 DOOR - 3600mm WIDE x 2700mm HIGH","VINYL ROBE 3 DOOR","3600mm WIDE x 2700mm HIGH","420-110-201200",null,null,null,null,"EA",null,null,"SEMI FRAMELESS PIVOT DOOR & SHOWER SCREEN 1850x1100","SHOWER SCREEN 1850x1100","SEMI FRAMELESS PIVOT DOOR &","SEMI FRAMELESS PIVOT DOOR & SHOWER SCREEN 1850x1100","525-500-100400",1]
["010-400-100200","S11R SET OUTS RE-PEG NAILS",{"$f":"+ NAILS / PEG","v":{"$error":"#NAME?"}},null,"CO","CO",10,"S","IT","IT",null,null,null,"SURVEYS-3020","Y",null,{"$f":"SURVEYORS[[#This Row],[Item Code]]","v":"010-400-100200"},{"$f":"CONCATENATE(SURVEYORS[[#This Row],[Description]], \" \",#REF!)","v":{"$error":"#REF!"}},null,"R3",null,"SINGLE ENTRY FRAME - 720","170-100-100100",null,"C5 CONTOURS STRATA LOT + HOUSE","< 1012 M2","010-100-100500",null,"VINYL ROBE 4 DOOR - 3600mm WIDE x 2700mm HIGH","VINYL ROBE 4 DOOR","3600mm WIDE x 2700mm HIGH","420-110-300500",null,null,null,null,"EA",null,null,"SEMI FRAMELESS PIVOT DOOR & SHOWER SCREEN 1850x1200","SHOWER SCREEN 1850x1200","SEMI FRAMELESS PIVOT DOOR &","SEMI FRAMELESS PIVOT DOOR & SHOWER SCREEN 1850x1200","525-500-100500",1]
["010-400-100300","S12 SET OUTS HOUSE RE-PEGS","(PREV. RE-PEG) + NAILS / PEG",null,"CO","CO",10,"S","IT","IT",null,null,null,"SURVEYS-3030","Y",null,{"$f":"SURVEYORS[[#This Row],[Item Code]]","v":"010-400-100300"},{"$f":"CONCATENATE(SURVEYORS[[#This Row],[Description]], \" \",#REF!)","v":{"$error":"#REF!"}},null,"R4",null,"SINGLE ENTRY FRAME - 820","170-100-100200",null,"C6 CONTOURS DISPLAY HOME","< 1012 M2 VACANT","010-100-100600",null,"VINYL ROBE 4 DOOR - 4200mm WIDE x 2700mm HIGH","VINYL ROBE 4 DOOR","4200mm WIDE x 2700mm HIGH","420-110-301000",null,null,null,null,"EA",null,null,"SEMI FRAMELESS PIVOT DOOR & SHOWER SCREEN 1850x1300","SHOWER SCREEN 1850x1300","SEMI FRAMELESS PIVOT DOOR &","SEMI FRAMELESS PIVOT DOOR & SHOWER SCREEN 1850x1300","525-500-100600",1]
["010-400-100400","S12R SET OUTS RE-PEG HOUSE",{"$f":"+ PEG","v":{"$error":"#NAME?"}},null,"CO","CO",10,"S","IT","IT",null,null,null,"SURVEYS-3040","Y",null,{"$f":"SURVEYORS[[#This Row],[Item Code]]","v":"010-400-100400"},{"$f":"CONCATENATE(SURVEYORS[[#This Row],[Description]], \" \",#REF!)","v":{"$error":"#REF!"}},null,null,null,"SINGLE ENTRY FRAME - 870","170-100-100300",null,"A.H.D. WITH C1 TO C6","CONTOURS SURVEYS","010-100-200100",null,"MIRROR / VINYL ROBE - 2 DOOR - 1200mm W x 2440mm H","MIRROR / VINYL ROBE","2 DOOR - 1200mm W x 2440mm H","420-200-100400",null,null,null,null,"EA",null,null,"SEMI FRAMELESS PIVOT DOOR & SHOWER SCREEN 1850x1400","SHOWER SCREEN 1850x1400","SEMI FRAMELESS PIVOT DOOR &","SEMI FRAMELESS PIVOT DOOR & SHOWER SCREEN 1850x1400","525-500-100700",1]
["010-400-100500","S13 SET OUTS HOUSE PIN","(PREV. RE-PEG) + PIN / PEG",null,"CO","CO",10,"S","IT","IT",null,null,null,"SURVEYS-3050","Y",null,{"$f":"SURVEYORS[[#This Row],[Item Code]]","v":"010-400-100500"},{"$f":"CONCATENATE(SURVEYORS[[#This Row],[Description]], \" \",#REF!)","v":{"$error":"#REF!"}},null,"EASYSTART",null,"SINGLE ENTRY FRAME - 920","170-100-100400",null,"CONTOURS WITH A.H.D. VARIABLES",null,"010-100-200200",null,"MIRROR / VINYL ROBE - 2 DOOR - 1500mm W x 2440mm H","MIRROR / VINYL ROBE","2 DOOR - 1500mm W x 2440mm H","420-200-100500",null,null,null,null,null,null,null,"SEMI FRAMELESS PIVOT DOOR & SHOWER SCREEN 1850x1500","SHOWER SCREEN 1850x1500","SEMI FRAMELESS PIVOT DOOR &","SEMI FRAMELESS PIVOT DOOR & SHOWER SCREEN 1850x1500","525-500-100800",1]
["010-400-100600","S13R SET OUTS RE-PEG + PINS",null,null,"CO","CO",10,"S","IT","IT",null,null,null,"SURVEYS-3060","Y",null,{"$f":"SURVEYORS[[#This Row],[Item Code]]","v":"010-400-100600"},{"$f":"CONCATENATE(SURVEYORS[[#This Row],[Description]], \" \",#REF!)","v":{"$error":"#REF!"}},null,"NEW GENERATION",null,"SINGLE ENTRY FRAME - 820","170-100-200200",null,"A21 ESTABLISH A.D.H.","A.H.D. & CERTIFICATES","010-200-100100",null,"MIRROR / VINYL ROBE - 2 DOOR - 1800mm W x 2440mm H","MIRROR / VINYL ROBE","2 DOOR - 1800mm W x 2440mm H","420-200-100600",null,null,null,null,null,null,null,"SEMI FRAMELESS PIVOT DOOR & SHOWER SCREEN 1850x1600","SHOWER SCREEN 1850x1600","SEMI FRAMELESS PIVOT DOOR &","SEMI FRAMELESS PIVOT DOOR & SHOWER SCREEN 1850x1600","525-500-100900",1]
["010-400-100700","S14 SET OUTS PARAPET PEGS","(PREV. RE-PEG) + PEGS",null,"CO","CO",10,"S","IT","IT",null,null,null,"SURVEYS-3070","Y",null,{"$f":"SURVEYORS[[#This Row],[Item Code]]","v":"010-400-100700"},{"$f":"CONCATENATE(SURVEYORS[[#This Row],[Description]], \" \",#REF!)","v":{"$error":"#REF!"}},null,"SUMMIT HOMES",null,"SINGLE ENTRY FRAME - 720","170-100-300100",null,"REPEG (OLD AREA VACANT LOT)","PRE DP15000,PRE D65000 <1000M2","010-300-100050",null,"MIRROR / VINYL ROBE - 2 DOOR - 2100mm W x 2440mm H","MIRROR / VINYL ROBE","2 DOOR - 2100mm W x 2440mm H","420-200-100700",null,null,null,null,null,null,null,"SEMI FRAMELESS PIVOT DOOR & SHOWER SCREEN 1850x1700","SHOWER SCREEN 1850x1700","SEMI FRAMELESS PIVOT DOOR &","SEMI FRAMELESS PIVOT DOOR & SHOWER SCREEN 1850x1700","525-500-101000",1]
["010-400-100900","S15R SET OUTS RE-PEG + POOL",{"$f":"+ PEGS","v":{"$error":"#NAME?"}},null,"CO","CO",10,"S","IT","IT",null,null,null,"SURVEYS-3090","Y",null,{"$f":"SURVEYORS[[#This Row],[Item Code]]","v":"010-400-100900"},{"$f":"CONCATENATE(SURVEYORS[[#This Row],[Description]], \" \",#REF!)","v":{"$error":"#REF!"}},null,null,null,"SINGLE ENTRY FRAME - 820","170-100-300200",null,"B1  REPEG (NORMAL VACANT LOT)","BOUNDARY SURVEYS <1012 M2","010-300-100100",null,"MIRROR / VINYL ROBE - 2 DOOR - 2400mm W x 2440mm H","MIRROR / VINYL ROBE","2 DOOR - 2400mm W x 2440mm H","420-200-100800",null,null,null,null,null,null,null,"SEMI FRAMELESS PIVOT DOOR & SHOWER SCREEN 1850x1800","SHOWER SCREEN 1850x1800","SEMI FRAMELESS PIVOT DOOR &","SEMI FRAMELESS PIVOT DOOR & SHOWER SCREEN 1850x1800","525-500-101100",1]
["010-400-101200","S17 RETAINING PEGS","(PREV. RE-PEG) + PEGS",null,"CO","CO",10,"S","IT","IT",null,null,null,"SURVEYS-3120","Y",null,{"$f":"SURVEYORS[[#This Row],[Item Code]]","v":"010-400-101200"},{"$f":"CONCATENATE(SURVEYORS[[#This Row],[Description]], \" \",#REF!)","v":{"$error":"#REF!"}},null,null,null,"SINGLE ENTRY FRAME - 820","170-100-300210",null,"B1 REPEG BOUNDARY SURVEY - OLD","ESTABLISHED AREA VACANT LOT","010-300-100200",null,"MIRROR / VINYL ROBE - 4 DOOR - 4200mm W x 2700mm H","MIRROR / VINYL ROBE","4 DOOR - 4200mm W x 2700mm H","420-200-400600",null,null,null,null,null,null,null,"SEMI FRAMELESS PIVOT DOOR & SHOWER SCREEN 1850x1900","SHOWER SCREEN 1850x1900","SEMI FRAMELESS PIVOT DOOR &","SEMI FRAMELESS PIVOT DOOR & SHOWER SCREEN 1850x1900","525-500-101200",1]
["010-400-101300","S17R RE-PEG + RETAINING + PEGS",null,null,"CO","CO",10,"S","IT","IT",null,null,null,"SURVEYS-3130","Y",null,{"$f":"SURVEYORS[[#This Row],[Item Code]]","v":"010-400-101300"},{"$f":"CONCATENATE(SURVEYORS[[#This Row],[Description]], \" \",#REF!)","v":{"$error":"#REF!"}},null,"Double Brick",null,"SINGLE ENTRY FRAME - 870","170-100-300300",null,"B1RI REPEG REAR LOT","BOUNDARY SURVEYS","010-300-100300",null,"MIRRORED ROBE - 2 DOOR - 1200mm W x 2440mm H","MIRRORED ROBE","2 DOOR - 1200mm W x 2440mm H","420-300-100400",null,null,null,null,null,null,null,"SEMI FRAMELESS PIVOT DOOR & SHOWER SCREEN 1850x2000","SHOWER SCREEN 1850x2000","SEMI FRAMELESS PIVOT DOOR &","SEMI FRAMELESS PIVOT DOOR & SHOWER SCREEN 1850x2000","525-500-101300",1]
["010-500-100100","SURVEYS VARIABLES PEGS / NAILS","PINS / MARKS POINTS ETC. EACH",null,"CO","CO",10,"S","EA","EA",null,null,null,"SURVEYS-4000","Y",null,{"$f":"SURVEYORS[[#This Row],[Item Code]]","v":"010-500-100100"},{"$f":"CONCATENATE(SURVEYORS[[#This Row],[Description]], \" \",#REF!)","v":{"$error":"#REF!"}},null,"Brick veneer",null,"SINGLE ENTRY FRAME - 920","170-100-300400",null,"B2 REPEG LARGE LOT","BOUNDARY SURVEYS >1013 M2","010-300-100400",null,"MIRRORED ROBE - 2 DOOR - 1500mm W x 2440mm H","MIRRORED ROBE","2 DOOR - 1500mm W x 2440mm H","420-300-100500",null,null,null,null,null,null,null,"SEMI FRAMELESS PIVOT DOOR & SHOWER SCREEN 1850x900x800","SHOWER SCREEN 1850x900x800","SEMI FRAMELESS PIVOT DOOR &","SEMI FRAMELESS PIVOT DOOR & SHOWER SCREEN 1850x900x800","525-500-102050",2]
["010-500-100200","SURVEYS VARIABLES   OLD AREA",null,null,"CO","CO",10,"S","EA","EA",null,null,null,"SURVEYS-4010","Y",null,{"$f":"SURVEYORS[[#This Row],[Item Code]]","v":"010-500-100200"},{"$f":"CONCATENATE(SURVEYORS[[#This Row],[Description]], \" \",#REF!)","v":{"$error":"#REF!"}},null,"Fully Framed",null,"SINGLE ENTRY FRAME - 1200","170-100-300500",null,"B2F REPEG LARGE FIXED DISTANCE","LINE PEGS.  BOUNDARY SURVEYS","010-300-100500",null,"MIRRORED ROBE - 2 DOOR - 1800mm W x 2440mm H","MIRRORED ROBE","2 DOOR - 1800mm W x 2440mm H","420-300-100600",null,null,null,null,null,null,null,"SEMI FRAMELESS PIVOT DOOR & SHOWER SCREEN 1850x900x900","SHOWER SCREEN 1850x900x900","SEMI FRAMELESS PIVOT DOOR &","SEMI FRAMELESS PIVOT DOOR & SHOWER SCREEN 1850x900x900","525-500-102100",2]
["010-500-100300","SURVEYS VARIABLES   LARGE LOTS","> 1012M2",null,"CO","CO",10,"S","EA","EA",null,null,null,"SURVEYS-4020","Y",null,{"$f":"SURVEYORS[[#This Row],[Item Code]]","v":"010-500-100300"},{"$f":"CONCATENATE(SURVEYORS[[#This Row],[Description]], \" \",#REF!)","v":{"$error":"#REF!"}},null,null,null,"SINGLE ENTRY FRAME - 1200","170-100-300520",null,"B4 PART REPEG INC. 4 PEGS","BOUNDARY SURVEYS","010-300-100800",null,"MIRRORED ROBE - 2 DOOR - 2100mm W x 2440mm H","MIRRORED ROBE","2 DOOR - 2100mm W x 2440mm H","420-300-100700",null,null,null,null,null,null,null,"SEMI FRAMELESS PIVOT DOOR & SHOWER SCREEN 1850x900x1000","SHOWER SCREEN 1850x900x1000","SEMI FRAMELESS PIVOT DOOR &","SEMI FRAMELESS PIVOT DOOR & SHOWER SCREEN 1850x900x1000","525-500-102200",2]
["010-500-100400","SURVEYS VARIABLES CALCULATIONS","BOUNDARY SURVEYS",null,"CO","CO",10,"S","EA","EA",null,null,null,"SURVEYS-4040","Y",null,{"$f":"SURVEYORS[[#This Row],[Item Code]]","v":"010-500-100400"},{"$f":"CONCATENATE(SURVEYORS[[#This Row],[Description]], \" \",#REF!)","v":{"$error":"#REF!"}},null,null,null,"SINGLE ENTRY FRAME - 1200","170-100-310500",null,"B5 LOCATE (HOUSE POINTS)+ PEGS","BOUNDARY SURVEYS","010-300-100900",null,"MIRRORED ROBE - 2 DOOR - 2400mm W x 2440mm H","MIRRORED ROBE","2 DOOR - 2400mm W x 2440mm H","420-300-100800",null,null,null,null,null,null,null,"SEMI FRAMELESS PIVOT DOOR & SHOWER SCREEN 1850x900x1100","SHOWER SCREEN 1850x900x1100","SEMI FRAMELESS PIVOT DOOR &","SEMI FRAMELESS PIVOT DOOR & SHOWER SCREEN 1850x900x1100","525-500-102300",2]
["010-500-100500","SURVEYS VARIABLES CALCULATIONS","SET OUTS",null,"CO","CO",10,"S","EA","EA",null,null,null,"SURVEYS-4050","Y",null,{"$f":"SURVEYORS[[#This Row],[Item Code]]","v":"010-500-100500"},{"$f":"CONCATENATE(SURVEYORS[[#This Row],[Description]], \" \",#REF!)","v":{"$error":"#REF!"}},null,null,null,"SINGLE ENTRY FRAME - 820","170-100-320200",null,"B5R RE-PEG LOCATE (HOUSE","POINTS + PEGS)BOUNDARY SURVEYS","010-300-101000",null,"MIRRORED ROBE - 3 DOOR - 2400mm W x 2440mm H","MIRRORED ROBE","3 DOOR - 2400mm W x 2440mm H","420-300-200100",null,null,null,null,null,null,null,"SEMI FRAMELESS PIVOT DOOR & SHOWER SCREEN 1850x900x1200","SHOWER SCREEN 1850x900x1200","SEMI FRAMELESS PIVOT DOOR &","SEMI FRAMELESS PIVOT DOOR & SHOWER SCREEN 1850x900x1200","525-500-102400",2]
["010-500-100600","SURVEYS VARIABLES","EXISTING HOUSE",null,"CO","CO",10,"M","IT","IT",null,null,null,null,"Y",null,{"$f":"SURVEYORS[[#This Row],[Item Code]]","v":"010-500-100600"},{"$f":"CONCATENATE(SURVEYORS[[#This Row],[Description]], \" \",#REF!)","v":{"$error":"#REF!"}},null,"020 - STRUCTURAL ENGINEER",null,"SINGLE ENTRY FRAME - 920","170-100-320400",null,"B6 ENVELOPE BOUNDARY NOT","PEGGED.BOUNDARY SURVEYS","010-300-101100",null,"MIRRORED ROBE - 3 DOOR - 2700mm W x 2440mm H","MIRRORED ROBE","3 DOOR - 2700mm W x 2440mm H","420-300-200200",null,null,null,null,null,null,null,"SEMI FRAMELESS PIVOT DOOR & SHOWER SCREEN 1850x900x1300","SHOWER SCREEN 1850x900x1300","SEMI FRAMELESS PIVOT DOOR &","SEMI FRAMELESS PIVOT DOOR & SHOWER SCREEN 1850x900x1300","525-500-102500",2]
["010-980-100100","AREA LOADING","AS PER QUOTE",null,"CO","CO",10,"S","QT","QT",null,null,null,"SURVEYS-9000","Y",null,{"$f":"SURVEYORS[[#This Row],[Item Code]]","v":"010-980-100100"},{"$f":"CONCATENATE(SURVEYORS[[#This Row],[Description]], \" \",#REF!)","v":{"$error":"#REF!"}},null,"080 - SITE WORKS",null,"SINGLE ENTRY FRAME - 1020","170-100-320500",null,"B7 REPLACE PEGS + # OF PEGS",null,"010-300-101200",null,"MIRRORED ROBE - 3 DOOR - 3000mm W x 2440mm H","MIRRORED ROBE","3 DOOR - 3000mm W x 2440mm H","420-300-200300",null,null,null,null,null,null,null,"SEMI FRAMELESS PIVOT DOOR & SHOWER SCREEN 1850x900x1400","SHOWER SCREEN 1850x900x1400","SEMI FRAMELESS PIVOT DOOR &","SEMI FRAMELESS PIVOT DOOR & SHOWER SCREEN 1850x900x1400","525-500-102600",2]
["010-980-100200","AREA LOADING / DAWESVILLE /","PINJARRA & STH YUNDERUP",null,"CO","CO",10,"S","IT","IT",null,null,null,"SURVEYS-9010","Y",null,{"$f":"SURVEYORS[[#This Row],[Item Code]]","v":"010-980-100200"},{"$f":"CONCATENATE(SURVEYORS[[#This Row],[Description]], \" \",#REF!)","v":{"$error":"#REF!"}},null,"085 - RETAINING WALLS/MASONRY WORK",null,"SINGLE ENTRY FRAME - 1200","170-100-320600",null,"S11 SET OUTS PARAPET NAILS","(PREV. RE-PEG) + NAILS / PEG","010-400-100100",null,"MIRRORED ROBE - 4 DOOR - 4200mm W x 2440mm H","MIRRORED ROBE","4 DOOR - 4200mm W x 2440mm H","420-300-300300",null,null,null,null,null,null,null,"SEMI FRAMELESS PIVOT DOOR & SHOWER SCREEN 1850x900x1500","SHOWER SCREEN 1850x900x1500","SEMI FRAMELESS PIVOT DOOR &","SEMI FRAMELESS PIVOT DOOR & SHOWER SCREEN 1850x900x1500","525-500-102700",2]
["010-980-100300","AREA LOADING / TWO ROCKS &","YANCHEP",null,"CO","CO",10,"S","IT","IT",null,null,null,"SURVEYS-9020","Y",null,{"$f":"SURVEYORS[[#This Row],[Item Code]]","v":"010-980-100300"},{"$f":"CONCATENATE(SURVEYORS[[#This Row],[Description]], \" \",#REF!)","v":{"$error":"#REF!"}},null,"090 - SHED AND TOILET HIRE",null,null,null,null,"S11R SET OUTS RE-PEG NAILS",{"$error":"#NAME?"},"010-400-100200",null,"MIRRORED ROBE 2 DOOR - 1200mm WIDE x 2700mm HIGH","MIRRORED ROBE 2 DOOR","1200mm WIDE x 2700mm HIGH","420-310-100100",null,null,null,null,null,null,null,"SEMI FRAMELESS PIVOT DOOR & SHOWER SCREEN 1850x1000x1000","SHOWER SCREEN 1850x1000x1000","SEMI FRAMELESS PIVOT DOOR &","SEMI FRAMELESS PIVOT DOOR & SHOWER SCREEN 1850x1000x1000","525-500-103600",2]
["010-980-100400","AREA LOADING BULLSBROOK",null,null,"CO","CO",10,"M","IT","IT",null,null,null,null,"Y",null,{"$f":"SURVEYORS[[#This Row],[Item Code]]","v":"010-980-100400"},{"$f":"CONCATENATE(SURVEYORS[[#This Row],[Description]], \" \",#REF!)","v":{"$error":"#REF!"}},null,"095 - SITE BINS / RUBBISH REMOVAL",null,null,null,null,"S12 SET OUTS HOUSE RE-PEGS","(PREV. RE-PEG) + NAILS / PEG","010-400-100300",null,"MIRRORED ROBE 2 DOOR - 1500mm WIDE x 2700mm HIGH","MIRRORED ROBE 2 DOOR","1500mm WIDE x 2700mm HIGH","420-310-100200",null,null,null,null,null,null,null,"SEMI FRAMELESS PIVOT DOOR & SHOWER SCREEN 1850x1100x1100","SHOWER SCREEN 1850x1100x1100","SEMI FRAMELESS PIVOT DOOR &","SEMI FRAMELESS PIVOT DOOR & SHOWER SCREEN 1850x1100x1100","525-500-103700",2]
["S-SITESUR-0055","SITE SURVEY","E/O FOR OLD AREA",null,"ES","AS",10,"Z","EA","EA",null,null,null,null,"Y",null,{"$f":"SURVEYORS[[#This Row],[Item Code]]","v":"S-SITESUR-0055"},{"$f":"CONCATENATE(SURVEYORS[[#This Row],[Description]], \" \",#REF!)","v":{"$error":"#REF!"}},null,"100 - PLUMBING",null,null,null,null,"S12R SET OUTS RE-PEG HOUSE",{"$error":"#NAME?"},"010-400-100400",null,"MIRRORED ROBE 2 DOOR - 1800mm WIDE x 2700mm HIGH","MIRRORED ROBE 2 DOOR","1800mm WIDE x 2700mm HIGH","420-310-100500",null,null,null,null,null,null,null,"SEMI FRAMELESS PIVOT DOOR & SHOWER SCREEN 1850x1200x1200","SHOWER SCREEN 1850x1200x1200","SEMI FRAMELESS PIVOT DOOR &","SEMI FRAMELESS PIVOT DOOR & SHOWER SCREEN 1850x1200x1200","525-500-103800",2]
["S-SITESUR-0110","SITE SURVEY","E/O FOR LARGE SITE >1000M2",null,"ES","AS",10,"Z","EA","EA",null,null,null,null,"Y",null,{"$f":"SURVEYORS[[#This Row],[Item Code]]","v":"S-SITESUR-0110"},{"$f":"CONCATENATE(SURVEYORS[[#This Row],[Description]], \" \",#REF!)","v":{"$error":"#REF!"}},null,"105 - WHITE ANT TREATMENT",null,null,null,null,"S13 SET OUTS HOUSE PIN","(PREV. RE-PEG) + PIN / PEG","010-400-100500",null,"MIRRORED ROBE 2 DOOR - 2100mm WIDE x 2700mm HIGH","MIRRORED ROBE 2 DOOR","2100mm WIDE x 2700mm HIGH","420-310-100700",null,null,null,null,null,null,null,"SEMI FRAMELESS PIVOT DOOR & SHOWER SCREEN 1850x1300x1300","SHOWER SCREEN 1850x1300x1300","SEMI FRAMELESS PIVOT DOOR &","SEMI FRAMELESS PIVOT DOOR & SHOWER SCREEN 1850x1300x1300","525-500-103900",2]
["S-SITESUR-0120","SITE RE-PEG","E/O FOR LARGE SITE >1000M2",null,"ES","AS",10,"Z","EA","EA",null,null,null,null,"Y",null,{"$f":"SURVEYORS[[#This Row],[Item Code]]","v":"S-SITESUR-0120"},{"$f":"CONCATENATE(SURVEYORS[[#This Row],[Description]], \" \",#REF!)","v":{"$error":"#REF!"}},null,"105 - WHITE ANT TREATMENT",null,null,null,null,"S13R SET OUTS RE-PEG + PINS",null,"010-400-100600",null,"MIRRORED ROBE 3 DOOR - 2400mm WIDE x 2700mm HIGH","MIRRORED ROBE 3 DOOR","2400mm WIDE x 2700mm HIGH","420-310-200500"]
[null,null,null,null,null,null,null,null,null,null,null,null,null,null,null,null,null,null,null,"110 - REINFORCEMENT",null,null,null,null,"S14 SET OUTS PARAPET PEGS","(PREV. RE-PEG) + PEGS","010-400-100700",null,"MIRRORED ROBE 3 DOOR - 2700mm WIDE x 2700mm HIGH","MIRRORED ROBE 3 DOOR","2700mm WIDE x 2700mm HIGH","420-310-200600"]
[null,null,null,null,null,null,null,null,null,null,null,null,null,null,null,null,null,null,null,"115 - CONCRETOR",null,"FROM 9.2m3 UP TO 19m3","118-010-200030",null,"S15R SET OUTS RE-PEG + POOL",{"$error":"#NAME?"},"010-400-100900",null,"MIRRORED ROBE 3 DOOR - 3000mm WIDE x 2700mm HIGH","MIRRORED ROBE 3 DOOR","3000mm WIDE x 2700mm HIGH","420-310-200800"]
[null,null,null,null,null,null,null,null,null,null,null,null,null,null,null,null,null,null,null,"116 - CONCRETE SUPPLY ONLY",null,"FROM 19.2m3 UP TO 29.2m3","118-010-200040",null,"S17 RETAINING PEGS","(PREV. RE-PEG) + PEGS","010-400-101200",null,"MIRRORED ROBE 3 DOOR - 3600mm WIDE x 2700mm HIGH","MIRRORED ROBE 3 DOOR","3600mm WIDE x 2700mm HIGH","420-310-201200"]
[null,null,null,null,null,null,null,null,null,null,null,null,null,null,null,null,null,null,null,"118 - CONCRETE PUMP HIRE",null,null,null,null,"S17R RE-PEG + RETAINING + PEGS",null,"010-400-101300",null,"MIRRORED ROBE 4 DOOR - 3600mm WIDE x 2700mm HIGH","MIRRORED ROBE 4 DOOR","3600mm WIDE x 2700mm HIGH","420-310-300500"]
[null,null,null,null,null,null,null,null,null,null,null,null,null,null,null,null,null,null,null,"125 - BRICKLAYER",null,null,null,null,"SURVEYS VARIABLES PEGS / NAILS","PINS / MARKS POINTS ETC. EACH","010-500-100100",null,"MIRRORED ROBE 4 DOOR - 3900mm WIDE x 2700mm HIGH","MIRRORED ROBE 4 DOOR","3900mm WIDE x 2700mm HIGH","420-310-300600"]
[null,null,null,null,null,null,null,null,null,null,null,null,null,null,null,null,null,null,null,"126 - BRICKLAYING SCAFFOLD KIT",null,"Statics",null,null,"SURVEYS VARIABLES   OLD AREA",null,"010-500-100200",null,"WHITEBACK ROBE - 2 DOOR - 2100mm W x 2400mm H","WHITEBACK ROBE","2 DOOR - 2100mm W x 2400mm H","420-600-100700"]
[null,null,null,null,null,null,null,null,null,null,null,null,null,null,null,null,null,null,null,"128 - CRANE HIRE BRICKLAYING",null,"Coastal",false,null,"SURVEYS VARIABLES   LARGE LOTS","> 1012M2","010-500-100300",null,"BRIGHTBACK ROBE - 2 DOOR - 1800mm W x 2400mm H","BRIGHTBACK ROBE","2 DOOR - 1800mm W x 2400mm H","420-650-100200"]
[null,null,null,null,null,null,null,null,null,null,null,null,null,null,null,null,null,null,null,"129 - SITE WELDING BRICKLAYER",null,"Brick Veneer",false,null,"SURVEYS VARIABLES CALCULATIONS","BOUNDARY SURVEYS","010-500-100400",null,"BRIGHTBACK ROBE - 2 DOOR - 2400mm W x 2400mm H","BRIGHTBACK ROBE","2 DOOR - 2400mm W x 2400mm H","420-650-100300"]
[null,null,null,null,null,null,null,null,null,null,null,null,null,null,null,null,null,null,null,"130 - BRICK SUPPLY",null,"Metal Roof Cover",true,null,"SURVEYS VARIABLES CALCULATIONS","SET OUTS","010-500-100500",null,"BRIGHTBACK ROBE - 3 DOOR - 3000mm W x 2400mm H","BRIGHTBACK ROBE","3 DOOR - 3000mm W x 2400mm H","420-650-100450"]
[null,null,null,null,null,null,null,null,null,null,null,null,null,null,null,null,null,null,null,"145 - BRICKLAYING SAND",null,"Metal Frame",true,null,"SURVEYS VARIABLES","EXISTING HOUSE","010-500-100600",null," - "]
[null,null,null,null,null,null,null,null,null,null,null,null,null,null,null,null,null,null,null,"150 - CEMENT PRODUCTS",null,"Cladding",true,null,"AREA LOADING","AS PER QUOTE","010-980-100100",null," - "]
[null,null,null,null,null,null,null,null,null,null,null,null,null,null,null,null,null,null,null,"155 - BRICKLAYING HARDWARE",null,"Fully Framed",false,null,"AREA LOADING / DAWESVILLE /","PINJARRA & STH YUNDERUP","010-980-100200",null," - "]
[null,null,null,null,null,null,null,null,null,null,null,null,null,null,null,null,null,null,null,"170 - TIMBER JOINERY",null,"Tiled Roof Cover",false,null,"AREA LOADING / TWO ROCKS &","YANCHEP","010-980-100300",null," - "]
[null,null,null,null,null,null,null,null,null,null,null,null,null,null,null,null,null,null,null,"175 - STEEL JOINERY",null,"Clay Roof Cover",false,null,"AREA LOADING BULLSBROOK",null,"010-980-100400",null," - "]
[null,null,null,null,null,null,null,null,null,null,null,null,null,null,null,null,null,null,null,"180 - ALUMINIUM WINDOWS/JOINERY",null,"Timber Roof Frame",false,null,"SITE SURVEY","E/O FOR OLD AREA","S-SITESUR-0055",null," - "]
[null,null,null,null,null,null,null,null,null,null,null,null,null,null,null,null,null,null,null,"185 - STEEL LINTELS & COLUMNS",null,"Internal Painting",true,null,"SITE SURVEY","E/O FOR LARGE SITE >1000M2","S-SITESUR-0110"]
[null,null,null,null,null,null,null,null,null,null,null,null,null,null,null,null,null,null,null,"215 - SCAFFOLD",null,null,null,null,"SITE RE-PEG","E/O FOR LARGE SITE >1000M2","S-SITESUR-0120"]
[null,null,null,null,null,null,null,null,null,null,null,null,null,null,null,null,null,null,null,"245 - ROOF CARPENTRY",null,null,null,null,null,null,null,null,{"$f":"CONCATENATE(MID(AD65,7,10),\" - \",AE65)","v":"180x150x10 - GALVANISED 600g/m2"},"T-BAR 180x150x10mm","GALVANISED 600g/m2","185-200-100200"]
[null,null,null,null,null,null,null,null,null,null,null,null,null,null,null,null,null,null,null,"248 - CRANE HIRE ROOF CARPENTER",null,null,null,null,"Kitchen","Qty",null,null,{"$f":"CONCATENATE(MID(AD66,7,10),\" - \",AE66)","v":"180x200x10 - GALVANISED 600g/m2"},"T-BAR 180x200x10mm","GALVANISED 600g/m2","185-200-100300"]
[null,null,null,null,null,null,null,null,null,null,null,null,null,null,null,null,null,null,null,"249 - SITE WELDING ROOF CARPENTER",null,null,null,null,"CLARK VITAL",{"$f":"CONCATENATE(\"Z\",MID(Y67,2,2))","v":"ZLA"},1,null,{"$f":"CONCATENATE(MID(AD67,7,10),\" - \",AE67)","v":"180x250x10 - GALVANISED 600g/m2"},"T-BAR 180x250x10mm","GALVANISED 600g/m2","185-200-100400"]
[null,null,null,null,null,null,null,null,null,null,null,null,null,null,null,null,null,null,null,"250 - SAFETY GUARD RAILS",null,null,null,null,"test sink",{"$f":"CONCATENATE(\"Z\",MID(Y68,2,2))","v":"Zes"},0,null,"200x100x10 - GALVANISED 600g/m2","T-BAR 200x100x10mm","GALVANISED 600g/m2","185-200-100700"]
[null,null,null,null,null,null,null,null,null,null,null,null,null,null,null,null,null,null,null,"280 - METAL ROOF TRUSSES",null,null,null,null,null,{"$f":"CONCATENATE(\"Z\",MID(Y69,2,2))","v":"Z"},null,null,"200x150x10 - GALVANISED 600g/m2","T-BAR 200x150x10mm","GALVANISED 600g/m2","185-200-100800"]
[null,null,null,null,null,null,null,null,null,null,null,null,null,null,null,null,null,null,null,"285 - METAL FASCIA",null,null,null,null,"Laundry",null,null,null,"200x200x10 - GALVANISED 600g/m2","T-BAR 200x200x10mm","GALVANISED 600g/m2","185-200-100900"]
[null,null,null,null,null,null,null,null,null,null,null,null,null,null,null,null,null,null,null,"290 - ROOF HARDWARE",null,null,null,null,"STELL TROUGH AND BASIN",{"$f":"CONCATENATE(\"Z\",MID(Y71,2,2))","v":"ZTE"},1,null,"200x250x10 - GALVANISED 600g/m2","T-BAR 200x250x10mm","GALVANISED 600g/m2","185-200-101000"]
[null,null,null,null,null,null,null,null,null,null,null,null,null,null,null,null,null,null,null,"315 - METALDECK ROOFING",null,null,null,null,null,{"$f":"CONCATENATE(\"Z\",MID(Y72,2,2))","v":"Z"},null,null,"200x300x10 - GALVANISED 600g/m2","T-BAR 200x300x10mm","GALVANISED 600g/m2","185-200-101100"]
[null,null,null,null,null,null,null,null,null,null,null,null,null,null,null,null,null,null,null,"340 - ELECTRICAL SERVICES",null,null,null,null,null,{"$f":"CONCATENATE(\"Z\",MID(Y73,2,2))","v":"Z"},null,null,"180x250x10 - HAT GALVANISED 600g/m2","T-BAR 180x250x10 + 75x10 TOP","HAT GALVANISED 600g/m2","185-200-150100"]
[null,null,null,null,null,null,null,null,null,null,null,null,null,null,null,null,null,null,null,"342 - SMART WIRE",null,null,null,null,"Bathroom",null,null,null,"200x100x10 - GALVANISING 600 G/M2 W/ EPOXY","T-BAR 200x100x10 EPOXY","GALVANISING 600 G/M2 W/ EPOXY","185-200-200700"]
[null,null,null,null,null,null,null,null,null,null,null,null,null,null,null,null,null,null,null,"344 - RANGEHOOD INSTALLATION",null,"Cladding",null,null,"CAROMA SEMI",{"$f":"CONCATENATE(\"Z\",MID(Y75,2,2))","v":"ZAR"},1,null,"180x10/300 - TOP HAT GALVANISED 600g/m2","T-BAR 180x10/300x12mm + 50x12","TOP HAT GALVANISED 600g/m2","185-200-200750"]
[null,null,null,null,null,null,null,null,null,null,null,null,null,null,null,null,null,null,null,"371 - REFRIGERATED AIR-CONDITIONING",null,"Primeline Chamfer",1.17,null,null,{"$f":"CONCATENATE(\"Z\",MID(Y76,2,2))","v":"Z"},null,null,{"$f":"CONCATENATE(MID(AD76,7,21),\" - \",AE76)","v":"DOUBLE 270x150(x2)x10 - GALVANISED 600g/m2"},"T-BAR DOUBLE 270x150(x2)x10mm","GALVANISED 600g/m2","185-200-400200"]
[null,null,null,null,null,null,null,null,null,null,null,null,null,null,null,null,null,null,null,"395 - PLASTERING",null,"Primeline Weatherboard Heritage",1.17,null,null,{"$f":"CONCATENATE(\"Z\",MID(Y77,2,2))","v":"Z"},null,null,"180x10mm - - GALVANISED 600g/m2","T-BAR 180x10mm - 250x12mm","GALVANISED 600g/m2","185-200-500050"]
[null,null,null,null,null,null,null,null,null,null,null,null,null,null,null,null,null,null,null,"397 - PLASTERS SAND SUPPLY",null,"Primeline Weatherboard Newport",0.6,null,"Ensuite",null,null,null,"200x10mm - - GALVANISED 600g/m2","T-BAR 200x10mm - 200x12mm","GALVANISED 600g/m2","185-200-500100"]
[null,null,null,null,null,null,null,null,null,null,null,null,null,null,null,null,null,null,null,"404 - EXTERNAL DECORATIVE PANELS",null,"Primeline Weatherboard Summit",0.81,null,null,{"$f":"CONCATENATE(\"Z\",MID(Y79,2,2))","v":"Z"},null,null,"200x10mm - - GALVANISED 600g/m2","T-BAR 200x10mm - 250x12mm","GALVANISED 600g/m2","185-200-500200"]
[null,null,null,null,null,null,null,null,null,null,null,null,null,null,null,null,null,null,null,"405 - EXTERNAL RENDER",null,null,null,null,null,{"$f":"CONCATENATE(\"Z\",MID(Y80,2,2))","v":"Z"},null,null,"200x10/300 - TOP HAT GALVANISED 600g/m2","T-BAR 200x10/300x12mm + 50x25","TOP HAT GALVANISED 600g/m2","185-200-500400"]
[null,null,null,null,null,null,null,null,null,null,null,null,null,null,null,null,null,null,null,"410 - CEILINGS",null,null,null,null,null,{"$f":"CONCATENATE(\"Z\",MID(Y81,2,2))","v":"Z"},null,null,"180x250x10 - HAT GALVANISED 600g/m2","T-BAR 180x250x10 + 50x10 TOP","HAT GALVANISED 600g/m2","185-200-500700"]
[null,null,null,null,null,null,null,null,null,null,null,null,null,null,null,null,null,null,null,"415 - INSULATION",null,null,null,null,"PDR",null,null,null,"200x200x10 - HAT GALVANISED 600g/m2","T-BAR 200x200x10 + 50x10 TOP","HAT GALVANISED 600g/m2","185-200-900100"]
[null,null,null,null,null,null,null,null,null,null,null,null,null,null,null,null,null,null,null,"420 - ROBES AND LINENS",null,null,null,null,null,{"$f":"CONCATENATE(\"Z\",MID(Y83,2,2))","v":"Z"},null,null,"200x250x10 - T-BAR GALVANISED 600g/m2","T-BAR 200x250x10 + 50x10 TOP","T-BAR GALVANISED 600g/m2","185-200-900300"]
[null,null,null,null,null,null,null,null,null,null,null,null,null,null,null,null,null,null,null,"425 - CABINET MAKER",null,null,null,null,null,{"$f":"CONCATENATE(\"Z\",MID(Y84,2,2))","v":"Z"},null,null,"200x300x10 - HAT GALVANISED 600g/m2","T-BAR 200x300x10 + 50x10 TOP","HAT GALVANISED 600g/m2","185-200-900350"]
[null,null,null,null,null,null,null,null,null,null,null,null,null,null,null,null,null,null,null,"435 - FIXING CARPENTER",null,null,null,null,null,{"$f":"CONCATENATE(\"Z\",MID(Y85,2,2))","v":"Z"},null,null,"200x300x10 - HAT GALVANISED 600g/m2","T-BAR 200x300x10 + 65x10 TOP","HAT GALVANISED 600g/m2","185-200-900400"]
[null,null,null,null,null,null,null,null,null,null,null,null,null,null,null,null,null,null,null,"440 - DOOR SUPPLY",null,null,null,null,"Another Room",null,null,null,"200x10/300 - TOP HAT GALVANISED 600g/m2","T-BAR 200x10/300x16 + 50x25","TOP HAT GALVANISED 600g/m2","185-200-901000"]
[null,null,null,null,null,null,null,null,null,null,null,null,null,null,null,null,null,null,null,"445 - DOOR FURNITURE",null,null,null,null,null,{"$f":"CONCATENATE(\"Z\",MID(Y87,2,2))","v":"Z"},null,null,"180x150x10 - GALVANISED 900g/m2","T-BAR 180x150x10mm","GALVANISED 900g/m2","185-210-100200"]
[null,null,null,null,null,null,null,null,null,null,null,null,null,null,null,null,null,null,null,"450 - FIXING HARDWARE",null,null,null,null,null,{"$f":"CONCATENATE(\"Z\",MID(Y88,2,2))","v":"Z"},null,null,"180x200x10 - GALVANISED 900g/m2","T-BAR 180x200x10mm","GALVANISED 900g/m2","185-210-100300"]
[null,null,null,null,null,null,null,null,null,null,null,null,null,null,null,null,null,null,null,"460 - INTERNAL MOULDINGS & SHELVING",null,null,null,null,null,{"$f":"CONCATENATE(\"Z\",MID(Y89,2,2))","v":"Z"},null,null,"180x250x10 - GALVANISED 900g/m2","T-BAR 180x250x10mm","GALVANISED 900g/m2","185-210-100400"]
[null,null,null,null,null,null,null,null,null,null,null,null,null,null,null,null,null,null,null,"470 - STAIRS AND BALUSTRADING",null,null,null,null,null,null,null,null,"200x150x10 - GALVANISED 900g/m2","T-BAR 200x150x10mm","GALVANISED 900g/m2","185-210-100800"]
[null,null,null,null,null,null,null,null,null,null,null,null,null,null,null,null,null,null,null,"490 - PLUMBING FIXTURES",null,null,null,null,null,null,null,null,"200x200x10 - GALVANISED 900g/m2","T-BAR 200x200x10mm","GALVANISED 900g/m2","185-210-100900"]
[null,null,null,null,null,null,null,null,null,null,null,null,null,null,null,null,null,null,null,"495 - HOT WATER SYSTEMS",null,"Shoppers Entry",null,null,null,null,null,null,"200x250x10 - GALVANISED 900g/m2","T-BAR 200x250x10mm","GALVANISED 900g/m2","185-210-101000"]
[null,null,null,null,null,null,null,null,null,null,null,null,null,null,null,null,null,null,null,"505 - ELECTROLUX APPLIANCES",null,"DELUXE 3 HINGE 2040x820 LH","175-120-100700",null,null,null,null,null,"200x300x10 - GALVANISED 900g/m2","T-BAR 200x300x10mm","GALVANISED 900g/m2","185-210-101100"]
[null,null,null,null,null,null,null,null,null,null,null,null,null,null,null,null,null,null,null,"510 - CERAMIC TILER",null,"DELUXE 3 HINGE 2040x820 RH","175-120-100800",null,null,null,null,null,"180x10/300 - TOP HAT GALVANISED 900g/m2","T-BAR 180x10/300x12mm + 50x12","TOP HAT GALVANISED 900g/m2","185-210-200750"]
[null,null,null,null,null,null,null,null,null,null,null,null,null,null,null,null,null,null,null,"515 - WATERPROOFING",null,"DELUXE 3 HINGE 2040x870 RH","175-120-101300",null,"COLUMN 50x50x3mm UP TO 3m","GALVANISED 390g/m2","185-450-100100",null,{"$f":"CONCATENATE(MID(AD95,7,21),\" - \",AE95)","v":"DOUBLE 270x150(x2)x10 - GALVANISED 900g/m2"},"T-BAR DOUBLE 270x150(x2)x10mm","GALVANISED 900g/m2","185-210-400200"]
[null,null,null,null,null,null,null,null,null,null,null,null,null,null,null,null,null,null,null,"521 - CERAMIC TILE SUPPLY - MAIN FLO",null,"DELUXE 3 HINGE 2040x870 LH","175-120-101400",null,"COLUMN 50x50x4mm UP TO 3m","GALVANISED 500g/m2","185-450-100200",null,{"$f":"CONCATENATE(MID(AD96,7,21),\" - \",AE96)","v":"DOUBLE 300x150(x2)x10 - GALVANISED 900g/m2"},"T-BAR DOUBLE 300x150(x2)x10mm","GALVANISED 900g/m2","185-210-400250"]
[null,null,null,null,null,null,null,null,null,null,null,null,null,null,null,null,null,null,null,"525 - SHOWER SCREENS/MIRRORS/GLAZING",null,null,null,null,"COLUMN 50x50x5mm UP TO 3m","GALVANISED 500g/m2","185-450-100300",null,{"$f":"CONCATENATE(MID(AD97,7,21),\" - \",AE97)","v":"DOUBLE 400x150(x2)x10 - GALVANISED 600g/m2"},"T-BAR DOUBLE 400x150(x2)x10mm","GALVANISED 600g/m2","185-210-400300"]
[null,null,null,null,null,null,null,null,null,null,null,null,null,null,null,null,null,null,null,"527 - SPLASHBACKS",null,null,null,null,"COLUMN 65x65x4mm UP TO 3m","GALVANISED 500g/m2","185-350-100330",null,{"$f":"CONCATENATE(MID(AD98,7,21),\" - \",AE98)","v":"DOUBLE 400x150(x2)x10 - GALVANISED 900g/m2"},"T-BAR DOUBLE 400x150(x2)x10mm","GALVANISED 900g/m2","185-210-400400"]
[null,null,null,null,null,null,null,null,null,null,null,null,null,null,null,null,null,null,null,"535 - PAINTING",null,null,null,null,"COLUMN 89x89x3.5mm UP TO 3m","GALVANISED 500g/m2","185-350-100401",null,"180x10mm - - GALVANISED 900g/m2","T-BAR 180x10mm - 250x12mm","GALVANISED 900g/m2","185-210-500050"]
[null,null,null,null,null,null,null,null,null,null,null,null,null,null,null,null,null,null,null,"540 - GRANOLITHIC AND BITUMEN PAVING",null,null,null,null,"COLUMN 100x50x3mm UP TO 3m","GALVANISED 390g/m2","185-450-200100",null,"200x10mm - - GALVANISED 900g/m2","T-BAR 200x10mm - 250x12mm","GALVANISED 900g/m2","185-210-500200"]
[null,null,null,null,null,null,null,null,null,null,null,null,null,null,null,null,null,null,null,"542 - EXPOSED CONCRETE",null,"Standard Metal Frames",null,null,"COLUMN 100x50x4mm UP TO 3m","GALVANISED 500g/m2","185-450-200200",null,"200x10/300 - TOP HAT GALVANISED 900g/m2","T-BAR 200x10/300x12mm + 50x25","TOP HAT GALVANISED 900g/m2","185-210-500400"]
[null,null,null,null,null,null,null,null,null,null,null,null,null,null,null,null,null,null,null,"550 - BOBCAT WORK",null,"DELUXE 2 HINGES 2040x520 RH","175-100-100400",null,"COLUMN 150x50x3mm UP TO 3m","GALVANISED 390g/m2","185-450-200400",null,"180x250x10 - HAT GALVANISED 900g/m2","T-BAR 180x250x10 + 50x10 TOP","HAT GALVANISED 900g/m2","185-210-500700"]
[null,null,null,null,null,null,null,null,null,null,null,null,null,null,null,null,null,null,null,"555 - SITE LABOURER/CLEANING",null,"DELUXE 2 HINGES 2040x620 LH","175-100-100500",null,"COLUMN 150x50x4mm UP TO 3m","GALVANIZED 500g/m2","185-450-200500",null,"180x250x10 - HAT GALVANISED 900g/m2","T-BAR 180x250x10 + 75x10 TOP","HAT GALVANISED 900g/m2","185-210-600100"]
[null,null,null,null,null,null,null,null,null,null,null,null,null,null,null,null,null,null,null,"560 - BRICKPAVER",null,"DELUXE 2 HINGES 2040x620 RH","175-100-100600",null,"COLUMN 150x50x5mm UP TO 3m","GALVANISED 500g/m2","185-450-200550",null,"200x200x10 - HAT GALVANISED 900g/m2","T-BAR 200x200x10 + 50x10 TOP","HAT GALVANISED 900g/m2","185-210-900100"]
[null,null,null,null,null,null,null,null,null,null,null,null,null,null,null,null,null,null,null,"565 - PAVING SAND",null,"DELUXE 2 HINGES 2040x720 LH","175-100-100800",null,"COLUMN 50x50x3mm - 3m TO 5m","GALVANISED 390g/m2","185-450-100110",null,"200x300x10 - HAT GALVANISED 900g/m2","T-BAR 200x300x10 + 50x10 TOP","HAT GALVANISED 900g/m2","185-210-900350"]
[null,null,null,null,null,null,null,null,null,null,null,null,null,null,null,null,null,null,null,"566 - PAVING INFILL SAND",null,"DELUXE 2 HINGES 2040x720 RH","175-100-100900",null,"COLUMN 50x50x4mm 3m TO 5m","GALVANISED 500g/m2","185-450-100210",null,"200x300x10 - HAT GALVANISED 900g/m2","T-BAR 200x300x10 + 65x10 TOP","HAT GALVANISED 900g/m2","185-210-900400"]
[null,null,null,null,null,null,null,null,null,null,null,null,null,null,null,null,null,null,null,"571 - PAVING BRICKS (MIDLAND)",null,"DELUXE 2 HINGES 2040x820 LH","175-100-101200",null,"COLUMN 50x50x5mm - 3m TO 5m","GALVANISED 500g/m2","185-450-100310",null,"200x10/300 - TOP HAT GALVANISED 900g/m2","T-BAR 200x10/300x16 + 50x25","TOP HAT GALVANISED 900g/m2","185-210-901000"]
[null,null,null,null,null,null,null,null,null,null,null,null,null,null,null,null,null,null,null,"572 - PAVING BRICKS CONCRETE SUPPLY",null,"DELUXE 2 HINGES 2040x820 RH","175-100-101300",null,"COLUMN 100x50x3mm 3m TO 5m","GALVANISED 390g/m2","185-450-200110"]
[null,null,null,null,null,null,null,null,null,null,null,null,null,null,null,null,null,null,null,"575 - SITE LABOURER/CLEANING",null,"DELUXE 2 HINGES 2040x870 LH","175-100-101400",null,"COLUMN 100x50x4mm - 3m TO 5m","GALVANISED 500g/m2","185-450-200210"]
[null,null,null,null,null,null,null,null,null,null,null,null,null,null,null,null,null,null,null,"580 - GARAGE DOORS",null,"DELUXE 2 HINGES 2040x870 RH","175-100-101500",null,"COLUMN 150x50x3mm - 3m TO 5m","GALVANISED 390g/m2","185-450-200450"]
[null,null,null,null,null,null,null,null,null,null,null,null,null,null,null,null,null,null,null,"590 - HOUSE CLEANING",null,"DELUXE 2 HINGES 2040x920 LH","175-100-101600",null,"COLUMN 150x50x4mm - 3m TO 5m","GALVANISED 500g/m2","185-450-200520",null,{"$f":"CONCATENATE(AD111,\" \",AE111)","v":"RODS HIT & MISS 6mm E/O STRUCTRUAL COLUMN PER SIDE"},"RODS HIT & MISS 6mm E/O","STRUCTRUAL COLUMN PER SIDE","185-050-500100"]
[null,null,null,null,null,null,null,null,null,null,null,null,null,null,null,null,null,null,null,"625 - FLOOR COVERINGS",null,"DELUXE 2 HINGES 2040x920 RH","175-100-101700",null,"COLUMN 150x50x5mm - 3m TO 5m","GALVANISED 500g/m2","185-450-200570",null,"COLUMN 65x65x4mm UP TO 3m GALVANISED 500g/m2","COLUMN 65x65x4mm UP TO 3m","GALVANISED 500g/m2","185-350-100330"]
[null,null,null,null,null,null,null,null,null,null,null,null,null,null,null,null,null,null,null,"630 - WINDOW TREATMENTS",null,null,null,null,"COLUMN 150x50x4mm - 5m TO 5.5m","GALVANIZED 500g/m2","185-450-200525",null,"COLUMN 89x89x3.5mm UP TO 3m GALVANISED 500g/m2","COLUMN 89x89x3.5mm UP TO 3m","GALVANISED 500g/m2","185-350-100401"]
[null,null,null,null,null,null,null,null,null,null,null,null,null,null,null,null,null,null,null,"645 - OVERHEADS",null,null,null,null,"COLUMN 150x50x5mm - 5m TO 5.5m","GALVANIZED 500g/m2","185-450-200575",null,"COLUMN 65x65x4mm UP TO 3m GALVANISED 900g/m2","COLUMN 65x65x4mm UP TO 3m","GALVANISED 900g/m2","185-360-100330"]
[null,null,null,null,null,null,null,null,null,null,null,null,null,null,null,null,null,null,null,"651 - MATERIAL HANDLING",null,null,null,null,null,null,null,null,"COLUMN 89x89x3.5mm UP TO 3m GALVANISED 900g/m2","COLUMN 89x89x3.5mm UP TO 3m","GALVANISED 900g/m2","185-360-100401"]
[null,null,null,null,null,null,null,null,null,null,null,null,null,null,null,null,null,null,null,"652 - FOOTPATH & KERB REPAIR",null,null,null,null,"SHS 50x50x3mm","GAVANISED 390g/m2","185-350-100100",null,"COLUMN 50x50x3mm UP TO 3m GALVANISED 390g/m2","COLUMN 50x50x3mm UP TO 3m","GALVANISED 390g/m2","185-450-100100"]
[null,null,null,null,null,null,null,null,null,null,null,null,null,null,null,null,null,null,null,"665 - MAINTENANCE",null,null,null,null,"SHS 50x50x4mm","GALVANISED 500g/m2","185-350-100200",null,"COLUMN 50x50x3mm - 3m TO 5m GALVANISED 390g/m2","COLUMN 50x50x3mm - 3m TO 5m","GALVANISED 390g/m2","185-450-100110"]
[null,null,null,null,null,null,null,null,null,null,null,null,null,null,null,null,null,null,null,"999 - SUPERVISOR NOTES",null,"WC Metal frames",null,null,"SHS 50x50x5mm","GALVANISED 500g/m2","185-350-100300",null,"COLUMN 50x50x4mm UP TO 3m GALVANISED 500g/m2","COLUMN 50x50x4mm UP TO 3m","GALVANISED 500g/m2","185-450-100200"]
[null,null,null,null,null,null,null,null,null,null,null,null,null,null,null,null,null,null,null,null,null,"DELUXE 2 HINGES 2040x620 LH WC","175-110-100300",null,"RHS 150x50x3mm","GALVANISED 390g/m2","185-350-200490",null,"COLUMN 50x50x4mm 3m TO 5m GALVANISED 500g/m2","COLUMN 50x50x4mm 3m TO 5m","GALVANISED 500g/m2","185-450-100210"]
[null,null,null,null,null,null,null,null,null,null,null,null,null,null,null,null,null,null,null,null,null,"DELUXE 2 HINGES 2040x620 RH WC","175-110-100400",null,"RHS 150x50x4mm","GALVANISED 500g/m2","185-350-200500",null,"COLUMN 50x50x5mm UP TO 3m GALVANISED 500g/m2","COLUMN 50x50x5mm UP TO 3m","GALVANISED 500g/m2","185-450-100300"]
[null,null,null,null,null,null,null,null,null,null,null,null,null,null,null,null,null,null,null,null,null,"DELUXE 2 HINGES 2040x720 LH WC","175-110-100500",null,"RHS 150x50x5mm","GALVANISED 500g/m2","185-350-200600",null,"COLUMN 50x50x5mm - 3m TO 5m GALVANISED 500g/m2","COLUMN 50x50x5mm - 3m TO 5m","GALVANISED 500g/m2","185-450-100310"]
[null,null,null,null,null,null,null,null,null,null,null,null,null,null,null,null,null,null,null,null,null,"DELUXE 2 HINGES 2040x720 RH WC","175-110-100600",null,null,null,null,null,"COLUMN 100x50x3mm UP TO 3m GALVANISED 390g/m2","COLUMN 100x50x3mm UP TO 3m","GALVANISED 390g/m2","185-450-200100"]
[null,null,null,null,null,null,null,null,null,null,null,null,null,null,null,null,null,null,null,null,null,"DELUXE 2 HINGES 2040x820 LH WC","175-110-100700",null,null,null,null,null,"COLUMN 100x50x3mm 3m TO 5m GALVANISED 390g/m2","COLUMN 100x50x3mm 3m TO 5m","GALVANISED 390g/m2","185-450-200110"]
[null,null,null,null,null,null,null,null,null,null,null,null,null,null,null,null,null,null,null,null,null,"DELUXE 2 HINGES 2040x820 RH WC","175-110-100800",null,null,null,null,null,"COLUMN 100x50x4mm UP TO 3m GALVANISED 500g/m2","COLUMN 100x50x4mm UP TO 3m","GALVANISED 500g/m2","185-450-200200"]
[null,null,null,null,null,null,null,null,null,null,null,null,null,null,null,null,null,null,null,null,null,"DELUXE 2 HINGES 2040x870 LH WC","175-110-100900",null,null,null,null,null,"COLUMN 100x50x4mm - 3m TO 5m GALVANISED 500g/m2","COLUMN 100x50x4mm - 3m TO 5m","GALVANISED 500g/m2","185-450-200210"]
[null,null,null,null,null,null,null,null,null,null,null,null,null,null,null,null,null,null,null,null,null,"DELUXE 2 HINGES 2040x870 RH WC","175-110-100950",null,null,null,null,null,"COLUMN 150x50x3mm UP TO 3m GALVANISED 390g/m2","COLUMN 150x50x3mm UP TO 3m","GALVANISED 390g/m2","185-450-200400"]
[null,null,null,null,null,null,null,null,null,null,null,null,null,null,null,null,null,null,null,null,null,null,null,null,"COLUMN 50x50x3mm UP TO 3m","GALVANISED 900g/m2","185-460-100100",null,"COLUMN 150x50x3mm - 3m TO 5m GALVANISED 390g/m2","COLUMN 150x50x3mm - 3m TO 5m","GALVANISED 390g/m2","185-450-200450"]
[null,null,null,null,null,null,null,null,null,null,null,null,null,null,null,null,null,null,null,null,null,null,null,null,"COLUMN 50x50x4mm UP TO 3m","GALVANISED 900g/m2","185-460-100200",null,"COLUMN 150x50x4mm UP TO 3m GALVANIZED 500g/m2","COLUMN 150x50x4mm UP TO 3m","GALVANIZED 500g/m2","185-450-200500"]
[null,null,null,null,null,null,null,null,null,null,null,null,null,null,null,null,null,null,null,null,null,null,null,null,"COLUMN 50x50x5mm UP TO 3m","GALVANISED 900g/m2","185-460-100300",null,"COLUMN 150x50x4mm - 3m TO 5m GALVANISED 500g/m2","COLUMN 150x50x4mm - 3m TO 5m","GALVANISED 500g/m2","185-450-200520"]
[null,null,null,null,null,null,null,null,null,null,null,null,null,null,null,null,null,null,null,"Shires",null,null,null,null,"COLUMN 65x65x4mm UP TO 3m","GALVANISED 900g/m2","185-360-100330",null,"COLUMN 150x50x4mm - 5m TO 5.5m GALVANIZED 500g/m2","COLUMN 150x50x4mm - 5m TO 5.5m","GALVANIZED 500g/m2","185-450-200525"]
[null,null,null,null,null,null,null,null,null,null,null,null,null,null,null,null,null,null,null,"ARMADALE",null,"CROSBY  ($25.95)",25.95,null,"COLUMN 89x89x3.5mm UP TO 3m","GALVANISED 900g/m2","185-360-100401",null,"COLUMN 150x50x5mm UP TO 3m GALVANISED 500g/m2","COLUMN 150x50x5mm UP TO 3m","GALVANISED 500g/m2","185-450-200550"]
[null,null,null,null,null,null,null,null,null,null,null,null,null,null,null,null,null,null,null,"BASSENDEAN",null,null,null,null,"COLUMN 100x50x3mm UP TO 3m","GALVANISED 900g/m2","185-460-200100",null,"COLUMN 150x50x5mm - 3m TO 5m GALVANISED 500g/m2","COLUMN 150x50x5mm - 3m TO 5m","GALVANISED 500g/m2","185-450-200570"]
[null,null,null,null,null,null,null,null,null,null,null,null,null,null,null,null,null,null,null,"BAYSWATER",null,null,null,null,"COLUMN 100x50x4mm UP TO 3m","GALVANISED 900g/m2","185-460-200200",null,"COLUMN 150x50x5mm - 5m TO 5.5m GALVANIZED 500g/m2","COLUMN 150x50x5mm - 5m TO 5.5m","GALVANIZED 500g/m2","185-450-200575"]
[null,null,null,null,null,null,null,null,null,null,null,null,null,null,null,null,null,null,null,"BELMONT",null,null,null,null,"COLUMN 150x50x3mm UP TO 3m","GALVANISED 900g/m2","185-460-200400",null,"COLUMN 50x50x3mm UP TO 3m GALVANISED 900g/m2","COLUMN 50x50x3mm UP TO 3m","GALVANISED 900g/m2","185-460-100100"]
[null,null,null,null,null,null,null,null,null,null,null,null,null,null,null,null,null,null,null,"CAMBRIDGE",null,null,null,null,"COLUMN 150x50x4mm UP TO 3m","GALVANISED 900g/m2","185-460-200500",null,"COLUMN 50x50x3mm - 3m TO 5m GALVANISED 900g/m2","COLUMN 50x50x3mm - 3m TO 5m","GALVANISED 900g/m2","185-460-100110"]
[null,null,null,null,null,null,null,null,null,null,null,null,null,null,null,null,null,null,null,"CANNING",null,null,null,null,"COLUMN 150x50x5mm UP TO 3m","GALVANISED 900g/m2","185-460-200550",null,"COLUMN 50x50x4mm UP TO 3m GALVANISED 900g/m2","COLUMN 50x50x4mm UP TO 3m","GALVANISED 900g/m2","185-460-100200"]
[null,null,null,null,null,null,null,null,null,null,null,null,null,null,null,null,null,null,null,"COCKBURN",null,"TILES EXPO",null,null,"COLUMN 50x50x3mm - 3m TO 5m","GALVANISED 900g/m2","185-460-100110",null,"COLUMN 50x50x4mm 3m TO 5m GALVANISED 900g/m2","COLUMN 50x50x4mm 3m TO 5m","GALVANISED 900g/m2","185-460-100210"]
[null,null,null,null,null,null,null,null,null,null,null,null,null,null,null,null,null,null,null,"FREMANTLE",null,null,null,null,"COLUMN 50x50x4mm 3m TO 5m","GALVANISED 900g/m2","185-460-100210",null,"COLUMN 50x50x5mm UP TO 3m GALVANISED 900g/m2","COLUMN 50x50x5mm UP TO 3m","GALVANISED 900g/m2","185-460-100300"]
[null,null,null,null,null,null,null,null,null,null,null,null,null,null,null,null,null,null,null,"EAST FREMANTLE",null,null,null,null,"COLUMN 50x50x5mm - 3m TO 5m","GALVANISED 900g/m2","185-460-100310",null,"COLUMN 50x50x5mm - 3m TO 5m GALVANISED 900g/m2","COLUMN 50x50x5mm - 3m TO 5m","GALVANISED 900g/m2","185-460-100310"]
[null,null,null,null,null,null,null,null,null,null,null,null,null,null,null,null,null,null,null,"GOSNELLS",null,null,null,null,"COLUMN 100x50x3mm - 3m TO 5m","GALVANISED 900g/m2","185-460-200110",null,"COLUMN 100x50x3mm UP TO 3m GALVANISED 900g/m2","COLUMN 100x50x3mm UP TO 3m","GALVANISED 900g/m2","185-460-200100"]
[null,null,null,null,null,null,null,null,null,null,null,null,null,null,null,null,null,null,null,"JOONDALUP",null,null,null,null,"COLUMN 100x50x4mm - 3m TO 5m","GALVANISED 900g/m2","185-460-200210",null,"COLUMN 100x50x3mm - 3m TO 5m GALVANISED 900g/m2","COLUMN 100x50x3mm - 3m TO 5m","GALVANISED 900g/m2","185-460-200110"]
[null,null,null,null,null,null,null,null,null,null,null,null,null,null,null,null,null,null,null,"KALAMUNDA",null,null,null,null,"COLUMN 150x50x3mm - 3m TO 5m","GALVANISED 900g/m2","185-460-200450",null,"COLUMN 100x50x4mm UP TO 3m GALVANISED 900g/m2","COLUMN 100x50x4mm UP TO 3m","GALVANISED 900g/m2","185-460-200200"]
[null,null,null,null,null,null,null,null,null,null,null,null,null,null,null,null,null,null,null,"KWINANA",null,null,null,null,"COLUMN 150x50x4mm - 3m TO 5m","GALVANISED 900g/m2","185-460-200520",null,"COLUMN 100x50x4mm - 3m TO 5m GALVANISED 900g/m2","COLUMN 100x50x4mm - 3m TO 5m","GALVANISED 900g/m2","185-460-200210"]
[null,null,null,null,null,null,null,null,null,null,null,null,null,null,null,null,null,null,null,"MANDURAH",null,null,null,null,"COLUMN 150x50x5mm - 3m TO 5m","GALVANISED 900g/m2","185-460-200570",null,"COLUMN 150x50x3mm UP TO 3m GALVANISED 900g/m2","COLUMN 150x50x3mm UP TO 3m","GALVANISED 900g/m2","185-460-200400"]
[null,null,null,null,null,null,null,null,null,null,null,null,null,null,null,null,null,null,null,"MELVILLE",null,null,null,null,"COLUMN 150x50x4mm - 5m TO 5.5m","GALVANISED 900g/m2","185-460-200525",null,"COLUMN 150x50x3mm - 3m TO 5m GALVANISED 900g/m2","COLUMN 150x50x3mm - 3m TO 5m","GALVANISED 900g/m2","185-460-200450"]
[null,null,null,null,null,null,null,null,null,null,null,null,null,null,null,null,null,null,null,"MUNDARING",null,null,null,null,"COLUMN 150x50x5mm - 5m TO 5.5m","GALVANISED 900g/m2","185-460-200575",null,"COLUMN 150x50x4mm UP TO 3m GALVANISED 900g/m2","COLUMN 150x50x4mm UP TO 3m","GALVANISED 900g/m2","185-460-200500"]
[null,null,null,null,null,null,null,null,null,null,null,null,null,null,null,null,null,null,null,"MURRAY",null,null,null,null,null,null,null,null,"COLUMN 150x50x4mm - 3m TO 5m GALVANISED 900g/m2","COLUMN 150x50x4mm - 3m TO 5m","GALVANISED 900g/m2","185-460-200520"]
[null,null,null,null,null,null,null,null,null,null,null,null,null,null,null,null,null,null,null,"NEDLANDS",null,null,null,null,"SHS 50x50x3mm","GAVANISED 900g/m2","185-360-100100",null,"COLUMN 150x50x4mm - 5m TO 5.5m GALVANISED 900g/m2","COLUMN 150x50x4mm - 5m TO 5.5m","GALVANISED 900g/m2","185-460-200525"]
[null,null,null,null,null,null,null,null,null,null,null,null,null,null,null,null,null,null,null,"ROCKINGHAM",null,null,null,null,"SHS 50x50x4mm","GALVANISED 900g/m2","185-360-100200",null,"COLUMN 150x50x5mm UP TO 3m GALVANISED 900g/m2","COLUMN 150x50x5mm UP TO 3m","GALVANISED 900g/m2","185-460-200550"]
[null,null,null,null,null,null,null,null,null,null,null,null,null,null,null,null,null,null,null,"SERPENTINE/JARRAHDALE",null,null,null,null,"SHS 50x50x5mm","GALVANISED 900g/m2","185-360-100300",null,"COLUMN 150x50x5mm - 3m TO 5m GALVANISED 900g/m2","COLUMN 150x50x5mm - 3m TO 5m","GALVANISED 900g/m2","185-460-200570"]
[null,null,null,null,null,null,null,null,null,null,null,null,null,null,null,null,null,null,null,"SOUTH PERTH",null,"SEMI FRAMELESS SINGLE SIDED",null,null,"RHS 150x50x3mm","GALVANISED 900g/m2","185-360-200490",null,"COLUMN 150x50x5mm - 5m TO 5.5m GALVANISED 900g/m2","COLUMN 150x50x5mm - 5m TO 5.5m","GALVANISED 900g/m2","185-460-200575"]
[null,null,null,null,null,null,null,null,null,null,null,null,null,null,null,null,null,null,null,"STIRLING",null,"SHOWER SCREEN 1850x800","525-500-100100",null,"RHS 150x50x4mm","GALVANISED 900g/m2","185-360-200500"]
[null,null,null,null,null,null,null,null,null,null,null,null,null,null,null,null,null,null,null,"SWAN",null,"SHOWER SCREEN 1850x900","525-500-100200",null,"RHS 150x50x5mm","GALVANISED 900g/m2","185-360-200600"]
[null,null,null,null,null,null,null,null,null,null,null,null,null,null,null,null,null,null,null,"VICTORIA PARK",null,"SHOWER SCREEN 1850x1000","525-500-100300",null,null,null,null,null,"SLIMLINE 3000 CAVITY UNIT","2040x620mm TO 820mm DOOR",{"$f":"CONCATENATE(AC154,\" - \",AD154)","v":"SLIMLINE 3000 CAVITY UNIT - 2040x620mm TO 820mm DOOR"},"440-200-100200"]
[null,null,null,null,null,null,null,null,null,null,null,null,null,null,null,null,null,null,null,"VINCENT",null,"SHOWER SCREEN 1850x1100","525-500-100400",null,null,null,null,null,"SLIMLINE 3000 CAVITY UNIT","FOR 2040x870mm DOOR","SLIMLINE 3000 CAVITY UNIT - FOR 2040x870mm DOOR","440-200-100500"]
[null,null,null,null,null,null,null,null,null,null,null,null,null,null,null,null,null,null,null,"WANNEROO",null,"SHOWER SCREEN 1850x1200","525-500-100500",null,null,null,null,null,"SLIMLINE 3000 CAVITY UNIT","2040x920mm DOOR","SLIMLINE 3000 CAVITY UNIT - 2040x920mm DOOR","440-200-100550"]
[null,null,null,null,null,null,null,null,null,null,null,null,null,null,null,null,null,null,null,null,null,"SHOWER SCREEN 1850x1300","525-500-100600",null,"BASE PLATE WITH PIN - LOOSE","GALVANISED 600g/m2","185-650-400300",null,"PLATINUM 3000 CAVITY UNIT","2040x620 TO 820mm DOOR","PLATINUM 3000 CAVITY UNIT - 2040x620 TO 820mm DOOR","440-200-500100"]
[null,null,null,null,null,null,null,null,null,null,null,null,null,null,null,null,null,null,null,null,null,"SHOWER SCREEN 1850x1400","525-500-100700",null,"BASE PLATE WITH PIN - LOOSE","GALVANISED 900g/m2","185-655-400300",null,"PLATINUM 3000 CAVITY UNIT","2040x820mm DOUBLE DOORS","PLATINUM 3000 CAVITY UNIT - 2040x820mm DOUBLE DOORS","440-200-500150"]
[null,null,null,null,null,null,null,null,null,null,null,null,null,null,null,null,null,null,null,null,null,"SHOWER SCREEN 1850x1500","525-500-100800",null,null,null,null,null,"PLATINUM 6000 CAVITY UNIT","2340x820 DOOR","PLATINUM 6000 CAVITY UNIT - 2340x820 DOOR","440-200-500200"]
[null,null,null,null,null,null,null,null,null,null,null,null,null,null,null,null,null,null,null,null,null,"SHOWER SCREEN 1850x1600","525-500-100900",null,null,null,null,null,"PLATINUM 6000 CAVITY UNIT","2340x1020 TO 1200mm DOOR","PLATINUM 6000 CAVITY UNIT - 2340x1020 TO 1200mm DOOR","440-200-500300"]
[null,null,null,null,null,null,null,null,null,null,null,null,null,null,null,null,null,null,null,null,null,"SHOWER SCREEN 1850x1700","525-500-101000",null,null,null,null,null,"PLATINUM 6000 CAVITY UNIT","2040x620 TO 820mm DOOR","PLATINUM 6000 CAVITY UNIT - 2040x620 TO 820mm DOOR","440-200-500400"]
[null,null,null,null,null,null,null,null,null,null,null,null,null,null,null,null,null,null,null,null,null,"SHOWER SCREEN 1850x1800","525-500-101100",null,"SINGLE ENTRY FRAME - 820","ALUMINIUM THRESHOLD (BAL 19)","170-100-300200",null,"PLATINUM 6000 CAVITY UNIT","2040x820mm DOUBLE DOORS","PLATINUM 6000 CAVITY UNIT - 2040x820mm DOUBLE DOORS","440-200-500600"]
[null,null,null,null,null,null,null,null,null,null,null,null,null,null,null,null,null,null,null,null,null,"SHOWER SCREEN 1850x1900","525-500-101200",null,"SINGLE ENTRY FRAME - 920","ALUMINIUM THRESHOLD (BAL 19)","170-100-300400",null,"PLATINUM 6000 CAVITY UNIT","2040x1200mm DOOR","PLATINUM 6000 CAVITY UNIT - 2040x1200mm DOOR","440-200-500800"]
[null,null,null,null,null,null,null,null,null,null,null,null,null,null,null,null,null,null,null,null,null,"SHOWER SCREEN 1850x2000","525-500-101300",null,"SINGLE ENTRY FRAME - 1200","ALUMINIUM THRESHOLD (BAL 19)","170-100-300500"]
[null,null,null,null,null,null,null,null,null,null,null,null,null,null,null,null,null,null,null,null,null,null,null,null,"SINGLE ENTRY FRAME - 1020","ALUMINIUM THRESHOLD (BAL 19)","170-400-500840"]
[]
[null,null,null,null,null,null,null,null,null,null,null,null,null,null,null,null,null,null,null,null,null,null,null,null,"VERSILUX SHEETS"]
[null,null,null,null,null,null,null,null,null,null,null,null,null,null,null,null,null,null,null,null,null,"SEMI FRAMED 2 SIDED",null,null,null,"290-250-200100",{"$f":"[2]Hardware!G20*[2]Hardware!I20/1000000","v":{"$error":"#REF!"}}]
[null,null,null,null,null,null,null,null,null,null,null,null,null,null,null,null,null,null,null,null,null,"SHOWER SCREEN 1850x900x800","525-500-102050",null,null,"290-250-200200",{"$f":"[2]Hardware!G21*[2]Hardware!I21/1000000","v":{"$error":"#REF!"}}]
[null,null,null,null,null,null,null,null,null,null,null,null,null,null,null,null,null,null,null,null,null,"SHOWER SCREEN 1850x900x900","525-500-102100",null,null,"290-250-200300",{"$f":"[2]Hardware!G22*[2]Hardware!I22/1000000","v":{"$error":"#REF!"}},null,"WESTINGHOUSE WHG953SB","GAS COOKTOP",{"$f":"CONCATENATE(AC170,\" - \",AD170)","v":"WESTINGHOUSE WHG953SB - GAS COOKTOP"},"505-200-200100"]
[null,null,null,null,null,null,null,null,null,null,null,null,null,null,null,null,null,null,null,null,null,"SHOWER SCREEN 1850x900x1000","525-500-102200",null,null,"290-250-200400",{"$f":"[2]Hardware!G23*[2]Hardware!I23/1000000","v":{"$error":"#REF!"}},null,"WESTINGHOUSE WHG954SC","GAS COOKTOP","WESTINGHOUSE WHG954SC - GAS COOKTOP","505-200-200140"]
[null,null,null,null,null,null,null,null,null,null,null,null,null,null,null,null,null,null,null,null,null,"SHOWER SCREEN 1850x900x1100","525-500-102300",null,null,"290-250-200500",{"$f":"[2]Hardware!G24*[2]Hardware!I24/1000000","v":{"$error":"#REF!"}},null,"WESTINGHOUSE WHG958SC","GAS COOKTOP","WESTINGHOUSE WHG958SC - GAS COOKTOP","505-200-200150"]
[null,null,null,null,null,null,null,null,null,null,null,null,null,null,null,null,null,null,null,null,null,"SHOWER SCREEN 1850x900x1200","525-500-102400",null,null,null,null,null,"WESTINGHOUSE WHG955SB","GAS COOKTOP","WESTINGHOUSE WHG955SB - GAS COOKTOP","505-200-200180"]
[null,null,null,null,null,null,null,null,null,null,null,null,null,null,null,null,null,null,null,null,null,"SHOWER SCREEN 1850x900x1300","525-500-102500",null,"HARDIFLEX SHEETS",null,null,null,"WESTINGHOUSE WHG643SB","GAS COOKTOP","WESTINGHOUSE WHG643SB - GAS COOKTOP","505-200-200230"]
[null,null,null,null,null,null,null,null,null,null,null,null,null,null,null,null,null,null,null,null,null,"SHOWER SCREEN 1850x900x1400","525-500-102600",null,null,"290-200-100100",{"$f":"[2]Hardware!G27*[2]Hardware!I27/1000000","v":{"$error":"#REF!"}},null,"WESTINGHOUSE WHG645SB","GAS COOKTOP","WESTINGHOUSE WHG645SB - GAS COOKTOP","505-200-200250"]
[null,null,null,null,null,null,null,null,null,null,null,null,null,null,null,null,null,null,null,null,null,"SHOWER SCREEN 1850x900x1500","525-500-102700",null,null,"290-200-100150",{"$f":"[2]Hardware!G28*[2]Hardware!I28/1000000","v":{"$error":"#REF!"}},null,"WESTINGHOUSE WHG644SC","GAS COOKTOP","WESTINGHOUSE WHG644SC - GAS COOKTOP","505-200-200750"]
[null,null,null,null,null,null,null,null,null,null,null,null,null,null,null,null,null,null,null,null,null,"SHOWER SCREEN 1850x1000x1000","525-500-103600",null,null,"290-200-100200",{"$f":"[2]Hardware!G29*[2]Hardware!I29/1000000","v":{"$error":"#REF!"}},null,"INALTO ICG6F","GAS COOKTOP","INALTO ICG6F - GAS COOKTOP","505-200-600050"]
[null,null,null,null,null,null,null,null,null,null,null,null,null,null,null,null,null,null,null,null,null,"SHOWER SCREEN 1850x1100x1100","525-500-103700",null,null,"290-200-100250",{"$f":"[2]Hardware!G30*[2]Hardware!I30/1000000","v":{"$error":"#REF!"}},null,"INALTO ICG905W","GAS COOKTOP","INALTO ICG905W - GAS COOKTOP","505-200-600100"]
[null,null,null,null,null,null,null,null,null,null,null,null,null,null,null,null,null,null,null,null,null,"SHOWER SCREEN 1850x1200x1200","525-500-103800",null,null,"290-200-100300",{"$f":"[2]Hardware!G31*[2]Hardware!I31/1000000","v":{"$error":"#REF!"}},null,"WESTINGHOUSE WHI945BC","INDUCTION ELECTRIC COOKTOP","WESTINGHOUSE WHI945BC - INDUCTION ELECTRIC COOKTOP","505-200-200800"]
[null,null,null,null,null,null,null,null,null,null,null,null,null,null,null,null,null,null,null,null,null,"SHOWER SCREEN 1850x1300x1300","525-500-103900",null,null,"290-200-100350",{"$f":"[2]Hardware!G32*[2]Hardware!I32/1000000","v":{"$error":"#REF!"}},null,"WESTINGHOUSE WHI643BC","INDUCTION ELECTRIC COOKTOP","WESTINGHOUSE WHI643BC - INDUCTION ELECTRIC COOKTOP","505-200-201150"]
[null,null,null,null,null,null,null,null,null,null,null,null,null,null,null,null,null,null,null,null,null,null,null,null,null,"290-200-100400",{"$f":"[2]Hardware!G33*[2]Hardware!I33/1000000","v":{"$error":"#REF!"}},null,"WESTINGHOUSE WHC642BC","CERAMIC ELECTRIC COOKTOP","WESTINGHOUSE WHC642BC - CERAMIC ELECTRIC COOKTOP","505-200-201100"]
[null,null,null,null,null,null,null,null,null,null,null,null,null,null,null,null,null,null,null,null,null,null,null,null,null,"290-200-100450",{"$f":"[2]Hardware!G34*[2]Hardware!I34/1000000","v":{"$error":"#REF!"}},null,"WESTINGHOUSE WHC942BC","CERAMIC ELECTRIC COOKTOP","WESTINGHOUSE WHC942BC - CERAMIC ELECTRIC COOKTOP","505-200-201400"]
[null,null,null,null,null,null,null,null,null,null,null,null,null,null,null,null,null,null,null,null,null,null,null,null,null,"290-200-100500",{"$f":"[2]Hardware!G35*[2]Hardware!I35/1000000","v":{"$error":"#REF!"}}]
[null,null,null,null,null,null,null,null,null,null,null,null,null,null,null,null,null,null,null,null,null,null,null,null,null,"290-200-100550",{"$f":"[2]Hardware!G36*[2]Hardware!I36/1000000","v":{"$error":"#REF!"}},null,"WESTINGHOUSE WRC614SC","CANOPY RANGEHOOD",{"$f":"CONCATENATE(AC184,\" - \",AD184)","v":"WESTINGHOUSE WRC614SC - CANOPY RANGEHOOD"},"505-300-100900"]
[null,null,null,null,null,null,null,null,null,null,null,null,null,null,null,null,null,null,null,null,null,"GARAGE DOORS",null,null,null,"290-200-100600",{"$f":"[2]Hardware!G37*[2]Hardware!I37/1000000","v":{"$error":"#REF!"}},null,"WESTINGHOUSE WRC914SC","CANOPY RANGEHOOD","WESTINGHOUSE WRC914SC - CANOPY RANGEHOOD","505-300-101000"]
[null,null,null,null,null,null,null,null,null,null,null,null,null,null,null,null,null,null,null,null,null,"OPENING: 2169 HIGH x 2380 WIDE","580-100-100100",null,null,null,null,null,"WESTINGHOUSE WRF900CS","CANOPY RANGEHOOD","WESTINGHOUSE WRF900CS - CANOPY RANGEHOOD","505-300-101100"]
[null,null,null,null,null,null,null,null,null,null,null,null,null,null,null,null,null,null,null,null,null,"OPENING: 2169 HIGH x 2930 WIDE","580-100-100200",null,null,null,null,null,"WESTINGHOUSE WRR904SB","SLIDE OUT RANGEHOOD","WESTINGHOUSE WRR904SB - SLIDE OUT RANGEHOOD","505-300-101200"]
[null,null,null,null,null,null,null,null,null,null,null,null,null,null,null,null,null,null,null,null,null,"OPENING: 2169 HIGH x 3430 WIDE","580-100-100300",null,null,null,null,null,"WESTINGHOUSE WRR604SB","SLIDE OUT RANGEHOOD","WESTINGHOUSE WRR604SB - SLIDE OUT RANGEHOOD","505-300-100400"]
[null,null,null,null,null,null,null,null,null,null,null,null,null,null,null,null,null,null,null,null,null,"OPENING: 2169 HIGH x 5080 WIDE","580-100-100700",null,null,null,null,null,"ELECTROLUX ERI712SA UNBRANDED","INTERGRATED RANGEHOOD","ELECTROLUX ERI712SA UNBRANDED - INTERGRATED RANGEHOOD","505-300-400200"]
[null,null,null,null,null,null,null,null,null,null,null,null,null,null,null,null,null,null,null,null,null,"OPENING: 2169 HIGH x 5495 WIDE","580-100-100800",null,null,null,null,null,"INALTO ARC60BS","CANOPY RANGEHOOD","INALTO ARC60BS - CANOPY RANGEHOOD","505-300-600050"]
[null,null,null,null,null,null,null,null,null,null,null,null,null,null,null,null,null,null,null,null,null,"OPENING: 2169 HIGH x 5890 WIDE","580-100-100900",null,null,null,null,null,"INALTO IRC90S - AIRVOLUTION","CANOPY RANGEHOOD","INALTO IRC90S - AIRVOLUTION - CANOPY RANGEHOOD","505-300-600100"]
[null,null,null,null,null,null,null,null,null,null,null,null,null,null,null,null,null,null,null,null,null,"OPENING: 2169 HIGH x 6130 WIDE","580-100-101000",null,null,null,null,null,"INALTO ARC90BS","CANOPY RANGEHOOD","INALTO ARC90BS - CANOPY RANGEHOOD","505-300-600120"]
[null,null,null,null,null,null,null,null,null,null,null,null,null,null,null,null,null,null,null,null,null,"OPENING: 2276 HIGH x 2380 WIDE","580-100-101100",null,null,null,null,null,"INALTO AIH90W","INTERGRATED CANOPY RANGEHOOD","INALTO AIH90W - INTERGRATED CANOPY RANGEHOOD","505-300-200600"]
[null,null,null,null,null,null,null,null,null,null,null,null,null,null,null,null,null,null,null,null,null,"OPENING: 2276 HIGH x 2930 WIDE","580-100-101200",null,null,null,null,null,"INALTO ARCIS90TPS","ISLAND CANOPY RANGEHOOD","INALTO ARCIS90TPS - ISLAND CANOPY RANGEHOOD","505-300-600300"]
[null,null,null,null,null,null,null,null,null,null,null,null,null,null,null,null,null,null,null,null,null,"OPENING: 2276 HIGH x 3430 WIDE","580-100-101300",null,null,null,null,null,"INALTO ASL60DR2S","SLIDE-OUT RANGEHOOD","INALTO ASL60DR2S - SLIDE-OUT RANGEHOOD","505-300-600500"]
[null,null,null,null,null,null,null,null,null,null,null,null,null,null,null,null,null,null,null,null,null,"OPENING: 2276 HIGH x 4810 WIDE","580-100-101600"]
[null,null,null,null,null,null,null,null,null,null,null,null,null,null,null,null,null,null,null,null,null,"OPENING: 2276 HIGH x 5080 WIDE","580-100-101700",null,null,null,null,null,"WESTINGHOUSE WVE615SCA","ELECTRIC WALL OVEN",{"$f":"CONCATENATE(AC197,\" - \",AD197)","v":"WESTINGHOUSE WVE615SCA - ELECTRIC WALL OVEN"},"505-400-100200"]
[null,null,null,null,null,null,null,null,null,null,null,null,null,null,null,null,null,null,null,null,null,"OPENING: 2276 HIGH x 5495 WIDE","580-100-101800",null,null,null,null,null,"WESTINGHOUSE WVE915SCA","ELECTRIC OVEN","WESTINGHOUSE WVE915SCA - ELECTRIC OVEN","505-400-101000"]
[null,null,null,null,null,null,null,null,null,null,null,null,null,null,null,null,null,null,null,null,null,"OPENING: 2276 HIGH x 5890 WIDE","580-100-101900",null,null,null,null,null,"WESTINGHOUSE WVE915SC","ELECTRIC OVEN","WESTINGHOUSE WVE915SC - ELECTRIC OVEN","505-400-101100"]
[null,null,null,null,null,null,null,null,null,null,null,null,null,null,null,null,null,null,null,null,null,"OPENING: 2276 HIGH x 6130 WIDE","580-100-102000",null,null,null,null,null,"INALTO IO64M.1","ELECTRIC OVEN","INALTO IO64M.1 - ELECTRIC OVEN","505-400-600100"]
[null,null,null,null,null,null,null,null,null,null,null,null,null,null,null,null,null,null,null,null,null,"OPENING: 2381 HIGH x 2930 WIDE","580-100-102200",null,null,null,null,null,"INALTO IO60XL5T","ELECTRIC OVEN","INALTO IO60XL5T - ELECTRIC OVEN","505-400-600200"]
[null,null,null,null,null,null,null,null,null,null,null,null,null,null,null,null,null,null,null,null,null,"OPENING: 2381 HIGH x 3430 WIDE","580-100-102300",null,null,null,null,null,"INALTO IO9060XL9T","ELECTRIC OVEN","INALTO IO9060XL9T - ELECTRIC OVEN","505-400-600300"]
[null,null,null,null,null,null,null,null,null,null,null,null,null,null,null,null,null,null,null,null,null,"OPENING: 2381 HIGH x 5080 WIDE","580-100-102700"]
[null,null,null,null,null,null,null,null,null,null,null,null,null,null,null,null,null,null,null,null,null,"OPENING: 2381 HIGH x 5495 WIDE","580-100-102800",null,null,null,null,null,"SINKS"]
[null,null,null,null,null,null,null,null,null,null,null,null,null,null,null,null,null,null,null,null,null,"OPENING: 2381 HIGH x 5890 WIDE","580-100-102900",null,null,null,null,null,"CLARK VITAL 1129 DOUBLE END","BOWL SINK 1180mm",{"$f":"CONCATENATE(AC205,\" - \",AD205)","v":"CLARK VITAL 1129 DOUBLE END - BOWL SINK 1180mm"},"490-300-100700"]
[null,null,null,null,null,null,null,null,null,null,null,null,null,null,null,null,null,null,null,null,null,"OPENING: 2381 HIGH x 6130 WIDE","580-100-103000",null,null,null,null,null,"CLARK VITAL 1125 1.5 END BOWL","SINK 980mm","CLARK VITAL 1125 1.5 END BOWL - SINK 980mm","490-300-100720"]
[null,null,null,null,null,null,null,null,null,null,null,null,null,null,null,null,null,null,null,null,null,"OPENING: 2724 HIGH x 2380 WIDE","580-100-103100",null,null,null,null,null,"CLARK VITAL SINGLE END BOWL","SINK 765MM","CLARK VITAL SINGLE END BOWL - SINK 765MM","490-300-100750"]
[null,null,null,null,null,null,null,null,null,null,null,null,null,null,null,null,null,null,null,null,null,"OPENING: 2724 HIGH x 2930 WIDE","580-100-103200",null,null,null,null,null,"CLARK POLAR DOUBLE BOWL","OVERMOUNT SINK","CLARK POLAR DOUBLE BOWL - OVERMOUNT SINK","490-300-100990"]
[null,null,null,null,null,null,null,null,null,null,null,null,null,null,null,null,null,null,null,null,null,"OPENING: 2724 HIGH x 3430 WIDE","580-100-103300",null,null,null,null,null,"CLARK POLAR DOUBLE BOWL","UNDERMOUNT SINK","CLARK POLAR DOUBLE BOWL - UNDERMOUNT SINK","490-300-101000"]
[null,null,null,null,null,null,null,null,null,null,null,null,null,null,null,null,null,null,null,null,null,"OPENING: 2724 HIGH x 4230 WIDE","580-100-103400",null,null,null,null,null,"CLARK POLAR SINGLE BOWL","UNDERMOUNT SINK","CLARK POLAR SINGLE BOWL - UNDERMOUNT SINK","490-300-101050"]
[null,null,null,null,null,null,null,null,null,null,null,null,null,null,null,null,null,null,null,null,null,"OPENING: 2724 HIGH x 4810 WIDE","580-100-103600",null,null,null,null,null,"CLARK POLAR SINGLE BOWL","OVERMOUNT SINK","CLARK POLAR SINGLE BOWL - OVERMOUNT SINK","490-300-101060"]
[null,null,null,null,null,null,null,null,null,null,null,null,null,null,null,null,null,null,null,null,null,"OPENING: 2724 HIGH x 5080 WIDE","580-100-103700",null,null,null,null,null,"CLARK SINK MONACO NEW DOUBLE","BOWL 1200MM STAINLESS STEEL","CLARK SINK MONACO NEW DOUBLE - BOWL 1200MM STAINLESS STEEL","490-300-101100"]
[null,null,null,null,null,null,null,null,null,null,null,null,null,null,null,null,null,null,null,null,null,"OPENING: 2724 HIGH x 5495 WIDE","580-100-103800",null,null,null,null,null,"EPURE RANGE (ERB) ROUND SINK","CLARK CELLINI OVERMOUNT MAIN","EPURE RANGE (ERB) ROUND SINK - CLARK CELLINI OVERMOUNT MAIN","490-300-101300"]
[null,null,null,null,null,null,null,null,null,null,null,null,null,null,null,null,null,null,null,null,null,"OPENING: 2724 HIGH x 5890 WIDE","580-100-103900",null,null,null,null,null,"EPURE RANGE (ERBU) ROUND SINK","CLARK CELLINI UNDERMOUNT MAIN","EPURE RANGE (ERBU) ROUND SINK - CLARK CELLINI UNDERMOUNT MAIN","490-300-101400"]
[null,null,null,null,null,null,null,null,null,null,null,null,null,null,null,null,null,null,null,null,null,"OPENING: 2724 HIGH x 6130 WIDE","580-100-104000",null,null,null,null,null,"EPURE RANGE (ERT) ROUND SINK","CLARK CELLINI OVERMOUNT MAIN","EPURE RANGE (ERT) ROUND SINK - CLARK CELLINI OVERMOUNT MAIN","490-300-101500"]
[null,null,null,null,null,null,null,null,null,null,null,null,null,null,null,null,null,null,null,null,null,"OPENING: 2817 HIGH x 3430 WIDE","580-100-104300",null,null,null,null,null,"MONACO UNDERMOUNT DOUBLE BOWL","CLARK SINK (EXDU 7)","MONACO UNDERMOUNT DOUBLE BOWL - CLARK SINK (EXDU 7)","490-300-101600"]
[null,null,null,null,null,null,null,null,null,null,null,null,null,null,null,null,null,null,null,null,null,"OPENING: 2817 HIGH x 5080 WIDE","580-100-104700",null,null,null,null,null,"MONACO MAIN UNDERMOUNT SINGLE","BOWL CLARK SINK (EVBU)","MONACO MAIN UNDERMOUNT SINGLE - BOWL CLARK SINK (EVBU)","490-300-101700"]
[null,null,null,null,null,null,null,null,null,null,null,null,null,null,null,null,null,null,null,null,null,"OPENING: 2938 HIGH x 2930 WIDE","580-100-105015",null,null,null,null,null,"MONACO MAIN OVERMOUNT SINGLE","BOWL CLARK SINK (EVB)","MONACO MAIN OVERMOUNT SINGLE - BOWL CLARK SINK (EVB)","490-300-101800"]
[null,null,null,null,null,null,null,null,null,null,null,null,null,null,null,null,null,null,null,null,null,"OPENING: 2938 HIGH x 5495 WIDE","580-100-105045",null,null,null,null,null,"CLARK QUATRO 1.75 END BOWL","SINK  1120mm x 500mm (6030)","CLARK QUATRO 1.75 END BOWL - SINK  1120mm x 500mm (6030)","490-300-102000"]
[null,null,null,null,null,null,null,null,null,null,null,null,null,null,null,null,null,null,null,null,null,null,null,null,null,null,null,null,"CLARK QUATRO DOUBLE END BOWL","SINK 1220mm x 500mm (6040)","CLARK QUATRO DOUBLE END BOWL - SINK 1220mm x 500mm (6040)","490-300-102050"]
[]
[]
[null,null,null,null,null,null,null,null,null,null,null,null,null,null,null,null,null,null,null,null,null,null,null,null,null,null,null,null,"TROUGHS"]
[null,null,null,null,null,null,null,null,null,null,null,null,null,null,null,null,null,null,null,null,null,null,null,null,null,null,null,null,"CLARK EUREKA 45L","S/ STEEL TROUGH & CABINET",{"$f":"CONCATENATE(AC224,\" - \",AD224)","v":"CLARK EUREKA 45L - S/ STEEL TROUGH & CABINET"},"490-400-100300"]
[null,null,null,null,null,null,null,null,null,null,null,null,null,null,null,null,null,null,null,null,null,"MIRROR FRAMED UP TO 1m2","525-100-100100",null,null,null,null,null,"CLARK EUREKA 45L F8111","S/STEEL TROUGH AND CABINET","CLARK EUREKA 45L F8111 - S/STEEL TROUGH AND CABINET","490-400-100350"]
[null,null,null,null,null,null,null,null,null,null,null,null,null,null,null,null,null,null,null,null,null,"MIRROR FRAMED 1 - 1.5m2","525-100-100200",null,null,null,null,null,"CLARK FLUSHLINE 45L 8510","INSET TROUGH","CLARK FLUSHLINE 45L 8510 - INSET TROUGH","490-400-100400"]
[null,null,null,null,null,null,null,null,null,null,null,null,null,null,null,null,null,null,null,null,null,"MIRROR FRAMED 1.5 - 2m2","525-100-100300",null,null,null,null,null,"CAROMA METRO 35L","WHITE. VITREOUS CHINA INSET","CAROMA METRO 35L - WHITE. VITREOUS CHINA INSET","490-400-100800"]
[null,null,null,null,null,null,null,null,null,null,null,null,null,null,null,null,null,null,null,null,null,"MIRROR FRAMED 2 - 2.5m2","525-100-100400",null,null,null,null,null,"SEIMA EVA 45L","CERAMIC TROUGH","SEIMA EVA 45L - CERAMIC TROUGH","490-400-100900"]
[null,null,null,null,null,null,null,null,null,null,null,null,null,null,null,null,null,null,null,null,null,"MIRROR FRAMED 2.5 - 3m2","525-100-100500",null,null,null,null,null,"EVERHARD PROJECT 45L 71189C","S/ STEEL TROUGH & CABINET","EVERHARD PROJECT 45L 71189C - S/ STEEL TROUGH & CABINET","490-400-101000"]
[null,null,null,null,null,null,null,null,null,null,null,null,null,null,null,null,null,null,null,null,null,"MIRROR SLIMLINE UP TO 1m2","525-100-500600"]
[null,null,null,null,null,null,null,null,null,null,null,null,null,null,null,null,null,null,null,null,null,"MIRROR SLIMLINE 1 - 1.5m2","525-100-500700",null,null,null,null,null,"BASINS"]
[null,null,null,null,null,null,null,null,null,null,null,null,null,null,null,null,null,null,null,null,null,"MIRROR SLIMLINE 1.5 - 2m2","525-100-500800",null,null,null,null,null,"CAROMA GEM","INSET BASIN",{"$f":"CONCATENATE(AC232,\" - \",AD232)","v":"CAROMA GEM - INSET BASIN"},"490-200-100450"]
[null,null,null,null,null,null,null,null,null,null,null,null,null,null,null,null,null,null,null,null,null,"MIRROR SLIMLINE 2 - 2.5m2","525-100-500900",null,null,null,null,null,"CAROMA COSMO","INSET BASIN (VANITY)","CAROMA COSMO - INSET BASIN (VANITY)","490-200-100500"]
[null,null,null,null,null,null,null,null,null,null,null,null,null,null,null,null,null,null,null,null,null,"MIRROR SLIMLINE 2.5 - 3m2","525-100-501000",null,null,null,null,null,"CAROMA ORBIS","INSET BASIN","CAROMA ORBIS - INSET BASIN","490-200-100550"]
[null,null,null,null,null,null,null,null,null,null,null,null,null,null,null,null,null,null,null,null,null,"MIRROR MAJESTIC UP TO 1m2","525-100-800600",null,null,null,null,null,"CAROMA CONTURA FREEFORM","INSET BASIN","CAROMA CONTURA FREEFORM - INSET BASIN","490-200-100560"]
[null,null,null,null,null,null,null,null,null,null,null,null,null,null,null,null,null,null,null,null,null,"MIRROR MAJESTIC 1 - 1.5m2","525-100-800700",null,null,null,null,null,"CAROMA COSMO","SEMI RECSSED BASIN","CAROMA COSMO - SEMI RECSSED BASIN","490-200-100600"]
[null,null,null,null,null,null,null,null,null,null,null,null,null,null,null,null,null,null,null,null,null,"MIRROR MAJESTIC 1.5 - 2m2","525-100-800800",null,null,null,null,null,"CAROMA COSMO","INSET BASIN","CAROMA COSMO - INSET BASIN","490-200-100700"]
[null,null,null,null,null,null,null,null,null,null,null,null,null,null,null,null,null,null,null,null,null,"MIRROR MAJESTIC 2 - 2.5m2","525-100-800900",null,null,null,null,null,"CAROMA LIANO","SEMI RECESSED BASIN","CAROMA LIANO - SEMI RECESSED BASIN","490-200-100900"]
[null,null,null,null,null,null,null,null,null,null,null,null,null,null,null,null,null,null,null,null,null,"MIRROR MAJESTIC 2.5 - 3m2","525-100-801000",null,null,null,null,null,"CAROMA LIANO","HAND WALL BASIN","CAROMA LIANO - HAND WALL BASIN","490-200-101000"]
[null,null,null,null,null,null,null,null,null,null,null,null,null,null,null,null,null,null,null,null,null,null,null,null,null,null,null,null,"CAROMA LIANO","INSET VANITY BASIN","CAROMA LIANO - INSET VANITY BASIN","490-200-101100"]
[null,null,null,null,null,null,null,null,null,null,null,null,null,null,null,null,null,null,null,null,null,null,null,null,null,null,null,null,"CAROMA LIANO","UNDER COUNTER BASIN","CAROMA LIANO - UNDER COUNTER BASIN","490-200-101300"]
[null,null,null,null,null,null,null,null,null,null,null,null,null,null,null,null,null,null,null,null,null,null,null,null,null,null,null,null,"CAROMA LIANO NEXUS","WALL BASIN","CAROMA LIANO NEXUS - WALL BASIN","490-200-101310"]
[null,null,null,null,null,null,null,null,null,null,null,null,null,null,null,null,null,null,null,null,null,null,null,null,null,null,null,null,"CAROMA CUBE EXTENSION","WALL BASIN","CAROMA CUBE EXTENSION - WALL BASIN","490-200-101350"]
[null,null,null,null,null,null,null,null,null,null,null,null,null,null,null,null,null,null,null,null,null,null,null,null,null,null,null,null,"CAROMA COMPACT","WALL HUNG BASIN","CAROMA COMPACT - WALL HUNG BASIN","490-200-101400"]
[null,null,null,null,null,null,null,null,null,null,null,null,null,null,null,null,null,null,null,null,null,null,null,null,null,null,null,null,"CAROMA COSMO","WALL BASIN","CAROMA COSMO - WALL BASIN","490-200-101460"]
[null,null,null,null,null,null,null,null,null,null,null,null,null,null,null,null,null,null,null,null,null,null,null,null,null,null,null,null,"CAROMA CARBONI II","WALL BASIN","CAROMA CARBONI II - WALL BASIN","490-200-101500"]
[null,null,null,null,null,null,null,null,null,null,null,null,null,null,null,null,null,null,null,null,null,null,null,null,null,null,null,null,"CAROMA CARBONI II","SEMI RECESSED BASIN 1TAP HOLE","CAROMA CARBONI II - SEMI RECESSED BASIN 1TAP HOLE","490-200-101550"]
[null,null,null,null,null,null,null,null,null,null,null,null,null,null,null,null,null,null,null,null,null,null,null,null,null,null,null,null,"CAROMA CARBONI II","INSET BASIN","CAROMA CARBONI II - INSET BASIN","490-200-101600"]
[null,null,null,null,null,null,null,null,null,null,null,null,null,null,null,null,null,null,null,null,null,null,null,null,null,null,null,null,"CAROMA CARBONI SEAMLESS","INSET BASIN 866015W 1 TAP HOLE","CAROMA CARBONI SEAMLESS - INSET BASIN 866015W 1 TAP HOLE","490-200-101650"]
[null,null,null,null,null,null,null,null,null,null,null,null,null,null,null,null,null,null,null,null,null,null,null,null,null,null,null,null,"CAROMA CARBONI II","ABOVE COUNTER BASIN","CAROMA CARBONI II - ABOVE COUNTER BASIN","490-200-101700"]
[null,null,null,null,null,null,null,null,null,null,null,null,null,null,null,null,null,null,null,null,null,null,null,null,null,null,null,null,"MIZU 40mm SQUARE BOTTLE TRAP","(SUITS OMVIVO NEO MINI BASIN)","MIZU 40mm SQUARE BOTTLE TRAP - (SUITS OMVIVO NEO MINI BASIN)","490-200-102100"]
[null,null,null,null,null,null,null,null,null,null,null,null,null,null,null,null,null,null,null,null,null,null,null,null,null,null,null,null,"CAROMA TRACK","INSET BASIN","CAROMA TRACK - INSET BASIN","490-200-103600"]
[null,null,null,null,null,null,null,null,null,null,null,null,null,null,null,null,null,null,null,null,null,null,null,null,null,null,null,null,"CAROMA SYMPHONY WALL MINI","BASIN 383x248mm","CAROMA SYMPHONY WALL MINI - BASIN 383x248mm","490-200-200600"]
[null,null,null,null,null,null,null,null,null,null,null,null,null,null,null,null,null,null,null,null,null,null,null,null,null,null,null,null,"CAROMA ARTISAN","ABOVE COUNTER BASIN 400mm","CAROMA ARTISAN - ABOVE COUNTER BASIN 400mm","490-200-300250"]
[null,null,null,null,null,null,null,null,null,null,null,null,null,null,null,null,null,null,null,null,null,null,null,null,null,null,null,null,"CAROMA ARTISAN","ABOVE COUNTER BASIN 405mm","CAROMA ARTISAN - ABOVE COUNTER BASIN 405mm","490-200-300300"]
[null,null,null,null,null,null,null,null,null,null,null,null,null,null,null,null,null,null,null,null,null,null,null,null,null,null,null,null,"CAROMA ARTISAN","ABOVE COUNTER BASIN 500mm","CAROMA ARTISAN - ABOVE COUNTER BASIN 500mm","490-200-300400"]
[null,null,null,null,null,null,null,null,null,null,null,null,null,null,null,null,null,null,null,null,null,null,null,null,null,null,null,null,"CAROMA ARTISAN","ABOVE COUNTER BASIN 600mm","CAROMA ARTISAN - ABOVE COUNTER BASIN 600mm","490-200-300500"]
[]
[]
[null,null,null,null,null,null,null,null,null,null,null,null,null,null,null,null,null,null,null,null,null,null,null,null,null,null,null,null,"BATH"]
[null,null,null,null,null,null,null,null,null,null,null,null,null,null,null,null,null,null,null,null,null,null,null,null,null,null,null,null,"RAYMOR RECLINE RECTANGLE 1650","BATH",{"$f":"CONCATENATE(AC261,\" - \",AD261)","v":"RAYMOR RECLINE RECTANGLE 1650 - BATH"},"490-100-100300"]
[null,null,null,null,null,null,null,null,null,null,null,null,null,null,null,null,null,null,null,null,null,null,null,null,null,null,null,null,"CAROMA LUNA 1525MM","BATH 4 TILE FLANGE","CAROMA LUNA 1525MM - BATH 4 TILE FLANGE","490-100-200150"]
[null,null,null,null,null,null,null,null,null,null,null,null,null,null,null,null,null,null,null,null,null,null,null,null,null,null,null,null,"STYLUS MAXTON 1525mm","BATH","STYLUS MAXTON 1525mm - BATH","490-100-200200"]
[null,null,null,null,null,null,null,null,null,null,null,null,null,null,null,null,null,null,null,null,null,null,null,null,null,null,null,null,"CAROMA LUNA 1675mm","BATH 4 TILE FLANGE","CAROMA LUNA 1675mm - BATH 4 TILE FLANGE","490-100-300340"]
[null,null,null,null,null,null,null,null,null,null,null,null,null,null,null,null,null,null,null,null,null,null,null,null,null,null,null,null,"STYLUS MAXTON 1675mm","BATH","STYLUS MAXTON 1675mm - BATH","490-100-300400"]
[null,null,null,null,null,null,null,null,null,null,null,null,null,null,null,null,null,null,null,null,null,null,null,null,null,null,null,null,"STYLUS ORIGIN BATH 1525mm","WHITE (TILE FLANGE)","STYLUS ORIGIN BATH 1525mm - WHITE (TILE FLANGE)","490-100-300450"]
[null,null,null,null,null,null,null,null,null,null,null,null,null,null,null,null,null,null,null,null,null,null,null,null,null,null,null,null,"STYLUS ORIGIN 1675mm","BATH","STYLUS ORIGIN 1675mm - BATH","490-100-300500"]
[null,null,null,null,null,null,null,null,null,null,null,null,null,null,null,null,null,null,null,null,null,null,null,null,null,null,null,null,"STYLUS BASIS 1525mm","BATH","STYLUS BASIS 1525mm - BATH","490-100-300600"]
[null,null,null,null,null,null,null,null,null,null,null,null,null,null,null,null,null,null,null,null,null,null,null,null,null,null,null,null,"STYLUS BASIS 1675mm","BATH BB7W","STYLUS BASIS 1675mm - BATH BB7W","490-100-300700"]
[null,null,null,null,null,null,null,null,null,null,null,null,null,null,null,null,null,null,null,null,null,null,null,null,null,null,null,null,"STYLUS NEWBURY 1675mm","BATH","STYLUS NEWBURY 1675mm - BATH","490-100-400100"]
[null,null,null,null,null,null,null,null,null,null,null,null,null,null,null,null,null,null,null,null,null,null,null,null,null,null,null,null,"CAROMA AURA 1775mm","FREESTANDING BATH","CAROMA AURA 1775mm - FREESTANDING BATH","490-100-400300"]
[null,null,null,null,null,null,null,null,null,null,null,null,null,null,null,null,null,null,null,null,null,null,null,null,null,null,null,null,"CAROMA CUPID 1700mm","FREESTANDING BATH (CP7W)","CAROMA CUPID 1700mm - FREESTANDING BATH (CP7W)","490-100-400400"]
[null,null,null,null,null,null,null,null,null,null,null,null,null,null,null,null,null,null,null,null,null,null,null,null,null,null,null,null,"BLANC FREESTANDING 1700mm","BATH","BLANC FREESTANDING 1700mm - BATH","490-100-400420"]
[null,null,null,null,null,null,null,null,null,null,null,null,null,null,null,null,null,null,null,null,null,null,null,null,null,null,null,null,"URBANE BACK TO WALL FREE","STANDING BATH UR7WFW","URBANE BACK TO WALL FREE - STANDING BATH UR7WFW","490-100-400500"]
[null,null,null,null,null,null,null,null,null,null,null,null,null,null,null,null,null,null,null,null,null,null,null,null,null,null,null,null,"STYLUS NEWBURY 1800mm","BATH","STYLUS NEWBURY 1800mm - BATH","490-100-500100"]
[null,null,null,null,null,null,null,null,null,null,null,null,null,null,null,null,null,null,null,null,null,null,null,null,null,null,null,null,"BATH ARUBA FREESTANDING CURVE","1700mm WHITE","BATH ARUBA FREESTANDING CURVE - 1700mm WHITE","490-100-600200"]
[]
[]
[null,null,null,null,null,null,null,null,null,null,null,null,null,null,null,null,null,null,null,null,null,null,null,null,null,null,null,null,"TOWELRAIL"]
[null,null,null,null,null,null,null,null,null,null,null,null,null,null,null,null,null,null,null,null,null,null,null,null,null,null,null,null,"ALDER ALTO SINGLE TOWEL RAIL","750mm CHROME (CODE 81900)",{"$f":"CONCATENATE(AC280,\" - \",AD280)","v":"ALDER ALTO SINGLE TOWEL RAIL - 750mm CHROME (CODE 81900)"},"450-600-101000"]
[null,null,null,null,null,null,null,null,null,null,null,null,null,null,null,null,null,null,null,null,null,null,null,null,null,null,null,null,"ALDER ALTO SINGLE TOWEL RAIL","900mm CHROME (CODE 81917)","ALDER ALTO SINGLE TOWEL RAIL - 900mm CHROME (CODE 81917)","450-600-101100"]
[null,null,null,null,null,null,null,null,null,null,null,null,null,null,null,null,null,null,null,null,null,null,null,null,null,null,null,null,"CAROMA COSMO DOUBLE TOWEL RAIL","600mm CHROME","CAROMA COSMO DOUBLE TOWEL RAIL - 600mm CHROME","450-600-200300"]
[null,null,null,null,null,null,null,null,null,null,null,null,null,null,null,null,null,null,null,null,null,null,null,null,null,null,null,null,"CAROMA COSMO DOUBLE TOWEL RAIL","900mm CHROME","CAROMA COSMO DOUBLE TOWEL RAIL - 900mm CHROME","450-600-200400"]
[null,null,null,null,null,null,null,null,null,null,null,null,null,null,null,null,null,null,null,null,null,null,null,null,null,null,null,null,"ALDER STAR  DOUBLE TOWEL RAIL","750mm CHROME (CODE 86992)","ALDER STAR  DOUBLE TOWEL RAIL - 750mm CHROME (CODE 86992)","450-600-200800"]
[null,null,null,null,null,null,null,null,null,null,null,null,null,null,null,null,null,null,null,null,null,null,null,null,null,null,null,null,"ALDER STAR DOUBLE TOWEL RAIL","900mm CHROME (CODE 86996)","ALDER STAR DOUBLE TOWEL RAIL - 900mm CHROME (CODE 86996)","450-600-200900"]
[null,null,null,null,null,null,null,null,null,null,null,null,null,null,null,null,null,null,null,null,null,null,null,null,null,null,null,null,"ALDER ALTO DOUBLE TOWEL RAIL","750mm CHROME (CODE 81902)","ALDER ALTO DOUBLE TOWEL RAIL - 750mm CHROME (CODE 81902)","450-600-201000"]
[null,null,null,null,null,null,null,null,null,null,null,null,null,null,null,null,null,null,null,null,null,null,null,null,null,null,null,null,"ALDER ALTO DOUBLE TOWEL RAIL","900mm CHROME (CODE 81918)","ALDER ALTO DOUBLE TOWEL RAIL - 900mm CHROME (CODE 81918)","450-600-201100"]
[null,null,null,null,null,null,null,null,null,null,null,null,null,null,null,null,null,null,null,null,null,null,null,null,null,null,null,null,"ALDER METZA DOUBLE TOWEL RAIL","750mm CHROME (CODE 88902)","ALDER METZA DOUBLE TOWEL RAIL - 750mm CHROME (CODE 88902)","450-600-201400"]
[null,null,null,null,null,null,null,null,null,null,null,null,null,null,null,null,null,null,null,null,null,null,null,null,null,null,null,null,"ALDER METZA DOUBLE TOWEL RAIL","900mm CHROME (CODE 88916)","ALDER METZA DOUBLE TOWEL RAIL - 900mm CHROME (CODE 88916)","450-600-201500"]
[null,null,null,null,null,null,null,null,null,null,null,null,null,null,null,null,null,null,null,null,null,null,null,null,null,null,null,null,"DORF ENIX DOUBLE TOWEL RAIL","900mm CHROME","DORF ENIX DOUBLE TOWEL RAIL - 900mm CHROME","450-600-201700"]
[null,null,null,null,null,null,null,null,null,null,null,null,null,null,null,null,null,null,null,null,null,null,null,null,null,null,null,null,"VITO BERTONI SACHI SINGLE","TOWEL RAIL 600mm","VITO BERTONI SACHI SINGLE - TOWEL RAIL 600mm","450-620-100100"]
[null,null,null,null,null,null,null,null,null,null,null,null,null,null,null,null,null,null,null,null,null,null,null,null,null,null,null,null,"VITO BERTONI SACHI SINGLE","TOWEL RAIL 800mm","VITO BERTONI SACHI SINGLE - TOWEL RAIL 800mm","450-620-100150"]
[null,null,null,null,null,null,null,null,null,null,null,null,null,null,null,null,null,null,null,null,null,null,null,null,null,null,null,null,"VITO BERTONI SACHI DOUBLE","TOWEL RAIL 600mm","VITO BERTONI SACHI DOUBLE - TOWEL RAIL 600mm","450-620-100200"]
[null,null,null,null,null,null,null,null,null,null,null,null,null,null,null,null,null,null,null,null,null,null,null,null,null,null,null,null,"VITO BERTONI SACHI DOUBLE","TOWEL RAIL 800mm","VITO BERTONI SACHI DOUBLE - TOWEL RAIL 800mm","450-620-100250"]
[null,null,null,null,null,null,null,null,null,null,null,null,null,null,null,null,null,null,null,null,null,null,null,null,null,null,null,null,"RAYMOR PROJIX 600MM SINGLE","TOWEL RAIL","RAYMOR PROJIX 600MM SINGLE - TOWEL RAIL","455-100-100100"]
[null,null,null,null,null,null,null,null,null,null,null,null,null,null,null,null,null,null,null,null,null,null,null,null,null,null,null,null,"RAYMOR PROJIX 900MM SINGLE","TOWEL RAIL","RAYMOR PROJIX 900MM SINGLE - TOWEL RAIL","455-100-100200"]
[null,null,null,null,null,null,null,null,null,null,null,null,null,null,null,null,null,null,null,null,null,null,null,null,null,null,null,null,"RAYMOR PROJIX 600MM DOUBLE","TOWEL RAIL","RAYMOR PROJIX 600MM DOUBLE - TOWEL RAIL","455-100-100300"]
[null,null,null,null,null,null,null,null,null,null,null,null,null,null,null,null,null,null,null,null,null,null,null,null,null,null,null,null,"RAYMOR PROJIX 900MM DOUBLE","TOWEL RAIL","RAYMOR PROJIX 900MM DOUBLE - TOWEL RAIL","455-100-100400"]
[null,null,null,null,null,null,null,null,null,null,null,null,null,null,null,null,null,null,null,null,null,null,null,null,null,null,null,null,"TOWEL RING"]
[null,null,null,null,null,null,null,null,null,null,null,null,null,null,null,null,null,null,null,null,null,null,null,null,null,null,null,null,"ALDER ALTO   TOWEL RING","CHROME (CODE 81906)",{"$f":"CONCATENATE(AC300,\" - \",AD300)","v":"ALDER ALTO   TOWEL RING - CHROME (CODE 81906)"},"450-600-300600"]
[null,null,null,null,null,null,null,null,null,null,null,null,null,null,null,null,null,null,null,null,null,null,null,null,null,null,null,null,"CAROMA COSMO TOWEL RING","METAL CHROME (4820143)","CAROMA COSMO TOWEL RING - METAL CHROME (4820143)","450-600-300200"]
[null,null,null,null,null,null,null,null,null,null,null,null,null,null,null,null,null,null,null,null,null,null,null,null,null,null,null,null,"CAROMA QUATRO TOWEL RING",null,"CAROMA QUATRO TOWEL RING - ","450-600-300350"]
[null,null,null,null,null,null,null,null,null,null,null,null,null,null,null,null,null,null,null,null,null,null,null,null,null,null,null,null,"VITO BERTONI TAYA TOWEL RING","CHROME (CODE 94906)","VITO BERTONI TAYA TOWEL RING - CHROME (CODE 94906)","450-600-300400"]
[null,null,null,null,null,null,null,null,null,null,null,null,null,null,null,null,null,null,null,null,null,null,null,null,null,null,null,null,"VITO BERTONI TAYA TOWEL RING","BLACK (CODE 94955)","VITO BERTONI TAYA TOWEL RING - BLACK (CODE 94955)","450-600-300450"]
[null,null,null,null,null,null,null,null,null,null,null,null,null,null,null,null,null,null,null,null,null,null,null,null,null,null,null,null,"ALDER STAR  TOWEL RING","CHROME (CODE 86994)","ALDER STAR  TOWEL RING - CHROME (CODE 86994)","450-600-300500"]
[null,null,null,null,null,null,null,null,null,null,null,null,null,null,null,null,null,null,null,null,null,null,null,null,null,null,null,null,"ALDER METZA  TOWEL RING","CHROME (CODE 88906)","ALDER METZA  TOWEL RING - CHROME (CODE 88906)","450-600-300700"]
[null,null,null,null,null,null,null,null,null,null,null,null,null,null,null,null,null,null,null,null,null,null,null,null,null,null,null,null,"DORF ENIX TOWEL RING","CHROME","DORF ENIX TOWEL RING - CHROME","450-600-300800"]
[null,null,null,null,null,null,null,null,null,null,null,null,null,null,null,null,null,null,null,null,null,null,null,null,null,null,null,null,"VITO BERTONI SACHI TOWEL RING",null,"VITO BERTONI SACHI TOWEL RING - ","450-620-100400"]
[null,null,null,null,null,null,null,null,null,null,null,null,null,null,null,null,null,null,null,null,null,null,null,null,null,null,null,null,"VITO BERTONI WISH TOWEL RING","BLACK (CODE 40702)","VITO BERTONI WISH TOWEL RING - BLACK (CODE 40702)","450-630-100300"]
[null,null,null,null,null,null,null,null,null,null,null,null,null,null,null,null,null,null,null,null,null,null,null,null,null,null,null,null,"VITO BERTONI WISH TOWEL RING","CHROME (CODE 40731)","VITO BERTONI WISH TOWEL RING - CHROME (CODE 40731)","450-630-100700"]
[null,null,null,null,null,null,null,null,null,null,null,null,null,null,null,null,null,null,null,null,null,null,null,null,null,null,null,null,"TOILET ROLL HOLDER"]
[null,null,null,null,null,null,null,null,null,null,null,null,null,null,null,null,null,null,null,null,null,null,null,null,null,null,null,null,"VITO BERTONI TAYA TOILET ROLL","HOLDER CHROME (CODE 94904)",{"$f":"CONCATENATE(AC312,\" - \",AD312)","v":"VITO BERTONI TAYA TOILET ROLL - HOLDER CHROME (CODE 94904)"},"450-605-100400"]
[null,null,null,null,null,null,null,null,null,null,null,null,null,null,null,null,null,null,null,null,null,null,null,null,null,null,null,null,"VITO BERTONI TAYA TOILET ROLL","HOLDER BLACK (CODE 94954)","VITO BERTONI TAYA TOILET ROLL - HOLDER BLACK (CODE 94954)","450-605-100450"]
[null,null,null,null,null,null,null,null,null,null,null,null,null,null,null,null,null,null,null,null,null,null,null,null,null,null,null,null,"ALDER ALTO  TOILET ROLL HOLDER","CHROME       (CODE 81904)","ALDER ALTO  TOILET ROLL HOLDER - CHROME       (CODE 81904)","450-605-100500"]
[null,null,null,null,null,null,null,null,null,null,null,null,null,null,null,null,null,null,null,null,null,null,null,null,null,null,null,null,"ALDER METZA TOILET ROLL HOLDER","CHROME       (CODE 88904)","ALDER METZA TOILET ROLL HOLDER - CHROME       (CODE 88904)","450-605-100800"]
[null,null,null,null,null,null,null,null,null,null,null,null,null,null,null,null,null,null,null,null,null,null,null,null,null,null,null,null,"DORF ENIX TOILET ROLL HOLDER","CHROME","DORF ENIX TOILET ROLL HOLDER - CHROME","450-605-100900"]
[null,null,null,null,null,null,null,null,null,null,null,null,null,null,null,null,null,null,null,null,null,null,null,null,null,null,null,null,"CAROMA COSMO TOILET ROLL","HOLDER CHROME","CAROMA COSMO TOILET ROLL - HOLDER CHROME","450-605-101200"]
[null,null,null,null,null,null,null,null,null,null,null,null,null,null,null,null,null,null,null,null,null,null,null,null,null,null,null,null,"CAROMA ELEGANCE TOILET ROLL","HOLDER CHROME","CAROMA ELEGANCE TOILET ROLL - HOLDER CHROME","450-605-101400"]
[null,null,null,null,null,null,null,null,null,null,null,null,null,null,null,null,null,null,null,null,null,null,null,null,null,null,null,null,"ALDER STAR  TOILET ROLL HOLDER","CHROME       (CODE 86993)","ALDER STAR  TOILET ROLL HOLDER - CHROME       (CODE 86993)","450-605-101500"]
[null,null,null,null,null,null,null,null,null,null,null,null,null,null,null,null,null,null,null,null,null,null,null,null,null,null,null,null,"CAROMA QUATRO TOILET ROLL","HOLDER CP (90732C)","CAROMA QUATRO TOILET ROLL - HOLDER CP (90732C)","450-605-101850"]
[null,null,null,null,null,null,null,null,null,null,null,null,null,null,null,null,null,null,null,null,null,null,null,null,null,null,null,null,"VITO BERTONI SACHI TOILET ROLL","HOLDER RH","VITO BERTONI SACHI TOILET ROLL - HOLDER RH","450-620-100300"]
[null,null,null,null,null,null,null,null,null,null,null,null,null,null,null,null,null,null,null,null,null,null,null,null,null,null,null,null,"VITO BERTONI SACHI TOILET ROLL","HOLDER LH","VITO BERTONI SACHI TOILET ROLL - HOLDER LH","450-620-100350"]
[null,null,null,null,null,null,null,null,null,null,null,null,null,null,null,null,null,null,null,null,null,null,null,null,null,null,null,null,"VITO BERTONI WISH TOILET ROLL","HOLDER BLACK (CODE 40701)","VITO BERTONI WISH TOILET ROLL - HOLDER BLACK (CODE 40701)","450-630-100200"]
[null,null,null,null,null,null,null,null,null,null,null,null,null,null,null,null,null,null,null,null,null,null,null,null,null,null,null,null,"VITO BERTONI WISH TOILET ROLL","HOLDER - CHROME (CODE 40730)","VITO BERTONI WISH TOILET ROLL - HOLDER - CHROME (CODE 40730)","450-630-100600"]

{"sheet":"Tiling","index":17,"n_rows":168,"n_cols":60,"rows_kept":168,"cut":false,"hidden":false,"merged":[[18,1,18,2],[5,0,6,5],[11,5,11,6],[12,5,12,6],[13,5,13,6],[14,5,14,6],[15,5,15,6],[17,1,17,2]]}
[]
[]
[]
[]
[]
["TILING SHEET"]
[]
[]
[null,null,null,null,"1st Supplier Builder Cost",null,{"$f":"IF(F9=\"\",0,VLOOKUP(F9,Lists!V131:W138,2,FALSE))","v":0}]
[null,null,null,null,"2nd Supplier Builder Cost",null,null,"Alt",null,"Where","Set your rooms ",null,null,null,null,null,null,null,null,null,null,null,null,null,null,null,null,null,null,null,null,null,null,null,null,null,null,null,null,null,null,null,"Do Takeoffs"]
["Mitre Tiling",null,"Lm",null,null,null,null,null,null,"Locations","Where","Type","Tile Width","Tile Height","Count Tiles","1st S/Cost","2nd S/Cost","1st S/Total","2nd S/Total","Wall Lab","Floor Lab","Fet Lab","Othr Lab","\"-------\"","Wall tile qty","Floor tile qty","Fet tile qty","Other tile qty","Wall Supply in m2","Floor suply in m2","Feat supply in m2","other supply in m2","…","….","Porc m2","EO Std m2","EO Std","Porcl","2nd Supplier","Column1",null,null,"Room","Note","Actual W","Actual H","Mitre W/H","Rectified","Column1","Qty Tiles","Tile Wide","Tile High","Labour","Mitre L","Rectified2","Shower","Formula Trap","Error Trap","Column2","Column3"]
[null,"LABOUR","Supply",null,null,"Name the Types here",null,null,null,{"$f":"CONCATENATE(roomnames[[#This Row],[Where]],\" - \",roomnames[[#This Row],[Type]])","v":"Bathroom - Wall Tiles"},"Bathroom","Wall Tiles",400,200,{"$f":"SUMIF(Table3[],roomnames[[#This Row],[Locations]],Table3[Qty Tiles])","v":0},{"$f":"IF(roomnames[[#This Row],[2nd Supplier]]=\"No\",$G$9,\"\")","v":0},{"$f":"IF(roomnames[[#This Row],[2nd Supplier]]=\"Yes\",$G$10,\"\")","v":""},{"$f":"IF(roomnames[[#This Row],[2nd Supplier]]=\"no\",      SUM((roomnames[[#This Row],[Wall Supply in m2]]+roomnames[[#This Row],[Floor suply in m2]]+roomnames[[#This Row],[Feat supply in m2]]+roomnames[[#This Row],[other supply in m2]])*roomnames[[#This Row],[1st S/Cost]]),\nIF(roomnames[[#This Row],[2nd Supplier]]=\"yes\",   0))","v":0},{"$f":"IF(roomnames[[#This Row],[2nd Supplier]]=\"Yes\",      SUM((roomnames[[#This Row],[Wall Supply in m2]]+roomnames[[#This Row],[Floor suply in m2]]+roomnames[[#This Row],[Feat supply in m2]]+roomnames[[#This Row],[other supply in m2]])*roomnames[[#This Row],[2nd S/Cost]]),\nIF(roomnames[[#This Row],[2nd Supplier]]=\"No\",   0))","v":0},{"$f":"IF(roomnames[[#This Row],[Type]]=$F$13,   SUMIF(Table3[],roomnames[[#This Row],[Locations]],Table3[Labour]),0)","v":0},{"$f":"IF(roomnames[[#This Row],[Type]]=$F$14,   SUMIF(Table3[],roomnames[[#This Row],[Locations]],Table3[Labour]),0)","v":0},{"$f":"IF(roomnames[[#This Row],[Type]]=$F$15,   SUMIF(Table3[],roomnames[[#This Row],[Locations]],Table3[Labour]),0)","v":0},{"$f":"IF(roomnames[[#This Row],[Type]]=$F$16,   SUMIF(Table3[],roomnames[[#This Row],[Locations]],Table3[Labour]),0)","v":0},null,{"$f":"IF(roomnames[[#This Row],[Type]]=$F$13,roomnames[[#This Row],[Count Tiles]],0)","v":0},{"$f":"IF(roomnames[[#This Row],[Type]]=$F$14,roomnames[[#This Row],[Count Tiles]],0)","v":0},{"$f":"IF(roomnames[[#This Row],[Type]]=$F$15,roomnames[[#This Row],[Count Tiles]],0)","v":0},{"$f":"IF(roomnames[[#This Row],[Type]]=$F$16,roomnames[[#This Row],[Count Tiles]],0)","v":0},{"$f":"IF(roomnames[[#This Row],[Wall tile qty]]>0,                   SUM(roomnames[[#This Row],[Count Tiles]]*                   ((roomnames[[#This Row],[Tile Width]]*roomnames[[#This Row],[Tile Height]])))            /1000000,0)","v":0},{"$f":"IF(roomnames[[#This Row],[Floor tile qty]]>0.001,SUM(roomnames[[#This Row],[Count Tiles]]*(roomnames[[#This Row],[Tile Width]]*roomnames[[#This Row],[Tile Height]]))/1000000,0)","v":0},{"$f":"IF(roomnames[[#This Row],[Fet tile qty]]>0.001,SUM(roomnames[[#This Row],[Count Tiles]]*(roomnames[[#This Row],[Tile Width]]*roomnames[[#This Row],[Tile Height]]))/1000000,)","v":0},{"$f":"IF(roomnames[[#This Row],[Other tile qty]]>0.001,SUM(roomnames[[#This Row],[Count Tiles]]*(roomnames[[#This Row],[Tile Width]]*roomnames[[#This Row],[Tile Height]]))/1000000,0)","v":0},null,null,{"$f":"IF(roomnames[[#This Row],[Porcl]]=\"yes\",roomnames[[#This Row],[Wall Lab]]+roomnames[[#This Row],[Floor Lab]]+roomnames[[#This Row],[Fet Lab]]+roomnames[[#This Row],[Othr Lab]],0)","v":0},{"$f":"IF(roomnames[[#This Row],[EO Std]]=\"yes\",roomnames[[#This Row],[Wall Lab]]+roomnames[[#This Row],[Floor Lab]]+roomnames[[#This Row],[Fet Lab]]+roomnames[[#This Row],[Othr Lab]],0)","v":0},"No","No","No",null,null,null,null,null,null,null,null,null,null,{"$f":"IFERROR(SUM(Table3[[#This Row],[Tile Wide]]*Table3[[#This Row],[Tile High]]),\"\")","v":""},{"$f":"IFERROR(ROUNDUP(SUM(Table3[[#This Row],[Actual W]]/VLOOKUP(AQ12,roomnames[],4,0)),0),\"\")","v":""},{"$f":"IFERROR(ROUNDUP(SUM(Table3[[#This Row],[Actual H]]/VLOOKUP(AQ12,roomnames[],5,0)),0),\"\")","v":""},{"$f":"(Table3[[#This Row],[Actual W]]*Table3[[#This Row],[Actual H]])/1000000","v":0},{"$f":"IFERROR(ROUNDUP(SUM(Table3[[#This Row],[Rectified]]/VLOOKUP(Table3[[#This Row],[Actual W]],roomnames[],5,0)),0),\"\")","v":""},{"$f":"0","v":0},{"$f":"0","v":0},{"$f":"_xlfn.ISFORMULA(Table3[[#This Row],[Qty Tiles]])","v":true},{"$f":"IF(Table3[[#This Row],[Formula Trap]]=TRUE,1,0)","v":1},{"$f":"0","v":0}]
[{"$f":"CONCATENATE(\" \",F13)","v":" Wall Tiles"},{"$f":"SUM(roomnames[Wall Lab])","v":0},{"$f":"SUM(roomnames[Wall Supply in m2])","v":0},null,null,"Wall Tiles",null,null,null,{"$f":"CONCATENATE(roomnames[[#This Row],[Where]],\" - \",roomnames[[#This Row],[Type]])","v":"Bathroom - Feature Tiles"},"Bathroom","Feature Tiles",null,null,{"$f":"SUMIF(Table3[],roomnames[[#This Row],[Locations]],Table3[Qty Tiles])","v":0},{"$f":"IF(roomnames[[#This Row],[2nd Supplier]]=\"No\",$G$9,\"\")","v":0},{"$f":"IF(roomnames[[#This Row],[2nd Supplier]]=\"Yes\",$G$10,\"\")","v":""},{"$f":"IF(roomnames[[#This Row],[2nd Supplier]]=\"no\",      SUM((roomnames[[#This Row],[Wall Supply in m2]]+roomnames[[#This Row],[Floor suply in m2]]+roomnames[[#This Row],[Feat supply in m2]]+roomnames[[#This Row],[other supply in m2]])*roomnames[[#This Row],[1st S/Cost]]),\nIF(roomnames[[#This Row],[2nd Supplier]]=\"yes\",   0))","v":0},{"$f":"IF(roomnames[[#This Row],[2nd Supplier]]=\"Yes\",      SUM((roomnames[[#This Row],[Wall Supply in m2]]+roomnames[[#This Row],[Floor suply in m2]]+roomnames[[#This Row],[Feat supply in m2]]+roomnames[[#This Row],[other supply in m2]])*roomnames[[#This Row],[2nd S/Cost]]),\nIF(roomnames[[#This Row],[2nd Supplier]]=\"No\",   0))","v":0},{"$f":"IF(roomnames[[#This Row],[Type]]=$F$13,   SUMIF(Table3[],roomnames[[#This Row],[Locations]],Table3[Labour]),0)","v":0},{"$f":"IF(roomnames[[#This Row],[Type]]=$F$14,   SUMIF(Table3[],roomnames[[#This Row],[Locations]],Table3[Labour]),0)","v":0},{"$f":"IF(roomnames[[#This Row],[Type]]=$F$15,   SUMIF(Table3[],roomnames[[#This Row],[Locations]],Table3[Labour]),0)","v":0},{"$f":"IF(roomnames[[#This Row],[Type]]=$F$16,   SUMIF(Table3[],roomnames[[#This Row],[Locations]],Table3[Labour]),0)","v":0},null,{"$f":"IF(roomnames[[#This Row],[Type]]=$F$13,roomnames[[#This Row],[Count Tiles]],0)","v":0},{"$f":"IF(roomnames[[#This Row],[Type]]=$F$14,roomnames[[#This Row],[Count Tiles]],0)","v":0},{"$f":"IF(roomnames[[#This Row],[Type]]=$F$15,roomnames[[#This Row],[Count Tiles]],0)","v":0},{"$f":"IF(roomnames[[#This Row],[Type]]=$F$16,roomnames[[#This Row],[Count Tiles]],0)","v":0},{"$f":"IF(roomnames[[#This Row],[Wall tile qty]]>0,                   SUM(roomnames[[#This Row],[Count Tiles]]*                   ((roomnames[[#This Row],[Tile Width]]*roomnames[[#This Row],[Tile Height]])))            /1000000,0)","v":0},{"$f":"IF(roomnames[[#This Row],[Floor tile qty]]>0.001,SUM(roomnames[[#This Row],[Count Tiles]]*(roomnames[[#This Row],[Tile Width]]*roomnames[[#This Row],[Tile Height]]))/1000000,0)","v":0},{"$f":"IF(roomnames[[#This Row],[Fet tile qty]]>0.001,SUM(roomnames[[#This Row],[Count Tiles]]*(roomnames[[#This Row],[Tile Width]]*roomnames[[#This Row],[Tile Height]]))/1000000,)","v":0},{"$f":"IF(roomnames[[#This Row],[Other tile qty]]>0.001,SUM(roomnames[[#This Row],[Count Tiles]]*(roomnames[[#This Row],[Tile Width]]*roomnames[[#This Row],[Tile Height]]))/1000000,0)","v":0},null,null,{"$f":"IF(roomnames[[#This Row],[Porcl]]=\"yes\",roomnames[[#This Row],[Wall Lab]]+roomnames[[#This Row],[Floor Lab]]+roomnames[[#This Row],[Fet Lab]]+roomnames[[#This Row],[Othr Lab]],0)","v":0},{"$f":"IF(roomnames[[#This Row],[EO Std]]=\"yes\",roomnames[[#This Row],[Wall Lab]]+roomnames[[#This Row],[Floor Lab]]+roomnames[[#This Row],[Fet Lab]]+roomnames[[#This Row],[Othr Lab]],0)","v":0},"No","No","No",null,null,null,null,null,null,null,null,null,null,{"$f":"IFERROR(SUM(Table3[[#This Row],[Tile Wide]]*Table3[[#This Row],[Tile High]]),\"\")","v":""},{"$f":"IFERROR(ROUNDUP(SUM(Table3[[#This Row],[Actual W]]/VLOOKUP(AQ13,roomnames[],4,0)),0),\"\")","v":""},{"$f":"IFERROR(ROUNDUP(SUM(Table3[[#This Row],[Actual H]]/VLOOKUP(AQ13,roomnames[],5,0)),0),\"\")","v":""},{"$f":"(Table3[[#This Row],[Actual W]]*Table3[[#This Row],[Actual H]])/1000000","v":0},{"$f":"IFERROR(ROUNDUP(SUM(Table3[[#This Row],[Rectified]]/VLOOKUP(Table3[[#This Row],[Actual W]],roomnames[],5,0)),0),\"\")","v":""},{"$f":"0","v":0},{"$f":"0","v":0},{"$f":"_xlfn.ISFORMULA(Table3[[#This Row],[Qty Tiles]])","v":true},{"$f":"IF(Table3[[#This Row],[Formula Trap]]=TRUE,1,0)","v":1},{"$f":"0","v":0}]
[{"$f":"CONCATENATE(\" \",F14)","v":" Floor Tiles"},{"$f":"SUM(roomnames[Floor Lab])","v":0},{"$f":"SUM(roomnames[Floor suply in m2])","v":0},null,null,"Floor Tiles",null,null,null,{"$f":"CONCATENATE(roomnames[[#This Row],[Where]],\" - \",roomnames[[#This Row],[Type]])","v":"Bathroom - Floor Tiles"},"Bathroom","Floor Tiles",300,300,{"$f":"SUMIF(Table3[],roomnames[[#This Row],[Locations]],Table3[Qty Tiles])","v":0},{"$f":"IF(roomnames[[#This Row],[2nd Supplier]]=\"No\",$G$9,\"\")","v":0},{"$f":"IF(roomnames[[#This Row],[2nd Supplier]]=\"Yes\",$G$10,\"\")","v":""},{"$f":"IF(roomnames[[#This Row],[2nd Supplier]]=\"no\",      SUM((roomnames[[#This Row],[Wall Supply in m2]]+roomnames[[#This Row],[Floor suply in m2]]+roomnames[[#This Row],[Feat supply in m2]]+roomnames[[#This Row],[other supply in m2]])*roomnames[[#This Row],[1st S/Cost]]),\nIF(roomnames[[#This Row],[2nd Supplier]]=\"yes\",   0))","v":0},{"$f":"IF(roomnames[[#This Row],[2nd Supplier]]=\"Yes\",      SUM((roomnames[[#This Row],[Wall Supply in m2]]+roomnames[[#This Row],[Floor suply in m2]]+roomnames[[#This Row],[Feat supply in m2]]+roomnames[[#This Row],[other supply in m2]])*roomnames[[#This Row],[2nd S/Cost]]),\nIF(roomnames[[#This Row],[2nd Supplier]]=\"No\",   0))","v":0},{"$f":"IF(roomnames[[#This Row],[Type]]=$F$13,   SUMIF(Table3[],roomnames[[#This Row],[Locations]],Table3[Labour]),0)","v":0},{"$f":"IF(roomnames[[#This Row],[Type]]=$F$14,   SUMIF(Table3[],roomnames[[#This Row],[Locations]],Table3[Labour]),0)","v":0},{"$f":"IF(roomnames[[#This Row],[Type]]=$F$15,   SUMIF(Table3[],roomnames[[#This Row],[Locations]],Table3[Labour]),0)","v":0},{"$f":"IF(roomnames[[#This Row],[Type]]=$F$16,   SUMIF(Table3[],roomnames[[#This Row],[Locations]],Table3[Labour]),0)","v":0},null,{"$f":"IF(roomnames[[#This Row],[Type]]=$F$13,roomnames[[#This Row],[Count Tiles]],0)","v":0},{"$f":"IF(roomnames[[#This Row],[Type]]=$F$14,roomnames[[#This Row],[Count Tiles]],0)","v":0},{"$f":"IF(roomnames[[#This Row],[Type]]=$F$15,roomnames[[#This Row],[Count Tiles]],0)","v":0},{"$f":"IF(roomnames[[#This Row],[Type]]=$F$16,roomnames[[#This Row],[Count Tiles]],0)","v":0},{"$f":"IF(roomnames[[#This Row],[Wall tile qty]]>0,                   SUM(roomnames[[#This Row],[Count Tiles]]*                   ((roomnames[[#This Row],[Tile Width]]*roomnames[[#This Row],[Tile Height]])))            /1000000,0)","v":0},{"$f":"IF(roomnames[[#This Row],[Floor tile qty]]>0.001,SUM(roomnames[[#This Row],[Count Tiles]]*(roomnames[[#This Row],[Tile Width]]*roomnames[[#This Row],[Tile Height]]))/1000000,0)","v":0},{"$f":"IF(roomnames[[#This Row],[Fet tile qty]]>0.001,SUM(roomnames[[#This Row],[Count Tiles]]*(roomnames[[#This Row],[Tile Width]]*roomnames[[#This Row],[Tile Height]]))/1000000,)","v":0},{"$f":"IF(roomnames[[#This Row],[Other tile qty]]>0.001,SUM(roomnames[[#This Row],[Count Tiles]]*(roomnames[[#This Row],[Tile Width]]*roomnames[[#This Row],[Tile Height]]))/1000000,0)","v":0},null,null,{"$f":"IF(roomnames[[#This Row],[Porcl]]=\"yes\",roomnames[[#This Row],[Wall Lab]]+roomnames[[#This Row],[Floor Lab]]+roomnames[[#This Row],[Fet Lab]]+roomnames[[#This Row],[Othr Lab]],0)","v":0},{"$f":"IF(roomnames[[#This Row],[EO Std]]=\"yes\",roomnames[[#This Row],[Wall Lab]]+roomnames[[#This Row],[Floor Lab]]+roomnames[[#This Row],[Fet Lab]]+roomnames[[#This Row],[Othr Lab]],0)","v":0},"No","No","No",null,null,null,null,null,null,null,null,null,null,{"$f":"IFERROR(SUM(Table3[[#This Row],[Tile Wide]]*Table3[[#This Row],[Tile High]]),\"\")","v":""},{"$f":"IFERROR(ROUNDUP(SUM(Table3[[#This Row],[Actual W]]/VLOOKUP(AQ14,roomnames[],4,0)),0),\"\")","v":""},{"$f":"IFERROR(ROUNDUP(SUM(Table3[[#This Row],[Actual H]]/VLOOKUP(AQ14,roomnames[],5,0)),0),\"\")","v":""},{"$f":"(Table3[[#This Row],[Actual W]]*Table3[[#This Row],[Actual H]])/1000000","v":0},{"$f":"IFERROR(ROUNDUP(SUM(Table3[[#This Row],[Rectified]]/VLOOKUP(Table3[[#This Row],[Actual W]],roomnames[],5,0)),0),\"\")","v":""},{"$f":"0","v":0},{"$f":"0","v":0},{"$f":"_xlfn.ISFORMULA(Table3[[#This Row],[Qty Tiles]])","v":true},{"$f":"IF(Table3[[#This Row],[Formula Trap]]=TRUE,1,0)","v":1},{"$f":"0","v":0}]
[{"$f":"CONCATENATE(\" \",F15)","v":" Feature Tiles"},{"$f":"SUM(roomnames[Fet Lab])","v":0},{"$f":"SUM(roomnames[Feat supply in m2])","v":0},null,null,"Feature Tiles",null,null,null,{"$f":"CONCATENATE(roomnames[[#This Row],[Where]],\" - \",roomnames[[#This Row],[Type]])","v":"Ensuite - Wall Tiles"},"Ensuite","Wall Tiles",400,200,{"$f":"SUMIF(Table3[],roomnames[[#This Row],[Locations]],Table3[Qty Tiles])","v":0},{"$f":"IF(roomnames[[#This Row],[2nd Supplier]]=\"No\",$G$9,\"\")","v":0},{"$f":"IF(roomnames[[#This Row],[2nd Supplier]]=\"Yes\",$G$10,\"\")","v":""},{"$f":"IF(roomnames[[#This Row],[2nd Supplier]]=\"no\",      SUM((roomnames[[#This Row],[Wall Supply in m2]]+roomnames[[#This Row],[Floor suply in m2]]+roomnames[[#This Row],[Feat supply in m2]]+roomnames[[#This Row],[other supply in m2]])*roomnames[[#This Row],[1st S/Cost]]),\nIF(roomnames[[#This Row],[2nd Supplier]]=\"yes\",   0))","v":0},{"$f":"IF(roomnames[[#This Row],[2nd Supplier]]=\"Yes\",      SUM((roomnames[[#This Row],[Wall Supply in m2]]+roomnames[[#This Row],[Floor suply in m2]]+roomnames[[#This Row],[Feat supply in m2]]+roomnames[[#This Row],[other supply in m2]])*roomnames[[#This Row],[2nd S/Cost]]),\nIF(roomnames[[#This Row],[2nd Supplier]]=\"No\",   0))","v":0},{"$f":"IF(roomnames[[#This Row],[Type]]=$F$13,   SUMIF(Table3[],roomnames[[#This Row],[Locations]],Table3[Labour]),0)","v":0},{"$f":"IF(roomnames[[#This Row],[Type]]=$F$14,   SUMIF(Table3[],roomnames[[#This Row],[Locations]],Table3[Labour]),0)","v":0},{"$f":"IF(roomnames[[#This Row],[Type]]=$F$15,   SUMIF(Table3[],roomnames[[#This Row],[Locations]],Table3[Labour]),0)","v":0},{"$f":"IF(roomnames[[#This Row],[Type]]=$F$16,   SUMIF(Table3[],roomnames[[#This Row],[Locations]],Table3[Labour]),0)","v":0},null,{"$f":"IF(roomnames[[#This Row],[Type]]=$F$13,roomnames[[#This Row],[Count Tiles]],0)","v":0},{"$f":"IF(roomnames[[#This Row],[Type]]=$F$14,roomnames[[#This Row],[Count Tiles]],0)","v":0},{"$f":"IF(roomnames[[#This Row],[Type]]=$F$15,roomnames[[#This Row],[Count Tiles]],0)","v":0},{"$f":"IF(roomnames[[#This Row],[Type]]=$F$16,roomnames[[#This Row],[Count Tiles]],0)","v":0},{"$f":"IF(roomnames[[#This Row],[Wall tile qty]]>0,                   SUM(roomnames[[#This Row],[Count Tiles]]*                   ((roomnames[[#This Row],[Tile Width]]*roomnames[[#This Row],[Tile Height]])))            /1000000,0)","v":0},{"$f":"IF(roomnames[[#This Row],[Floor tile qty]]>0.001,SUM(roomnames[[#This Row],[Count Tiles]]*(roomnames[[#This Row],[Tile Width]]*roomnames[[#This Row],[Tile Height]]))/1000000,0)","v":0},{"$f":"IF(roomnames[[#This Row],[Fet tile qty]]>0.001,SUM(roomnames[[#This Row],[Count Tiles]]*(roomnames[[#This Row],[Tile Width]]*roomnames[[#This Row],[Tile Height]]))/1000000,)","v":0},{"$f":"IF(roomnames[[#This Row],[Other tile qty]]>0.001,SUM(roomnames[[#This Row],[Count Tiles]]*(roomnames[[#This Row],[Tile Width]]*roomnames[[#This Row],[Tile Height]]))/1000000,0)","v":0},null,null,{"$f":"IF(roomnames[[#This Row],[Porcl]]=\"yes\",roomnames[[#This Row],[Wall Lab]]+roomnames[[#This Row],[Floor Lab]]+roomnames[[#This Row],[Fet Lab]]+roomnames[[#This Row],[Othr Lab]],0)","v":0},{"$f":"IF(roomnames[[#This Row],[EO Std]]=\"yes\",roomnames[[#This Row],[Wall Lab]]+roomnames[[#This Row],[Floor Lab]]+roomnames[[#This Row],[Fet Lab]]+roomnames[[#This Row],[Othr Lab]],0)","v":0},"No","No","No",null,null,null,null,null,null,null,null,null,null,{"$f":"IFERROR(SUM(Table3[[#This Row],[Tile Wide]]*Table3[[#This Row],[Tile High]]),\"\")","v":""},{"$f":"IFERROR(ROUNDUP(SUM(Table3[[#This Row],[Actual W]]/VLOOKUP(AQ15,roomnames[],4,0)),0),\"\")","v":""},{"$f":"IFERROR(ROUNDUP(SUM(Table3[[#This Row],[Actual H]]/VLOOKUP(AQ15,roomnames[],5,0)),0),\"\")","v":""},{"$f":"(Table3[[#This Row],[Actual W]]*Table3[[#This Row],[Actual H]])/1000000","v":0},{"$f":"IFERROR(ROUNDUP(SUM(Table3[[#This Row],[Rectified]]/VLOOKUP(Table3[[#This Row],[Actual W]],roomnames[],5,0)),0),\"\")","v":""},{"$f":"0","v":0},{"$f":"0","v":0},{"$f":"_xlfn.ISFORMULA(Table3[[#This Row],[Qty Tiles]])","v":true},{"$f":"IF(Table3[[#This Row],[Formula Trap]]=TRUE,1,0)","v":1},{"$f":"0","v":0}]
[{"$f":"CONCATENATE(\" \",F16)","v":" Feature 2"},{"$f":"SUM(roomnames[Othr Lab])","v":0},{"$f":"SUM(roomnames[other supply in m2])","v":0},null,null,"Feature 2",null,null,null,{"$f":"CONCATENATE(roomnames[[#This Row],[Where]],\" - \",roomnames[[#This Row],[Type]])","v":"Ensuite - Feature Tiles"},"Ensuite","Feature Tiles",null,null,{"$f":"SUMIF(Table3[],roomnames[[#This Row],[Locations]],Table3[Qty Tiles])","v":0},{"$f":"IF(roomnames[[#This Row],[2nd Supplier]]=\"No\",$G$9,\"\")","v":0},{"$f":"IF(roomnames[[#This Row],[2nd Supplier]]=\"Yes\",$G$10,\"\")","v":""},{"$f":"IF(roomnames[[#This Row],[2nd Supplier]]=\"no\",      SUM((roomnames[[#This Row],[Wall Supply in m2]]+roomnames[[#This Row],[Floor suply in m2]]+roomnames[[#This Row],[Feat supply in m2]]+roomnames[[#This Row],[other supply in m2]])*roomnames[[#This Row],[1st S/Cost]]),\nIF(roomnames[[#This Row],[2nd Supplier]]=\"yes\",   0))","v":0},{"$f":"IF(roomnames[[#This Row],[2nd Supplier]]=\"Yes\",      SUM((roomnames[[#This Row],[Wall Supply in m2]]+roomnames[[#This Row],[Floor suply in m2]]+roomnames[[#This Row],[Feat supply in m2]]+roomnames[[#This Row],[other supply in m2]])*roomnames[[#This Row],[2nd S/Cost]]),\nIF(roomnames[[#This Row],[2nd Supplier]]=\"No\",   0))","v":0},{"$f":"IF(roomnames[[#This Row],[Type]]=$F$13,   SUMIF(Table3[],roomnames[[#This Row],[Locations]],Table3[Labour]),0)","v":0},{"$f":"IF(roomnames[[#This Row],[Type]]=$F$14,   SUMIF(Table3[],roomnames[[#This Row],[Locations]],Table3[Labour]),0)","v":0},{"$f":"IF(roomnames[[#This Row],[Type]]=$F$15,   SUMIF(Table3[],roomnames[[#This Row],[Locations]],Table3[Labour]),0)","v":0},{"$f":"IF(roomnames[[#This Row],[Type]]=$F$16,   SUMIF(Table3[],roomnames[[#This Row],[Locations]],Table3[Labour]),0)","v":0},null,{"$f":"IF(roomnames[[#This Row],[Type]]=$F$13,roomnames[[#This Row],[Count Tiles]],0)","v":0},{"$f":"IF(roomnames[[#This Row],[Type]]=$F$14,roomnames[[#This Row],[Count Tiles]],0)","v":0},{"$f":"IF(roomnames[[#This Row],[Type]]=$F$15,roomnames[[#This Row],[Count Tiles]],0)","v":0},{"$f":"IF(roomnames[[#This Row],[Type]]=$F$16,roomnames[[#This Row],[Count Tiles]],0)","v":0},{"$f":"IF(roomnames[[#This Row],[Wall tile qty]]>0,                   SUM(roomnames[[#This Row],[Count Tiles]]*                   ((roomnames[[#This Row],[Tile Width]]*roomnames[[#This Row],[Tile Height]])))            /1000000,0)","v":0},{"$f":"IF(roomnames[[#This Row],[Floor tile qty]]>0.001,SUM(roomnames[[#This Row],[Count Tiles]]*(roomnames[[#This Row],[Tile Width]]*roomnames[[#This Row],[Tile Height]]))/1000000,0)","v":0},{"$f":"IF(roomnames[[#This Row],[Fet tile qty]]>0.001,SUM(roomnames[[#This Row],[Count Tiles]]*(roomnames[[#This Row],[Tile Width]]*roomnames[[#This Row],[Tile Height]]))/1000000,)","v":0},{"$f":"IF(roomnames[[#This Row],[Other tile qty]]>0.001,SUM(roomnames[[#This Row],[Count Tiles]]*(roomnames[[#This Row],[Tile Width]]*roomnames[[#This Row],[Tile Height]]))/1000000,0)","v":0},null,null,{"$f":"IF(roomnames[[#This Row],[Porcl]]=\"yes\",roomnames[[#This Row],[Wall Lab]]+roomnames[[#This Row],[Floor Lab]]+roomnames[[#This Row],[Fet Lab]]+roomnames[[#This Row],[Othr Lab]],0)","v":0},{"$f":"IF(roomnames[[#This Row],[EO Std]]=\"yes\",roomnames[[#This Row],[Wall Lab]]+roomnames[[#This Row],[Floor Lab]]+roomnames[[#This Row],[Fet Lab]]+roomnames[[#This Row],[Othr Lab]],0)","v":0},"No","No","No",null,null,null,null,null,null,null,null,null,null,{"$f":"IFERROR(SUM(Table3[[#This Row],[Tile Wide]]*Table3[[#This Row],[Tile High]]),\"\")","v":""},{"$f":"IFERROR(ROUNDUP(SUM(Table3[[#This Row],[Actual W]]/VLOOKUP(AQ16,roomnames[],4,0)),0),\"\")","v":""},{"$f":"IFERROR(ROUNDUP(SUM(Table3[[#This Row],[Actual H]]/VLOOKUP(AQ16,roomnames[],5,0)),0),\"\")","v":""},{"$f":"(Table3[[#This Row],[Actual W]]*Table3[[#This Row],[Actual H]])/1000000","v":0},{"$f":"IFERROR(ROUNDUP(SUM(Table3[[#This Row],[Rectified]]/VLOOKUP(Table3[[#This Row],[Actual W]],roomnames[],5,0)),0),\"\")","v":""},{"$f":"0","v":0},{"$f":"0","v":0},{"$f":"_xlfn.ISFORMULA(Table3[[#This Row],[Qty Tiles]])","v":true},{"$f":"IF(Table3[[#This Row],[Formula Trap]]=TRUE,1,0)","v":1},{"$f":"0","v":0}]
["Total",{"$f":"SUM(B13:B16)","v":0},{"$f":"SUM(C13:C16)","v":0},null,null,"Grout 1.5kg",{"$f":"IF(Tiling!$F$9=Lists!$V$131,ROUNDUP(Tiling!$C$17/3+2,0),IF(Tiling!$F$9=Lists!$V$137,ROUNDUP(Tiling!$C$17/3+2,0),\"\"))","v":""},null,null,{"$f":"CONCATENATE(roomnames[[#This Row],[Where]],\" - \",roomnames[[#This Row],[Type]])","v":"Ensuite - Floor Tiles"},"Ensuite","Floor Tiles",300,300,{"$f":"SUMIF(Table3[],roomnames[[#This Row],[Locations]],Table3[Qty Tiles])","v":0},{"$f":"IF(roomnames[[#This Row],[2nd Supplier]]=\"No\",$G$9,\"\")","v":0},{"$f":"IF(roomnames[[#This Row],[2nd Supplier]]=\"Yes\",$G$10,\"\")","v":""},{"$f":"IF(roomnames[[#This Row],[2nd Supplier]]=\"no\",      SUM((roomnames[[#This Row],[Wall Supply in m2]]+roomnames[[#This Row],[Floor suply in m2]]+roomnames[[#This Row],[Feat supply in m2]]+roomnames[[#This Row],[other supply in m2]])*roomnames[[#This Row],[1st S/Cost]]),\nIF(roomnames[[#This Row],[2nd Supplier]]=\"yes\",   0))","v":0},{"$f":"IF(roomnames[[#This Row],[2nd Supplier]]=\"Yes\",      SUM((roomnames[[#This Row],[Wall Supply in m2]]+roomnames[[#This Row],[Floor suply in m2]]+roomnames[[#This Row],[Feat supply in m2]]+roomnames[[#This Row],[other supply in m2]])*roomnames[[#This Row],[2nd S/Cost]]),\nIF(roomnames[[#This Row],[2nd Supplier]]=\"No\",   0))","v":0},{"$f":"IF(roomnames[[#This Row],[Type]]=$F$13,   SUMIF(Table3[],roomnames[[#This Row],[Locations]],Table3[Labour]),0)","v":0},{"$f":"IF(roomnames[[#This Row],[Type]]=$F$14,   SUMIF(Table3[],roomnames[[#This Row],[Locations]],Table3[Labour]),0)","v":0},{"$f":"IF(roomnames[[#This Row],[Type]]=$F$15,   SUMIF(Table3[],roomnames[[#This Row],[Locations]],Table3[Labour]),0)","v":0},{"$f":"IF(roomnames[[#This Row],[Type]]=$F$16,   SUMIF(Table3[],roomnames[[#This Row],[Locations]],Table3[Labour]),0)","v":0},null,{"$f":"IF(roomnames[[#This Row],[Type]]=$F$13,roomnames[[#This Row],[Count Tiles]],0)","v":0},{"$f":"IF(roomnames[[#This Row],[Type]]=$F$14,roomnames[[#This Row],[Count Tiles]],0)","v":0},{"$f":"IF(roomnames[[#This Row],[Type]]=$F$15,roomnames[[#This Row],[Count Tiles]],0)","v":0},{"$f":"IF(roomnames[[#This Row],[Type]]=$F$16,roomnames[[#This Row],[Count Tiles]],0)","v":0},{"$f":"IF(roomnames[[#This Row],[Wall tile qty]]>0,                   SUM(roomnames[[#This Row],[Count Tiles]]*                   ((roomnames[[#This Row],[Tile Width]]*roomnames[[#This Row],[Tile Height]])))            /1000000,0)","v":0},{"$f":"IF(roomnames[[#This Row],[Floor tile qty]]>0.001,SUM(roomnames[[#This Row],[Count Tiles]]*(roomnames[[#This Row],[Tile Width]]*roomnames[[#This Row],[Tile Height]]))/1000000,0)","v":0},{"$f":"IF(roomnames[[#This Row],[Fet tile qty]]>0.001,SUM(roomnames[[#This Row],[Count Tiles]]*(roomnames[[#This Row],[Tile Width]]*roomnames[[#This Row],[Tile Height]]))/1000000,)","v":0},{"$f":"IF(roomnames[[#This Row],[Other tile qty]]>0.001,SUM(roomnames[[#This Row],[Count Tiles]]*(roomnames[[#This Row],[Tile Width]]*roomnames[[#This Row],[Tile Height]]))/1000000,0)","v":0},null,null,{"$f":"IF(roomnames[[#This Row],[Porcl]]=\"yes\",roomnames[[#This Row],[Wall Lab]]+roomnames[[#This Row],[Floor Lab]]+roomnames[[#This Row],[Fet Lab]]+roomnames[[#This Row],[Othr Lab]],0)","v":0},{"$f":"IF(roomnames[[#This Row],[EO Std]]=\"yes\",roomnames[[#This Row],[Wall Lab]]+roomnames[[#This Row],[Floor Lab]]+roomnames[[#This Row],[Fet Lab]]+roomnames[[#This Row],[Othr Lab]],0)","v":0},"No","No","No",null,null,null,null,null,null,null,null,null,null,{"$f":"IFERROR(SUM(Table3[[#This Row],[Tile Wide]]*Table3[[#This Row],[Tile High]]),\"\")","v":""},{"$f":"IFERROR(ROUNDUP(SUM(Table3[[#This Row],[Actual W]]/VLOOKUP(AQ17,roomnames[],4,0)),0),\"\")","v":""},{"$f":"IFERROR(ROUNDUP(SUM(Table3[[#This Row],[Actual H]]/VLOOKUP(AQ17,roomnames[],5,0)),0),\"\")","v":""},{"$f":"(Table3[[#This Row],[Actual W]]*Table3[[#This Row],[Actual H]])/1000000","v":0},{"$f":"IFERROR(ROUNDUP(SUM(Table3[[#This Row],[Rectified]]/VLOOKUP(Table3[[#This Row],[Actual W]],roomnames[],5,0)),0),\"\")","v":""},{"$f":"0","v":0},{"$f":"0","v":0},{"$f":"_xlfn.ISFORMULA(Table3[[#This Row],[Qty Tiles]])","v":true},{"$f":"IF(Table3[[#This Row],[Formula Trap]]=TRUE,1,0)","v":1},{"$f":"0","v":0}]
["Total Value 1st S",{"$f":"IF(SUM(roomnames[1st S/Total])>0,SUM(roomnames[1st S/Total]),\"-\")","v":"-"},null,null,null,"Grout 2.0kg",{"$f":"IF($F$9=Lists!$V$132,ROUNDUP($C$17/4,0),IF($F$9=Lists!$V$134,ROUNDUP($C$17/4,0),\"\"))","v":0},null,null,{"$f":"CONCATENATE(roomnames[[#This Row],[Where]],\" - \",roomnames[[#This Row],[Type]])","v":"Kitchen - Wall Tiles"},"Kitchen","Wall Tiles",400,200,{"$f":"SUMIF(Table3[],roomnames[[#This Row],[Locations]],Table3[Qty Tiles])","v":0},{"$f":"IF(roomnames[[#This Row],[2nd Supplier]]=\"No\",$G$9,\"\")","v":0},{"$f":"IF(roomnames[[#This Row],[2nd Supplier]]=\"Yes\",$G$10,\"\")","v":""},{"$f":"IF(roomnames[[#This Row],[2nd Supplier]]=\"no\",      SUM((roomnames[[#This Row],[Wall Supply in m2]]+roomnames[[#This Row],[Floor suply in m2]]+roomnames[[#This Row],[Feat supply in m2]]+roomnames[[#This Row],[other supply in m2]])*roomnames[[#This Row],[1st S/Cost]]),\nIF(roomnames[[#This Row],[2nd Supplier]]=\"yes\",   0))","v":0},{"$f":"IF(roomnames[[#This Row],[2nd Supplier]]=\"Yes\",      SUM((roomnames[[#This Row],[Wall Supply in m2]]+roomnames[[#This Row],[Floor suply in m2]]+roomnames[[#This Row],[Feat supply in m2]]+roomnames[[#This Row],[other supply in m2]])*roomnames[[#This Row],[2nd S/Cost]]),\nIF(roomnames[[#This Row],[2nd Supplier]]=\"No\",   0))","v":0},{"$f":"IF(roomnames[[#This Row],[Type]]=$F$13,   SUMIF(Table3[],roomnames[[#This Row],[Locations]],Table3[Labour]),0)","v":0},{"$f":"IF(roomnames[[#This Row],[Type]]=$F$14,   SUMIF(Table3[],roomnames[[#This Row],[Locations]],Table3[Labour]),0)","v":0},{"$f":"IF(roomnames[[#This Row],[Type]]=$F$15,   SUMIF(Table3[],roomnames[[#This Row],[Locations]],Table3[Labour]),0)","v":0},{"$f":"IF(roomnames[[#This Row],[Type]]=$F$16,   SUMIF(Table3[],roomnames[[#This Row],[Locations]],Table3[Labour]),0)","v":0},null,{"$f":"IF(roomnames[[#This Row],[Type]]=$F$13,roomnames[[#This Row],[Count Tiles]],0)","v":0},{"$f":"IF(roomnames[[#This Row],[Type]]=$F$14,roomnames[[#This Row],[Count Tiles]],0)","v":0},{"$f":"IF(roomnames[[#This Row],[Type]]=$F$15,roomnames[[#This Row],[Count Tiles]],0)","v":0},{"$f":"IF(roomnames[[#This Row],[Type]]=$F$16,roomnames[[#This Row],[Count Tiles]],0)","v":0},{"$f":"IF(roomnames[[#This Row],[Wall tile qty]]>0,                   SUM(roomnames[[#This Row],[Count Tiles]]*                   ((roomnames[[#This Row],[Tile Width]]*roomnames[[#This Row],[Tile Height]])))            /1000000,0)","v":0},{"$f":"IF(roomnames[[#This Row],[Floor tile qty]]>0.001,SUM(roomnames[[#This Row],[Count Tiles]]*(roomnames[[#This Row],[Tile Width]]*roomnames[[#This Row],[Tile Height]]))/1000000,0)","v":0},{"$f":"IF(roomnames[[#This Row],[Fet tile qty]]>0.001,SUM(roomnames[[#This Row],[Count Tiles]]*(roomnames[[#This Row],[Tile Width]]*roomnames[[#This Row],[Tile Height]]))/1000000,)","v":0},{"$f":"IF(roomnames[[#This Row],[Other tile qty]]>0.001,SUM(roomnames[[#This Row],[Count Tiles]]*(roomnames[[#This Row],[Tile Width]]*roomnames[[#This Row],[Tile Height]]))/1000000,0)","v":0},null,null,{"$f":"IF(roomnames[[#This Row],[Porcl]]=\"yes\",roomnames[[#This Row],[Wall Lab]]+roomnames[[#This Row],[Floor Lab]]+roomnames[[#This Row],[Fet Lab]]+roomnames[[#This Row],[Othr Lab]],0)","v":0},{"$f":"IF(roomnames[[#This Row],[EO Std]]=\"yes\",roomnames[[#This Row],[Wall Lab]]+roomnames[[#This Row],[Floor Lab]]+roomnames[[#This Row],[Fet Lab]]+roomnames[[#This Row],[Othr Lab]],0)","v":0},"No","No","No",null,null,null,null,null,null,null,null,null,null,{"$f":"IFERROR(SUM(Table3[[#This Row],[Tile Wide]]*Table3[[#This Row],[Tile High]]),\"\")","v":""},{"$f":"IFERROR(ROUNDUP(SUM(Table3[[#This Row],[Actual W]]/VLOOKUP(AQ18,roomnames[],4,0)),0),\"\")","v":""},{"$f":"IFERROR(ROUNDUP(SUM(Table3[[#This Row],[Actual H]]/VLOOKUP(AQ18,roomnames[],5,0)),0),\"\")","v":""},{"$f":"(Table3[[#This Row],[Actual W]]*Table3[[#This Row],[Actual H]])/1000000","v":0},{"$f":"IFERROR(ROUNDUP(SUM(Table3[[#This Row],[Rectified]]/VLOOKUP(Table3[[#This Row],[Actual W]],roomnames[],5,0)),0),\"\")","v":""},{"$f":"0","v":0},{"$f":"0","v":0},{"$f":"_xlfn.ISFORMULA(Table3[[#This Row],[Qty Tiles]])","v":true},{"$f":"IF(Table3[[#This Row],[Formula Trap]]=TRUE,1,0)","v":1},{"$f":"0","v":0}]
["Total Value 2nd S",{"$f":"SUM(roomnames[2nd S/Total])","v":0},null,null,null,"Grout 2.5kg",{"$f":"IF(F9=Lists!V136,ROUNDUP(C17/5,0),\"\")","v":0},null,null,{"$f":"CONCATENATE(roomnames[[#This Row],[Where]],\" - \",roomnames[[#This Row],[Type]])","v":"Laundry - Wall Tiles"},"Laundry","Wall Tiles",400,200,{"$f":"SUMIF(Table3[],roomnames[[#This Row],[Locations]],Table3[Qty Tiles])","v":0},{"$f":"IF(roomnames[[#This Row],[2nd Supplier]]=\"No\",$G$9,\"\")","v":0},{"$f":"IF(roomnames[[#This Row],[2nd Supplier]]=\"Yes\",$G$10,\"\")","v":""},{"$f":"IF(roomnames[[#This Row],[2nd Supplier]]=\"no\",      SUM((roomnames[[#This Row],[Wall Supply in m2]]+roomnames[[#This Row],[Floor suply in m2]]+roomnames[[#This Row],[Feat supply in m2]]+roomnames[[#This Row],[other supply in m2]])*roomnames[[#This Row],[1st S/Cost]]),\nIF(roomnames[[#This Row],[2nd Supplier]]=\"yes\",   0))","v":0},{"$f":"IF(roomnames[[#This Row],[2nd Supplier]]=\"Yes\",      SUM((roomnames[[#This Row],[Wall Supply in m2]]+roomnames[[#This Row],[Floor suply in m2]]+roomnames[[#This Row],[Feat supply in m2]]+roomnames[[#This Row],[other supply in m2]])*roomnames[[#This Row],[2nd S/Cost]]),\nIF(roomnames[[#This Row],[2nd Supplier]]=\"No\",   0))","v":0},{"$f":"IF(roomnames[[#This Row],[Type]]=$F$13,   SUMIF(Table3[],roomnames[[#This Row],[Locations]],Table3[Labour]),0)","v":0},{"$f":"IF(roomnames[[#This Row],[Type]]=$F$14,   SUMIF(Table3[],roomnames[[#This Row],[Locations]],Table3[Labour]),0)","v":0},{"$f":"IF(roomnames[[#This Row],[Type]]=$F$15,   SUMIF(Table3[],roomnames[[#This Row],[Locations]],Table3[Labour]),0)","v":0},{"$f":"IF(roomnames[[#This Row],[Type]]=$F$16,   SUMIF(Table3[],roomnames[[#This Row],[Locations]],Table3[Labour]),0)","v":0},null,{"$f":"IF(roomnames[[#This Row],[Type]]=$F$13,roomnames[[#This Row],[Count Tiles]],0)","v":0},{"$f":"IF(roomnames[[#This Row],[Type]]=$F$14,roomnames[[#This Row],[Count Tiles]],0)","v":0},{"$f":"IF(roomnames[[#This Row],[Type]]=$F$15,roomnames[[#This Row],[Count Tiles]],0)","v":0},{"$f":"IF(roomnames[[#This Row],[Type]]=$F$16,roomnames[[#This Row],[Count Tiles]],0)","v":0},{"$f":"IF(roomnames[[#This Row],[Wall tile qty]]>0,                   SUM(roomnames[[#This Row],[Count Tiles]]*                   ((roomnames[[#This Row],[Tile Width]]*roomnames[[#This Row],[Tile Height]])))            /1000000,0)","v":0},{"$f":"IF(roomnames[[#This Row],[Floor tile qty]]>0.001,SUM(roomnames[[#This Row],[Count Tiles]]*(roomnames[[#This Row],[Tile Width]]*roomnames[[#This Row],[Tile Height]]))/1000000,0)","v":0},{"$f":"IF(roomnames[[#This Row],[Fet tile qty]]>0.001,SUM(roomnames[[#This Row],[Count Tiles]]*(roomnames[[#This Row],[Tile Width]]*roomnames[[#This Row],[Tile Height]]))/1000000,)","v":0},{"$f":"IF(roomnames[[#This Row],[Other tile qty]]>0.001,SUM(roomnames[[#This Row],[Count Tiles]]*(roomnames[[#This Row],[Tile Width]]*roomnames[[#This Row],[Tile Height]]))/1000000,0)","v":0},null,null,{"$f":"IF(roomnames[[#This Row],[Porcl]]=\"yes\",roomnames[[#This Row],[Wall Lab]]+roomnames[[#This Row],[Floor Lab]]+roomnames[[#This Row],[Fet Lab]]+roomnames[[#This Row],[Othr Lab]],0)","v":0},{"$f":"IF(roomnames[[#This Row],[EO Std]]=\"yes\",roomnames[[#This Row],[Wall Lab]]+roomnames[[#This Row],[Floor Lab]]+roomnames[[#This Row],[Fet Lab]]+roomnames[[#This Row],[Othr Lab]],0)","v":0},"No","No","No",null,null,null,null,null,null,null,null,null,null,{"$f":"IFERROR(SUM(Table3[[#This Row],[Tile Wide]]*Table3[[#This Row],[Tile High]]),\"\")","v":""},{"$f":"IFERROR(ROUNDUP(SUM(Table3[[#This Row],[Actual W]]/VLOOKUP(AQ19,roomnames[],4,0)),0),\"\")","v":""},{"$f":"IFERROR(ROUNDUP(SUM(Table3[[#This Row],[Actual H]]/VLOOKUP(AQ19,roomnames[],5,0)),0),\"\")","v":""},{"$f":"(Table3[[#This Row],[Actual W]]*Table3[[#This Row],[Actual H]])/1000000","v":0},{"$f":"IFERROR(ROUNDUP(SUM(Table3[[#This Row],[Rectified]]/VLOOKUP(Table3[[#This Row],[Actual W]],roomnames[],5,0)),0),\"\")","v":""},{"$f":"0","v":0},{"$f":"0","v":0},{"$f":"_xlfn.ISFORMULA(Table3[[#This Row],[Qty Tiles]])","v":true},{"$f":"IF(Table3[[#This Row],[Formula Trap]]=TRUE,1,0)","v":1},{"$f":"0","v":0}]
[null,null,null,null,null,"Grout 5.0kg",{"$f":"IF($F$9=Lists!$V$134,ROUNDUP($C$17/10,0),\"\")","v":0},null,null,{"$f":"CONCATENATE(roomnames[[#This Row],[Where]],\" - \",roomnames[[#This Row],[Type]])","v":"Laundry - Floor Tiles"},"Laundry","Floor Tiles",300,300,{"$f":"SUMIF(Table3[],roomnames[[#This Row],[Locations]],Table3[Qty Tiles])","v":0},{"$f":"IF(roomnames[[#This Row],[2nd Supplier]]=\"No\",$G$9,\"\")","v":0},{"$f":"IF(roomnames[[#This Row],[2nd Supplier]]=\"Yes\",$G$10,\"\")","v":""},{"$f":"IF(roomnames[[#This Row],[2nd Supplier]]=\"no\",      SUM((roomnames[[#This Row],[Wall Supply in m2]]+roomnames[[#This Row],[Floor suply in m2]]+roomnames[[#This Row],[Feat supply in m2]]+roomnames[[#This Row],[other supply in m2]])*roomnames[[#This Row],[1st S/Cost]]),\nIF(roomnames[[#This Row],[2nd Supplier]]=\"yes\",   0))","v":0},{"$f":"IF(roomnames[[#This Row],[2nd Supplier]]=\"Yes\",      SUM((roomnames[[#This Row],[Wall Supply in m2]]+roomnames[[#This Row],[Floor suply in m2]]+roomnames[[#This Row],[Feat supply in m2]]+roomnames[[#This Row],[other supply in m2]])*roomnames[[#This Row],[2nd S/Cost]]),\nIF(roomnames[[#This Row],[2nd Supplier]]=\"No\",   0))","v":0},{"$f":"IF(roomnames[[#This Row],[Type]]=$F$13,   SUMIF(Table3[],roomnames[[#This Row],[Locations]],Table3[Labour]),0)","v":0},{"$f":"IF(roomnames[[#This Row],[Type]]=$F$14,   SUMIF(Table3[],roomnames[[#This Row],[Locations]],Table3[Labour]),0)","v":0},{"$f":"IF(roomnames[[#This Row],[Type]]=$F$15,   SUMIF(Table3[],roomnames[[#This Row],[Locations]],Table3[Labour]),0)","v":0},{"$f":"IF(roomnames[[#This Row],[Type]]=$F$16,   SUMIF(Table3[],roomnames[[#This Row],[Locations]],Table3[Labour]),0)","v":0},null,{"$f":"IF(roomnames[[#This Row],[Type]]=$F$13,roomnames[[#This Row],[Count Tiles]],0)","v":0},{"$f":"IF(roomnames[[#This Row],[Type]]=$F$14,roomnames[[#This Row],[Count Tiles]],0)","v":0},{"$f":"IF(roomnames[[#This Row],[Type]]=$F$15,roomnames[[#This Row],[Count Tiles]],0)","v":0},{"$f":"IF(roomnames[[#This Row],[Type]]=$F$16,roomnames[[#This Row],[Count Tiles]],0)","v":0},{"$f":"IF(roomnames[[#This Row],[Wall tile qty]]>0,                   SUM(roomnames[[#This Row],[Count Tiles]]*                   ((roomnames[[#This Row],[Tile Width]]*roomnames[[#This Row],[Tile Height]])))            /1000000,0)","v":0},{"$f":"IF(roomnames[[#This Row],[Floor tile qty]]>0.001,SUM(roomnames[[#This Row],[Count Tiles]]*(roomnames[[#This Row],[Tile Width]]*roomnames[[#This Row],[Tile Height]]))/1000000,0)","v":0},{"$f":"IF(roomnames[[#This Row],[Fet tile qty]]>0.001,SUM(roomnames[[#This Row],[Count Tiles]]*(roomnames[[#This Row],[Tile Width]]*roomnames[[#This Row],[Tile Height]]))/1000000,)","v":0},{"$f":"IF(roomnames[[#This Row],[Other tile qty]]>0.001,SUM(roomnames[[#This Row],[Count Tiles]]*(roomnames[[#This Row],[Tile Width]]*roomnames[[#This Row],[Tile Height]]))/1000000,0)","v":0},null,null,{"$f":"IF(roomnames[[#This Row],[Porcl]]=\"yes\",roomnames[[#This Row],[Wall Lab]]+roomnames[[#This Row],[Floor Lab]]+roomnames[[#This Row],[Fet Lab]]+roomnames[[#This Row],[Othr Lab]],0)","v":0},{"$f":"IF(roomnames[[#This Row],[EO Std]]=\"yes\",roomnames[[#This Row],[Wall Lab]]+roomnames[[#This Row],[Floor Lab]]+roomnames[[#This Row],[Fet Lab]]+roomnames[[#This Row],[Othr Lab]],0)","v":0},"No","No","No",null,null,null,null,null,null,null,null,null,null,{"$f":"IFERROR(SUM(Table3[[#This Row],[Tile Wide]]*Table3[[#This Row],[Tile High]]),\"\")","v":""},{"$f":"IFERROR(ROUNDUP(SUM(Table3[[#This Row],[Actual W]]/VLOOKUP(AQ20,roomnames[],4,0)),0),\"\")","v":""},{"$f":"IFERROR(ROUNDUP(SUM(Table3[[#This Row],[Actual H]]/VLOOKUP(AQ20,roomnames[],5,0)),0),\"\")","v":""},{"$f":"(Table3[[#This Row],[Actual W]]*Table3[[#This Row],[Actual H]])/1000000","v":0},{"$f":"IFERROR(ROUNDUP(SUM(Table3[[#This Row],[Rectified]]/VLOOKUP(Table3[[#This Row],[Actual W]],roomnames[],5,0)),0),\"\")","v":""},{"$f":"0","v":0},{"$f":"0","v":0},{"$f":"_xlfn.ISFORMULA(Table3[[#This Row],[Qty Tiles]])","v":true},{"$f":"IF(Table3[[#This Row],[Formula Trap]]=TRUE,1,0)","v":1},{"$f":"0","v":0}]
["EO Porc",{"$f":"SUM(roomnames[Porc m2])","v":0},null,null,null,"ULTRAFLEX",{"$f":"SUM(ROUNDUP(SUM(C17/7),0)+1)","v":1},null,null,{"$f":"CONCATENATE(roomnames[[#This Row],[Where]],\" - \",roomnames[[#This Row],[Type]])","v":"WC - Wall Tiles"},"WC","Wall Tiles",400,200,{"$f":"SUMIF(Table3[],roomnames[[#This Row],[Locations]],Table3[Qty Tiles])","v":0},{"$f":"IF(roomnames[[#This Row],[2nd Supplier]]=\"No\",$G$9,\"\")","v":0},{"$f":"IF(roomnames[[#This Row],[2nd Supplier]]=\"Yes\",$G$10,\"\")","v":""},{"$f":"IF(roomnames[[#This Row],[2nd Supplier]]=\"no\",      SUM((roomnames[[#This Row],[Wall Supply in m2]]+roomnames[[#This Row],[Floor suply in m2]]+roomnames[[#This Row],[Feat supply in m2]]+roomnames[[#This Row],[other supply in m2]])*roomnames[[#This Row],[1st S/Cost]]),\nIF(roomnames[[#This Row],[2nd Supplier]]=\"yes\",   0))","v":0},{"$f":"IF(roomnames[[#This Row],[2nd Supplier]]=\"Yes\",      SUM((roomnames[[#This Row],[Wall Supply in m2]]+roomnames[[#This Row],[Floor suply in m2]]+roomnames[[#This Row],[Feat supply in m2]]+roomnames[[#This Row],[other supply in m2]])*roomnames[[#This Row],[2nd S/Cost]]),\nIF(roomnames[[#This Row],[2nd Supplier]]=\"No\",   0))","v":0},{"$f":"IF(roomnames[[#This Row],[Type]]=$F$13,   SUMIF(Table3[],roomnames[[#This Row],[Locations]],Table3[Labour]),0)","v":0},{"$f":"IF(roomnames[[#This Row],[Type]]=$F$14,   SUMIF(Table3[],roomnames[[#This Row],[Locations]],Table3[Labour]),0)","v":0},{"$f":"IF(roomnames[[#This Row],[Type]]=$F$15,   SUMIF(Table3[],roomnames[[#This Row],[Locations]],Table3[Labour]),0)","v":0},{"$f":"IF(roomnames[[#This Row],[Type]]=$F$16,   SUMIF(Table3[],roomnames[[#This Row],[Locations]],Table3[Labour]),0)","v":0},null,{"$f":"IF(roomnames[[#This Row],[Type]]=$F$13,roomnames[[#This Row],[Count Tiles]],0)","v":0},{"$f":"IF(roomnames[[#This Row],[Type]]=$F$14,roomnames[[#This Row],[Count Tiles]],0)","v":0},{"$f":"IF(roomnames[[#This Row],[Type]]=$F$15,roomnames[[#This Row],[Count Tiles]],0)","v":0},{"$f":"IF(roomnames[[#This Row],[Type]]=$F$16,roomnames[[#This Row],[Count Tiles]],0)","v":0},{"$f":"IF(roomnames[[#This Row],[Wall tile qty]]>0,                   SUM(roomnames[[#This Row],[Count Tiles]]*                   ((roomnames[[#This Row],[Tile Width]]*roomnames[[#This Row],[Tile Height]])))            /1000000,0)","v":0},{"$f":"IF(roomnames[[#This Row],[Floor tile qty]]>0.001,SUM(roomnames[[#This Row],[Count Tiles]]*(roomnames[[#This Row],[Tile Width]]*roomnames[[#This Row],[Tile Height]]))/1000000,0)","v":0},{"$f":"IF(roomnames[[#This Row],[Fet tile qty]]>0.001,SUM(roomnames[[#This Row],[Count Tiles]]*(roomnames[[#This Row],[Tile Width]]*roomnames[[#This Row],[Tile Height]]))/1000000,)","v":0},{"$f":"IF(roomnames[[#This Row],[Other tile qty]]>0.001,SUM(roomnames[[#This Row],[Count Tiles]]*(roomnames[[#This Row],[Tile Width]]*roomnames[[#This Row],[Tile Height]]))/1000000,0)","v":0},null,null,{"$f":"IF(roomnames[[#This Row],[Porcl]]=\"yes\",roomnames[[#This Row],[Wall Lab]]+roomnames[[#This Row],[Floor Lab]]+roomnames[[#This Row],[Fet Lab]]+roomnames[[#This Row],[Othr Lab]],0)","v":0},{"$f":"IF(roomnames[[#This Row],[EO Std]]=\"yes\",roomnames[[#This Row],[Wall Lab]]+roomnames[[#This Row],[Floor Lab]]+roomnames[[#This Row],[Fet Lab]]+roomnames[[#This Row],[Othr Lab]],0)","v":0},"No","No","No",null,null,null,null,null,null,null,null,null,null,{"$f":"IFERROR(SUM(Table3[[#This Row],[Tile Wide]]*Table3[[#This Row],[Tile High]]),\"\")","v":""},{"$f":"IFERROR(ROUNDUP(SUM(Table3[[#This Row],[Actual W]]/VLOOKUP(AQ21,roomnames[],4,0)),0),\"\")","v":""},{"$f":"IFERROR(ROUNDUP(SUM(Table3[[#This Row],[Actual H]]/VLOOKUP(AQ21,roomnames[],5,0)),0),\"\")","v":""},{"$f":"(Table3[[#This Row],[Actual W]]*Table3[[#This Row],[Actual H]])/1000000","v":0},{"$f":"IFERROR(ROUNDUP(SUM(Table3[[#This Row],[Rectified]]/VLOOKUP(Table3[[#This Row],[Actual W]],roomnames[],5,0)),0),\"\")","v":""},{"$f":"0","v":0},{"$f":"0","v":0},{"$f":"_xlfn.ISFORMULA(Table3[[#This Row],[Qty Tiles]])","v":true},{"$f":"IF(Table3[[#This Row],[Formula Trap]]=TRUE,1,0)","v":1},{"$f":"0","v":0}]
["EO Size",{"$f":"SUM(roomnames[EO Std m2])","v":0},null,null,null,null,null,null,null,{"$f":"CONCATENATE(roomnames[[#This Row],[Where]],\" - \",roomnames[[#This Row],[Type]])","v":"WC - Floor Tiles"},"WC","Floor Tiles",300,300,{"$f":"SUMIF(Table3[],roomnames[[#This Row],[Locations]],Table3[Qty Tiles])","v":0},{"$f":"IF(roomnames[[#This Row],[2nd Supplier]]=\"No\",$G$9,\"\")","v":0},{"$f":"IF(roomnames[[#This Row],[2nd Supplier]]=\"Yes\",$G$10,\"\")","v":""},{"$f":"IF(roomnames[[#This Row],[2nd Supplier]]=\"no\",      SUM((roomnames[[#This Row],[Wall Supply in m2]]+roomnames[[#This Row],[Floor suply in m2]]+roomnames[[#This Row],[Feat supply in m2]]+roomnames[[#This Row],[other supply in m2]])*roomnames[[#This Row],[1st S/Cost]]),\nIF(roomnames[[#This Row],[2nd Supplier]]=\"yes\",   0))","v":0},{"$f":"IF(roomnames[[#This Row],[2nd Supplier]]=\"Yes\",      SUM((roomnames[[#This Row],[Wall Supply in m2]]+roomnames[[#This Row],[Floor suply in m2]]+roomnames[[#This Row],[Feat supply in m2]]+roomnames[[#This Row],[other supply in m2]])*roomnames[[#This Row],[2nd S/Cost]]),\nIF(roomnames[[#This Row],[2nd Supplier]]=\"No\",   0))","v":0},{"$f":"IF(roomnames[[#This Row],[Type]]=$F$13,   SUMIF(Table3[],roomnames[[#This Row],[Locations]],Table3[Labour]),0)","v":0},{"$f":"IF(roomnames[[#This Row],[Type]]=$F$14,   SUMIF(Table3[],roomnames[[#This Row],[Locations]],Table3[Labour]),0)","v":0},{"$f":"IF(roomnames[[#This Row],[Type]]=$F$15,   SUMIF(Table3[],roomnames[[#This Row],[Locations]],Table3[Labour]),0)","v":0},{"$f":"IF(roomnames[[#This Row],[Type]]=$F$16,   SUMIF(Table3[],roomnames[[#This Row],[Locations]],Table3[Labour]),0)","v":0},null,{"$f":"IF(roomnames[[#This Row],[Type]]=$F$13,roomnames[[#This Row],[Count Tiles]],0)","v":0},{"$f":"IF(roomnames[[#This Row],[Type]]=$F$14,roomnames[[#This Row],[Count Tiles]],0)","v":0},{"$f":"IF(roomnames[[#This Row],[Type]]=$F$15,roomnames[[#This Row],[Count Tiles]],0)","v":0},{"$f":"IF(roomnames[[#This Row],[Type]]=$F$16,roomnames[[#This Row],[Count Tiles]],0)","v":0},{"$f":"IF(roomnames[[#This Row],[Wall tile qty]]>0,                   SUM(roomnames[[#This Row],[Count Tiles]]*                   ((roomnames[[#This Row],[Tile Width]]*roomnames[[#This Row],[Tile Height]])))            /1000000,0)","v":0},{"$f":"IF(roomnames[[#This Row],[Floor tile qty]]>0.001,SUM(roomnames[[#This Row],[Count Tiles]]*(roomnames[[#This Row],[Tile Width]]*roomnames[[#This Row],[Tile Height]]))/1000000,0)","v":0},{"$f":"IF(roomnames[[#This Row],[Fet tile qty]]>0.001,SUM(roomnames[[#This Row],[Count Tiles]]*(roomnames[[#This Row],[Tile Width]]*roomnames[[#This Row],[Tile Height]]))/1000000,)","v":0},{"$f":"IF(roomnames[[#This Row],[Other tile qty]]>0.001,SUM(roomnames[[#This Row],[Count Tiles]]*(roomnames[[#This Row],[Tile Width]]*roomnames[[#This Row],[Tile Height]]))/1000000,0)","v":0},null,null,{"$f":"IF(roomnames[[#This Row],[Porcl]]=\"yes\",roomnames[[#This Row],[Wall Lab]]+roomnames[[#This Row],[Floor Lab]]+roomnames[[#This Row],[Fet Lab]]+roomnames[[#This Row],[Othr Lab]],0)","v":0},{"$f":"IF(roomnames[[#This Row],[EO Std]]=\"yes\",roomnames[[#This Row],[Wall Lab]]+roomnames[[#This Row],[Floor Lab]]+roomnames[[#This Row],[Fet Lab]]+roomnames[[#This Row],[Othr Lab]],0)","v":0},"No","No","No",null,null,null,null,null,null,null,null,null,null,{"$f":"IFERROR(SUM(Table3[[#This Row],[Tile Wide]]*Table3[[#This Row],[Tile High]]),\"\")","v":""},{"$f":"IFERROR(ROUNDUP(SUM(Table3[[#This Row],[Actual W]]/VLOOKUP(AQ22,roomnames[],4,0)),0),\"\")","v":""},{"$f":"IFERROR(ROUNDUP(SUM(Table3[[#This Row],[Actual H]]/VLOOKUP(AQ22,roomnames[],5,0)),0),\"\")","v":""},{"$f":"(Table3[[#This Row],[Actual W]]*Table3[[#This Row],[Actual H]])/1000000","v":0},{"$f":"IFERROR(ROUNDUP(SUM(Table3[[#This Row],[Rectified]]/VLOOKUP(Table3[[#This Row],[Actual W]],roomnames[],5,0)),0),\"\")","v":""},{"$f":"0","v":0},{"$f":"0","v":0},{"$f":"_xlfn.ISFORMULA(Table3[[#This Row],[Qty Tiles]])","v":true},{"$f":"IF(Table3[[#This Row],[Formula Trap]]=TRUE,1,0)","v":1},{"$f":"0","v":0}]
["Ens Low Wall",null,null,null,null,"Angles to Floor",null,null,null,{"$f":"CONCATENATE(roomnames[[#This Row],[Where]],\" - \",roomnames[[#This Row],[Type]])","v":" - "},null,null,null,null,{"$f":"SUMIF(Table3[],roomnames[[#This Row],[Locations]],Table3[Qty Tiles])","v":0},{"$f":"IF(roomnames[[#This Row],[2nd Supplier]]=\"No\",$G$9,\"\")","v":0},{"$f":"IF(roomnames[[#This Row],[2nd Supplier]]=\"Yes\",$G$10,\"\")","v":""},{"$f":"IF(roomnames[[#This Row],[2nd Supplier]]=\"no\",      SUM((roomnames[[#This Row],[Wall Supply in m2]]+roomnames[[#This Row],[Floor suply in m2]]+roomnames[[#This Row],[Feat supply in m2]]+roomnames[[#This Row],[other supply in m2]])*roomnames[[#This Row],[1st S/Cost]]),\nIF(roomnames[[#This Row],[2nd Supplier]]=\"yes\",   0))","v":0},{"$f":"IF(roomnames[[#This Row],[2nd Supplier]]=\"Yes\",      SUM((roomnames[[#This Row],[Wall Supply in m2]]+roomnames[[#This Row],[Floor suply in m2]]+roomnames[[#This Row],[Feat supply in m2]]+roomnames[[#This Row],[other supply in m2]])*roomnames[[#This Row],[2nd S/Cost]]),\nIF(roomnames[[#This Row],[2nd Supplier]]=\"No\",   0))","v":0},{"$f":"IF(roomnames[[#This Row],[Type]]=$F$13,   SUMIF(Table3[],roomnames[[#This Row],[Locations]],Table3[Labour]),0)","v":0},{"$f":"IF(roomnames[[#This Row],[Type]]=$F$14,   SUMIF(Table3[],roomnames[[#This Row],[Locations]],Table3[Labour]),0)","v":0},{"$f":"IF(roomnames[[#This Row],[Type]]=$F$15,   SUMIF(Table3[],roomnames[[#This Row],[Locations]],Table3[Labour]),0)","v":0},{"$f":"IF(roomnames[[#This Row],[Type]]=$F$16,   SUMIF(Table3[],roomnames[[#This Row],[Locations]],Table3[Labour]),0)","v":0},null,{"$f":"IF(roomnames[[#This Row],[Type]]=$F$13,roomnames[[#This Row],[Count Tiles]],0)","v":0},{"$f":"IF(roomnames[[#This Row],[Type]]=$F$14,roomnames[[#This Row],[Count Tiles]],0)","v":0},{"$f":"IF(roomnames[[#This Row],[Type]]=$F$15,roomnames[[#This Row],[Count Tiles]],0)","v":0},{"$f":"IF(roomnames[[#This Row],[Type]]=$F$16,roomnames[[#This Row],[Count Tiles]],0)","v":0},{"$f":"IF(roomnames[[#This Row],[Wall tile qty]]>0,                   SUM(roomnames[[#This Row],[Count Tiles]]*                   ((roomnames[[#This Row],[Tile Width]]*roomnames[[#This Row],[Tile Height]])))            /1000000,0)","v":0},{"$f":"IF(roomnames[[#This Row],[Floor tile qty]]>0.001,SUM(roomnames[[#This Row],[Count Tiles]]*(roomnames[[#This Row],[Tile Width]]*roomnames[[#This Row],[Tile Height]]))/1000000,0)","v":0},{"$f":"IF(roomnames[[#This Row],[Fet tile qty]]>0.001,SUM(roomnames[[#This Row],[Count Tiles]]*(roomnames[[#This Row],[Tile Width]]*roomnames[[#This Row],[Tile Height]]))/1000000,)","v":0},{"$f":"IF(roomnames[[#This Row],[Other tile qty]]>0.001,SUM(roomnames[[#This Row],[Count Tiles]]*(roomnames[[#This Row],[Tile Width]]*roomnames[[#This Row],[Tile Height]]))/1000000,0)","v":0},null,null,{"$f":"IF(roomnames[[#This Row],[Porcl]]=\"yes\",roomnames[[#This Row],[Wall Lab]]+roomnames[[#This Row],[Floor Lab]]+roomnames[[#This Row],[Fet Lab]]+roomnames[[#This Row],[Othr Lab]],0)","v":0},{"$f":"IF(roomnames[[#This Row],[EO Std]]=\"yes\",roomnames[[#This Row],[Wall Lab]]+roomnames[[#This Row],[Floor Lab]]+roomnames[[#This Row],[Fet Lab]]+roomnames[[#This Row],[Othr Lab]],0)","v":0},"No","No","No",null,null,null,null,null,null,null,null,null,null,{"$f":"IFERROR(SUM(Table3[[#This Row],[Tile Wide]]*Table3[[#This Row],[Tile High]]),\"\")","v":""},{"$f":"IFERROR(ROUNDUP(SUM(Table3[[#This Row],[Actual W]]/VLOOKUP(AQ23,roomnames[],4,0)),0),\"\")","v":""},{"$f":"IFERROR(ROUNDUP(SUM(Table3[[#This Row],[Actual H]]/VLOOKUP(AQ23,roomnames[],5,0)),0),\"\")","v":""},{"$f":"(Table3[[#This Row],[Actual W]]*Table3[[#This Row],[Actual H]])/1000000","v":0},{"$f":"IFERROR(ROUNDUP(SUM(Table3[[#This Row],[Rectified]]/VLOOKUP(Table3[[#This Row],[Actual W]],roomnames[],5,0)),0),\"\")","v":""},{"$f":"0","v":0},{"$f":"0","v":0},{"$f":"_xlfn.ISFORMULA(Table3[[#This Row],[Qty Tiles]])","v":true},{"$f":"IF(Table3[[#This Row],[Formula Trap]]=TRUE,1,0)","v":1},{"$f":"0","v":0}]
["Bathroom Low Wall",null,null,null,null,null,null,null,null,{"$f":"CONCATENATE(roomnames[[#This Row],[Where]],\" - \",roomnames[[#This Row],[Type]])","v":" - "},null,null,null,null,{"$f":"SUMIF(Table3[],roomnames[[#This Row],[Locations]],Table3[Qty Tiles])","v":0},{"$f":"IF(roomnames[[#This Row],[2nd Supplier]]=\"No\",$G$9,\"\")","v":0},{"$f":"IF(roomnames[[#This Row],[2nd Supplier]]=\"Yes\",$G$10,\"\")","v":""},{"$f":"IF(roomnames[[#This Row],[2nd Supplier]]=\"no\",      SUM((roomnames[[#This Row],[Wall Supply in m2]]+roomnames[[#This Row],[Floor suply in m2]]+roomnames[[#This Row],[Feat supply in m2]]+roomnames[[#This Row],[other supply in m2]])*roomnames[[#This Row],[1st S/Cost]]),\nIF(roomnames[[#This Row],[2nd Supplier]]=\"yes\",   0))","v":0},{"$f":"IF(roomnames[[#This Row],[2nd Supplier]]=\"Yes\",      SUM((roomnames[[#This Row],[Wall Supply in m2]]+roomnames[[#This Row],[Floor suply in m2]]+roomnames[[#This Row],[Feat supply in m2]]+roomnames[[#This Row],[other supply in m2]])*roomnames[[#This Row],[2nd S/Cost]]),\nIF(roomnames[[#This Row],[2nd Supplier]]=\"No\",   0))","v":0},{"$f":"IF(roomnames[[#This Row],[Type]]=$F$13,   SUMIF(Table3[],roomnames[[#This Row],[Locations]],Table3[Labour]),0)","v":0},{"$f":"IF(roomnames[[#This Row],[Type]]=$F$14,   SUMIF(Table3[],roomnames[[#This Row],[Locations]],Table3[Labour]),0)","v":0},{"$f":"IF(roomnames[[#This Row],[Type]]=$F$15,   SUMIF(Table3[],roomnames[[#This Row],[Locations]],Table3[Labour]),0)","v":0},{"$f":"IF(roomnames[[#This Row],[Type]]=$F$16,   SUMIF(Table3[],roomnames[[#This Row],[Locations]],Table3[Labour]),0)","v":0},null,{"$f":"IF(roomnames[[#This Row],[Type]]=$F$13,roomnames[[#This Row],[Count Tiles]],0)","v":0},{"$f":"IF(roomnames[[#This Row],[Type]]=$F$14,roomnames[[#This Row],[Count Tiles]],0)","v":0},{"$f":"IF(roomnames[[#This Row],[Type]]=$F$15,roomnames[[#This Row],[Count Tiles]],0)","v":0},{"$f":"IF(roomnames[[#This Row],[Type]]=$F$16,roomnames[[#This Row],[Count Tiles]],0)","v":0},{"$f":"IF(roomnames[[#This Row],[Wall tile qty]]>0,                   SUM(roomnames[[#This Row],[Count Tiles]]*                   ((roomnames[[#This Row],[Tile Width]]*roomnames[[#This Row],[Tile Height]])))            /1000000,0)","v":0},{"$f":"IF(roomnames[[#This Row],[Floor tile qty]]>0.001,SUM(roomnames[[#This Row],[Count Tiles]]*(roomnames[[#This Row],[Tile Width]]*roomnames[[#This Row],[Tile Height]]))/1000000,0)","v":0},{"$f":"IF(roomnames[[#This Row],[Fet tile qty]]>0.001,SUM(roomnames[[#This Row],[Count Tiles]]*(roomnames[[#This Row],[Tile Width]]*roomnames[[#This Row],[Tile Height]]))/1000000,)","v":0},{"$f":"IF(roomnames[[#This Row],[Other tile qty]]>0.001,SUM(roomnames[[#This Row],[Count Tiles]]*(roomnames[[#This Row],[Tile Width]]*roomnames[[#This Row],[Tile Height]]))/1000000,0)","v":0},null,null,{"$f":"IF(roomnames[[#This Row],[Porcl]]=\"yes\",roomnames[[#This Row],[Wall Lab]]+roomnames[[#This Row],[Floor Lab]]+roomnames[[#This Row],[Fet Lab]]+roomnames[[#This Row],[Othr Lab]],0)","v":0},{"$f":"IF(roomnames[[#This Row],[EO Std]]=\"yes\",roomnames[[#This Row],[Wall Lab]]+roomnames[[#This Row],[Floor Lab]]+roomnames[[#This Row],[Fet Lab]]+roomnames[[#This Row],[Othr Lab]],0)","v":0},"No","No","No",null,null,null,null,null,null,null,null,null,null,{"$f":"IFERROR(SUM(Table3[[#This Row],[Tile Wide]]*Table3[[#This Row],[Tile High]]),\"\")","v":""},{"$f":"IFERROR(ROUNDUP(SUM(Table3[[#This Row],[Actual W]]/VLOOKUP(AQ24,roomnames[],4,0)),0),\"\")","v":""},{"$f":"IFERROR(ROUNDUP(SUM(Table3[[#This Row],[Actual H]]/VLOOKUP(AQ24,roomnames[],5,0)),0),\"\")","v":""},{"$f":"(Table3[[#This Row],[Actual W]]*Table3[[#This Row],[Actual H]])/1000000","v":0},{"$f":"IFERROR(ROUNDUP(SUM(Table3[[#This Row],[Rectified]]/VLOOKUP(Table3[[#This Row],[Actual W]],roomnames[],5,0)),0),\"\")","v":""},{"$f":"0","v":0},{"$f":"0","v":0},{"$f":"_xlfn.ISFORMULA(Table3[[#This Row],[Qty Tiles]])","v":true},{"$f":"IF(Table3[[#This Row],[Formula Trap]]=TRUE,1,0)","v":1},{"$f":"0","v":0}]
["Bath Hob",null,null,null,null,null,null,null,null,{"$f":"CONCATENATE(roomnames[[#This Row],[Where]],\" - \",roomnames[[#This Row],[Type]])","v":" - "},null,null,null,null,{"$f":"SUMIF(Table3[],roomnames[[#This Row],[Locations]],Table3[Qty Tiles])","v":0},{"$f":"IF(roomnames[[#This Row],[2nd Supplier]]=\"No\",$G$9,\"\")","v":0},{"$f":"IF(roomnames[[#This Row],[2nd Supplier]]=\"Yes\",$G$10,\"\")","v":""},{"$f":"IF(roomnames[[#This Row],[2nd Supplier]]=\"no\",      SUM((roomnames[[#This Row],[Wall Supply in m2]]+roomnames[[#This Row],[Floor suply in m2]]+roomnames[[#This Row],[Feat supply in m2]]+roomnames[[#This Row],[other supply in m2]])*roomnames[[#This Row],[1st S/Cost]]),\nIF(roomnames[[#This Row],[2nd Supplier]]=\"yes\",   0))","v":0},{"$f":"IF(roomnames[[#This Row],[2nd Supplier]]=\"Yes\",      SUM((roomnames[[#This Row],[Wall Supply in m2]]+roomnames[[#This Row],[Floor suply in m2]]+roomnames[[#This Row],[Feat supply in m2]]+roomnames[[#This Row],[other supply in m2]])*roomnames[[#This Row],[2nd S/Cost]]),\nIF(roomnames[[#This Row],[2nd Supplier]]=\"No\",   0))","v":0},{"$f":"IF(roomnames[[#This Row],[Type]]=$F$13,   SUMIF(Table3[],roomnames[[#This Row],[Locations]],Table3[Labour]),0)","v":0},{"$f":"IF(roomnames[[#This Row],[Type]]=$F$14,   SUMIF(Table3[],roomnames[[#This Row],[Locations]],Table3[Labour]),0)","v":0},{"$f":"IF(roomnames[[#This Row],[Type]]=$F$15,   SUMIF(Table3[],roomnames[[#This Row],[Locations]],Table3[Labour]),0)","v":0},{"$f":"IF(roomnames[[#This Row],[Type]]=$F$16,   SUMIF(Table3[],roomnames[[#This Row],[Locations]],Table3[Labour]),0)","v":0},null,{"$f":"IF(roomnames[[#This Row],[Type]]=$F$13,roomnames[[#This Row],[Count Tiles]],0)","v":0},{"$f":"IF(roomnames[[#This Row],[Type]]=$F$14,roomnames[[#This Row],[Count Tiles]],0)","v":0},{"$f":"IF(roomnames[[#This Row],[Type]]=$F$15,roomnames[[#This Row],[Count Tiles]],0)","v":0},{"$f":"IF(roomnames[[#This Row],[Type]]=$F$16,roomnames[[#This Row],[Count Tiles]],0)","v":0},{"$f":"IF(roomnames[[#This Row],[Wall tile qty]]>0,                   SUM(roomnames[[#This Row],[Count Tiles]]*                   ((roomnames[[#This Row],[Tile Width]]*roomnames[[#This Row],[Tile Height]])))            /1000000,0)","v":0},{"$f":"IF(roomnames[[#This Row],[Floor tile qty]]>0.001,SUM(roomnames[[#This Row],[Count Tiles]]*(roomnames[[#This Row],[Tile Width]]*roomnames[[#This Row],[Tile Height]]))/1000000,0)","v":0},{"$f":"IF(roomnames[[#This Row],[Fet tile qty]]>0.001,SUM(roomnames[[#This Row],[Count Tiles]]*(roomnames[[#This Row],[Tile Width]]*roomnames[[#This Row],[Tile Height]]))/1000000,)","v":0},{"$f":"IF(roomnames[[#This Row],[Other tile qty]]>0.001,SUM(roomnames[[#This Row],[Count Tiles]]*(roomnames[[#This Row],[Tile Width]]*roomnames[[#This Row],[Tile Height]]))/1000000,0)","v":0},null,null,{"$f":"IF(roomnames[[#This Row],[Porcl]]=\"yes\",roomnames[[#This Row],[Wall Lab]]+roomnames[[#This Row],[Floor Lab]]+roomnames[[#This Row],[Fet Lab]]+roomnames[[#This Row],[Othr Lab]],0)","v":0},{"$f":"IF(roomnames[[#This Row],[EO Std]]=\"yes\",roomnames[[#This Row],[Wall Lab]]+roomnames[[#This Row],[Floor Lab]]+roomnames[[#This Row],[Fet Lab]]+roomnames[[#This Row],[Othr Lab]],0)","v":0},"No","No","No",null,null,null,null,null,null,null,null,null,null,{"$f":"IFERROR(SUM(Table3[[#This Row],[Tile Wide]]*Table3[[#This Row],[Tile High]]),\"\")","v":""},{"$f":"IFERROR(ROUNDUP(SUM(Table3[[#This Row],[Actual W]]/VLOOKUP(AQ25,roomnames[],4,0)),0),\"\")","v":""},{"$f":"IFERROR(ROUNDUP(SUM(Table3[[#This Row],[Actual H]]/VLOOKUP(AQ25,roomnames[],5,0)),0),\"\")","v":""},{"$f":"(Table3[[#This Row],[Actual W]]*Table3[[#This Row],[Actual H]])/1000000","v":0},{"$f":"IFERROR(ROUNDUP(SUM(Table3[[#This Row],[Rectified]]/VLOOKUP(Table3[[#This Row],[Actual W]],roomnames[],5,0)),0),\"\")","v":""},{"$f":"0","v":0},{"$f":"0","v":0},{"$f":"_xlfn.ISFORMULA(Table3[[#This Row],[Qty Tiles]])","v":true},{"$f":"IF(Table3[[#This Row],[Formula Trap]]=TRUE,1,0)","v":1},{"$f":"0","v":0}]
["Bath Riser",null,null,null,null,null,null,null,null,{"$f":"CONCATENATE(roomnames[[#This Row],[Where]],\" - \",roomnames[[#This Row],[Type]])","v":" - "},null,null,null,null,{"$f":"SUMIF(Table3[],roomnames[[#This Row],[Locations]],Table3[Qty Tiles])","v":0},{"$f":"IF(roomnames[[#This Row],[2nd Supplier]]=\"No\",$G$9,\"\")","v":0},{"$f":"IF(roomnames[[#This Row],[2nd Supplier]]=\"Yes\",$G$10,\"\")","v":""},{"$f":"IF(roomnames[[#This Row],[2nd Supplier]]=\"no\",      SUM((roomnames[[#This Row],[Wall Supply in m2]]+roomnames[[#This Row],[Floor suply in m2]]+roomnames[[#This Row],[Feat supply in m2]]+roomnames[[#This Row],[other supply in m2]])*roomnames[[#This Row],[1st S/Cost]]),\nIF(roomnames[[#This Row],[2nd Supplier]]=\"yes\",   0))","v":0},{"$f":"IF(roomnames[[#This Row],[2nd Supplier]]=\"Yes\",      SUM((roomnames[[#This Row],[Wall Supply in m2]]+roomnames[[#This Row],[Floor suply in m2]]+roomnames[[#This Row],[Feat supply in m2]]+roomnames[[#This Row],[other supply in m2]])*roomnames[[#This Row],[2nd S/Cost]]),\nIF(roomnames[[#This Row],[2nd Supplier]]=\"No\",   0))","v":0},{"$f":"IF(roomnames[[#This Row],[Type]]=$F$13,   SUMIF(Table3[],roomnames[[#This Row],[Locations]],Table3[Labour]),0)","v":0},{"$f":"IF(roomnames[[#This Row],[Type]]=$F$14,   SUMIF(Table3[],roomnames[[#This Row],[Locations]],Table3[Labour]),0)","v":0},{"$f":"IF(roomnames[[#This Row],[Type]]=$F$15,   SUMIF(Table3[],roomnames[[#This Row],[Locations]],Table3[Labour]),0)","v":0},{"$f":"IF(roomnames[[#This Row],[Type]]=$F$16,   SUMIF(Table3[],roomnames[[#This Row],[Locations]],Table3[Labour]),0)","v":0},null,{"$f":"IF(roomnames[[#This Row],[Type]]=$F$13,roomnames[[#This Row],[Count Tiles]],0)","v":0},{"$f":"IF(roomnames[[#This Row],[Type]]=$F$14,roomnames[[#This Row],[Count Tiles]],0)","v":0},{"$f":"IF(roomnames[[#This Row],[Type]]=$F$15,roomnames[[#This Row],[Count Tiles]],0)","v":0},{"$f":"IF(roomnames[[#This Row],[Type]]=$F$16,roomnames[[#This Row],[Count Tiles]],0)","v":0},{"$f":"IF(roomnames[[#This Row],[Wall tile qty]]>0,                   SUM(roomnames[[#This Row],[Count Tiles]]*                   ((roomnames[[#This Row],[Tile Width]]*roomnames[[#This Row],[Tile Height]])))            /1000000,0)","v":0},{"$f":"IF(roomnames[[#This Row],[Floor tile qty]]>0.001,SUM(roomnames[[#This Row],[Count Tiles]]*(roomnames[[#This Row],[Tile Width]]*roomnames[[#This Row],[Tile Height]]))/1000000,0)","v":0},{"$f":"IF(roomnames[[#This Row],[Fet tile qty]]>0.001,SUM(roomnames[[#This Row],[Count Tiles]]*(roomnames[[#This Row],[Tile Width]]*roomnames[[#This Row],[Tile Height]]))/1000000,)","v":0},{"$f":"IF(roomnames[[#This Row],[Other tile qty]]>0.001,SUM(roomnames[[#This Row],[Count Tiles]]*(roomnames[[#This Row],[Tile Width]]*roomnames[[#This Row],[Tile Height]]))/1000000,0)","v":0},null,null,{"$f":"IF(roomnames[[#This Row],[Porcl]]=\"yes\",roomnames[[#This Row],[Wall Lab]]+roomnames[[#This Row],[Floor Lab]]+roomnames[[#This Row],[Fet Lab]]+roomnames[[#This Row],[Othr Lab]],0)","v":0},{"$f":"IF(roomnames[[#This Row],[EO Std]]=\"yes\",roomnames[[#This Row],[Wall Lab]]+roomnames[[#This Row],[Floor Lab]]+roomnames[[#This Row],[Fet Lab]]+roomnames[[#This Row],[Othr Lab]],0)","v":0},"No","No","No",null,null,null,null,null,null,null,null,null,null,{"$f":"IFERROR(SUM(Table3[[#This Row],[Tile Wide]]*Table3[[#This Row],[Tile High]]),\"\")","v":""},{"$f":"IFERROR(ROUNDUP(SUM(Table3[[#This Row],[Actual W]]/VLOOKUP(AQ26,roomnames[],4,0)),0),\"\")","v":""},{"$f":"IFERROR(ROUNDUP(SUM(Table3[[#This Row],[Actual H]]/VLOOKUP(AQ26,roomnames[],5,0)),0),\"\")","v":""},{"$f":"(Table3[[#This Row],[Actual W]]*Table3[[#This Row],[Actual H]])/1000000","v":0},{"$f":"IFERROR(ROUNDUP(SUM(Table3[[#This Row],[Rectified]]/VLOOKUP(Table3[[#This Row],[Actual W]],roomnames[],5,0)),0),\"\")","v":""},{"$f":"0","v":0},{"$f":"0","v":0},{"$f":"_xlfn.ISFORMULA(Table3[[#This Row],[Qty Tiles]])","v":true},{"$f":"IF(Table3[[#This Row],[Formula Trap]]=TRUE,1,0)","v":1},{"$f":"0","v":0}]
["Over Bath",null,null,null,null,null,null,null,null,{"$f":"CONCATENATE(roomnames[[#This Row],[Where]],\" - \",roomnames[[#This Row],[Type]])","v":" - "},null,null,null,null,{"$f":"SUMIF(Table3[],roomnames[[#This Row],[Locations]],Table3[Qty Tiles])","v":0},{"$f":"IF(roomnames[[#This Row],[2nd Supplier]]=\"No\",$G$9,\"\")","v":0},{"$f":"IF(roomnames[[#This Row],[2nd Supplier]]=\"Yes\",$G$10,\"\")","v":""},{"$f":"IF(roomnames[[#This Row],[2nd Supplier]]=\"no\",      SUM((roomnames[[#This Row],[Wall Supply in m2]]+roomnames[[#This Row],[Floor suply in m2]]+roomnames[[#This Row],[Feat supply in m2]]+roomnames[[#This Row],[other supply in m2]])*roomnames[[#This Row],[1st S/Cost]]),\nIF(roomnames[[#This Row],[2nd Supplier]]=\"yes\",   0))","v":0},{"$f":"IF(roomnames[[#This Row],[2nd Supplier]]=\"Yes\",      SUM((roomnames[[#This Row],[Wall Supply in m2]]+roomnames[[#This Row],[Floor suply in m2]]+roomnames[[#This Row],[Feat supply in m2]]+roomnames[[#This Row],[other supply in m2]])*roomnames[[#This Row],[2nd S/Cost]]),\nIF(roomnames[[#This Row],[2nd Supplier]]=\"No\",   0))","v":0},{"$f":"IF(roomnames[[#This Row],[Type]]=$F$13,   SUMIF(Table3[],roomnames[[#This Row],[Locations]],Table3[Labour]),0)","v":0},{"$f":"IF(roomnames[[#This Row],[Type]]=$F$14,   SUMIF(Table3[],roomnames[[#This Row],[Locations]],Table3[Labour]),0)","v":0},{"$f":"IF(roomnames[[#This Row],[Type]]=$F$15,   SUMIF(Table3[],roomnames[[#This Row],[Locations]],Table3[Labour]),0)","v":0},{"$f":"IF(roomnames[[#This Row],[Type]]=$F$16,   SUMIF(Table3[],roomnames[[#This Row],[Locations]],Table3[Labour]),0)","v":0},null,{"$f":"IF(roomnames[[#This Row],[Type]]=$F$13,roomnames[[#This Row],[Count Tiles]],0)","v":0},{"$f":"IF(roomnames[[#This Row],[Type]]=$F$14,roomnames[[#This Row],[Count Tiles]],0)","v":0},{"$f":"IF(roomnames[[#This Row],[Type]]=$F$15,roomnames[[#This Row],[Count Tiles]],0)","v":0},{"$f":"IF(roomnames[[#This Row],[Type]]=$F$16,roomnames[[#This Row],[Count Tiles]],0)","v":0},{"$f":"IF(roomnames[[#This Row],[Wall tile qty]]>0,                   SUM(roomnames[[#This Row],[Count Tiles]]*                   ((roomnames[[#This Row],[Tile Width]]*roomnames[[#This Row],[Tile Height]])))            /1000000,0)","v":0},{"$f":"IF(roomnames[[#This Row],[Floor tile qty]]>0.001,SUM(roomnames[[#This Row],[Count Tiles]]*(roomnames[[#This Row],[Tile Width]]*roomnames[[#This Row],[Tile Height]]))/1000000,0)","v":0},{"$f":"IF(roomnames[[#This Row],[Fet tile qty]]>0.001,SUM(roomnames[[#This Row],[Count Tiles]]*(roomnames[[#This Row],[Tile Width]]*roomnames[[#This Row],[Tile Height]]))/1000000,)","v":0},{"$f":"IF(roomnames[[#This Row],[Other tile qty]]>0.001,SUM(roomnames[[#This Row],[Count Tiles]]*(roomnames[[#This Row],[Tile Width]]*roomnames[[#This Row],[Tile Height]]))/1000000,0)","v":0},null,null,{"$f":"IF(roomnames[[#This Row],[Porcl]]=\"yes\",roomnames[[#This Row],[Wall Lab]]+roomnames[[#This Row],[Floor Lab]]+roomnames[[#This Row],[Fet Lab]]+roomnames[[#This Row],[Othr Lab]],0)","v":0},{"$f":"IF(roomnames[[#This Row],[EO Std]]=\"yes\",roomnames[[#This Row],[Wall Lab]]+roomnames[[#This Row],[Floor Lab]]+roomnames[[#This Row],[Fet Lab]]+roomnames[[#This Row],[Othr Lab]],0)","v":0},"No","No","No",null,null,null,null,null,null,null,null,null,null,{"$f":"IFERROR(SUM(Table3[[#This Row],[Tile Wide]]*Table3[[#This Row],[Tile High]]),\"\")","v":""},{"$f":"IFERROR(ROUNDUP(SUM(Table3[[#This Row],[Actual W]]/VLOOKUP(AQ27,roomnames[],4,0)),0),\"\")","v":""},{"$f":"IFERROR(ROUNDUP(SUM(Table3[[#This Row],[Actual H]]/VLOOKUP(AQ27,roomnames[],5,0)),0),\"\")","v":""},{"$f":"(Table3[[#This Row],[Actual W]]*Table3[[#This Row],[Actual H]])/1000000","v":0},{"$f":"IFERROR(ROUNDUP(SUM(Table3[[#This Row],[Rectified]]/VLOOKUP(Table3[[#This Row],[Actual W]],roomnames[],5,0)),0),\"\")","v":""},{"$f":"0","v":0},{"$f":"0","v":0},{"$f":"_xlfn.ISFORMULA(Table3[[#This Row],[Qty Tiles]])","v":true},{"$f":"IF(Table3[[#This Row],[Formula Trap]]=TRUE,1,0)","v":1},{"$f":"0","v":0}]
[null,"W/Proof","Edges",null,null,null,null,null,null,{"$f":"CONCATENATE(roomnames[[#This Row],[Where]],\" - \",roomnames[[#This Row],[Type]])","v":" - "},null,null,null,null,{"$f":"SUMIF(Table3[],roomnames[[#This Row],[Locations]],Table3[Qty Tiles])","v":0},{"$f":"IF(roomnames[[#This Row],[2nd Supplier]]=\"No\",$G$9,\"\")","v":0},{"$f":"IF(roomnames[[#This Row],[2nd Supplier]]=\"Yes\",$G$10,\"\")","v":""},{"$f":"IF(roomnames[[#This Row],[2nd Supplier]]=\"no\",      SUM((roomnames[[#This Row],[Wall Supply in m2]]+roomnames[[#This Row],[Floor suply in m2]]+roomnames[[#This Row],[Feat supply in m2]]+roomnames[[#This Row],[other supply in m2]])*roomnames[[#This Row],[1st S/Cost]]),\nIF(roomnames[[#This Row],[2nd Supplier]]=\"yes\",   0))","v":0},{"$f":"IF(roomnames[[#This Row],[2nd Supplier]]=\"Yes\",      SUM((roomnames[[#This Row],[Wall Supply in m2]]+roomnames[[#This Row],[Floor suply in m2]]+roomnames[[#This Row],[Feat supply in m2]]+roomnames[[#This Row],[other supply in m2]])*roomnames[[#This Row],[2nd S/Cost]]),\nIF(roomnames[[#This Row],[2nd Supplier]]=\"No\",   0))","v":0},{"$f":"IF(roomnames[[#This Row],[Type]]=$F$13,   SUMIF(Table3[],roomnames[[#This Row],[Locations]],Table3[Labour]),0)","v":0},{"$f":"IF(roomnames[[#This Row],[Type]]=$F$14,   SUMIF(Table3[],roomnames[[#This Row],[Locations]],Table3[Labour]),0)","v":0},{"$f":"IF(roomnames[[#This Row],[Type]]=$F$15,   SUMIF(Table3[],roomnames[[#This Row],[Locations]],Table3[Labour]),0)","v":0},{"$f":"IF(roomnames[[#This Row],[Type]]=$F$16,   SUMIF(Table3[],roomnames[[#This Row],[Locations]],Table3[Labour]),0)","v":0},null,{"$f":"IF(roomnames[[#This Row],[Type]]=$F$13,roomnames[[#This Row],[Count Tiles]],0)","v":0},{"$f":"IF(roomnames[[#This Row],[Type]]=$F$14,roomnames[[#This Row],[Count Tiles]],0)","v":0},{"$f":"IF(roomnames[[#This Row],[Type]]=$F$15,roomnames[[#This Row],[Count Tiles]],0)","v":0},{"$f":"IF(roomnames[[#This Row],[Type]]=$F$16,roomnames[[#This Row],[Count Tiles]],0)","v":0},{"$f":"IF(roomnames[[#This Row],[Wall tile qty]]>0,                   SUM(roomnames[[#This Row],[Count Tiles]]*                   ((roomnames[[#This Row],[Tile Width]]*roomnames[[#This Row],[Tile Height]])))            /1000000,0)","v":0},{"$f":"IF(roomnames[[#This Row],[Floor tile qty]]>0.001,SUM(roomnames[[#This Row],[Count Tiles]]*(roomnames[[#This Row],[Tile Width]]*roomnames[[#This Row],[Tile Height]]))/1000000,0)","v":0},{"$f":"IF(roomnames[[#This Row],[Fet tile qty]]>0.001,SUM(roomnames[[#This Row],[Count Tiles]]*(roomnames[[#This Row],[Tile Width]]*roomnames[[#This Row],[Tile Height]]))/1000000,)","v":0},{"$f":"IF(roomnames[[#This Row],[Other tile qty]]>0.001,SUM(roomnames[[#This Row],[Count Tiles]]*(roomnames[[#This Row],[Tile Width]]*roomnames[[#This Row],[Tile Height]]))/1000000,0)","v":0},null,null,{"$f":"IF(roomnames[[#This Row],[Porcl]]=\"yes\",roomnames[[#This Row],[Wall Lab]]+roomnames[[#This Row],[Floor Lab]]+roomnames[[#This Row],[Fet Lab]]+roomnames[[#This Row],[Othr Lab]],0)","v":0},{"$f":"IF(roomnames[[#This Row],[EO Std]]=\"yes\",roomnames[[#This Row],[Wall Lab]]+roomnames[[#This Row],[Floor Lab]]+roomnames[[#This Row],[Fet Lab]]+roomnames[[#This Row],[Othr Lab]],0)","v":0},"No","No","No",null,null,null,null,null,null,null,null,null,null,{"$f":"IFERROR(SUM(Table3[[#This Row],[Tile Wide]]*Table3[[#This Row],[Tile High]]),\"\")","v":""},{"$f":"IFERROR(ROUNDUP(SUM(Table3[[#This Row],[Actual W]]/VLOOKUP(AQ28,roomnames[],4,0)),0),\"\")","v":""},{"$f":"IFERROR(ROUNDUP(SUM(Table3[[#This Row],[Actual H]]/VLOOKUP(AQ28,roomnames[],5,0)),0),\"\")","v":""},{"$f":"(Table3[[#This Row],[Actual W]]*Table3[[#This Row],[Actual H]])/1000000","v":0},{"$f":"IFERROR(ROUNDUP(SUM(Table3[[#This Row],[Rectified]]/VLOOKUP(Table3[[#This Row],[Actual W]],roomnames[],5,0)),0),\"\")","v":""},{"$f":"0","v":0},{"$f":"0","v":0},{"$f":"_xlfn.ISFORMULA(Table3[[#This Row],[Qty Tiles]])","v":true},{"$f":"IF(Table3[[#This Row],[Formula Trap]]=TRUE,1,0)","v":1},{"$f":"0","v":0}]
["Total Wall Tiles M2",{"$f":"B13+B15+B16","v":0},null,null,null,null,null,null,null,{"$f":"CONCATENATE(roomnames[[#This Row],[Where]],\" - \",roomnames[[#This Row],[Type]])","v":" - "},null,null,null,null,{"$f":"SUMIF(Table3[],roomnames[[#This Row],[Locations]],Table3[Qty Tiles])","v":0},{"$f":"IF(roomnames[[#This Row],[2nd Supplier]]=\"No\",$G$9,\"\")","v":0},{"$f":"IF(roomnames[[#This Row],[2nd Supplier]]=\"Yes\",$G$10,\"\")","v":""},{"$f":"IF(roomnames[[#This Row],[2nd Supplier]]=\"no\",      SUM((roomnames[[#This Row],[Wall Supply in m2]]+roomnames[[#This Row],[Floor suply in m2]]+roomnames[[#This Row],[Feat supply in m2]]+roomnames[[#This Row],[other supply in m2]])*roomnames[[#This Row],[1st S/Cost]]),\nIF(roomnames[[#This Row],[2nd Supplier]]=\"yes\",   0))","v":0},{"$f":"IF(roomnames[[#This Row],[2nd Supplier]]=\"Yes\",      SUM((roomnames[[#This Row],[Wall Supply in m2]]+roomnames[[#This Row],[Floor suply in m2]]+roomnames[[#This Row],[Feat supply in m2]]+roomnames[[#This Row],[other supply in m2]])*roomnames[[#This Row],[2nd S/Cost]]),\nIF(roomnames[[#This Row],[2nd Supplier]]=\"No\",   0))","v":0},{"$f":"IF(roomnames[[#This Row],[Type]]=$F$13,   SUMIF(Table3[],roomnames[[#This Row],[Locations]],Table3[Labour]),0)","v":0},{"$f":"IF(roomnames[[#This Row],[Type]]=$F$14,   SUMIF(Table3[],roomnames[[#This Row],[Locations]],Table3[Labour]),0)","v":0},{"$f":"IF(roomnames[[#This Row],[Type]]=$F$15,   SUMIF(Table3[],roomnames[[#This Row],[Locations]],Table3[Labour]),0)","v":0},{"$f":"IF(roomnames[[#This Row],[Type]]=$F$16,   SUMIF(Table3[],roomnames[[#This Row],[Locations]],Table3[Labour]),0)","v":0},null,{"$f":"IF(roomnames[[#This Row],[Type]]=$F$13,roomnames[[#This Row],[Count Tiles]],0)","v":0},{"$f":"IF(roomnames[[#This Row],[Type]]=$F$14,roomnames[[#This Row],[Count Tiles]],0)","v":0},{"$f":"IF(roomnames[[#This Row],[Type]]=$F$15,roomnames[[#This Row],[Count Tiles]],0)","v":0},{"$f":"IF(roomnames[[#This Row],[Type]]=$F$16,roomnames[[#This Row],[Count Tiles]],0)","v":0},{"$f":"IF(roomnames[[#This Row],[Wall tile qty]]>0,                   SUM(roomnames[[#This Row],[Count Tiles]]*                   ((roomnames[[#This Row],[Tile Width]]*roomnames[[#This Row],[Tile Height]])))            /1000000,0)","v":0},{"$f":"IF(roomnames[[#This Row],[Floor tile qty]]>0.001,SUM(roomnames[[#This Row],[Count Tiles]]*(roomnames[[#This Row],[Tile Width]]*roomnames[[#This Row],[Tile Height]]))/1000000,0)","v":0},{"$f":"IF(roomnames[[#This Row],[Fet tile qty]]>0.001,SUM(roomnames[[#This Row],[Count Tiles]]*(roomnames[[#This Row],[Tile Width]]*roomnames[[#This Row],[Tile Height]]))/1000000,)","v":0},{"$f":"IF(roomnames[[#This Row],[Other tile qty]]>0.001,SUM(roomnames[[#This Row],[Count Tiles]]*(roomnames[[#This Row],[Tile Width]]*roomnames[[#This Row],[Tile Height]]))/1000000,0)","v":0},null,null,{"$f":"IF(roomnames[[#This Row],[Porcl]]=\"yes\",roomnames[[#This Row],[Wall Lab]]+roomnames[[#This Row],[Floor Lab]]+roomnames[[#This Row],[Fet Lab]]+roomnames[[#This Row],[Othr Lab]],0)","v":0},{"$f":"IF(roomnames[[#This Row],[EO Std]]=\"yes\",roomnames[[#This Row],[Wall Lab]]+roomnames[[#This Row],[Floor Lab]]+roomnames[[#This Row],[Fet Lab]]+roomnames[[#This Row],[Othr Lab]],0)","v":0},"No","No","No",null,null,null,null,null,null,null,null,null,null,{"$f":"IFERROR(SUM(Table3[[#This Row],[Tile Wide]]*Table3[[#This Row],[Tile High]]),\"\")","v":""},{"$f":"IFERROR(ROUNDUP(SUM(Table3[[#This Row],[Actual W]]/VLOOKUP(AQ29,roomnames[],4,0)),0),\"\")","v":""},{"$f":"IFERROR(ROUNDUP(SUM(Table3[[#This Row],[Actual H]]/VLOOKUP(AQ29,roomnames[],5,0)),0),\"\")","v":""},{"$f":"(Table3[[#This Row],[Actual W]]*Table3[[#This Row],[Actual H]])/1000000","v":0},{"$f":"IFERROR(ROUNDUP(SUM(Table3[[#This Row],[Rectified]]/VLOOKUP(Table3[[#This Row],[Actual W]],roomnames[],5,0)),0),\"\")","v":""},{"$f":"0","v":0},{"$f":"0","v":0},{"$f":"_xlfn.ISFORMULA(Table3[[#This Row],[Qty Tiles]])","v":true},{"$f":"IF(Table3[[#This Row],[Formula Trap]]=TRUE,1,0)","v":1},{"$f":"0","v":0}]
[null,null,null,null,null,null,null,null,null,{"$f":"CONCATENATE(roomnames[[#This Row],[Where]],\" - \",roomnames[[#This Row],[Type]])","v":" - "},null,null,null,null,{"$f":"SUMIF(Table3[],roomnames[[#This Row],[Locations]],Table3[Qty Tiles])","v":0},{"$f":"IF(roomnames[[#This Row],[2nd Supplier]]=\"No\",$G$9,\"\")","v":0},{"$f":"IF(roomnames[[#This Row],[2nd Supplier]]=\"Yes\",$G$10,\"\")","v":""},{"$f":"IF(roomnames[[#This Row],[2nd Supplier]]=\"no\",      SUM((roomnames[[#This Row],[Wall Supply in m2]]+roomnames[[#This Row],[Floor suply in m2]]+roomnames[[#This Row],[Feat supply in m2]]+roomnames[[#This Row],[other supply in m2]])*roomnames[[#This Row],[1st S/Cost]]),\nIF(roomnames[[#This Row],[2nd Supplier]]=\"yes\",   0))","v":0},{"$f":"IF(roomnames[[#This Row],[2nd Supplier]]=\"Yes\",      SUM((roomnames[[#This Row],[Wall Supply in m2]]+roomnames[[#This Row],[Floor suply in m2]]+roomnames[[#This Row],[Feat supply in m2]]+roomnames[[#This Row],[other supply in m2]])*roomnames[[#This Row],[2nd S/Cost]]),\nIF(roomnames[[#This Row],[2nd Supplier]]=\"No\",   0))","v":0},{"$f":"IF(roomnames[[#This Row],[Type]]=$F$13,   SUMIF(Table3[],roomnames[[#This Row],[Locations]],Table3[Labour]),0)","v":0},{"$f":"IF(roomnames[[#This Row],[Type]]=$F$14,   SUMIF(Table3[],roomnames[[#This Row],[Locations]],Table3[Labour]),0)","v":0},{"$f":"IF(roomnames[[#This Row],[Type]]=$F$15,   SUMIF(Table3[],roomnames[[#This Row],[Locations]],Table3[Labour]),0)","v":0},{"$f":"IF(roomnames[[#This Row],[Type]]=$F$16,   SUMIF(Table3[],roomnames[[#This Row],[Locations]],Table3[Labour]),0)","v":0},null,{"$f":"IF(roomnames[[#This Row],[Type]]=$F$13,roomnames[[#This Row],[Count Tiles]],0)","v":0},{"$f":"IF(roomnames[[#This Row],[Type]]=$F$14,roomnames[[#This Row],[Count Tiles]],0)","v":0},{"$f":"IF(roomnames[[#This Row],[Type]]=$F$15,roomnames[[#This Row],[Count Tiles]],0)","v":0},{"$f":"IF(roomnames[[#This Row],[Type]]=$F$16,roomnames[[#This Row],[Count Tiles]],0)","v":0},{"$f":"IF(roomnames[[#This Row],[Wall tile qty]]>0,                   SUM(roomnames[[#This Row],[Count Tiles]]*                   ((roomnames[[#This Row],[Tile Width]]*roomnames[[#This Row],[Tile Height]])))            /1000000,0)","v":0},{"$f":"IF(roomnames[[#This Row],[Floor tile qty]]>0.001,SUM(roomnames[[#This Row],[Count Tiles]]*(roomnames[[#This Row],[Tile Width]]*roomnames[[#This Row],[Tile Height]]))/1000000,0)","v":0},{"$f":"IF(roomnames[[#This Row],[Fet tile qty]]>0.001,SUM(roomnames[[#This Row],[Count Tiles]]*(roomnames[[#This Row],[Tile Width]]*roomnames[[#This Row],[Tile Height]]))/1000000,)","v":0},{"$f":"IF(roomnames[[#This Row],[Other tile qty]]>0.001,SUM(roomnames[[#This Row],[Count Tiles]]*(roomnames[[#This Row],[Tile Width]]*roomnames[[#This Row],[Tile Height]]))/1000000,0)","v":0},null,null,{"$f":"IF(roomnames[[#This Row],[Porcl]]=\"yes\",roomnames[[#This Row],[Wall Lab]]+roomnames[[#This Row],[Floor Lab]]+roomnames[[#This Row],[Fet Lab]]+roomnames[[#This Row],[Othr Lab]],0)","v":0},{"$f":"IF(roomnames[[#This Row],[EO Std]]=\"yes\",roomnames[[#This Row],[Wall Lab]]+roomnames[[#This Row],[Floor Lab]]+roomnames[[#This Row],[Fet Lab]]+roomnames[[#This Row],[Othr Lab]],0)","v":0},"No","No","No",null,null,null,null,null,null,null,null,null,null,{"$f":"IFERROR(SUM(Table3[[#This Row],[Tile Wide]]*Table3[[#This Row],[Tile High]]),\"\")","v":""},{"$f":"IFERROR(ROUNDUP(SUM(Table3[[#This Row],[Actual W]]/VLOOKUP(AQ30,roomnames[],4,0)),0),\"\")","v":""},{"$f":"IFERROR(ROUNDUP(SUM(Table3[[#This Row],[Actual H]]/VLOOKUP(AQ30,roomnames[],5,0)),0),\"\")","v":""},{"$f":"(Table3[[#This Row],[Actual W]]*Table3[[#This Row],[Actual H]])/1000000","v":0},{"$f":"IFERROR(ROUNDUP(SUM(Table3[[#This Row],[Rectified]]/VLOOKUP(Table3[[#This Row],[Actual W]],roomnames[],5,0)),0),\"\")","v":""},{"$f":"0","v":0},{"$f":"0","v":0},{"$f":"_xlfn.ISFORMULA(Table3[[#This Row],[Qty Tiles]])","v":true},{"$f":"IF(Table3[[#This Row],[Formula Trap]]=TRUE,1,0)","v":1},{"$f":"0","v":0}]
[null,null,null,null,null,null,null,null,null,{"$f":"CONCATENATE(roomnames[[#This Row],[Where]],\" - \",roomnames[[#This Row],[Type]])","v":" - "},null,null,null,null,{"$f":"SUMIF(Table3[],roomnames[[#This Row],[Locations]],Table3[Qty Tiles])","v":0},{"$f":"IF(roomnames[[#This Row],[2nd Supplier]]=\"No\",$G$9,\"\")","v":0},{"$f":"IF(roomnames[[#This Row],[2nd Supplier]]=\"Yes\",$G$10,\"\")","v":""},{"$f":"IF(roomnames[[#This Row],[2nd Supplier]]=\"no\",      SUM((roomnames[[#This Row],[Wall Supply in m2]]+roomnames[[#This Row],[Floor suply in m2]]+roomnames[[#This Row],[Feat supply in m2]]+roomnames[[#This Row],[other supply in m2]])*roomnames[[#This Row],[1st S/Cost]]),\nIF(roomnames[[#This Row],[2nd Supplier]]=\"yes\",   0))","v":0},{"$f":"IF(roomnames[[#This Row],[2nd Supplier]]=\"Yes\",      SUM((roomnames[[#This Row],[Wall Supply in m2]]+roomnames[[#This Row],[Floor suply in m2]]+roomnames[[#This Row],[Feat supply in m2]]+roomnames[[#This Row],[other supply in m2]])*roomnames[[#This Row],[2nd S/Cost]]),\nIF(roomnames[[#This Row],[2nd Supplier]]=\"No\",   0))","v":0},{"$f":"IF(roomnames[[#This Row],[Type]]=$F$13,   SUMIF(Table3[],roomnames[[#This Row],[Locations]],Table3[Labour]),0)","v":0},{"$f":"IF(roomnames[[#This Row],[Type]]=$F$14,   SUMIF(Table3[],roomnames[[#This Row],[Locations]],Table3[Labour]),0)","v":0},{"$f":"IF(roomnames[[#This Row],[Type]]=$F$15,   SUMIF(Table3[],roomnames[[#This Row],[Locations]],Table3[Labour]),0)","v":0},{"$f":"IF(roomnames[[#This Row],[Type]]=$F$16,   SUMIF(Table3[],roomnames[[#This Row],[Locations]],Table3[Labour]),0)","v":0},null,{"$f":"IF(roomnames[[#This Row],[Type]]=$F$13,roomnames[[#This Row],[Count Tiles]],0)","v":0},{"$f":"IF(roomnames[[#This Row],[Type]]=$F$14,roomnames[[#This Row],[Count Tiles]],0)","v":0},{"$f":"IF(roomnames[[#This Row],[Type]]=$F$15,roomnames[[#This Row],[Count Tiles]],0)","v":0},{"$f":"IF(roomnames[[#This Row],[Type]]=$F$16,roomnames[[#This Row],[Count Tiles]],0)","v":0},{"$f":"IF(roomnames[[#This Row],[Wall tile qty]]>0,                   SUM(roomnames[[#This Row],[Count Tiles]]*                   ((roomnames[[#This Row],[Tile Width]]*roomnames[[#This Row],[Tile Height]])))            /1000000,0)","v":0},{"$f":"IF(roomnames[[#This Row],[Floor tile qty]]>0.001,SUM(roomnames[[#This Row],[Count Tiles]]*(roomnames[[#This Row],[Tile Width]]*roomnames[[#This Row],[Tile Height]]))/1000000,0)","v":0},{"$f":"IF(roomnames[[#This Row],[Fet tile qty]]>0.001,SUM(roomnames[[#This Row],[Count Tiles]]*(roomnames[[#This Row],[Tile Width]]*roomnames[[#This Row],[Tile Height]]))/1000000,)","v":0},{"$f":"IF(roomnames[[#This Row],[Other tile qty]]>0.001,SUM(roomnames[[#This Row],[Count Tiles]]*(roomnames[[#This Row],[Tile Width]]*roomnames[[#This Row],[Tile Height]]))/1000000,0)","v":0},null,null,{"$f":"IF(roomnames[[#This Row],[Porcl]]=\"yes\",roomnames[[#This Row],[Wall Lab]]+roomnames[[#This Row],[Floor Lab]]+roomnames[[#This Row],[Fet Lab]]+roomnames[[#This Row],[Othr Lab]],0)","v":0},{"$f":"IF(roomnames[[#This Row],[EO Std]]=\"yes\",roomnames[[#This Row],[Wall Lab]]+roomnames[[#This Row],[Floor Lab]]+roomnames[[#This Row],[Fet Lab]]+roomnames[[#This Row],[Othr Lab]],0)","v":0},"No","No","No",null,null,null,null,null,null,null,null,null,null,{"$f":"IFERROR(SUM(Table3[[#This Row],[Tile Wide]]*Table3[[#This Row],[Tile High]]),\"\")","v":""},{"$f":"IFERROR(ROUNDUP(SUM(Table3[[#This Row],[Actual W]]/VLOOKUP(AQ31,roomnames[],4,0)),0),\"\")","v":""},{"$f":"IFERROR(ROUNDUP(SUM(Table3[[#This Row],[Actual H]]/VLOOKUP(AQ31,roomnames[],5,0)),0),\"\")","v":""},{"$f":"(Table3[[#This Row],[Actual W]]*Table3[[#This Row],[Actual H]])/1000000","v":0},{"$f":"IFERROR(ROUNDUP(SUM(Table3[[#This Row],[Rectified]]/VLOOKUP(Table3[[#This Row],[Actual W]],roomnames[],5,0)),0),\"\")","v":""},{"$f":"0","v":0},{"$f":"0","v":0},{"$f":"_xlfn.ISFORMULA(Table3[[#This Row],[Qty Tiles]])","v":true},{"$f":"IF(Table3[[#This Row],[Formula Trap]]=TRUE,1,0)","v":1},{"$f":"0","v":0}]
[null,null,null,null,null,null,null,null,null,null,null,null,null,null,null,null,null,null,null,null,null,null,null,null,null,null,null,null,null,null,null,null,null,null,null,null,null,null,null,null,null,null,null,null,null,null,null,null,null,{"$f":"IFERROR(SUM(Table3[[#This Row],[Tile Wide]]*Table3[[#This Row],[Tile High]]),\"\")","v":""},{"$f":"IFERROR(ROUNDUP(SUM(Table3[[#This Row],[Actual W]]/VLOOKUP(AQ32,roomnames[],4,0)),0),\"\")","v":""},{"$f":"IFERROR(ROUNDUP(SUM(Table3[[#This Row],[Actual H]]/VLOOKUP(AQ32,roomnames[],5,0)),0),\"\")","v":""},{"$f":"(Table3[[#This Row],[Actual W]]*Table3[[#This Row],[Actual H]])/1000000","v":0},{"$f":"IFERROR(ROUNDUP(SUM(Table3[[#This Row],[Rectified]]/VLOOKUP(Table3[[#This Row],[Actual W]],roomnames[],5,0)),0),\"\")","v":""},{"$f":"0","v":0},{"$f":"0","v":0},{"$f":"_xlfn.ISFORMULA(Table3[[#This Row],[Qty Tiles]])","v":true},{"$f":"IF(Table3[[#This Row],[Formula Trap]]=TRUE,1,0)","v":1},{"$f":"0","v":0}]
[null,null,null,null,null,null,null,null,null,null,null,null,null,null,null,null,null,null,null,null,null,null,null,null,null,null,null,null,null,null,null,null,null,null,null,null,null,null,null,null,null,null,null,null,null,null,null,null,null,{"$f":"IFERROR(SUM(Table3[[#This Row],[Tile Wide]]*Table3[[#This Row],[Tile High]]),\"\")","v":""},{"$f":"IFERROR(ROUNDUP(SUM(Table3[[#This Row],[Actual W]]/VLOOKUP(AQ33,roomnames[],4,0)),0),\"\")","v":""},{"$f":"IFERROR(ROUNDUP(SUM(Table3[[#This Row],[Actual H]]/VLOOKUP(AQ33,roomnames[],5,0)),0),\"\")","v":""},{"$f":"(Table3[[#This Row],[Actual W]]*Table3[[#This Row],[Actual H]])/1000000","v":0},{"$f":"IFERROR(ROUNDUP(SUM(Table3[[#This Row],[Rectified]]/VLOOKUP(Table3[[#This Row],[Actual W]],roomnames[],5,0)),0),\"\")","v":""},{"$f":"0","v":0},{"$f":"0","v":0},{"$f":"_xlfn.ISFORMULA(Table3[[#This Row],[Qty Tiles]])","v":true},{"$f":"IF(Table3[[#This Row],[Formula Trap]]=TRUE,1,0)","v":1},{"$f":"0","v":0}]
[null,null,null,null,null,null,null,null,null,null,null,null,null,null,null,null,null,null,null,null,null,null,null,null,null,null,null,null,null,null,null,null,null,null,null,null,null,null,null,null,null,null,null,null,null,null,null,null,null,{"$f":"IFERROR(SUM(Table3[[#This Row],[Tile Wide]]*Table3[[#This Row],[Tile High]]),\"\")","v":""},{"$f":"IFERROR(ROUNDUP(SUM(Table3[[#This Row],[Actual W]]/VLOOKUP(AQ34,roomnames[],4,0)),0),\"\")","v":""},{"$f":"IFERROR(ROUNDUP(SUM(Table3[[#This Row],[Actual H]]/VLOOKUP(AQ34,roomnames[],5,0)),0),\"\")","v":""},{"$f":"(Table3[[#This Row],[Actual W]]*Table3[[#This Row],[Actual H]])/1000000","v":0},{"$f":"IFERROR(ROUNDUP(SUM(Table3[[#This Row],[Rectified]]/VLOOKUP(Table3[[#This Row],[Actual W]],roomnames[],5,0)),0),\"\")","v":""},{"$f":"0","v":0},{"$f":"0","v":0},{"$f":"_xlfn.ISFORMULA(Table3[[#This Row],[Qty Tiles]])","v":true},{"$f":"IF(Table3[[#This Row],[Formula Trap]]=TRUE,1,0)","v":1},{"$f":"0","v":0}]
[null,null,null,null,null,null,null,null,null,null,null,null,null,null,null,null,null,null,null,null,null,null,null,null,null,null,null,null,null,null,null,null,null,null,null,null,null,null,null,null,null,null,null,null,null,null,null,null,null,{"$f":"IFERROR(SUM(Table3[[#This Row],[Tile Wide]]*Table3[[#This Row],[Tile High]]),\"\")","v":""},{"$f":"IFERROR(ROUNDUP(SUM(Table3[[#This Row],[Actual W]]/VLOOKUP(AQ35,roomnames[],4,0)),0),\"\")","v":""},{"$f":"IFERROR(ROUNDUP(SUM(Table3[[#This Row],[Actual H]]/VLOOKUP(AQ35,roomnames[],5,0)),0),\"\")","v":""},{"$f":"(Table3[[#This Row],[Actual W]]*Table3[[#This Row],[Actual H]])/1000000","v":0},{"$f":"IFERROR(ROUNDUP(SUM(Table3[[#This Row],[Rectified]]/VLOOKUP(Table3[[#This Row],[Actual W]],roomnames[],5,0)),0),\"\")","v":""},{"$f":"0","v":0},{"$f":"0","v":0},{"$f":"_xlfn.ISFORMULA(Table3[[#This Row],[Qty Tiles]])","v":true},{"$f":"IF(Table3[[#This Row],[Formula Trap]]=TRUE,1,0)","v":1},{"$f":"0","v":0}]
[null,null,null,null,null,null,null,null,null,null,null,null,null,null,null,null,null,null,null,null,null,null,null,null,null,null,null,null,null,null,null,null,null,null,null,null,null,null,null,null,null,null,null,null,null,null,null,null,null,{"$f":"IFERROR(SUM(Table3[[#This Row],[Tile Wide]]*Table3[[#This Row],[Tile High]]),\"\")","v":""},{"$f":"IFERROR(ROUNDUP(SUM(Table3[[#This Row],[Actual W]]/VLOOKUP(AQ36,roomnames[],4,0)),0),\"\")","v":""},{"$f":"IFERROR(ROUNDUP(SUM(Table3[[#This Row],[Actual H]]/VLOOKUP(AQ36,roomnames[],5,0)),0),\"\")","v":""},{"$f":"(Table3[[#This Row],[Actual W]]*Table3[[#This Row],[Actual H]])/1000000","v":0},{"$f":"IFERROR(ROUNDUP(SUM(Table3[[#This Row],[Rectified]]/VLOOKUP(Table3[[#This Row],[Actual W]],roomnames[],5,0)),0),\"\")","v":""},{"$f":"0","v":0},{"$f":"0","v":0},{"$f":"_xlfn.ISFORMULA(Table3[[#This Row],[Qty Tiles]])","v":true},{"$f":"IF(Table3[[#This Row],[Formula Trap]]=TRUE,1,0)","v":1},{"$f":"0","v":0}]
[null,null,null,null,null,null,null,null,null,null,null,null,null,null,null,null,null,null,null,null,null,null,null,null,null,null,null,null,null,null,null,null,null,null,null,null,null,null,null,null,null,null,null,null,null,null,null,null,null,{"$f":"IFERROR(SUM(Table3[[#This Row],[Tile Wide]]*Table3[[#This Row],[Tile High]]),\"\")","v":""},{"$f":"IFERROR(ROUNDUP(SUM(Table3[[#This Row],[Actual W]]/VLOOKUP(AQ37,roomnames[],4,0)),0),\"\")","v":""},{"$f":"IFERROR(ROUNDUP(SUM(Table3[[#This Row],[Actual H]]/VLOOKUP(AQ37,roomnames[],5,0)),0),\"\")","v":""},{"$f":"(Table3[[#This Row],[Actual W]]*Table3[[#This Row],[Actual H]])/1000000","v":0},{"$f":"IFERROR(ROUNDUP(SUM(Table3[[#This Row],[Rectified]]/VLOOKUP(Table3[[#This Row],[Actual W]],roomnames[],5,0)),0),\"\")","v":""},{"$f":"0","v":0},{"$f":"0","v":0},{"$f":"_xlfn.ISFORMULA(Table3[[#This Row],[Qty Tiles]])","v":true},{"$f":"IF(Table3[[#This Row],[Formula Trap]]=TRUE,1,0)","v":1},{"$f":"0","v":0}]
[null,null,null,null,null,null,null,null,null,null,null,null,null,null,null,null,null,null,null,null,null,null,null,null,null,null,null,null,null,null,null,null,null,null,null,null,null,null,null,null,null,null,null,null,null,null,null,null,null,{"$f":"IFERROR(SUM(Table3[[#This Row],[Tile Wide]]*Table3[[#This Row],[Tile High]]),\"\")","v":""},{"$f":"IFERROR(ROUNDUP(SUM(Table3[[#This Row],[Actual W]]/VLOOKUP(AQ38,roomnames[],4,0)),0),\"\")","v":""},{"$f":"IFERROR(ROUNDUP(SUM(Table3[[#This Row],[Actual H]]/VLOOKUP(AQ38,roomnames[],5,0)),0),\"\")","v":""},{"$f":"(Table3[[#This Row],[Actual W]]*Table3[[#This Row],[Actual H]])/1000000","v":0},{"$f":"IFERROR(ROUNDUP(SUM(Table3[[#This Row],[Rectified]]/VLOOKUP(Table3[[#This Row],[Actual W]],roomnames[],5,0)),0),\"\")","v":""},{"$f":"0","v":0},{"$f":"0","v":0},{"$f":"_xlfn.ISFORMULA(Table3[[#This Row],[Qty Tiles]])","v":true},{"$f":"IF(Table3[[#This Row],[Formula Trap]]=TRUE,1,0)","v":1},{"$f":"0","v":0}]
[null,null,null,null,null,null,null,null,null,null,null,null,null,null,null,null,null,null,null,null,null,null,null,null,null,null,null,null,null,null,null,null,null,null,null,null,null,null,null,null,null,null,null,null,null,null,null,null,null,{"$f":"IFERROR(SUM(Table3[[#This Row],[Tile Wide]]*Table3[[#This Row],[Tile High]]),\"\")","v":""},{"$f":"IFERROR(ROUNDUP(SUM(Table3[[#This Row],[Actual W]]/VLOOKUP(AQ39,roomnames[],4,0)),0),\"\")","v":""},{"$f":"IFERROR(ROUNDUP(SUM(Table3[[#This Row],[Actual H]]/VLOOKUP(AQ39,roomnames[],5,0)),0),\"\")","v":""},{"$f":"(Table3[[#This Row],[Actual W]]*Table3[[#This Row],[Actual H]])/1000000","v":0},{"$f":"IFERROR(ROUNDUP(SUM(Table3[[#This Row],[Rectified]]/VLOOKUP(Table3[[#This Row],[Actual W]],roomnames[],5,0)),0),\"\")","v":""},{"$f":"0","v":0},{"$f":"0","v":0},{"$f":"_xlfn.ISFORMULA(Table3[[#This Row],[Qty Tiles]])","v":true},{"$f":"IF(Table3[[#This Row],[Formula Trap]]=TRUE,1,0)","v":1},{"$f":"0","v":0}]
[null,null,null,null,null,null,null,null,null,null,null,null,null,null,null,null,null,null,null,null,null,null,null,null,null,null,null,null,null,null,null,null,null,null,null,null,null,null,null,null,null,null,null,null,null,null,null,null,null,{"$f":"IFERROR(SUM(Table3[[#This Row],[Tile Wide]]*Table3[[#This Row],[Tile High]]),\"\")","v":""},{"$f":"IFERROR(ROUNDUP(SUM(Table3[[#This Row],[Actual W]]/VLOOKUP(AQ40,roomnames[],4,0)),0),\"\")","v":""},{"$f":"IFERROR(ROUNDUP(SUM(Table3[[#This Row],[Actual H]]/VLOOKUP(AQ40,roomnames[],5,0)),0),\"\")","v":""},{"$f":"(Table3[[#This Row],[Actual W]]*Table3[[#This Row],[Actual H]])/1000000","v":0},{"$f":"IFERROR(ROUNDUP(SUM(Table3[[#This Row],[Rectified]]/VLOOKUP(Table3[[#This Row],[Actual W]],roomnames[],5,0)),0),\"\")","v":""},{"$f":"0","v":0},{"$f":"0","v":0},{"$f":"_xlfn.ISFORMULA(Table3[[#This Row],[Qty Tiles]])","v":true},{"$f":"IF(Table3[[#This Row],[Formula Trap]]=TRUE,1,0)","v":1},{"$f":"0","v":0}]
[null,null,null,null,null,null,null,null,null,null,null,null,null,null,null,null,null,null,null,null,null,null,null,null,null,null,null,null,null,null,null,null,null,null,null,null,null,null,null,null,null,null,null,null,null,null,null,null,null,{"$f":"IFERROR(SUM(Table3[[#This Row],[Tile Wide]]*Table3[[#This Row],[Tile High]]),\"\")","v":""},{"$f":"IFERROR(ROUNDUP(SUM(Table3[[#This Row],[Actual W]]/VLOOKUP(AQ41,roomnames[],4,0)),0),\"\")","v":""},{"$f":"IFERROR(ROUNDUP(SUM(Table3[[#This Row],[Actual H]]/VLOOKUP(AQ41,roomnames[],5,0)),0),\"\")","v":""},{"$f":"(Table3[[#This Row],[Actual W]]*Table3[[#This Row],[Actual H]])/1000000","v":0},{"$f":"IFERROR(ROUNDUP(SUM(Table3[[#This Row],[Rectified]]/VLOOKUP(Table3[[#This Row],[Actual W]],roomnames[],5,0)),0),\"\")","v":""},{"$f":"0","v":0},{"$f":"0","v":0},{"$f":"_xlfn.ISFORMULA(Table3[[#This Row],[Qty Tiles]])","v":true},{"$f":"IF(Table3[[#This Row],[Formula Trap]]=TRUE,1,0)","v":1},{"$f":"0","v":0}]
[null,null,null,null,null,null,null,null,null,null,null,null,null,null,null,null,null,null,null,null,null,null,null,null,null,null,null,null,null,null,null,null,null,null,null,null,null,null,null,null,null,null,null,null,null,null,null,null,null,{"$f":"IFERROR(SUM(Table3[[#This Row],[Tile Wide]]*Table3[[#This Row],[Tile High]]),\"\")","v":""},{"$f":"IFERROR(ROUNDUP(SUM(Table3[[#This Row],[Actual W]]/VLOOKUP(AQ42,roomnames[],4,0)),0),\"\")","v":""},{"$f":"IFERROR(ROUNDUP(SUM(Table3[[#This Row],[Actual H]]/VLOOKUP(AQ42,roomnames[],5,0)),0),\"\")","v":""},{"$f":"(Table3[[#This Row],[Actual W]]*Table3[[#This Row],[Actual H]])/1000000","v":0},{"$f":"IFERROR(ROUNDUP(SUM(Table3[[#This Row],[Rectified]]/VLOOKUP(Table3[[#This Row],[Actual W]],roomnames[],5,0)),0),\"\")","v":""},{"$f":"0","v":0},{"$f":"0","v":0},{"$f":"_xlfn.ISFORMULA(Table3[[#This Row],[Qty Tiles]])","v":true},{"$f":"IF(Table3[[#This Row],[Formula Trap]]=TRUE,1,0)","v":1},{"$f":"0","v":0}]
[null,null,null,null,null,null,null,null,null,null,null,null,null,null,null,null,null,null,null,null,null,null,null,null,null,null,null,null,null,null,null,null,null,null,null,null,null,null,null,null,null,null,null,null,null,null,null,null,null,{"$f":"IFERROR(SUM(Table3[[#This Row],[Tile Wide]]*Table3[[#This Row],[Tile High]]),\"\")","v":""},{"$f":"IFERROR(ROUNDUP(SUM(Table3[[#This Row],[Actual W]]/VLOOKUP(AQ43,roomnames[],4,0)),0),\"\")","v":""},{"$f":"IFERROR(ROUNDUP(SUM(Table3[[#This Row],[Actual H]]/VLOOKUP(AQ43,roomnames[],5,0)),0),\"\")","v":""},{"$f":"(Table3[[#This Row],[Actual W]]*Table3[[#This Row],[Actual H]])/1000000","v":0},{"$f":"IFERROR(ROUNDUP(SUM(Table3[[#This Row],[Rectified]]/VLOOKUP(Table3[[#This Row],[Actual W]],roomnames[],5,0)),0),\"\")","v":""},{"$f":"0","v":0},{"$f":"0","v":0},{"$f":"_xlfn.ISFORMULA(Table3[[#This Row],[Qty Tiles]])","v":true},{"$f":"IF(Table3[[#This Row],[Formula Trap]]=TRUE,1,0)","v":1},{"$f":"0","v":0}]
[null,null,null,null,null,null,null,null,null,null,null,null,null,null,null,null,null,null,null,null,null,null,null,null,null,null,null,null,null,null,null,null,null,null,null,null,null,null,null,null,null,null,null,null,null,null,null,null,null,{"$f":"IFERROR(SUM(Table3[[#This Row],[Tile Wide]]*Table3[[#This Row],[Tile High]]),\"\")","v":""},{"$f":"IFERROR(ROUNDUP(SUM(Table3[[#This Row],[Actual W]]/VLOOKUP(AQ44,roomnames[],4,0)),0),\"\")","v":""},{"$f":"IFERROR(ROUNDUP(SUM(Table3[[#This Row],[Actual H]]/VLOOKUP(AQ44,roomnames[],5,0)),0),\"\")","v":""},{"$f":"(Table3[[#This Row],[Actual W]]*Table3[[#This Row],[Actual H]])/1000000","v":0},{"$f":"IFERROR(ROUNDUP(SUM(Table3[[#This Row],[Rectified]]/VLOOKUP(Table3[[#This Row],[Actual W]],roomnames[],5,0)),0),\"\")","v":""},{"$f":"0","v":0},{"$f":"0","v":0},{"$f":"_xlfn.ISFORMULA(Table3[[#This Row],[Qty Tiles]])","v":true},{"$f":"IF(Table3[[#This Row],[Formula Trap]]=TRUE,1,0)","v":1},{"$f":"0","v":0}]
[null,null,null,null,null,null,null,null,null,null,null,null,null,null,null,null,null,null,null,null,null,null,null,null,null,null,null,null,null,null,null,null,null,null,null,null,null,null,null,null,null,null,null,null,null,null,null,null,null,{"$f":"IFERROR(SUM(Table3[[#This Row],[Tile Wide]]*Table3[[#This Row],[Tile High]]),\"\")","v":""},{"$f":"IFERROR(ROUNDUP(SUM(Table3[[#This Row],[Actual W]]/VLOOKUP(AQ45,roomnames[],4,0)),0),\"\")","v":""},{"$f":"IFERROR(ROUNDUP(SUM(Table3[[#This Row],[Actual H]]/VLOOKUP(AQ45,roomnames[],5,0)),0),\"\")","v":""},{"$f":"(Table3[[#This Row],[Actual W]]*Table3[[#This Row],[Actual H]])/1000000","v":0},{"$f":"IFERROR(ROUNDUP(SUM(Table3[[#This Row],[Rectified]]/VLOOKUP(Table3[[#This Row],[Actual W]],roomnames[],5,0)),0),\"\")","v":""},{"$f":"0","v":0},{"$f":"0","v":0},{"$f":"_xlfn.ISFORMULA(Table3[[#This Row],[Qty Tiles]])","v":true},{"$f":"IF(Table3[[#This Row],[Formula Trap]]=TRUE,1,0)","v":1},{"$f":"0","v":0}]
[null,null,null,null,null,null,null,null,null,null,null,null,null,null,null,null,null,null,null,null,null,null,null,null,null,null,null,null,null,null,null,null,null,null,null,null,null,null,null,null,null,null,null,null,null,null,null,null,null,{"$f":"IFERROR(SUM(Table3[[#This Row],[Tile Wide]]*Table3[[#This Row],[Tile High]]),\"\")","v":""},{"$f":"IFERROR(ROUNDUP(SUM(Table3[[#This Row],[Actual W]]/VLOOKUP(AQ46,roomnames[],4,0)),0),\"\")","v":""},{"$f":"IFERROR(ROUNDUP(SUM(Table3[[#This Row],[Actual H]]/VLOOKUP(AQ46,roomnames[],5,0)),0),\"\")","v":""},{"$f":"(Table3[[#This Row],[Actual W]]*Table3[[#This Row],[Actual H]])/1000000","v":0},{"$f":"IFERROR(ROUNDUP(SUM(Table3[[#This Row],[Rectified]]/VLOOKUP(Table3[[#This Row],[Actual W]],roomnames[],5,0)),0),\"\")","v":""},{"$f":"0","v":0},{"$f":"0","v":0},{"$f":"_xlfn.ISFORMULA(Table3[[#This Row],[Qty Tiles]])","v":true},{"$f":"IF(Table3[[#This Row],[Formula Trap]]=TRUE,1,0)","v":1},{"$f":"0","v":0}]
[null,null,null,null,null,null,null,null,null,null,null,null,null,null,null,null,null,null,null,null,null,null,null,null,null,null,null,null,null,null,null,null,null,null,null,null,null,null,null,null,null,null,null,null,null,null,null,null,null,{"$f":"IFERROR(SUM(Table3[[#This Row],[Tile Wide]]*Table3[[#This Row],[Tile High]]),\"\")","v":""},{"$f":"IFERROR(ROUNDUP(SUM(Table3[[#This Row],[Actual W]]/VLOOKUP(AQ47,roomnames[],4,0)),0),\"\")","v":""},{"$f":"IFERROR(ROUNDUP(SUM(Table3[[#This Row],[Actual H]]/VLOOKUP(AQ47,roomnames[],5,0)),0),\"\")","v":""},{"$f":"(Table3[[#This Row],[Actual W]]*Table3[[#This Row],[Actual H]])/1000000","v":0},{"$f":"IFERROR(ROUNDUP(SUM(Table3[[#This Row],[Rectified]]/VLOOKUP(Table3[[#This Row],[Actual W]],roomnames[],5,0)),0),\"\")","v":""},{"$f":"0","v":0},{"$f":"0","v":0},{"$f":"_xlfn.ISFORMULA(Table3[[#This Row],[Qty Tiles]])","v":true},{"$f":"IF(Table3[[#This Row],[Formula Trap]]=TRUE,1,0)","v":1},{"$f":"0","v":0}]
[null,null,null,null,null,null,null,null,null,null,null,null,null,null,null,null,null,null,null,null,null,null,null,null,null,null,null,null,null,null,null,null,null,null,null,null,null,null,null,null,null,null,null,null,null,null,null,null,null,{"$f":"IFERROR(SUM(Table3[[#This Row],[Tile Wide]]*Table3[[#This Row],[Tile High]]),\"\")","v":""},{"$f":"IFERROR(ROUNDUP(SUM(Table3[[#This Row],[Actual W]]/VLOOKUP(AQ48,roomnames[],4,0)),0),\"\")","v":""},{"$f":"IFERROR(ROUNDUP(SUM(Table3[[#This Row],[Actual H]]/VLOOKUP(AQ48,roomnames[],5,0)),0),\"\")","v":""},{"$f":"(Table3[[#This Row],[Actual W]]*Table3[[#This Row],[Actual H]])/1000000","v":0},{"$f":"IFERROR(ROUNDUP(SUM(Table3[[#This Row],[Rectified]]/VLOOKUP(Table3[[#This Row],[Actual W]],roomnames[],5,0)),0),\"\")","v":""},{"$f":"0","v":0},{"$f":"0","v":0},{"$f":"_xlfn.ISFORMULA(Table3[[#This Row],[Qty Tiles]])","v":true},{"$f":"IF(Table3[[#This Row],[Formula Trap]]=TRUE,1,0)","v":1},{"$f":"0","v":0}]
[null,null,null,null,null,null,null,null,null,null,null,null,null,null,null,null,null,null,null,null,null,null,null,null,null,null,null,null,null,null,null,null,null,null,null,null,null,null,null,null,null,null,null,null,null,null,null,null,null,{"$f":"IFERROR(SUM(Table3[[#This Row],[Tile Wide]]*Table3[[#This Row],[Tile High]]),\"\")","v":""},{"$f":"IFERROR(ROUNDUP(SUM(Table3[[#This Row],[Actual W]]/VLOOKUP(AQ49,roomnames[],4,0)),0),\"\")","v":""},{"$f":"IFERROR(ROUNDUP(SUM(Table3[[#This Row],[Actual H]]/VLOOKUP(AQ49,roomnames[],5,0)),0),\"\")","v":""},{"$f":"(Table3[[#This Row],[Actual W]]*Table3[[#This Row],[Actual H]])/1000000","v":0},{"$f":"IFERROR(ROUNDUP(SUM(Table3[[#This Row],[Rectified]]/VLOOKUP(Table3[[#This Row],[Actual W]],roomnames[],5,0)),0),\"\")","v":""},{"$f":"0","v":0},{"$f":"0","v":0},{"$f":"_xlfn.ISFORMULA(Table3[[#This Row],[Qty Tiles]])","v":true},{"$f":"IF(Table3[[#This Row],[Formula Trap]]=TRUE,1,0)","v":1},{"$f":"0","v":0}]
[null,null,null,null,null,null,null,null,null,null,null,null,null,null,null,null,null,null,null,null,null,null,null,null,null,null,null,null,null,null,null,null,null,null,null,null,null,null,null,null,null,null,null,null,null,null,null,null,null,{"$f":"IFERROR(SUM(Table3[[#This Row],[Tile Wide]]*Table3[[#This Row],[Tile High]]),\"\")","v":""},{"$f":"IFERROR(ROUNDUP(SUM(Table3[[#This Row],[Actual W]]/VLOOKUP(AQ50,roomnames[],4,0)),0),\"\")","v":""},{"$f":"IFERROR(ROUNDUP(SUM(Table3[[#This Row],[Actual H]]/VLOOKUP(AQ50,roomnames[],5,0)),0),\"\")","v":""},{"$f":"(Table3[[#This Row],[Actual W]]*Table3[[#This Row],[Actual H]])/1000000","v":0},{"$f":"IFERROR(ROUNDUP(SUM(Table3[[#This Row],[Rectified]]/VLOOKUP(Table3[[#This Row],[Actual W]],roomnames[],5,0)),0),\"\")","v":""},{"$f":"0","v":0},{"$f":"0","v":0},{"$f":"_xlfn.ISFORMULA(Table3[[#This Row],[Qty Tiles]])","v":true},{"$f":"IF(Table3[[#This Row],[Formula Trap]]=TRUE,1,0)","v":1},{"$f":"0","v":0}]
[null,null,null,null,null,null,null,null,null,null,null,null,null,null,null,null,null,null,null,null,null,null,null,null,null,null,null,null,null,null,null,null,null,null,null,null,null,null,null,null,null,null,null,null,null,null,null,null,null,{"$f":"IFERROR(SUM(Table3[[#This Row],[Tile Wide]]*Table3[[#This Row],[Tile High]]),\"\")","v":""},{"$f":"IFERROR(ROUNDUP(SUM(Table3[[#This Row],[Actual W]]/VLOOKUP(AQ51,roomnames[],4,0)),0),\"\")","v":""},{"$f":"IFERROR(ROUNDUP(SUM(Table3[[#This Row],[Actual H]]/VLOOKUP(AQ51,roomnames[],5,0)),0),\"\")","v":""},{"$f":"(Table3[[#This Row],[Actual W]]*Table3[[#This Row],[Actual H]])/1000000","v":0},{"$f":"IFERROR(ROUNDUP(SUM(Table3[[#This Row],[Rectified]]/VLOOKUP(Table3[[#This Row],[Actual W]],roomnames[],5,0)),0),\"\")","v":""},{"$f":"0","v":0},{"$f":"0","v":0},{"$f":"_xlfn.ISFORMULA(Table3[[#This Row],[Qty Tiles]])","v":true},{"$f":"IF(Table3[[#This Row],[Formula Trap]]=TRUE,1,0)","v":1},{"$f":"0","v":0}]
[null,null,null,null,null,null,null,null,null,null,null,null,null,null,null,null,null,null,null,null,null,null,null,null,null,null,null,null,null,null,null,null,null,null,null,null,null,null,null,null,null,null,null,null,null,null,null,null,null,{"$f":"IFERROR(SUM(Table3[[#This Row],[Tile Wide]]*Table3[[#This Row],[Tile High]]),\"\")","v":""},{"$f":"IFERROR(ROUNDUP(SUM(Table3[[#This Row],[Actual W]]/VLOOKUP(AQ52,roomnames[],4,0)),0),\"\")","v":""},{"$f":"IFERROR(ROUNDUP(SUM(Table3[[#This Row],[Actual H]]/VLOOKUP(AQ52,roomnames[],5,0)),0),\"\")","v":""},{"$f":"(Table3[[#This Row],[Actual W]]*Table3[[#This Row],[Actual H]])/1000000","v":0},{"$f":"IFERROR(ROUNDUP(SUM(Table3[[#This Row],[Rectified]]/VLOOKUP(Table3[[#This Row],[Actual W]],roomnames[],5,0)),0),\"\")","v":""},{"$f":"0","v":0},{"$f":"0","v":0},{"$f":"_xlfn.ISFORMULA(Table3[[#This Row],[Qty Tiles]])","v":true},{"$f":"IF(Table3[[#This Row],[Formula Trap]]=TRUE,1,0)","v":1},{"$f":"0","v":0}]
[null,null,null,null,null,null,null,null,null,null,null,null,null,null,null,null,null,null,null,null,null,null,null,null,null,null,null,null,null,null,null,null,null,null,null,null,null,null,null,null,null,null,null,null,null,null,null,null,null,{"$f":"IFERROR(SUM(Table3[[#This Row],[Tile Wide]]*Table3[[#This Row],[Tile High]]),\"\")","v":""},{"$f":"IFERROR(ROUNDUP(SUM(Table3[[#This Row],[Actual W]]/VLOOKUP(AQ53,roomnames[],4,0)),0),\"\")","v":""},{"$f":"IFERROR(ROUNDUP(SUM(Table3[[#This Row],[Actual H]]/VLOOKUP(AQ53,roomnames[],5,0)),0),\"\")","v":""},{"$f":"(Table3[[#This Row],[Actual W]]*Table3[[#This Row],[Actual H]])/1000000","v":0},{"$f":"IFERROR(ROUNDUP(SUM(Table3[[#This Row],[Rectified]]/VLOOKUP(Table3[[#This Row],[Actual W]],roomnames[],5,0)),0),\"\")","v":""},{"$f":"0","v":0},{"$f":"0","v":0},{"$f":"_xlfn.ISFORMULA(Table3[[#This Row],[Qty Tiles]])","v":true},{"$f":"IF(Table3[[#This Row],[Formula Trap]]=TRUE,1,0)","v":1},{"$f":"0","v":0}]
[null,null,null,null,null,null,null,null,null,null,null,null,null,null,null,null,null,null,null,null,null,null,null,null,null,null,null,null,null,null,null,null,null,null,null,null,null,null,null,null,null,null,null,null,null,null,null,null,null,{"$f":"IFERROR(SUM(Table3[[#This Row],[Tile Wide]]*Table3[[#This Row],[Tile High]]),\"\")","v":""},{"$f":"IFERROR(ROUNDUP(SUM(Table3[[#This Row],[Actual W]]/VLOOKUP(AQ54,roomnames[],4,0)),0),\"\")","v":""},{"$f":"IFERROR(ROUNDUP(SUM(Table3[[#This Row],[Actual H]]/VLOOKUP(AQ54,roomnames[],5,0)),0),\"\")","v":""},{"$f":"(Table3[[#This Row],[Actual W]]*Table3[[#This Row],[Actual H]])/1000000","v":0},{"$f":"IFERROR(ROUNDUP(SUM(Table3[[#This Row],[Rectified]]/VLOOKUP(Table3[[#This Row],[Actual W]],roomnames[],5,0)),0),\"\")","v":""},{"$f":"0","v":0},{"$f":"0","v":0},{"$f":"_xlfn.ISFORMULA(Table3[[#This Row],[Qty Tiles]])","v":true},{"$f":"IF(Table3[[#This Row],[Formula Trap]]=TRUE,1,0)","v":1},{"$f":"0","v":0}]
[null,null,null,null,null,null,null,null,null,null,null,null,null,null,null,null,null,null,null,null,null,null,null,null,null,null,null,null,null,null,null,null,null,null,null,null,null,null,null,null,null,null,null,null,null,null,null,null,null,{"$f":"IFERROR(SUM(Table3[[#This Row],[Tile Wide]]*Table3[[#This Row],[Tile High]]),\"\")","v":""},{"$f":"IFERROR(ROUNDUP(SUM(Table3[[#This Row],[Actual W]]/VLOOKUP(AQ55,roomnames[],4,0)),0),\"\")","v":""},{"$f":"IFERROR(ROUNDUP(SUM(Table3[[#This Row],[Actual H]]/VLOOKUP(AQ55,roomnames[],5,0)),0),\"\")","v":""},{"$f":"(Table3[[#This Row],[Actual W]]*Table3[[#This Row],[Actual H]])/1000000","v":0},{"$f":"IFERROR(ROUNDUP(SUM(Table3[[#This Row],[Rectified]]/VLOOKUP(Table3[[#This Row],[Actual W]],roomnames[],5,0)),0),\"\")","v":""},{"$f":"0","v":0},{"$f":"0","v":0},{"$f":"_xlfn.ISFORMULA(Table3[[#This Row],[Qty Tiles]])","v":true},{"$f":"IF(Table3[[#This Row],[Formula Trap]]=TRUE,1,0)","v":1},{"$f":"0","v":0}]
[null,null,null,null,null,null,null,null,null,null,null,null,null,null,null,null,null,null,null,null,null,null,null,null,null,null,null,null,null,null,null,null,null,null,null,null,null,null,null,null,null,null,null,null,null,null,null,null,null,{"$f":"IFERROR(SUM(Table3[[#This Row],[Tile Wide]]*Table3[[#This Row],[Tile High]]),\"\")","v":""},{"$f":"IFERROR(ROUNDUP(SUM(Table3[[#This Row],[Actual W]]/VLOOKUP(AQ56,roomnames[],4,0)),0),\"\")","v":""},{"$f":"IFERROR(ROUNDUP(SUM(Table3[[#This Row],[Actual H]]/VLOOKUP(AQ56,roomnames[],5,0)),0),\"\")","v":""},{"$f":"(Table3[[#This Row],[Actual W]]*Table3[[#This Row],[Actual H]])/1000000","v":0},{"$f":"IFERROR(ROUNDUP(SUM(Table3[[#This Row],[Rectified]]/VLOOKUP(Table3[[#This Row],[Actual W]],roomnames[],5,0)),0),\"\")","v":""},{"$f":"0","v":0},{"$f":"0","v":0},{"$f":"_xlfn.ISFORMULA(Table3[[#This Row],[Qty Tiles]])","v":true},{"$f":"IF(Table3[[#This Row],[Formula Trap]]=TRUE,1,0)","v":1},{"$f":"0","v":0}]
[null,null,null,null,null,null,null,null,null,null,null,null,null,null,null,null,null,null,null,null,null,null,null,null,null,null,null,null,null,null,null,null,null,null,null,null,null,null,null,null,null,null,null,null,null,null,null,null,null,{"$f":"IFERROR(SUM(Table3[[#This Row],[Tile Wide]]*Table3[[#This Row],[Tile High]]),\"\")","v":""},{"$f":"IFERROR(ROUNDUP(SUM(Table3[[#This Row],[Actual W]]/VLOOKUP(AQ57,roomnames[],4,0)),0),\"\")","v":""},{"$f":"IFERROR(ROUNDUP(SUM(Table3[[#This Row],[Actual H]]/VLOOKUP(AQ57,roomnames[],5,0)),0),\"\")","v":""},{"$f":"(Table3[[#This Row],[Actual W]]*Table3[[#This Row],[Actual H]])/1000000","v":0},{"$f":"IFERROR(ROUNDUP(SUM(Table3[[#This Row],[Rectified]]/VLOOKUP(Table3[[#This Row],[Actual W]],roomnames[],5,0)),0),\"\")","v":""},{"$f":"0","v":0},{"$f":"0","v":0},{"$f":"_xlfn.ISFORMULA(Table3[[#This Row],[Qty Tiles]])","v":true},{"$f":"IF(Table3[[#This Row],[Formula Trap]]=TRUE,1,0)","v":1},{"$f":"0","v":0}]
[null,null,null,null,null,null,null,null,null,null,null,null,null,null,null,null,null,null,null,null,null,null,null,null,null,null,null,null,null,null,null,null,null,null,null,null,null,null,null,null,null,null,null,null,null,null,null,null,null,{"$f":"IFERROR(SUM(Table3[[#This Row],[Tile Wide]]*Table3[[#This Row],[Tile High]]),\"\")","v":""},{"$f":"IFERROR(ROUNDUP(SUM(Table3[[#This Row],[Actual W]]/VLOOKUP(AQ58,roomnames[],4,0)),0),\"\")","v":""},{"$f":"IFERROR(ROUNDUP(SUM(Table3[[#This Row],[Actual H]]/VLOOKUP(AQ58,roomnames[],5,0)),0),\"\")","v":""},{"$f":"(Table3[[#This Row],[Actual W]]*Table3[[#This Row],[Actual H]])/1000000","v":0},{"$f":"IFERROR(ROUNDUP(SUM(Table3[[#This Row],[Rectified]]/VLOOKUP(Table3[[#This Row],[Actual W]],roomnames[],5,0)),0),\"\")","v":""},{"$f":"0","v":0},{"$f":"0","v":0},{"$f":"_xlfn.ISFORMULA(Table3[[#This Row],[Qty Tiles]])","v":true},{"$f":"IF(Table3[[#This Row],[Formula Trap]]=TRUE,1,0)","v":1},{"$f":"0","v":0}]
[null,null,null,null,null,null,null,null,null,null,null,null,null,null,null,null,null,null,null,null,null,null,null,null,null,null,null,null,null,null,null,null,null,null,null,null,null,null,null,null,null,null,null,null,null,null,null,null,null,{"$f":"IFERROR(SUM(Table3[[#This Row],[Tile Wide]]*Table3[[#This Row],[Tile High]]),\"\")","v":""},{"$f":"IFERROR(ROUNDUP(SUM(Table3[[#This Row],[Actual W]]/VLOOKUP(AQ59,roomnames[],4,0)),0),\"\")","v":""},{"$f":"IFERROR(ROUNDUP(SUM(Table3[[#This Row],[Actual H]]/VLOOKUP(AQ59,roomnames[],5,0)),0),\"\")","v":""},{"$f":"(Table3[[#This Row],[Actual W]]*Table3[[#This Row],[Actual H]])/1000000","v":0},{"$f":"IFERROR(ROUNDUP(SUM(Table3[[#This Row],[Rectified]]/VLOOKUP(Table3[[#This Row],[Actual W]],roomnames[],5,0)),0),\"\")","v":""},{"$f":"0","v":0},{"$f":"0","v":0},{"$f":"_xlfn.ISFORMULA(Table3[[#This Row],[Qty Tiles]])","v":true},{"$f":"IF(Table3[[#This Row],[Formula Trap]]=TRUE,1,0)","v":1},{"$f":"0","v":0}]
[null,null,null,null,null,null,null,null,null,null,null,null,null,null,null,null,null,null,null,null,null,null,null,null,null,null,null,null,null,null,null,null,null,null,null,null,null,null,null,null,null,null,null,null,null,null,null,null,null,{"$f":"IFERROR(SUM(Table3[[#This Row],[Tile Wide]]*Table3[[#This Row],[Tile High]]),\"\")","v":""},{"$f":"IFERROR(ROUNDUP(SUM(Table3[[#This Row],[Actual W]]/VLOOKUP(AQ60,roomnames[],4,0)),0),\"\")","v":""},{"$f":"IFERROR(ROUNDUP(SUM(Table3[[#This Row],[Actual H]]/VLOOKUP(AQ60,roomnames[],5,0)),0),\"\")","v":""},{"$f":"(Table3[[#This Row],[Actual W]]*Table3[[#This Row],[Actual H]])/1000000","v":0},{"$f":"IFERROR(ROUNDUP(SUM(Table3[[#This Row],[Rectified]]/VLOOKUP(Table3[[#This Row],[Actual W]],roomnames[],5,0)),0),\"\")","v":""},{"$f":"0","v":0},{"$f":"0","v":0},{"$f":"_xlfn.ISFORMULA(Table3[[#This Row],[Qty Tiles]])","v":true},{"$f":"IF(Table3[[#This Row],[Formula Trap]]=TRUE,1,0)","v":1},{"$f":"0","v":0}]
[null,null,null,null,null,null,null,null,null,null,null,null,null,null,null,null,null,null,null,null,null,null,null,null,null,null,null,null,null,null,null,null,null,null,null,null,null,null,null,null,null,null,null,null,null,null,null,null,null,{"$f":"IFERROR(SUM(Table3[[#This Row],[Tile Wide]]*Table3[[#This Row],[Tile High]]),\"\")","v":""},{"$f":"IFERROR(ROUNDUP(SUM(Table3[[#This Row],[Actual W]]/VLOOKUP(AQ61,roomnames[],4,0)),0),\"\")","v":""},{"$f":"IFERROR(ROUNDUP(SUM(Table3[[#This Row],[Actual H]]/VLOOKUP(AQ61,roomnames[],5,0)),0),\"\")","v":""},{"$f":"(Table3[[#This Row],[Actual W]]*Table3[[#This Row],[Actual H]])/1000000","v":0},{"$f":"IFERROR(ROUNDUP(SUM(Table3[[#This Row],[Rectified]]/VLOOKUP(Table3[[#This Row],[Actual W]],roomnames[],5,0)),0),\"\")","v":""},{"$f":"0","v":0},{"$f":"0","v":0},{"$f":"_xlfn.ISFORMULA(Table3[[#This Row],[Qty Tiles]])","v":true},{"$f":"IF(Table3[[#This Row],[Formula Trap]]=TRUE,1,0)","v":1},{"$f":"0","v":0}]
[null,null,null,null,null,null,null,null,null,null,null,null,null,null,null,null,null,null,null,null,null,null,null,null,null,null,null,null,null,null,null,null,null,null,null,null,null,null,null,null,null,null,null,null,null,null,null,null,null,{"$f":"IFERROR(SUM(Table3[[#This Row],[Tile Wide]]*Table3[[#This Row],[Tile High]]),\"\")","v":""},{"$f":"IFERROR(ROUNDUP(SUM(Table3[[#This Row],[Actual W]]/VLOOKUP(AQ62,roomnames[],4,0)),0),\"\")","v":""},{"$f":"IFERROR(ROUNDUP(SUM(Table3[[#This Row],[Actual H]]/VLOOKUP(AQ62,roomnames[],5,0)),0),\"\")","v":""},{"$f":"(Table3[[#This Row],[Actual W]]*Table3[[#This Row],[Actual H]])/1000000","v":0},{"$f":"IFERROR(ROUNDUP(SUM(Table3[[#This Row],[Rectified]]/VLOOKUP(Table3[[#This Row],[Actual W]],roomnames[],5,0)),0),\"\")","v":""},{"$f":"0","v":0},{"$f":"0","v":0},{"$f":"_xlfn.ISFORMULA(Table3[[#This Row],[Qty Tiles]])","v":true},{"$f":"IF(Table3[[#This Row],[Formula Trap]]=TRUE,1,0)","v":1},{"$f":"0","v":0}]
[null,null,null,null,null,null,null,null,null,null,null,null,null,null,null,null,null,null,null,null,null,null,null,null,null,null,null,null,null,null,null,null,null,null,null,null,null,null,null,null,null,null,null,null,null,null,null,null,null,{"$f":"IFERROR(SUM(Table3[[#This Row],[Tile Wide]]*Table3[[#This Row],[Tile High]]),\"\")","v":""},{"$f":"IFERROR(ROUNDUP(SUM(Table3[[#This Row],[Actual W]]/VLOOKUP(AQ63,roomnames[],4,0)),0),\"\")","v":""},{"$f":"IFERROR(ROUNDUP(SUM(Table3[[#This Row],[Actual H]]/VLOOKUP(AQ63,roomnames[],5,0)),0),\"\")","v":""},{"$f":"(Table3[[#This Row],[Actual W]]*Table3[[#This Row],[Actual H]])/1000000","v":0},{"$f":"IFERROR(ROUNDUP(SUM(Table3[[#This Row],[Rectified]]/VLOOKUP(Table3[[#This Row],[Actual W]],roomnames[],5,0)),0),\"\")","v":""},{"$f":"0","v":0},{"$f":"0","v":0},{"$f":"_xlfn.ISFORMULA(Table3[[#This Row],[Qty Tiles]])","v":true},{"$f":"IF(Table3[[#This Row],[Formula Trap]]=TRUE,1,0)","v":1},{"$f":"0","v":0}]
[null,null,null,null,null,null,null,null,null,null,null,null,null,null,null,null,null,null,null,null,null,null,null,null,null,null,null,null,null,null,null,null,null,null,null,null,null,null,null,null,null,null,null,null,null,null,null,null,null,{"$f":"IFERROR(SUM(Table3[[#This Row],[Tile Wide]]*Table3[[#This Row],[Tile High]]),\"\")","v":""},{"$f":"IFERROR(ROUNDUP(SUM(Table3[[#This Row],[Actual W]]/VLOOKUP(AQ64,roomnames[],4,0)),0),\"\")","v":""},{"$f":"IFERROR(ROUNDUP(SUM(Table3[[#This Row],[Actual H]]/VLOOKUP(AQ64,roomnames[],5,0)),0),\"\")","v":""},{"$f":"(Table3[[#This Row],[Actual W]]*Table3[[#This Row],[Actual H]])/1000000","v":0},{"$f":"IFERROR(ROUNDUP(SUM(Table3[[#This Row],[Rectified]]/VLOOKUP(Table3[[#This Row],[Actual W]],roomnames[],5,0)),0),\"\")","v":""},{"$f":"0","v":0},{"$f":"0","v":0},{"$f":"_xlfn.ISFORMULA(Table3[[#This Row],[Qty Tiles]])","v":true},{"$f":"IF(Table3[[#This Row],[Formula Trap]]=TRUE,1,0)","v":1},{"$f":"0","v":0}]
[null,null,null,null,null,null,null,null,null,null,null,null,null,null,null,null,null,null,null,null,null,null,null,null,null,null,null,null,null,null,null,null,null,null,null,null,null,null,null,null,null,null,null,null,null,null,null,null,null,{"$f":"IFERROR(SUM(Table3[[#This Row],[Tile Wide]]*Table3[[#This Row],[Tile High]]),\"\")","v":""},{"$f":"IFERROR(ROUNDUP(SUM(Table3[[#This Row],[Actual W]]/VLOOKUP(AQ65,roomnames[],4,0)),0),\"\")","v":""},{"$f":"IFERROR(ROUNDUP(SUM(Table3[[#This Row],[Actual H]]/VLOOKUP(AQ65,roomnames[],5,0)),0),\"\")","v":""},{"$f":"(Table3[[#This Row],[Actual W]]*Table3[[#This Row],[Actual H]])/1000000","v":0},{"$f":"IFERROR(ROUNDUP(SUM(Table3[[#This Row],[Rectified]]/VLOOKUP(Table3[[#This Row],[Actual W]],roomnames[],5,0)),0),\"\")","v":""},{"$f":"0","v":0},{"$f":"0","v":0},{"$f":"_xlfn.ISFORMULA(Table3[[#This Row],[Qty Tiles]])","v":true},{"$f":"IF(Table3[[#This Row],[Formula Trap]]=TRUE,1,0)","v":1},{"$f":"0","v":0}]
[null,null,null,null,null,null,null,null,null,null,null,null,null,null,null,null,null,null,null,null,null,null,null,null,null,null,null,null,null,null,null,null,null,null,null,null,null,null,null,null,null,null,null,null,null,null,null,null,null,{"$f":"IFERROR(SUM(Table3[[#This Row],[Tile Wide]]*Table3[[#This Row],[Tile High]]),\"\")","v":""},{"$f":"IFERROR(ROUNDUP(SUM(Table3[[#This Row],[Actual W]]/VLOOKUP(AQ66,roomnames[],4,0)),0),\"\")","v":""},{"$f":"IFERROR(ROUNDUP(SUM(Table3[[#This Row],[Actual H]]/VLOOKUP(AQ66,roomnames[],5,0)),0),\"\")","v":""},{"$f":"(Table3[[#This Row],[Actual W]]*Table3[[#This Row],[Actual H]])/1000000","v":0},{"$f":"IFERROR(ROUNDUP(SUM(Table3[[#This Row],[Rectified]]/VLOOKUP(Table3[[#This Row],[Actual W]],roomnames[],5,0)),0),\"\")","v":""},{"$f":"0","v":0},{"$f":"0","v":0},{"$f":"_xlfn.ISFORMULA(Table3[[#This Row],[Qty Tiles]])","v":true},{"$f":"IF(Table3[[#This Row],[Formula Trap]]=TRUE,1,0)","v":1},{"$f":"0","v":0}]
[null,null,null,null,null,null,null,null,null,null,null,null,null,null,null,null,null,null,null,null,null,null,null,null,null,null,null,null,null,null,null,null,null,null,null,null,null,null,null,null,null,null,null,null,null,null,null,null,null,{"$f":"IFERROR(SUM(Table3[[#This Row],[Tile Wide]]*Table3[[#This Row],[Tile High]]),\"\")","v":""},{"$f":"IFERROR(ROUNDUP(SUM(Table3[[#This Row],[Actual W]]/VLOOKUP(AQ67,roomnames[],4,0)),0),\"\")","v":""},{"$f":"IFERROR(ROUNDUP(SUM(Table3[[#This Row],[Actual H]]/VLOOKUP(AQ67,roomnames[],5,0)),0),\"\")","v":""},{"$f":"(Table3[[#This Row],[Actual W]]*Table3[[#This Row],[Actual H]])/1000000","v":0},{"$f":"IFERROR(ROUNDUP(SUM(Table3[[#This Row],[Rectified]]/VLOOKUP(Table3[[#This Row],[Actual W]],roomnames[],5,0)),0),\"\")","v":""},{"$f":"0","v":0},{"$f":"0","v":0},{"$f":"_xlfn.ISFORMULA(Table3[[#This Row],[Qty Tiles]])","v":true},{"$f":"IF(Table3[[#This Row],[Formula Trap]]=TRUE,1,0)","v":1},{"$f":"0","v":0}]
[null,null,null,null,null,null,null,null,null,null,null,null,null,null,null,null,null,null,null,null,null,null,null,null,null,null,null,null,null,null,null,null,null,null,null,null,null,null,null,null,null,null,null,null,null,null,null,null,null,{"$f":"IFERROR(SUM(Table3[[#This Row],[Tile Wide]]*Table3[[#This Row],[Tile High]]),\"\")","v":""},{"$f":"IFERROR(ROUNDUP(SUM(Table3[[#This Row],[Actual W]]/VLOOKUP(AQ68,roomnames[],4,0)),0),\"\")","v":""},{"$f":"IFERROR(ROUNDUP(SUM(Table3[[#This Row],[Actual H]]/VLOOKUP(AQ68,roomnames[],5,0)),0),\"\")","v":""},{"$f":"(Table3[[#This Row],[Actual W]]*Table3[[#This Row],[Actual H]])/1000000","v":0},{"$f":"IFERROR(ROUNDUP(SUM(Table3[[#This Row],[Rectified]]/VLOOKUP(Table3[[#This Row],[Actual W]],roomnames[],5,0)),0),\"\")","v":""},{"$f":"0","v":0},{"$f":"0","v":0},{"$f":"_xlfn.ISFORMULA(Table3[[#This Row],[Qty Tiles]])","v":true},{"$f":"IF(Table3[[#This Row],[Formula Trap]]=TRUE,1,0)","v":1},{"$f":"0","v":0}]
[null,null,null,null,null,null,null,null,null,null,null,null,null,null,null,null,null,null,null,null,null,null,null,null,null,null,null,null,null,null,null,null,null,null,null,null,null,null,null,null,null,null,null,null,null,null,null,null,null,{"$f":"IFERROR(SUM(Table3[[#This Row],[Tile Wide]]*Table3[[#This Row],[Tile High]]),\"\")","v":""},{"$f":"IFERROR(ROUNDUP(SUM(Table3[[#This Row],[Actual W]]/VLOOKUP(AQ69,roomnames[],4,0)),0),\"\")","v":""},{"$f":"IFERROR(ROUNDUP(SUM(Table3[[#This Row],[Actual H]]/VLOOKUP(AQ69,roomnames[],5,0)),0),\"\")","v":""},{"$f":"(Table3[[#This Row],[Actual W]]*Table3[[#This Row],[Actual H]])/1000000","v":0},{"$f":"IFERROR(ROUNDUP(SUM(Table3[[#This Row],[Rectified]]/VLOOKUP(Table3[[#This Row],[Actual W]],roomnames[],5,0)),0),\"\")","v":""},{"$f":"0","v":0},{"$f":"0","v":0},{"$f":"_xlfn.ISFORMULA(Table3[[#This Row],[Qty Tiles]])","v":true},{"$f":"IF(Table3[[#This Row],[Formula Trap]]=TRUE,1,0)","v":1},{"$f":"0","v":0}]
[null,null,null,null,null,null,null,null,null,null,null,null,null,null,null,null,null,null,null,null,null,null,null,null,null,null,null,null,null,null,null,null,null,null,null,null,null,null,null,null,null,null,null,null,null,null,null,null,null,{"$f":"IFERROR(SUM(Table3[[#This Row],[Tile Wide]]*Table3[[#This Row],[Tile High]]),\"\")","v":""},{"$f":"IFERROR(ROUNDUP(SUM(Table3[[#This Row],[Actual W]]/VLOOKUP(AQ70,roomnames[],4,0)),0),\"\")","v":""},{"$f":"IFERROR(ROUNDUP(SUM(Table3[[#This Row],[Actual H]]/VLOOKUP(AQ70,roomnames[],5,0)),0),\"\")","v":""},{"$f":"(Table3[[#This Row],[Actual W]]*Table3[[#This Row],[Actual H]])/1000000","v":0},{"$f":"IFERROR(ROUNDUP(SUM(Table3[[#This Row],[Rectified]]/VLOOKUP(Table3[[#This Row],[Actual W]],roomnames[],5,0)),0),\"\")","v":""},{"$f":"0","v":0},{"$f":"0","v":0},{"$f":"_xlfn.ISFORMULA(Table3[[#This Row],[Qty Tiles]])","v":true},{"$f":"IF(Table3[[#This Row],[Formula Trap]]=TRUE,1,0)","v":1},{"$f":"0","v":0}]
[null,null,null,null,null,null,null,null,null,null,null,null,null,null,null,null,null,null,null,null,null,null,null,null,null,null,null,null,null,null,null,null,null,null,null,null,null,null,null,null,null,null,null,null,null,null,null,null,null,{"$f":"IFERROR(SUM(Table3[[#This Row],[Tile Wide]]*Table3[[#This Row],[Tile High]]),\"\")","v":""},{"$f":"IFERROR(ROUNDUP(SUM(Table3[[#This Row],[Actual W]]/VLOOKUP(AQ71,roomnames[],4,0)),0),\"\")","v":""},{"$f":"IFERROR(ROUNDUP(SUM(Table3[[#This Row],[Actual H]]/VLOOKUP(AQ71,roomnames[],5,0)),0),\"\")","v":""},{"$f":"(Table3[[#This Row],[Actual W]]*Table3[[#This Row],[Actual H]])/1000000","v":0},{"$f":"IFERROR(ROUNDUP(SUM(Table3[[#This Row],[Rectified]]/VLOOKUP(Table3[[#This Row],[Actual W]],roomnames[],5,0)),0),\"\")","v":""},{"$f":"0","v":0},{"$f":"0","v":0},{"$f":"_xlfn.ISFORMULA(Table3[[#This Row],[Qty Tiles]])","v":true},{"$f":"IF(Table3[[#This Row],[Formula Trap]]=TRUE,1,0)","v":1},{"$f":"0","v":0}]
[null,null,null,null,null,null,null,null,null,null,null,null,null,null,null,null,null,null,null,null,null,null,null,null,null,null,null,null,null,null,null,null,null,null,null,null,null,null,null,null,null,null,null,null,null,null,null,null,null,{"$f":"IFERROR(SUM(Table3[[#This Row],[Tile Wide]]*Table3[[#This Row],[Tile High]]),\"\")","v":""},{"$f":"IFERROR(ROUNDUP(SUM(Table3[[#This Row],[Actual W]]/VLOOKUP(AQ72,roomnames[],4,0)),0),\"\")","v":""},{"$f":"IFERROR(ROUNDUP(SUM(Table3[[#This Row],[Actual H]]/VLOOKUP(AQ72,roomnames[],5,0)),0),\"\")","v":""},{"$f":"(Table3[[#This Row],[Actual W]]*Table3[[#This Row],[Actual H]])/1000000","v":0},{"$f":"IFERROR(ROUNDUP(SUM(Table3[[#This Row],[Rectified]]/VLOOKUP(Table3[[#This Row],[Actual W]],roomnames[],5,0)),0),\"\")","v":""},{"$f":"0","v":0},{"$f":"0","v":0},{"$f":"_xlfn.ISFORMULA(Table3[[#This Row],[Qty Tiles]])","v":true},{"$f":"IF(Table3[[#This Row],[Formula Trap]]=TRUE,1,0)","v":1},{"$f":"0","v":0}]
[null,null,null,null,null,null,null,null,null,null,null,null,null,null,null,null,null,null,null,null,null,null,null,null,null,null,null,null,null,null,null,null,null,null,null,null,null,null,null,null,null,null,null,null,null,null,null,null,null,{"$f":"IFERROR(SUM(Table3[[#This Row],[Tile Wide]]*Table3[[#This Row],[Tile High]]),\"\")","v":""},{"$f":"IFERROR(ROUNDUP(SUM(Table3[[#This Row],[Actual W]]/VLOOKUP(AQ73,roomnames[],4,0)),0),\"\")","v":""},{"$f":"IFERROR(ROUNDUP(SUM(Table3[[#This Row],[Actual H]]/VLOOKUP(AQ73,roomnames[],5,0)),0),\"\")","v":""},{"$f":"(Table3[[#This Row],[Actual W]]*Table3[[#This Row],[Actual H]])/1000000","v":0},{"$f":"IFERROR(ROUNDUP(SUM(Table3[[#This Row],[Rectified]]/VLOOKUP(Table3[[#This Row],[Actual W]],roomnames[],5,0)),0),\"\")","v":""},{"$f":"0","v":0},{"$f":"0","v":0},{"$f":"_xlfn.ISFORMULA(Table3[[#This Row],[Qty Tiles]])","v":true},{"$f":"IF(Table3[[#This Row],[Formula Trap]]=TRUE,1,0)","v":1},{"$f":"0","v":0}]
[null,null,null,null,null,null,null,null,null,null,null,null,null,null,null,null,null,null,null,null,null,null,null,null,null,null,null,null,null,null,null,null,null,null,null,null,null,null,null,null,null,null,null,null,null,null,null,null,null,{"$f":"IFERROR(SUM(Table3[[#This Row],[Tile Wide]]*Table3[[#This Row],[Tile High]]),\"\")","v":""},{"$f":"IFERROR(ROUNDUP(SUM(Table3[[#This Row],[Actual W]]/VLOOKUP(AQ74,roomnames[],4,0)),0),\"\")","v":""},{"$f":"IFERROR(ROUNDUP(SUM(Table3[[#This Row],[Actual H]]/VLOOKUP(AQ74,roomnames[],5,0)),0),\"\")","v":""},{"$f":"(Table3[[#This Row],[Actual W]]*Table3[[#This Row],[Actual H]])/1000000","v":0},{"$f":"IFERROR(ROUNDUP(SUM(Table3[[#This Row],[Rectified]]/VLOOKUP(Table3[[#This Row],[Actual W]],roomnames[],5,0)),0),\"\")","v":""},{"$f":"0","v":0},{"$f":"0","v":0},{"$f":"_xlfn.ISFORMULA(Table3[[#This Row],[Qty Tiles]])","v":true},{"$f":"IF(Table3[[#This Row],[Formula Trap]]=TRUE,1,0)","v":1},{"$f":"0","v":0}]
[null,null,null,null,null,null,null,null,null,null,null,null,null,null,null,null,null,null,null,null,null,null,null,null,null,null,null,null,null,null,null,null,null,null,null,null,null,null,null,null,null,null,null,null,null,null,null,null,null,{"$f":"IFERROR(SUM(Table3[[#This Row],[Tile Wide]]*Table3[[#This Row],[Tile High]]),\"\")","v":""},{"$f":"IFERROR(ROUNDUP(SUM(Table3[[#This Row],[Actual W]]/VLOOKUP(AQ75,roomnames[],4,0)),0),\"\")","v":""},{"$f":"IFERROR(ROUNDUP(SUM(Table3[[#This Row],[Actual H]]/VLOOKUP(AQ75,roomnames[],5,0)),0),\"\")","v":""},{"$f":"(Table3[[#This Row],[Actual W]]*Table3[[#This Row],[Actual H]])/1000000","v":0},{"$f":"IFERROR(ROUNDUP(SUM(Table3[[#This Row],[Rectified]]/VLOOKUP(Table3[[#This Row],[Actual W]],roomnames[],5,0)),0),\"\")","v":""},{"$f":"0","v":0},{"$f":"0","v":0},{"$f":"_xlfn.ISFORMULA(Table3[[#This Row],[Qty Tiles]])","v":true},{"$f":"IF(Table3[[#This Row],[Formula Trap]]=TRUE,1,0)","v":1},{"$f":"0","v":0}]
[null,null,null,null,null,null,null,null,null,null,null,null,null,null,null,null,null,null,null,null,null,null,null,null,null,null,null,null,null,null,null,null,null,null,null,null,null,null,null,null,null,null,null,null,null,null,null,null,null,{"$f":"IFERROR(SUM(Table3[[#This Row],[Tile Wide]]*Table3[[#This Row],[Tile High]]),\"\")","v":""},{"$f":"IFERROR(ROUNDUP(SUM(Table3[[#This Row],[Actual W]]/VLOOKUP(AQ76,roomnames[],4,0)),0),\"\")","v":""},{"$f":"IFERROR(ROUNDUP(SUM(Table3[[#This Row],[Actual H]]/VLOOKUP(AQ76,roomnames[],5,0)),0),\"\")","v":""},{"$f":"(Table3[[#This Row],[Actual W]]*Table3[[#This Row],[Actual H]])/1000000","v":0},{"$f":"IFERROR(ROUNDUP(SUM(Table3[[#This Row],[Rectified]]/VLOOKUP(Table3[[#This Row],[Actual W]],roomnames[],5,0)),0),\"\")","v":""},{"$f":"0","v":0},{"$f":"0","v":0},{"$f":"_xlfn.ISFORMULA(Table3[[#This Row],[Qty Tiles]])","v":true},{"$f":"IF(Table3[[#This Row],[Formula Trap]]=TRUE,1,0)","v":1},{"$f":"0","v":0}]
[null,null,null,null,null,null,null,null,null,null,null,null,null,null,null,null,null,null,null,null,null,null,null,null,null,null,null,null,null,null,null,null,null,null,null,null,null,null,null,null,null,null,null,null,null,null,null,null,null,{"$f":"IFERROR(SUM(Table3[[#This Row],[Tile Wide]]*Table3[[#This Row],[Tile High]]),\"\")","v":""},{"$f":"IFERROR(ROUNDUP(SUM(Table3[[#This Row],[Actual W]]/VLOOKUP(AQ77,roomnames[],4,0)),0),\"\")","v":""},{"$f":"IFERROR(ROUNDUP(SUM(Table3[[#This Row],[Actual H]]/VLOOKUP(AQ77,roomnames[],5,0)),0),\"\")","v":""},{"$f":"(Table3[[#This Row],[Actual W]]*Table3[[#This Row],[Actual H]])/1000000","v":0},{"$f":"IFERROR(ROUNDUP(SUM(Table3[[#This Row],[Rectified]]/VLOOKUP(Table3[[#This Row],[Actual W]],roomnames[],5,0)),0),\"\")","v":""},{"$f":"0","v":0},{"$f":"0","v":0},{"$f":"_xlfn.ISFORMULA(Table3[[#This Row],[Qty Tiles]])","v":true},{"$f":"IF(Table3[[#This Row],[Formula Trap]]=TRUE,1,0)","v":1},{"$f":"0","v":0}]
[null,null,null,null,null,null,null,null,null,null,null,null,null,null,null,null,null,null,null,null,null,null,null,null,null,null,null,null,null,null,null,null,null,null,null,null,null,null,null,null,null,null,null,null,null,null,null,null,null,{"$f":"IFERROR(SUM(Table3[[#This Row],[Tile Wide]]*Table3[[#This Row],[Tile High]]),\"\")","v":""},{"$f":"IFERROR(ROUNDUP(SUM(Table3[[#This Row],[Actual W]]/VLOOKUP(AQ78,roomnames[],4,0)),0),\"\")","v":""},{"$f":"IFERROR(ROUNDUP(SUM(Table3[[#This Row],[Actual H]]/VLOOKUP(AQ78,roomnames[],5,0)),0),\"\")","v":""},{"$f":"(Table3[[#This Row],[Actual W]]*Table3[[#This Row],[Actual H]])/1000000","v":0},{"$f":"IFERROR(ROUNDUP(SUM(Table3[[#This Row],[Rectified]]/VLOOKUP(Table3[[#This Row],[Actual W]],roomnames[],5,0)),0),\"\")","v":""},{"$f":"0","v":0},{"$f":"0","v":0},{"$f":"_xlfn.ISFORMULA(Table3[[#This Row],[Qty Tiles]])","v":true},{"$f":"IF(Table3[[#This Row],[Formula Trap]]=TRUE,1,0)","v":1},{"$f":"0","v":0}]
[null,null,null,null,null,null,null,null,null,null,null,null,null,null,null,null,null,null,null,null,null,null,null,null,null,null,null,null,null,null,null,null,null,null,null,null,null,null,null,null,null,null,null,null,null,null,null,null,null,{"$f":"IFERROR(SUM(Table3[[#This Row],[Tile Wide]]*Table3[[#This Row],[Tile High]]),\"\")","v":""},{"$f":"IFERROR(ROUNDUP(SUM(Table3[[#This Row],[Actual W]]/VLOOKUP(AQ79,roomnames[],4,0)),0),\"\")","v":""},{"$f":"IFERROR(ROUNDUP(SUM(Table3[[#This Row],[Actual H]]/VLOOKUP(AQ79,roomnames[],5,0)),0),\"\")","v":""},{"$f":"(Table3[[#This Row],[Actual W]]*Table3[[#This Row],[Actual H]])/1000000","v":0},{"$f":"IFERROR(ROUNDUP(SUM(Table3[[#This Row],[Rectified]]/VLOOKUP(Table3[[#This Row],[Actual W]],roomnames[],5,0)),0),\"\")","v":""},{"$f":"0","v":0},{"$f":"0","v":0},{"$f":"_xlfn.ISFORMULA(Table3[[#This Row],[Qty Tiles]])","v":true},{"$f":"IF(Table3[[#This Row],[Formula Trap]]=TRUE,1,0)","v":1},{"$f":"0","v":0}]
[null,null,null,null,null,null,null,null,null,null,null,null,null,null,null,null,null,null,null,null,null,null,null,null,null,null,null,null,null,null,null,null,null,null,null,null,null,null,null,null,null,null,null,null,null,null,null,null,null,{"$f":"IFERROR(SUM(Table3[[#This Row],[Tile Wide]]*Table3[[#This Row],[Tile High]]),\"\")","v":""},{"$f":"IFERROR(ROUNDUP(SUM(Table3[[#This Row],[Actual W]]/VLOOKUP(AQ80,roomnames[],4,0)),0),\"\")","v":""},{"$f":"IFERROR(ROUNDUP(SUM(Table3[[#This Row],[Actual H]]/VLOOKUP(AQ80,roomnames[],5,0)),0),\"\")","v":""},{"$f":"(Table3[[#This Row],[Actual W]]*Table3[[#This Row],[Actual H]])/1000000","v":0},{"$f":"IFERROR(ROUNDUP(SUM(Table3[[#This Row],[Rectified]]/VLOOKUP(Table3[[#This Row],[Actual W]],roomnames[],5,0)),0),\"\")","v":""},{"$f":"0","v":0},{"$f":"0","v":0},{"$f":"_xlfn.ISFORMULA(Table3[[#This Row],[Qty Tiles]])","v":true},{"$f":"IF(Table3[[#This Row],[Formula Trap]]=TRUE,1,0)","v":1},{"$f":"0","v":0}]
[null,null,null,null,null,null,null,null,null,null,null,null,null,null,null,null,null,null,null,null,null,null,null,null,null,null,null,null,null,null,null,null,null,null,null,null,null,null,null,null,null,null,null,null,null,null,null,null,null,{"$f":"IFERROR(SUM(Table3[[#This Row],[Tile Wide]]*Table3[[#This Row],[Tile High]]),\"\")","v":""},{"$f":"IFERROR(ROUNDUP(SUM(Table3[[#This Row],[Actual W]]/VLOOKUP(AQ81,roomnames[],4,0)),0),\"\")","v":""},{"$f":"IFERROR(ROUNDUP(SUM(Table3[[#This Row],[Actual H]]/VLOOKUP(AQ81,roomnames[],5,0)),0),\"\")","v":""},{"$f":"(Table3[[#This Row],[Actual W]]*Table3[[#This Row],[Actual H]])/1000000","v":0},{"$f":"IFERROR(ROUNDUP(SUM(Table3[[#This Row],[Rectified]]/VLOOKUP(Table3[[#This Row],[Actual W]],roomnames[],5,0)),0),\"\")","v":""},{"$f":"0","v":0},{"$f":"0","v":0},{"$f":"_xlfn.ISFORMULA(Table3[[#This Row],[Qty Tiles]])","v":true},{"$f":"IF(Table3[[#This Row],[Formula Trap]]=TRUE,1,0)","v":1},{"$f":"0","v":0}]
[null,null,null,null,null,null,null,null,null,null,null,null,null,null,null,null,null,null,null,null,null,null,null,null,null,null,null,null,null,null,null,null,null,null,null,null,null,null,null,null,null,null,null,null,null,null,null,null,null,{"$f":"IFERROR(SUM(Table3[[#This Row],[Tile Wide]]*Table3[[#This Row],[Tile High]]),\"\")","v":""},{"$f":"IFERROR(ROUNDUP(SUM(Table3[[#This Row],[Actual W]]/VLOOKUP(AQ82,roomnames[],4,0)),0),\"\")","v":""},{"$f":"IFERROR(ROUNDUP(SUM(Table3[[#This Row],[Actual H]]/VLOOKUP(AQ82,roomnames[],5,0)),0),\"\")","v":""},{"$f":"(Table3[[#This Row],[Actual W]]*Table3[[#This Row],[Actual H]])/1000000","v":0},{"$f":"IFERROR(ROUNDUP(SUM(Table3[[#This Row],[Rectified]]/VLOOKUP(Table3[[#This Row],[Actual W]],roomnames[],5,0)),0),\"\")","v":""},{"$f":"0","v":0},{"$f":"0","v":0},{"$f":"_xlfn.ISFORMULA(Table3[[#This Row],[Qty Tiles]])","v":true},{"$f":"IF(Table3[[#This Row],[Formula Trap]]=TRUE,1,0)","v":1},{"$f":"0","v":0}]
[null,null,null,null,null,null,null,null,null,null,null,null,null,null,null,null,null,null,null,null,null,null,null,null,null,null,null,null,null,null,null,null,null,null,null,null,null,null,null,null,null,null,null,null,null,null,null,null,null,{"$f":"IFERROR(SUM(Table3[[#This Row],[Tile Wide]]*Table3[[#This Row],[Tile High]]),\"\")","v":""},{"$f":"IFERROR(ROUNDUP(SUM(Table3[[#This Row],[Actual W]]/VLOOKUP(AQ83,roomnames[],4,0)),0),\"\")","v":""},{"$f":"IFERROR(ROUNDUP(SUM(Table3[[#This Row],[Actual H]]/VLOOKUP(AQ83,roomnames[],5,0)),0),\"\")","v":""},{"$f":"(Table3[[#This Row],[Actual W]]*Table3[[#This Row],[Actual H]])/1000000","v":0},{"$f":"IFERROR(ROUNDUP(SUM(Table3[[#This Row],[Rectified]]/VLOOKUP(Table3[[#This Row],[Actual W]],roomnames[],5,0)),0),\"\")","v":""},{"$f":"0","v":0},{"$f":"0","v":0},{"$f":"_xlfn.ISFORMULA(Table3[[#This Row],[Qty Tiles]])","v":true},{"$f":"IF(Table3[[#This Row],[Formula Trap]]=TRUE,1,0)","v":1},{"$f":"0","v":0}]
[null,null,null,null,null,null,null,null,null,null,null,null,null,null,null,null,null,null,null,null,null,null,null,null,null,null,null,null,null,null,null,null,null,null,null,null,null,null,null,null,null,null,null,null,null,null,null,null,null,{"$f":"IFERROR(SUM(Table3[[#This Row],[Tile Wide]]*Table3[[#This Row],[Tile High]]),\"\")","v":""},{"$f":"IFERROR(ROUNDUP(SUM(Table3[[#This Row],[Actual W]]/VLOOKUP(AQ84,roomnames[],4,0)),0),\"\")","v":""},{"$f":"IFERROR(ROUNDUP(SUM(Table3[[#This Row],[Actual H]]/VLOOKUP(AQ84,roomnames[],5,0)),0),\"\")","v":""},{"$f":"(Table3[[#This Row],[Actual W]]*Table3[[#This Row],[Actual H]])/1000000","v":0},{"$f":"IFERROR(ROUNDUP(SUM(Table3[[#This Row],[Rectified]]/VLOOKUP(Table3[[#This Row],[Actual W]],roomnames[],5,0)),0),\"\")","v":""},{"$f":"0","v":0},{"$f":"0","v":0},{"$f":"_xlfn.ISFORMULA(Table3[[#This Row],[Qty Tiles]])","v":true},{"$f":"IF(Table3[[#This Row],[Formula Trap]]=TRUE,1,0)","v":1},{"$f":"0","v":0}]
[null,null,null,null,null,null,null,null,null,null,null,null,null,null,null,null,null,null,null,null,null,null,null,null,null,null,null,null,null,null,null,null,null,null,null,null,null,null,null,null,null,null,null,null,null,null,null,null,null,{"$f":"IFERROR(SUM(Table3[[#This Row],[Tile Wide]]*Table3[[#This Row],[Tile High]]),\"\")","v":""},{"$f":"IFERROR(ROUNDUP(SUM(Table3[[#This Row],[Actual W]]/VLOOKUP(AQ85,roomnames[],4,0)),0),\"\")","v":""},{"$f":"IFERROR(ROUNDUP(SUM(Table3[[#This Row],[Actual H]]/VLOOKUP(AQ85,roomnames[],5,0)),0),\"\")","v":""},{"$f":"(Table3[[#This Row],[Actual W]]*Table3[[#This Row],[Actual H]])/1000000","v":0},{"$f":"IFERROR(ROUNDUP(SUM(Table3[[#This Row],[Rectified]]/VLOOKUP(Table3[[#This Row],[Actual W]],roomnames[],5,0)),0),\"\")","v":""},{"$f":"0","v":0},{"$f":"0","v":0},{"$f":"_xlfn.ISFORMULA(Table3[[#This Row],[Qty Tiles]])","v":true},{"$f":"IF(Table3[[#This Row],[Formula Trap]]=TRUE,1,0)","v":1},{"$f":"0","v":0}]
[null,null,null,null,null,null,null,null,null,null,null,null,null,null,null,null,null,null,null,null,null,null,null,null,null,null,null,null,null,null,null,null,null,null,null,null,null,null,null,null,null,null,null,null,null,null,null,null,null,{"$f":"IFERROR(SUM(Table3[[#This Row],[Tile Wide]]*Table3[[#This Row],[Tile High]]),\"\")","v":""},{"$f":"IFERROR(ROUNDUP(SUM(Table3[[#This Row],[Actual W]]/VLOOKUP(AQ86,roomnames[],4,0)),0),\"\")","v":""},{"$f":"IFERROR(ROUNDUP(SUM(Table3[[#This Row],[Actual H]]/VLOOKUP(AQ86,roomnames[],5,0)),0),\"\")","v":""},{"$f":"(Table3[[#This Row],[Actual W]]*Table3[[#This Row],[Actual H]])/1000000","v":0},{"$f":"IFERROR(ROUNDUP(SUM(Table3[[#This Row],[Rectified]]/VLOOKUP(Table3[[#This Row],[Actual W]],roomnames[],5,0)),0),\"\")","v":""},{"$f":"0","v":0},{"$f":"0","v":0},{"$f":"_xlfn.ISFORMULA(Table3[[#This Row],[Qty Tiles]])","v":true},{"$f":"IF(Table3[[#This Row],[Formula Trap]]=TRUE,1,0)","v":1},{"$f":"0","v":0}]
[null,null,null,null,null,null,null,null,null,null,null,null,null,null,null,null,null,null,null,null,null,null,null,null,null,null,null,null,null,null,null,null,null,null,null,null,null,null,null,null,null,null,null,null,null,null,null,null,null,{"$f":"IFERROR(SUM(Table3[[#This Row],[Tile Wide]]*Table3[[#This Row],[Tile High]]),\"\")","v":""},{"$f":"IFERROR(ROUNDUP(SUM(Table3[[#This Row],[Actual W]]/VLOOKUP(AQ87,roomnames[],4,0)),0),\"\")","v":""},{"$f":"IFERROR(ROUNDUP(SUM(Table3[[#This Row],[Actual H]]/VLOOKUP(AQ87,roomnames[],5,0)),0),\"\")","v":""},{"$f":"(Table3[[#This Row],[Actual W]]*Table3[[#This Row],[Actual H]])/1000000","v":0},{"$f":"IFERROR(ROUNDUP(SUM(Table3[[#This Row],[Rectified]]/VLOOKUP(Table3[[#This Row],[Actual W]],roomnames[],5,0)),0),\"\")","v":""},{"$f":"0","v":0},{"$f":"0","v":0},{"$f":"_xlfn.ISFORMULA(Table3[[#This Row],[Qty Tiles]])","v":true},{"$f":"IF(Table3[[#This Row],[Formula Trap]]=TRUE,1,0)","v":1},{"$f":"0","v":0}]
[null,null,null,null,null,null,null,null,null,null,null,null,null,null,null,null,null,null,null,null,null,null,null,null,null,null,null,null,null,null,null,null,null,null,null,null,null,null,null,null,null,null,null,null,null,null,null,null,null,{"$f":"IFERROR(SUM(Table3[[#This Row],[Tile Wide]]*Table3[[#This Row],[Tile High]]),\"\")","v":""},{"$f":"IFERROR(ROUNDUP(SUM(Table3[[#This Row],[Actual W]]/VLOOKUP(AQ88,roomnames[],4,0)),0),\"\")","v":""},{"$f":"IFERROR(ROUNDUP(SUM(Table3[[#This Row],[Actual H]]/VLOOKUP(AQ88,roomnames[],5,0)),0),\"\")","v":""},{"$f":"(Table3[[#This Row],[Actual W]]*Table3[[#This Row],[Actual H]])/1000000","v":0},{"$f":"IFERROR(ROUNDUP(SUM(Table3[[#This Row],[Rectified]]/VLOOKUP(Table3[[#This Row],[Actual W]],roomnames[],5,0)),0),\"\")","v":""},{"$f":"0","v":0},{"$f":"0","v":0},{"$f":"_xlfn.ISFORMULA(Table3[[#This Row],[Qty Tiles]])","v":true},{"$f":"IF(Table3[[#This Row],[Formula Trap]]=TRUE,1,0)","v":1},{"$f":"0","v":0}]
[null,null,null,null,null,null,null,null,null,null,null,null,null,null,null,null,null,null,null,null,null,null,null,null,null,null,null,null,null,null,null,null,null,null,null,null,null,null,null,null,null,null,null,null,null,null,null,null,null,{"$f":"IFERROR(SUM(Table3[[#This Row],[Tile Wide]]*Table3[[#This Row],[Tile High]]),\"\")","v":""},{"$f":"IFERROR(ROUNDUP(SUM(Table3[[#This Row],[Actual W]]/VLOOKUP(AQ89,roomnames[],4,0)),0),\"\")","v":""},{"$f":"IFERROR(ROUNDUP(SUM(Table3[[#This Row],[Actual H]]/VLOOKUP(AQ89,roomnames[],5,0)),0),\"\")","v":""},{"$f":"(Table3[[#This Row],[Actual W]]*Table3[[#This Row],[Actual H]])/1000000","v":0},{"$f":"IFERROR(ROUNDUP(SUM(Table3[[#This Row],[Rectified]]/VLOOKUP(Table3[[#This Row],[Actual W]],roomnames[],5,0)),0),\"\")","v":""},{"$f":"0","v":0},{"$f":"0","v":0},{"$f":"_xlfn.ISFORMULA(Table3[[#This Row],[Qty Tiles]])","v":true},{"$f":"IF(Table3[[#This Row],[Formula Trap]]=TRUE,1,0)","v":1},{"$f":"0","v":0}]
[null,null,null,null,null,null,null,null,null,null,null,null,null,null,null,null,null,null,null,null,null,null,null,null,null,null,null,null,null,null,null,null,null,null,null,null,null,null,null,null,null,null,null,null,null,null,null,null,null,{"$f":"IFERROR(SUM(Table3[[#This Row],[Tile Wide]]*Table3[[#This Row],[Tile High]]),\"\")","v":""},{"$f":"IFERROR(ROUNDUP(SUM(Table3[[#This Row],[Actual W]]/VLOOKUP(AQ90,roomnames[],4,0)),0),\"\")","v":""},{"$f":"IFERROR(ROUNDUP(SUM(Table3[[#This Row],[Actual H]]/VLOOKUP(AQ90,roomnames[],5,0)),0),\"\")","v":""},{"$f":"(Table3[[#This Row],[Actual W]]*Table3[[#This Row],[Actual H]])/1000000","v":0},{"$f":"IFERROR(ROUNDUP(SUM(Table3[[#This Row],[Rectified]]/VLOOKUP(Table3[[#This Row],[Actual W]],roomnames[],5,0)),0),\"\")","v":""},{"$f":"0","v":0},{"$f":"0","v":0},{"$f":"_xlfn.ISFORMULA(Table3[[#This Row],[Qty Tiles]])","v":true},{"$f":"IF(Table3[[#This Row],[Formula Trap]]=TRUE,1,0)","v":1},{"$f":"0","v":0}]
[null,null,null,null,null,null,null,null,null,null,null,null,null,null,null,null,null,null,null,null,null,null,null,null,null,null,null,null,null,null,null,null,null,null,null,null,null,null,null,null,null,null,null,null,null,null,null,null,null,{"$f":"IFERROR(SUM(Table3[[#This Row],[Tile Wide]]*Table3[[#This Row],[Tile High]]),\"\")","v":""},{"$f":"IFERROR(ROUNDUP(SUM(Table3[[#This Row],[Actual W]]/VLOOKUP(AQ91,roomnames[],4,0)),0),\"\")","v":""},{"$f":"IFERROR(ROUNDUP(SUM(Table3[[#This Row],[Actual H]]/VLOOKUP(AQ91,roomnames[],5,0)),0),\"\")","v":""},{"$f":"(Table3[[#This Row],[Actual W]]*Table3[[#This Row],[Actual H]])/1000000","v":0},{"$f":"IFERROR(ROUNDUP(SUM(Table3[[#This Row],[Rectified]]/VLOOKUP(Table3[[#This Row],[Actual W]],roomnames[],5,0)),0),\"\")","v":""},{"$f":"0","v":0},{"$f":"0","v":0},{"$f":"_xlfn.ISFORMULA(Table3[[#This Row],[Qty Tiles]])","v":true},{"$f":"IF(Table3[[#This Row],[Formula Trap]]=TRUE,1,0)","v":1},{"$f":"0","v":0}]
[null,null,null,null,null,null,null,null,null,null,null,null,null,null,null,null,null,null,null,null,null,null,null,null,null,null,null,null,null,null,null,null,null,null,null,null,null,null,null,null,null,null,null,null,null,null,null,null,null,{"$f":"IFERROR(SUM(Table3[[#This Row],[Tile Wide]]*Table3[[#This Row],[Tile High]]),\"\")","v":""},{"$f":"IFERROR(ROUNDUP(SUM(Table3[[#This Row],[Actual W]]/VLOOKUP(AQ92,roomnames[],4,0)),0),\"\")","v":""},{"$f":"IFERROR(ROUNDUP(SUM(Table3[[#This Row],[Actual H]]/VLOOKUP(AQ92,roomnames[],5,0)),0),\"\")","v":""},{"$f":"(Table3[[#This Row],[Actual W]]*Table3[[#This Row],[Actual H]])/1000000","v":0},{"$f":"IFERROR(ROUNDUP(SUM(Table3[[#This Row],[Rectified]]/VLOOKUP(Table3[[#This Row],[Actual W]],roomnames[],5,0)),0),\"\")","v":""},{"$f":"0","v":0},{"$f":"0","v":0},{"$f":"_xlfn.ISFORMULA(Table3[[#This Row],[Qty Tiles]])","v":true},{"$f":"IF(Table3[[#This Row],[Formula Trap]]=TRUE,1,0)","v":1},{"$f":"0","v":0}]
[null,null,null,null,null,null,null,null,null,null,null,null,null,null,null,null,null,null,null,null,null,null,null,null,null,null,null,null,null,null,null,null,null,null,null,null,null,null,null,null,null,null,null,null,null,null,null,null,null,{"$f":"IFERROR(SUM(Table3[[#This Row],[Tile Wide]]*Table3[[#This Row],[Tile High]]),\"\")","v":""},{"$f":"IFERROR(ROUNDUP(SUM(Table3[[#This Row],[Actual W]]/VLOOKUP(AQ93,roomnames[],4,0)),0),\"\")","v":""},{"$f":"IFERROR(ROUNDUP(SUM(Table3[[#This Row],[Actual H]]/VLOOKUP(AQ93,roomnames[],5,0)),0),\"\")","v":""},{"$f":"(Table3[[#This Row],[Actual W]]*Table3[[#This Row],[Actual H]])/1000000","v":0},{"$f":"IFERROR(ROUNDUP(SUM(Table3[[#This Row],[Rectified]]/VLOOKUP(Table3[[#This Row],[Actual W]],roomnames[],5,0)),0),\"\")","v":""},{"$f":"0","v":0},{"$f":"0","v":0},{"$f":"_xlfn.ISFORMULA(Table3[[#This Row],[Qty Tiles]])","v":true},{"$f":"IF(Table3[[#This Row],[Formula Trap]]=TRUE,1,0)","v":1},{"$f":"0","v":0}]
[null,null,null,null,null,null,null,null,null,null,null,null,null,null,null,null,null,null,null,null,null,null,null,null,null,null,null,null,null,null,null,null,null,null,null,null,null,null,null,null,null,null,null,null,null,null,null,null,null,{"$f":"IFERROR(SUM(Table3[[#This Row],[Tile Wide]]*Table3[[#This Row],[Tile High]]),\"\")","v":""},{"$f":"IFERROR(ROUNDUP(SUM(Table3[[#This Row],[Actual W]]/VLOOKUP(AQ94,roomnames[],4,0)),0),\"\")","v":""},{"$f":"IFERROR(ROUNDUP(SUM(Table3[[#This Row],[Actual H]]/VLOOKUP(AQ94,roomnames[],5,0)),0),\"\")","v":""},{"$f":"(Table3[[#This Row],[Actual W]]*Table3[[#This Row],[Actual H]])/1000000","v":0},{"$f":"IFERROR(ROUNDUP(SUM(Table3[[#This Row],[Rectified]]/VLOOKUP(Table3[[#This Row],[Actual W]],roomnames[],5,0)),0),\"\")","v":""},{"$f":"0","v":0},{"$f":"0","v":0},{"$f":"_xlfn.ISFORMULA(Table3[[#This Row],[Qty Tiles]])","v":true},{"$f":"IF(Table3[[#This Row],[Formula Trap]]=TRUE,1,0)","v":1},{"$f":"0","v":0}]
[null,null,null,null,null,null,null,null,null,null,null,null,null,null,null,null,null,null,null,null,null,null,null,null,null,null,null,null,null,null,null,null,null,null,null,null,null,null,null,null,null,null,null,null,null,null,null,null,null,{"$f":"IFERROR(SUM(Table3[[#This Row],[Tile Wide]]*Table3[[#This Row],[Tile High]]),\"\")","v":""},{"$f":"IFERROR(ROUNDUP(SUM(Table3[[#This Row],[Actual W]]/VLOOKUP(AQ95,roomnames[],4,0)),0),\"\")","v":""},{"$f":"IFERROR(ROUNDUP(SUM(Table3[[#This Row],[Actual H]]/VLOOKUP(AQ95,roomnames[],5,0)),0),\"\")","v":""},{"$f":"(Table3[[#This Row],[Actual W]]*Table3[[#This Row],[Actual H]])/1000000","v":0},{"$f":"IFERROR(ROUNDUP(SUM(Table3[[#This Row],[Rectified]]/VLOOKUP(Table3[[#This Row],[Actual W]],roomnames[],5,0)),0),\"\")","v":""},{"$f":"0","v":0},{"$f":"0","v":0},{"$f":"_xlfn.ISFORMULA(Table3[[#This Row],[Qty Tiles]])","v":true},{"$f":"IF(Table3[[#This Row],[Formula Trap]]=TRUE,1,0)","v":1},{"$f":"0","v":0}]
[null,null,null,null,null,null,null,null,null,null,null,null,null,null,null,null,null,null,null,null,null,null,null,null,null,null,null,null,null,null,null,null,null,null,null,null,null,null,null,null,null,null,null,null,null,null,null,null,null,{"$f":"IFERROR(SUM(Table3[[#This Row],[Tile Wide]]*Table3[[#This Row],[Tile High]]),\"\")","v":""},{"$f":"IFERROR(ROUNDUP(SUM(Table3[[#This Row],[Actual W]]/VLOOKUP(AQ96,roomnames[],4,0)),0),\"\")","v":""},{"$f":"IFERROR(ROUNDUP(SUM(Table3[[#This Row],[Actual H]]/VLOOKUP(AQ96,roomnames[],5,0)),0),\"\")","v":""},{"$f":"(Table3[[#This Row],[Actual W]]*Table3[[#This Row],[Actual H]])/1000000","v":0},{"$f":"IFERROR(ROUNDUP(SUM(Table3[[#This Row],[Rectified]]/VLOOKUP(Table3[[#This Row],[Actual W]],roomnames[],5,0)),0),\"\")","v":""},{"$f":"0","v":0},{"$f":"0","v":0},{"$f":"_xlfn.ISFORMULA(Table3[[#This Row],[Qty Tiles]])","v":true},{"$f":"IF(Table3[[#This Row],[Formula Trap]]=TRUE,1,0)","v":1},{"$f":"0","v":0}]
[null,null,null,null,null,null,null,null,null,null,null,null,null,null,null,null,null,null,null,null,null,null,null,null,null,null,null,null,null,null,null,null,null,null,null,null,null,null,null,null,null,null,null,null,null,null,null,null,null,{"$f":"IFERROR(SUM(Table3[[#This Row],[Tile Wide]]*Table3[[#This Row],[Tile High]]),\"\")","v":""},{"$f":"IFERROR(ROUNDUP(SUM(Table3[[#This Row],[Actual W]]/VLOOKUP(AQ97,roomnames[],4,0)),0),\"\")","v":""},{"$f":"IFERROR(ROUNDUP(SUM(Table3[[#This Row],[Actual H]]/VLOOKUP(AQ97,roomnames[],5,0)),0),\"\")","v":""},{"$f":"(Table3[[#This Row],[Actual W]]*Table3[[#This Row],[Actual H]])/1000000","v":0},{"$f":"IFERROR(ROUNDUP(SUM(Table3[[#This Row],[Rectified]]/VLOOKUP(Table3[[#This Row],[Actual W]],roomnames[],5,0)),0),\"\")","v":""},{"$f":"0","v":0},{"$f":"0","v":0},{"$f":"_xlfn.ISFORMULA(Table3[[#This Row],[Qty Tiles]])","v":true},{"$f":"IF(Table3[[#This Row],[Formula Trap]]=TRUE,1,0)","v":1},{"$f":"0","v":0}]
[null,null,null,null,null,null,null,null,null,null,null,null,null,null,null,null,null,null,null,null,null,null,null,null,null,null,null,null,null,null,null,null,null,null,null,null,null,null,null,null,null,null,null,null,null,null,null,null,null,{"$f":"IFERROR(SUM(Table3[[#This Row],[Tile Wide]]*Table3[[#This Row],[Tile High]]),\"\")","v":""},{"$f":"IFERROR(ROUNDUP(SUM(Table3[[#This Row],[Actual W]]/VLOOKUP(AQ98,roomnames[],4,0)),0),\"\")","v":""},{"$f":"IFERROR(ROUNDUP(SUM(Table3[[#This Row],[Actual H]]/VLOOKUP(AQ98,roomnames[],5,0)),0),\"\")","v":""},{"$f":"(Table3[[#This Row],[Actual W]]*Table3[[#This Row],[Actual H]])/1000000","v":0},{"$f":"IFERROR(ROUNDUP(SUM(Table3[[#This Row],[Rectified]]/VLOOKUP(Table3[[#This Row],[Actual W]],roomnames[],5,0)),0),\"\")","v":""},{"$f":"0","v":0},{"$f":"0","v":0},{"$f":"_xlfn.ISFORMULA(Table3[[#This Row],[Qty Tiles]])","v":true},{"$f":"IF(Table3[[#This Row],[Formula Trap]]=TRUE,1,0)","v":1},{"$f":"0","v":0}]
[null,null,null,null,null,null,null,null,null,null,null,null,null,null,null,null,null,null,null,null,null,null,null,null,null,null,null,null,null,null,null,null,null,null,null,null,null,null,null,null,null,null,null,null,null,null,null,null,null,{"$f":"IFERROR(SUM(Table3[[#This Row],[Tile Wide]]*Table3[[#This Row],[Tile High]]),\"\")","v":""},{"$f":"IFERROR(ROUNDUP(SUM(Table3[[#This Row],[Actual W]]/VLOOKUP(AQ99,roomnames[],4,0)),0),\"\")","v":""},{"$f":"IFERROR(ROUNDUP(SUM(Table3[[#This Row],[Actual H]]/VLOOKUP(AQ99,roomnames[],5,0)),0),\"\")","v":""},{"$f":"(Table3[[#This Row],[Actual W]]*Table3[[#This Row],[Actual H]])/1000000","v":0},{"$f":"IFERROR(ROUNDUP(SUM(Table3[[#This Row],[Rectified]]/VLOOKUP(Table3[[#This Row],[Actual W]],roomnames[],5,0)),0),\"\")","v":""},{"$f":"0","v":0},{"$f":"0","v":0},{"$f":"_xlfn.ISFORMULA(Table3[[#This Row],[Qty Tiles]])","v":true},{"$f":"IF(Table3[[#This Row],[Formula Trap]]=TRUE,1,0)","v":1},{"$f":"0","v":0}]
[null,null,null,null,null,null,null,null,null,null,null,null,null,null,null,null,null,null,null,null,null,null,null,null,null,null,null,null,null,null,null,null,null,null,null,null,null,null,null,null,null,null,null,null,null,null,null,null,null,{"$f":"IFERROR(SUM(Table3[[#This Row],[Tile Wide]]*Table3[[#This Row],[Tile High]]),\"\")","v":""},{"$f":"IFERROR(ROUNDUP(SUM(Table3[[#This Row],[Actual W]]/VLOOKUP(AQ100,roomnames[],4,0)),0),\"\")","v":""},{"$f":"IFERROR(ROUNDUP(SUM(Table3[[#This Row],[Actual H]]/VLOOKUP(AQ100,roomnames[],5,0)),0),\"\")","v":""},{"$f":"(Table3[[#This Row],[Actual W]]*Table3[[#This Row],[Actual H]])/1000000","v":0},{"$f":"IFERROR(ROUNDUP(SUM(Table3[[#This Row],[Rectified]]/VLOOKUP(Table3[[#This Row],[Actual W]],roomnames[],5,0)),0),\"\")","v":""},{"$f":"0","v":0},{"$f":"0","v":0},{"$f":"_xlfn.ISFORMULA(Table3[[#This Row],[Qty Tiles]])","v":true},{"$f":"IF(Table3[[#This Row],[Formula Trap]]=TRUE,1,0)","v":1},{"$f":"0","v":0}]
[null,null,null,null,null,null,null,null,null,null,null,null,null,null,null,null,null,null,null,null,null,null,null,null,null,null,null,null,null,null,null,null,null,null,null,null,null,null,null,null,null,null,null,null,null,null,null,null,null,{"$f":"IFERROR(SUM(Table3[[#This Row],[Tile Wide]]*Table3[[#This Row],[Tile High]]),\"\")","v":""},{"$f":"IFERROR(ROUNDUP(SUM(Table3[[#This Row],[Actual W]]/VLOOKUP(AQ101,roomnames[],4,0)),0),\"\")","v":""},{"$f":"IFERROR(ROUNDUP(SUM(Table3[[#This Row],[Actual H]]/VLOOKUP(AQ101,roomnames[],5,0)),0),\"\")","v":""},{"$f":"(Table3[[#This Row],[Actual W]]*Table3[[#This Row],[Actual H]])/1000000","v":0},{"$f":"IFERROR(ROUNDUP(SUM(Table3[[#This Row],[Rectified]]/VLOOKUP(Table3[[#This Row],[Actual W]],roomnames[],5,0)),0),\"\")","v":""},{"$f":"0","v":0},{"$f":"0","v":0},{"$f":"_xlfn.ISFORMULA(Table3[[#This Row],[Qty Tiles]])","v":true},{"$f":"IF(Table3[[#This Row],[Formula Trap]]=TRUE,1,0)","v":1},{"$f":"0","v":0}]
[null,null,null,null,null,null,null,null,null,null,null,null,null,null,null,null,null,null,null,null,null,null,null,null,null,null,null,null,null,null,null,null,null,null,null,null,null,null,null,null,null,null,null,null,null,null,null,null,null,{"$f":"IFERROR(SUM(Table3[[#This Row],[Tile Wide]]*Table3[[#This Row],[Tile High]]),\"\")","v":""},{"$f":"IFERROR(ROUNDUP(SUM(Table3[[#This Row],[Actual W]]/VLOOKUP(AQ102,roomnames[],4,0)),0),\"\")","v":""},{"$f":"IFERROR(ROUNDUP(SUM(Table3[[#This Row],[Actual H]]/VLOOKUP(AQ102,roomnames[],5,0)),0),\"\")","v":""},{"$f":"(Table3[[#This Row],[Actual W]]*Table3[[#This Row],[Actual H]])/1000000","v":0},{"$f":"IFERROR(ROUNDUP(SUM(Table3[[#This Row],[Rectified]]/VLOOKUP(Table3[[#This Row],[Actual W]],roomnames[],5,0)),0),\"\")","v":""},{"$f":"0","v":0},{"$f":"0","v":0},{"$f":"_xlfn.ISFORMULA(Table3[[#This Row],[Qty Tiles]])","v":true},{"$f":"IF(Table3[[#This Row],[Formula Trap]]=TRUE,1,0)","v":1},{"$f":"0","v":0}]
[null,null,null,null,null,null,null,null,null,null,null,null,null,null,null,null,null,null,null,null,null,null,null,null,null,null,null,null,null,null,null,null,null,null,null,null,null,null,null,null,null,null,null,null,null,null,null,null,null,{"$f":"IFERROR(SUM(Table3[[#This Row],[Tile Wide]]*Table3[[#This Row],[Tile High]]),\"\")","v":""},{"$f":"IFERROR(ROUNDUP(SUM(Table3[[#This Row],[Actual W]]/VLOOKUP(AQ103,roomnames[],4,0)),0),\"\")","v":""},{"$f":"IFERROR(ROUNDUP(SUM(Table3[[#This Row],[Actual H]]/VLOOKUP(AQ103,roomnames[],5,0)),0),\"\")","v":""},{"$f":"(Table3[[#This Row],[Actual W]]*Table3[[#This Row],[Actual H]])/1000000","v":0},{"$f":"IFERROR(ROUNDUP(SUM(Table3[[#This Row],[Rectified]]/VLOOKUP(Table3[[#This Row],[Actual W]],roomnames[],5,0)),0),\"\")","v":""},{"$f":"0","v":0},{"$f":"0","v":0},{"$f":"_xlfn.ISFORMULA(Table3[[#This Row],[Qty Tiles]])","v":true},{"$f":"IF(Table3[[#This Row],[Formula Trap]]=TRUE,1,0)","v":1},{"$f":"0","v":0}]
[null,null,null,null,null,null,null,null,null,null,null,null,null,null,null,null,null,null,null,null,null,null,null,null,null,null,null,null,null,null,null,null,null,null,null,null,null,null,null,null,null,null,null,null,null,null,null,null,null,{"$f":"IFERROR(SUM(Table3[[#This Row],[Tile Wide]]*Table3[[#This Row],[Tile High]]),\"\")","v":""},{"$f":"IFERROR(ROUNDUP(SUM(Table3[[#This Row],[Actual W]]/VLOOKUP(AQ104,roomnames[],4,0)),0),\"\")","v":""},{"$f":"IFERROR(ROUNDUP(SUM(Table3[[#This Row],[Actual H]]/VLOOKUP(AQ104,roomnames[],5,0)),0),\"\")","v":""},{"$f":"(Table3[[#This Row],[Actual W]]*Table3[[#This Row],[Actual H]])/1000000","v":0},{"$f":"IFERROR(ROUNDUP(SUM(Table3[[#This Row],[Rectified]]/VLOOKUP(Table3[[#This Row],[Actual W]],roomnames[],5,0)),0),\"\")","v":""},{"$f":"0","v":0},{"$f":"0","v":0},{"$f":"_xlfn.ISFORMULA(Table3[[#This Row],[Qty Tiles]])","v":true},{"$f":"IF(Table3[[#This Row],[Formula Trap]]=TRUE,1,0)","v":1},{"$f":"0","v":0}]
[null,null,null,null,null,null,null,null,null,null,null,null,null,null,null,null,null,null,null,null,null,null,null,null,null,null,null,null,null,null,null,null,null,null,null,null,null,null,null,null,null,null,null,null,null,null,null,null,null,{"$f":"IFERROR(SUM(Table3[[#This Row],[Tile Wide]]*Table3[[#This Row],[Tile High]]),\"\")","v":""},{"$f":"IFERROR(ROUNDUP(SUM(Table3[[#This Row],[Actual W]]/VLOOKUP(AQ105,roomnames[],4,0)),0),\"\")","v":""},{"$f":"IFERROR(ROUNDUP(SUM(Table3[[#This Row],[Actual H]]/VLOOKUP(AQ105,roomnames[],5,0)),0),\"\")","v":""},{"$f":"(Table3[[#This Row],[Actual W]]*Table3[[#This Row],[Actual H]])/1000000","v":0},{"$f":"IFERROR(ROUNDUP(SUM(Table3[[#This Row],[Rectified]]/VLOOKUP(Table3[[#This Row],[Actual W]],roomnames[],5,0)),0),\"\")","v":""},{"$f":"0","v":0},{"$f":"0","v":0},{"$f":"_xlfn.ISFORMULA(Table3[[#This Row],[Qty Tiles]])","v":true},{"$f":"IF(Table3[[#This Row],[Formula Trap]]=TRUE,1,0)","v":1},{"$f":"0","v":0}]
[null,null,null,null,null,null,null,null,null,null,null,null,null,null,null,null,null,null,null,null,null,null,null,null,null,null,null,null,null,null,null,null,null,null,null,null,null,null,null,null,null,null,null,null,null,null,null,null,null,{"$f":"IFERROR(SUM(Table3[[#This Row],[Tile Wide]]*Table3[[#This Row],[Tile High]]),\"\")","v":""},{"$f":"IFERROR(ROUNDUP(SUM(Table3[[#This Row],[Actual W]]/VLOOKUP(AQ106,roomnames[],4,0)),0),\"\")","v":""},{"$f":"IFERROR(ROUNDUP(SUM(Table3[[#This Row],[Actual H]]/VLOOKUP(AQ106,roomnames[],5,0)),0),\"\")","v":""},{"$f":"(Table3[[#This Row],[Actual W]]*Table3[[#This Row],[Actual H]])/1000000","v":0},{"$f":"IFERROR(ROUNDUP(SUM(Table3[[#This Row],[Rectified]]/VLOOKUP(Table3[[#This Row],[Actual W]],roomnames[],5,0)),0),\"\")","v":""},{"$f":"0","v":0},{"$f":"0","v":0},{"$f":"_xlfn.ISFORMULA(Table3[[#This Row],[Qty Tiles]])","v":true},{"$f":"IF(Table3[[#This Row],[Formula Trap]]=TRUE,1,0)","v":1},{"$f":"0","v":0}]
[null,null,null,null,null,null,null,null,null,null,null,null,null,null,null,null,null,null,null,null,null,null,null,null,null,null,null,null,null,null,null,null,null,null,null,null,null,null,null,null,null,null,null,null,null,null,null,null,null,{"$f":"IFERROR(SUM(Table3[[#This Row],[Tile Wide]]*Table3[[#This Row],[Tile High]]),\"\")","v":""},{"$f":"IFERROR(ROUNDUP(SUM(Table3[[#This Row],[Actual W]]/VLOOKUP(AQ107,roomnames[],4,0)),0),\"\")","v":""},{"$f":"IFERROR(ROUNDUP(SUM(Table3[[#This Row],[Actual H]]/VLOOKUP(AQ107,roomnames[],5,0)),0),\"\")","v":""},{"$f":"(Table3[[#This Row],[Actual W]]*Table3[[#This Row],[Actual H]])/1000000","v":0},{"$f":"IFERROR(ROUNDUP(SUM(Table3[[#This Row],[Rectified]]/VLOOKUP(Table3[[#This Row],[Actual W]],roomnames[],5,0)),0),\"\")","v":""},{"$f":"0","v":0},{"$f":"0","v":0},{"$f":"_xlfn.ISFORMULA(Table3[[#This Row],[Qty Tiles]])","v":true},{"$f":"IF(Table3[[#This Row],[Formula Trap]]=TRUE,1,0)","v":1},{"$f":"0","v":0}]
[null,null,null,null,null,null,null,null,null,null,null,null,null,null,null,null,null,null,null,null,null,null,null,null,null,null,null,null,null,null,null,null,null,null,null,null,null,null,null,null,null,null,null,null,null,null,null,null,null,{"$f":"IFERROR(SUM(Table3[[#This Row],[Tile Wide]]*Table3[[#This Row],[Tile High]]),\"\")","v":""},{"$f":"IFERROR(ROUNDUP(SUM(Table3[[#This Row],[Actual W]]/VLOOKUP(AQ108,roomnames[],4,0)),0),\"\")","v":""},{"$f":"IFERROR(ROUNDUP(SUM(Table3[[#This Row],[Actual H]]/VLOOKUP(AQ108,roomnames[],5,0)),0),\"\")","v":""},{"$f":"(Table3[[#This Row],[Actual W]]*Table3[[#This Row],[Actual H]])/1000000","v":0},{"$f":"IFERROR(ROUNDUP(SUM(Table3[[#This Row],[Rectified]]/VLOOKUP(Table3[[#This Row],[Actual W]],roomnames[],5,0)),0),\"\")","v":""},{"$f":"0","v":0},{"$f":"0","v":0},{"$f":"_xlfn.ISFORMULA(Table3[[#This Row],[Qty Tiles]])","v":true},{"$f":"IF(Table3[[#This Row],[Formula Trap]]=TRUE,1,0)","v":1},{"$f":"0","v":0}]
[null,null,null,null,null,null,null,null,null,null,null,null,null,null,null,null,null,null,null,null,null,null,null,null,null,null,null,null,null,null,null,null,null,null,null,null,null,null,null,null,null,null,null,null,null,null,null,null,null,{"$f":"IFERROR(SUM(Table3[[#This Row],[Tile Wide]]*Table3[[#This Row],[Tile High]]),\"\")","v":""},{"$f":"IFERROR(ROUNDUP(SUM(Table3[[#This Row],[Actual W]]/VLOOKUP(AQ109,roomnames[],4,0)),0),\"\")","v":""},{"$f":"IFERROR(ROUNDUP(SUM(Table3[[#This Row],[Actual H]]/VLOOKUP(AQ109,roomnames[],5,0)),0),\"\")","v":""},{"$f":"(Table3[[#This Row],[Actual W]]*Table3[[#This Row],[Actual H]])/1000000","v":0},{"$f":"IFERROR(ROUNDUP(SUM(Table3[[#This Row],[Rectified]]/VLOOKUP(Table3[[#This Row],[Actual W]],roomnames[],5,0)),0),\"\")","v":""},{"$f":"0","v":0},{"$f":"0","v":0},{"$f":"_xlfn.ISFORMULA(Table3[[#This Row],[Qty Tiles]])","v":true},{"$f":"IF(Table3[[#This Row],[Formula Trap]]=TRUE,1,0)","v":1},{"$f":"0","v":0}]
[null,null,null,null,null,null,null,null,null,null,null,null,null,null,null,null,null,null,null,null,null,null,null,null,null,null,null,null,null,null,null,null,null,null,null,null,null,null,null,null,null,null,null,null,null,null,null,null,null,{"$f":"IFERROR(SUM(Table3[[#This Row],[Tile Wide]]*Table3[[#This Row],[Tile High]]),\"\")","v":""},{"$f":"IFERROR(ROUNDUP(SUM(Table3[[#This Row],[Actual W]]/VLOOKUP(AQ110,roomnames[],4,0)),0),\"\")","v":""},{"$f":"IFERROR(ROUNDUP(SUM(Table3[[#This Row],[Actual H]]/VLOOKUP(AQ110,roomnames[],5,0)),0),\"\")","v":""},{"$f":"(Table3[[#This Row],[Actual W]]*Table3[[#This Row],[Actual H]])/1000000","v":0},{"$f":"IFERROR(ROUNDUP(SUM(Table3[[#This Row],[Rectified]]/VLOOKUP(Table3[[#This Row],[Actual W]],roomnames[],5,0)),0),\"\")","v":""},{"$f":"0","v":0},{"$f":"0","v":0},{"$f":"_xlfn.ISFORMULA(Table3[[#This Row],[Qty Tiles]])","v":true},{"$f":"IF(Table3[[#This Row],[Formula Trap]]=TRUE,1,0)","v":1},{"$f":"0","v":0}]
[null,null,null,null,null,null,null,null,null,null,null,null,null,null,null,null,null,null,null,null,null,null,null,null,null,null,null,null,null,null,null,null,null,null,null,null,null,null,null,null,null,null,null,null,null,null,null,null,null,{"$f":"IFERROR(SUM(Table3[[#This Row],[Tile Wide]]*Table3[[#This Row],[Tile High]]),\"\")","v":""},{"$f":"IFERROR(ROUNDUP(SUM(Table3[[#This Row],[Actual W]]/VLOOKUP(AQ111,roomnames[],4,0)),0),\"\")","v":""},{"$f":"IFERROR(ROUNDUP(SUM(Table3[[#This Row],[Actual H]]/VLOOKUP(AQ111,roomnames[],5,0)),0),\"\")","v":""},{"$f":"(Table3[[#This Row],[Actual W]]*Table3[[#This Row],[Actual H]])/1000000","v":0},{"$f":"IFERROR(ROUNDUP(SUM(Table3[[#This Row],[Rectified]]/VLOOKUP(Table3[[#This Row],[Actual W]],roomnames[],5,0)),0),\"\")","v":""},{"$f":"0","v":0},{"$f":"0","v":0},{"$f":"_xlfn.ISFORMULA(Table3[[#This Row],[Qty Tiles]])","v":true},{"$f":"IF(Table3[[#This Row],[Formula Trap]]=TRUE,1,0)","v":1},{"$f":"0","v":0}]
[null,null,null,null,null,null,null,null,null,null,null,null,null,null,null,null,null,null,null,null,null,null,null,null,null,null,null,null,null,null,null,null,null,null,null,null,null,null,null,null,null,null,null,null,null,null,null,null,null,{"$f":"IFERROR(SUM(Table3[[#This Row],[Tile Wide]]*Table3[[#This Row],[Tile High]]),\"\")","v":""},{"$f":"IFERROR(ROUNDUP(SUM(Table3[[#This Row],[Actual W]]/VLOOKUP(AQ112,roomnames[],4,0)),0),\"\")","v":""},{"$f":"IFERROR(ROUNDUP(SUM(Table3[[#This Row],[Actual H]]/VLOOKUP(AQ112,roomnames[],5,0)),0),\"\")","v":""},{"$f":"(Table3[[#This Row],[Actual W]]*Table3[[#This Row],[Actual H]])/1000000","v":0},{"$f":"IFERROR(ROUNDUP(SUM(Table3[[#This Row],[Rectified]]/VLOOKUP(Table3[[#This Row],[Actual W]],roomnames[],5,0)),0),\"\")","v":""},{"$f":"0","v":0},{"$f":"0","v":0},{"$f":"_xlfn.ISFORMULA(Table3[[#This Row],[Qty Tiles]])","v":true},{"$f":"IF(Table3[[#This Row],[Formula Trap]]=TRUE,1,0)","v":1},{"$f":"0","v":0}]
[null,null,null,null,null,null,null,null,null,null,null,null,null,null,null,null,null,null,null,null,null,null,null,null,null,null,null,null,null,null,null,null,null,null,null,null,null,null,null,null,null,null,null,null,null,null,null,null,null,{"$f":"IFERROR(SUM(Table3[[#This Row],[Tile Wide]]*Table3[[#This Row],[Tile High]]),\"\")","v":""},{"$f":"IFERROR(ROUNDUP(SUM(Table3[[#This Row],[Actual W]]/VLOOKUP(AQ113,roomnames[],4,0)),0),\"\")","v":""},{"$f":"IFERROR(ROUNDUP(SUM(Table3[[#This Row],[Actual H]]/VLOOKUP(AQ113,roomnames[],5,0)),0),\"\")","v":""},{"$f":"(Table3[[#This Row],[Actual W]]*Table3[[#This Row],[Actual H]])/1000000","v":0},{"$f":"IFERROR(ROUNDUP(SUM(Table3[[#This Row],[Rectified]]/VLOOKUP(Table3[[#This Row],[Actual W]],roomnames[],5,0)),0),\"\")","v":""},{"$f":"0","v":0},{"$f":"0","v":0},{"$f":"_xlfn.ISFORMULA(Table3[[#This Row],[Qty Tiles]])","v":true},{"$f":"IF(Table3[[#This Row],[Formula Trap]]=TRUE,1,0)","v":1},{"$f":"0","v":0}]
[null,null,null,null,null,null,null,null,null,null,null,null,null,null,null,null,null,null,null,null,null,null,null,null,null,null,null,null,null,null,null,null,null,null,null,null,null,null,null,null,null,null,null,null,null,null,null,null,null,{"$f":"IFERROR(SUM(Table3[[#This Row],[Tile Wide]]*Table3[[#This Row],[Tile High]]),\"\")","v":""},{"$f":"IFERROR(ROUNDUP(SUM(Table3[[#This Row],[Actual W]]/VLOOKUP(AQ114,roomnames[],4,0)),0),\"\")","v":""},{"$f":"IFERROR(ROUNDUP(SUM(Table3[[#This Row],[Actual H]]/VLOOKUP(AQ114,roomnames[],5,0)),0),\"\")","v":""},{"$f":"(Table3[[#This Row],[Actual W]]*Table3[[#This Row],[Actual H]])/1000000","v":0},{"$f":"IFERROR(ROUNDUP(SUM(Table3[[#This Row],[Rectified]]/VLOOKUP(Table3[[#This Row],[Actual W]],roomnames[],5,0)),0),\"\")","v":""},{"$f":"0","v":0},{"$f":"0","v":0},{"$f":"_xlfn.ISFORMULA(Table3[[#This Row],[Qty Tiles]])","v":true},{"$f":"IF(Table3[[#This Row],[Formula Trap]]=TRUE,1,0)","v":1},{"$f":"0","v":0}]
[null,null,null,null,null,null,null,null,null,null,null,null,null,null,null,null,null,null,null,null,null,null,null,null,null,null,null,null,null,null,null,null,null,null,null,null,null,null,null,null,null,null,null,null,null,null,null,null,null,{"$f":"IFERROR(SUM(Table3[[#This Row],[Tile Wide]]*Table3[[#This Row],[Tile High]]),\"\")","v":""},{"$f":"IFERROR(ROUNDUP(SUM(Table3[[#This Row],[Actual W]]/VLOOKUP(AQ115,roomnames[],4,0)),0),\"\")","v":""},{"$f":"IFERROR(ROUNDUP(SUM(Table3[[#This Row],[Actual H]]/VLOOKUP(AQ115,roomnames[],5,0)),0),\"\")","v":""},{"$f":"(Table3[[#This Row],[Actual W]]*Table3[[#This Row],[Actual H]])/1000000","v":0},{"$f":"IFERROR(ROUNDUP(SUM(Table3[[#This Row],[Rectified]]/VLOOKUP(Table3[[#This Row],[Actual W]],roomnames[],5,0)),0),\"\")","v":""},{"$f":"0","v":0},{"$f":"0","v":0},{"$f":"_xlfn.ISFORMULA(Table3[[#This Row],[Qty Tiles]])","v":true},{"$f":"IF(Table3[[#This Row],[Formula Trap]]=TRUE,1,0)","v":1},{"$f":"0","v":0}]
[null,null,null,null,null,null,null,null,null,null,null,null,null,null,null,null,null,null,null,null,null,null,null,null,null,null,null,null,null,null,null,null,null,null,null,null,null,null,null,null,null,null,null,null,null,null,null,null,null,{"$f":"IFERROR(SUM(Table3[[#This Row],[Tile Wide]]*Table3[[#This Row],[Tile High]]),\"\")","v":""},{"$f":"IFERROR(ROUNDUP(SUM(Table3[[#This Row],[Actual W]]/VLOOKUP(AQ116,roomnames[],4,0)),0),\"\")","v":""},{"$f":"IFERROR(ROUNDUP(SUM(Table3[[#This Row],[Actual H]]/VLOOKUP(AQ116,roomnames[],5,0)),0),\"\")","v":""},{"$f":"(Table3[[#This Row],[Actual W]]*Table3[[#This Row],[Actual H]])/1000000","v":0},{"$f":"IFERROR(ROUNDUP(SUM(Table3[[#This Row],[Rectified]]/VLOOKUP(Table3[[#This Row],[Actual W]],roomnames[],5,0)),0),\"\")","v":""},{"$f":"0","v":0},{"$f":"0","v":0},{"$f":"_xlfn.ISFORMULA(Table3[[#This Row],[Qty Tiles]])","v":true},{"$f":"IF(Table3[[#This Row],[Formula Trap]]=TRUE,1,0)","v":1},{"$f":"0","v":0}]
[null,null,null,null,null,null,null,null,null,null,null,null,null,null,null,null,null,null,null,null,null,null,null,null,null,null,null,null,null,null,null,null,null,null,null,null,null,null,null,null,null,null,null,null,null,null,null,null,null,{"$f":"IFERROR(SUM(Table3[[#This Row],[Tile Wide]]*Table3[[#This Row],[Tile High]]),\"\")","v":""},{"$f":"IFERROR(ROUNDUP(SUM(Table3[[#This Row],[Actual W]]/VLOOKUP(AQ117,roomnames[],4,0)),0),\"\")","v":""},{"$f":"IFERROR(ROUNDUP(SUM(Table3[[#This Row],[Actual H]]/VLOOKUP(AQ117,roomnames[],5,0)),0),\"\")","v":""},{"$f":"(Table3[[#This Row],[Actual W]]*Table3[[#This Row],[Actual H]])/1000000","v":0},{"$f":"IFERROR(ROUNDUP(SUM(Table3[[#This Row],[Rectified]]/VLOOKUP(Table3[[#This Row],[Actual W]],roomnames[],5,0)),0),\"\")","v":""},{"$f":"0","v":0},{"$f":"0","v":0},{"$f":"_xlfn.ISFORMULA(Table3[[#This Row],[Qty Tiles]])","v":true},{"$f":"IF(Table3[[#This Row],[Formula Trap]]=TRUE,1,0)","v":1},{"$f":"0","v":0}]
[null,null,null,null,null,null,null,null,null,null,null,null,null,null,null,null,null,null,null,null,null,null,null,null,null,null,null,null,null,null,null,null,null,null,null,null,null,null,null,null,null,null,null,null,null,null,null,null,null,{"$f":"IFERROR(SUM(Table3[[#This Row],[Tile Wide]]*Table3[[#This Row],[Tile High]]),\"\")","v":""},{"$f":"IFERROR(ROUNDUP(SUM(Table3[[#This Row],[Actual W]]/VLOOKUP(AQ118,roomnames[],4,0)),0),\"\")","v":""},{"$f":"IFERROR(ROUNDUP(SUM(Table3[[#This Row],[Actual H]]/VLOOKUP(AQ118,roomnames[],5,0)),0),\"\")","v":""},{"$f":"(Table3[[#This Row],[Actual W]]*Table3[[#This Row],[Actual H]])/1000000","v":0},{"$f":"IFERROR(ROUNDUP(SUM(Table3[[#This Row],[Rectified]]/VLOOKUP(Table3[[#This Row],[Actual W]],roomnames[],5,0)),0),\"\")","v":""},{"$f":"0","v":0},{"$f":"0","v":0},{"$f":"_xlfn.ISFORMULA(Table3[[#This Row],[Qty Tiles]])","v":true},{"$f":"IF(Table3[[#This Row],[Formula Trap]]=TRUE,1,0)","v":1},{"$f":"0","v":0}]
[null,null,null,null,null,null,null,null,null,null,null,null,null,null,null,null,null,null,null,null,null,null,null,null,null,null,null,null,null,null,null,null,null,null,null,null,null,null,null,null,null,null,null,null,null,null,null,null,null,{"$f":"IFERROR(SUM(Table3[[#This Row],[Tile Wide]]*Table3[[#This Row],[Tile High]]),\"\")","v":""},{"$f":"IFERROR(ROUNDUP(SUM(Table3[[#This Row],[Actual W]]/VLOOKUP(AQ119,roomnames[],4,0)),0),\"\")","v":""},{"$f":"IFERROR(ROUNDUP(SUM(Table3[[#This Row],[Actual H]]/VLOOKUP(AQ119,roomnames[],5,0)),0),\"\")","v":""},{"$f":"(Table3[[#This Row],[Actual W]]*Table3[[#This Row],[Actual H]])/1000000","v":0},{"$f":"IFERROR(ROUNDUP(SUM(Table3[[#This Row],[Rectified]]/VLOOKUP(Table3[[#This Row],[Actual W]],roomnames[],5,0)),0),\"\")","v":""},{"$f":"0","v":0},{"$f":"0","v":0},{"$f":"_xlfn.ISFORMULA(Table3[[#This Row],[Qty Tiles]])","v":true},{"$f":"IF(Table3[[#This Row],[Formula Trap]]=TRUE,1,0)","v":1},{"$f":"0","v":0}]
[null,null,null,null,null,null,null,null,null,null,null,null,null,null,null,null,null,null,null,null,null,null,null,null,null,null,null,null,null,null,null,null,null,null,null,null,null,null,null,null,null,null,null,null,null,null,null,null,null,{"$f":"IFERROR(SUM(Table3[[#This Row],[Tile Wide]]*Table3[[#This Row],[Tile High]]),\"\")","v":""},{"$f":"IFERROR(ROUNDUP(SUM(Table3[[#This Row],[Actual W]]/VLOOKUP(AQ120,roomnames[],4,0)),0),\"\")","v":""},{"$f":"IFERROR(ROUNDUP(SUM(Table3[[#This Row],[Actual H]]/VLOOKUP(AQ120,roomnames[],5,0)),0),\"\")","v":""},{"$f":"(Table3[[#This Row],[Actual W]]*Table3[[#This Row],[Actual H]])/1000000","v":0},{"$f":"IFERROR(ROUNDUP(SUM(Table3[[#This Row],[Rectified]]/VLOOKUP(Table3[[#This Row],[Actual W]],roomnames[],5,0)),0),\"\")","v":""},{"$f":"0","v":0},{"$f":"0","v":0},{"$f":"_xlfn.ISFORMULA(Table3[[#This Row],[Qty Tiles]])","v":true},{"$f":"IF(Table3[[#This Row],[Formula Trap]]=TRUE,1,0)","v":1},{"$f":"0","v":0}]
[null,null,null,null,null,null,null,null,null,null,null,null,null,null,null,null,null,null,null,null,null,null,null,null,null,null,null,null,null,null,null,null,null,null,null,null,null,null,null,null,null,null,null,null,null,null,null,null,null,{"$f":"IFERROR(SUM(Table3[[#This Row],[Tile Wide]]*Table3[[#This Row],[Tile High]]),\"\")","v":""},{"$f":"IFERROR(ROUNDUP(SUM(Table3[[#This Row],[Actual W]]/VLOOKUP(AQ121,roomnames[],4,0)),0),\"\")","v":""},{"$f":"IFERROR(ROUNDUP(SUM(Table3[[#This Row],[Actual H]]/VLOOKUP(AQ121,roomnames[],5,0)),0),\"\")","v":""},{"$f":"(Table3[[#This Row],[Actual W]]*Table3[[#This Row],[Actual H]])/1000000","v":0},{"$f":"IFERROR(ROUNDUP(SUM(Table3[[#This Row],[Rectified]]/VLOOKUP(Table3[[#This Row],[Actual W]],roomnames[],5,0)),0),\"\")","v":""},{"$f":"0","v":0},{"$f":"0","v":0},{"$f":"_xlfn.ISFORMULA(Table3[[#This Row],[Qty Tiles]])","v":true},{"$f":"IF(Table3[[#This Row],[Formula Trap]]=TRUE,1,0)","v":1},{"$f":"0","v":0}]
[null,null,null,null,null,null,null,null,null,null,null,null,null,null,null,null,null,null,null,null,null,null,null,null,null,null,null,null,null,null,null,null,null,null,null,null,null,null,null,null,null,null,null,null,null,null,null,null,null,{"$f":"IFERROR(SUM(Table3[[#This Row],[Tile Wide]]*Table3[[#This Row],[Tile High]]),\"\")","v":""},{"$f":"IFERROR(ROUNDUP(SUM(Table3[[#This Row],[Actual W]]/VLOOKUP(AQ122,roomnames[],4,0)),0),\"\")","v":""},{"$f":"IFERROR(ROUNDUP(SUM(Table3[[#This Row],[Actual H]]/VLOOKUP(AQ122,roomnames[],5,0)),0),\"\")","v":""},{"$f":"(Table3[[#This Row],[Actual W]]*Table3[[#This Row],[Actual H]])/1000000","v":0},{"$f":"IFERROR(ROUNDUP(SUM(Table3[[#This Row],[Rectified]]/VLOOKUP(Table3[[#This Row],[Actual W]],roomnames[],5,0)),0),\"\")","v":""},{"$f":"0","v":0},{"$f":"0","v":0},{"$f":"_xlfn.ISFORMULA(Table3[[#This Row],[Qty Tiles]])","v":true},{"$f":"IF(Table3[[#This Row],[Formula Trap]]=TRUE,1,0)","v":1},{"$f":"0","v":0}]
[null,null,null,null,null,null,null,null,null,null,null,null,null,null,null,null,null,null,null,null,null,null,null,null,null,null,null,null,null,null,null,null,null,null,null,null,null,null,null,null,null,null,null,null,null,null,null,null,null,{"$f":"IFERROR(SUM(Table3[[#This Row],[Tile Wide]]*Table3[[#This Row],[Tile High]]),\"\")","v":""},{"$f":"IFERROR(ROUNDUP(SUM(Table3[[#This Row],[Actual W]]/VLOOKUP(AQ123,roomnames[],4,0)),0),\"\")","v":""},{"$f":"IFERROR(ROUNDUP(SUM(Table3[[#This Row],[Actual H]]/VLOOKUP(AQ123,roomnames[],5,0)),0),\"\")","v":""},{"$f":"(Table3[[#This Row],[Actual W]]*Table3[[#This Row],[Actual H]])/1000000","v":0},{"$f":"IFERROR(ROUNDUP(SUM(Table3[[#This Row],[Rectified]]/VLOOKUP(Table3[[#This Row],[Actual W]],roomnames[],5,0)),0),\"\")","v":""},{"$f":"0","v":0},{"$f":"0","v":0},{"$f":"_xlfn.ISFORMULA(Table3[[#This Row],[Qty Tiles]])","v":true},{"$f":"IF(Table3[[#This Row],[Formula Trap]]=TRUE,1,0)","v":1},{"$f":"0","v":0}]
[null,null,null,null,null,null,null,null,null,null,null,null,null,null,null,null,null,null,null,null,null,null,null,null,null,null,null,null,null,null,null,null,null,null,null,null,null,null,null,null,null,null,null,null,null,null,null,null,null,{"$f":"IFERROR(SUM(Table3[[#This Row],[Tile Wide]]*Table3[[#This Row],[Tile High]]),\"\")","v":""},{"$f":"IFERROR(ROUNDUP(SUM(Table3[[#This Row],[Actual W]]/VLOOKUP(AQ124,roomnames[],4,0)),0),\"\")","v":""},{"$f":"IFERROR(ROUNDUP(SUM(Table3[[#This Row],[Actual H]]/VLOOKUP(AQ124,roomnames[],5,0)),0),\"\")","v":""},{"$f":"(Table3[[#This Row],[Actual W]]*Table3[[#This Row],[Actual H]])/1000000","v":0},{"$f":"IFERROR(ROUNDUP(SUM(Table3[[#This Row],[Rectified]]/VLOOKUP(Table3[[#This Row],[Actual W]],roomnames[],5,0)),0),\"\")","v":""},{"$f":"0","v":0},{"$f":"0","v":0},{"$f":"_xlfn.ISFORMULA(Table3[[#This Row],[Qty Tiles]])","v":true},{"$f":"IF(Table3[[#This Row],[Formula Trap]]=TRUE,1,0)","v":1},{"$f":"0","v":0}]
[null,null,null,null,null,null,null,null,null,null,null,null,null,null,null,null,null,null,null,null,null,null,null,null,null,null,null,null,null,null,null,null,null,null,null,null,null,null,null,null,null,null,null,null,null,null,null,null,null,{"$f":"IFERROR(SUM(Table3[[#This Row],[Tile Wide]]*Table3[[#This Row],[Tile High]]),\"\")","v":""},{"$f":"IFERROR(ROUNDUP(SUM(Table3[[#This Row],[Actual W]]/VLOOKUP(AQ125,roomnames[],4,0)),0),\"\")","v":""},{"$f":"IFERROR(ROUNDUP(SUM(Table3[[#This Row],[Actual H]]/VLOOKUP(AQ125,roomnames[],5,0)),0),\"\")","v":""},{"$f":"(Table3[[#This Row],[Actual W]]*Table3[[#This Row],[Actual H]])/1000000","v":0},{"$f":"IFERROR(ROUNDUP(SUM(Table3[[#This Row],[Rectified]]/VLOOKUP(Table3[[#This Row],[Actual W]],roomnames[],5,0)),0),\"\")","v":""},{"$f":"0","v":0},{"$f":"0","v":0},{"$f":"_xlfn.ISFORMULA(Table3[[#This Row],[Qty Tiles]])","v":true},{"$f":"IF(Table3[[#This Row],[Formula Trap]]=TRUE,1,0)","v":1},{"$f":"0","v":0}]
[null,null,null,null,null,null,null,null,null,null,null,null,null,null,null,null,null,null,null,null,null,null,null,null,null,null,null,null,null,null,null,null,null,null,null,null,null,null,null,null,null,null,null,null,null,null,null,null,null,{"$f":"IFERROR(SUM(Table3[[#This Row],[Tile Wide]]*Table3[[#This Row],[Tile High]]),\"\")","v":""},{"$f":"IFERROR(ROUNDUP(SUM(Table3[[#This Row],[Actual W]]/VLOOKUP(AQ126,roomnames[],4,0)),0),\"\")","v":""},{"$f":"IFERROR(ROUNDUP(SUM(Table3[[#This Row],[Actual H]]/VLOOKUP(AQ126,roomnames[],5,0)),0),\"\")","v":""},{"$f":"(Table3[[#This Row],[Actual W]]*Table3[[#This Row],[Actual H]])/1000000","v":0},{"$f":"IFERROR(ROUNDUP(SUM(Table3[[#This Row],[Rectified]]/VLOOKUP(Table3[[#This Row],[Actual W]],roomnames[],5,0)),0),\"\")","v":""},{"$f":"0","v":0},{"$f":"0","v":0},{"$f":"_xlfn.ISFORMULA(Table3[[#This Row],[Qty Tiles]])","v":true},{"$f":"IF(Table3[[#This Row],[Formula Trap]]=TRUE,1,0)","v":1},{"$f":"0","v":0}]
[null,null,null,null,null,null,null,null,null,null,null,null,null,null,null,null,null,null,null,null,null,null,null,null,null,null,null,null,null,null,null,null,null,null,null,null,null,null,null,null,null,null,null,null,null,null,null,null,null,{"$f":"IFERROR(SUM(Table3[[#This Row],[Tile Wide]]*Table3[[#This Row],[Tile High]]),\"\")","v":""},{"$f":"IFERROR(ROUNDUP(SUM(Table3[[#This Row],[Actual W]]/VLOOKUP(AQ127,roomnames[],4,0)),0),\"\")","v":""},{"$f":"IFERROR(ROUNDUP(SUM(Table3[[#This Row],[Actual H]]/VLOOKUP(AQ127,roomnames[],5,0)),0),\"\")","v":""},{"$f":"(Table3[[#This Row],[Actual W]]*Table3[[#This Row],[Actual H]])/1000000","v":0},{"$f":"IFERROR(ROUNDUP(SUM(Table3[[#This Row],[Rectified]]/VLOOKUP(Table3[[#This Row],[Actual W]],roomnames[],5,0)),0),\"\")","v":""},{"$f":"0","v":0},{"$f":"0","v":0},{"$f":"_xlfn.ISFORMULA(Table3[[#This Row],[Qty Tiles]])","v":true},{"$f":"IF(Table3[[#This Row],[Formula Trap]]=TRUE,1,0)","v":1},{"$f":"0","v":0}]
[null,null,null,null,null,null,null,null,null,null,null,null,null,null,null,null,null,null,null,null,null,null,null,null,null,null,null,null,null,null,null,null,null,null,null,null,null,null,null,null,null,null,null,null,null,null,null,null,null,{"$f":"IFERROR(SUM(Table3[[#This Row],[Tile Wide]]*Table3[[#This Row],[Tile High]]),\"\")","v":""},{"$f":"IFERROR(ROUNDUP(SUM(Table3[[#This Row],[Actual W]]/VLOOKUP(AQ128,roomnames[],4,0)),0),\"\")","v":""},{"$f":"IFERROR(ROUNDUP(SUM(Table3[[#This Row],[Actual H]]/VLOOKUP(AQ128,roomnames[],5,0)),0),\"\")","v":""},{"$f":"(Table3[[#This Row],[Actual W]]*Table3[[#This Row],[Actual H]])/1000000","v":0},{"$f":"IFERROR(ROUNDUP(SUM(Table3[[#This Row],[Rectified]]/VLOOKUP(Table3[[#This Row],[Actual W]],roomnames[],5,0)),0),\"\")","v":""},{"$f":"0","v":0},{"$f":"0","v":0},{"$f":"_xlfn.ISFORMULA(Table3[[#This Row],[Qty Tiles]])","v":true},{"$f":"IF(Table3[[#This Row],[Formula Trap]]=TRUE,1,0)","v":1},{"$f":"0","v":0}]
[null,null,null,null,null,null,null,null,null,null,null,null,null,null,null,null,null,null,null,null,null,null,null,null,null,null,null,null,null,null,null,null,null,null,null,null,null,null,null,null,null,null,null,null,null,null,null,null,null,{"$f":"IFERROR(SUM(Table3[[#This Row],[Tile Wide]]*Table3[[#This Row],[Tile High]]),\"\")","v":""},{"$f":"IFERROR(ROUNDUP(SUM(Table3[[#This Row],[Actual W]]/VLOOKUP(AQ129,roomnames[],4,0)),0),\"\")","v":""},{"$f":"IFERROR(ROUNDUP(SUM(Table3[[#This Row],[Actual H]]/VLOOKUP(AQ129,roomnames[],5,0)),0),\"\")","v":""},{"$f":"(Table3[[#This Row],[Actual W]]*Table3[[#This Row],[Actual H]])/1000000","v":0},{"$f":"IFERROR(ROUNDUP(SUM(Table3[[#This Row],[Rectified]]/VLOOKUP(Table3[[#This Row],[Actual W]],roomnames[],5,0)),0),\"\")","v":""},{"$f":"0","v":0},{"$f":"0","v":0},{"$f":"_xlfn.ISFORMULA(Table3[[#This Row],[Qty Tiles]])","v":true},{"$f":"IF(Table3[[#This Row],[Formula Trap]]=TRUE,1,0)","v":1},{"$f":"0","v":0}]
[null,null,null,null,null,null,null,null,null,null,null,null,null,null,null,null,null,null,null,null,null,null,null,null,null,null,null,null,null,null,null,null,null,null,null,null,null,null,null,null,null,null,null,null,null,null,null,null,null,{"$f":"IFERROR(SUM(Table3[[#This Row],[Tile Wide]]*Table3[[#This Row],[Tile High]]),\"\")","v":""},{"$f":"IFERROR(ROUNDUP(SUM(Table3[[#This Row],[Actual W]]/VLOOKUP(AQ130,roomnames[],4,0)),0),\"\")","v":""},{"$f":"IFERROR(ROUNDUP(SUM(Table3[[#This Row],[Actual H]]/VLOOKUP(AQ130,roomnames[],5,0)),0),\"\")","v":""},{"$f":"(Table3[[#This Row],[Actual W]]*Table3[[#This Row],[Actual H]])/1000000","v":0},{"$f":"IFERROR(ROUNDUP(SUM(Table3[[#This Row],[Rectified]]/VLOOKUP(Table3[[#This Row],[Actual W]],roomnames[],5,0)),0),\"\")","v":""},{"$f":"0","v":0},{"$f":"0","v":0},{"$f":"_xlfn.ISFORMULA(Table3[[#This Row],[Qty Tiles]])","v":true},{"$f":"IF(Table3[[#This Row],[Formula Trap]]=TRUE,1,0)","v":1},{"$f":"0","v":0}]
[null,null,null,null,null,null,null,null,null,null,null,null,null,null,null,null,null,null,null,null,null,null,null,null,null,null,null,null,null,null,null,null,null,null,null,null,null,null,null,null,null,null,null,null,null,null,null,null,null,{"$f":"IFERROR(SUM(Table3[[#This Row],[Tile Wide]]*Table3[[#This Row],[Tile High]]),\"\")","v":""},{"$f":"IFERROR(ROUNDUP(SUM(Table3[[#This Row],[Actual W]]/VLOOKUP(AQ131,roomnames[],4,0)),0),\"\")","v":""},{"$f":"IFERROR(ROUNDUP(SUM(Table3[[#This Row],[Actual H]]/VLOOKUP(AQ131,roomnames[],5,0)),0),\"\")","v":""},{"$f":"(Table3[[#This Row],[Actual W]]*Table3[[#This Row],[Actual H]])/1000000","v":0},{"$f":"IFERROR(ROUNDUP(SUM(Table3[[#This Row],[Rectified]]/VLOOKUP(Table3[[#This Row],[Actual W]],roomnames[],5,0)),0),\"\")","v":""},{"$f":"0","v":0},{"$f":"0","v":0},{"$f":"_xlfn.ISFORMULA(Table3[[#This Row],[Qty Tiles]])","v":true},{"$f":"IF(Table3[[#This Row],[Formula Trap]]=TRUE,1,0)","v":1},{"$f":"0","v":0}]
[null,null,null,null,null,null,null,null,null,null,null,null,null,null,null,null,null,null,null,null,null,null,null,null,null,null,null,null,null,null,null,null,null,null,null,null,null,null,null,null,null,null,null,null,null,null,null,null,null,{"$f":"IFERROR(SUM(Table3[[#This Row],[Tile Wide]]*Table3[[#This Row],[Tile High]]),\"\")","v":""},{"$f":"IFERROR(ROUNDUP(SUM(Table3[[#This Row],[Actual W]]/VLOOKUP(AQ132,roomnames[],4,0)),0),\"\")","v":""},{"$f":"IFERROR(ROUNDUP(SUM(Table3[[#This Row],[Actual H]]/VLOOKUP(AQ132,roomnames[],5,0)),0),\"\")","v":""},{"$f":"(Table3[[#This Row],[Actual W]]*Table3[[#This Row],[Actual H]])/1000000","v":0},{"$f":"IFERROR(ROUNDUP(SUM(Table3[[#This Row],[Rectified]]/VLOOKUP(Table3[[#This Row],[Actual W]],roomnames[],5,0)),0),\"\")","v":""},{"$f":"0","v":0},{"$f":"0","v":0},{"$f":"_xlfn.ISFORMULA(Table3[[#This Row],[Qty Tiles]])","v":true},{"$f":"IF(Table3[[#This Row],[Formula Trap]]=TRUE,1,0)","v":1},{"$f":"0","v":0}]
[null,null,null,null,null,null,null,null,null,null,null,null,null,null,null,null,null,null,null,null,null,null,null,null,null,null,null,null,null,null,null,null,null,null,null,null,null,null,null,null,null,null,null,null,null,null,null,null,null,{"$f":"IFERROR(SUM(Table3[[#This Row],[Tile Wide]]*Table3[[#This Row],[Tile High]]),\"\")","v":""},{"$f":"IFERROR(ROUNDUP(SUM(Table3[[#This Row],[Actual W]]/VLOOKUP(AQ133,roomnames[],4,0)),0),\"\")","v":""},{"$f":"IFERROR(ROUNDUP(SUM(Table3[[#This Row],[Actual H]]/VLOOKUP(AQ133,roomnames[],5,0)),0),\"\")","v":""},{"$f":"(Table3[[#This Row],[Actual W]]*Table3[[#This Row],[Actual H]])/1000000","v":0},{"$f":"IFERROR(ROUNDUP(SUM(Table3[[#This Row],[Rectified]]/VLOOKUP(Table3[[#This Row],[Actual W]],roomnames[],5,0)),0),\"\")","v":""},{"$f":"0","v":0},{"$f":"0","v":0},{"$f":"_xlfn.ISFORMULA(Table3[[#This Row],[Qty Tiles]])","v":true},{"$f":"IF(Table3[[#This Row],[Formula Trap]]=TRUE,1,0)","v":1},{"$f":"0","v":0}]
[null,null,null,null,null,null,null,null,null,null,null,null,null,null,null,null,null,null,null,null,null,null,null,null,null,null,null,null,null,null,null,null,null,null,null,null,null,null,null,null,null,null,null,null,null,null,null,null,null,{"$f":"IFERROR(SUM(Table3[[#This Row],[Tile Wide]]*Table3[[#This Row],[Tile High]]),\"\")","v":""},{"$f":"IFERROR(ROUNDUP(SUM(Table3[[#This Row],[Actual W]]/VLOOKUP(AQ134,roomnames[],4,0)),0),\"\")","v":""},{"$f":"IFERROR(ROUNDUP(SUM(Table3[[#This Row],[Actual H]]/VLOOKUP(AQ134,roomnames[],5,0)),0),\"\")","v":""},{"$f":"(Table3[[#This Row],[Actual W]]*Table3[[#This Row],[Actual H]])/1000000","v":0},{"$f":"IFERROR(ROUNDUP(SUM(Table3[[#This Row],[Rectified]]/VLOOKUP(Table3[[#This Row],[Actual W]],roomnames[],5,0)),0),\"\")","v":""},{"$f":"0","v":0},{"$f":"0","v":0},{"$f":"_xlfn.ISFORMULA(Table3[[#This Row],[Qty Tiles]])","v":true},{"$f":"IF(Table3[[#This Row],[Formula Trap]]=TRUE,1,0)","v":1},{"$f":"0","v":0}]
[null,null,null,null,null,null,null,null,null,null,null,null,null,null,null,null,null,null,null,null,null,null,null,null,null,null,null,null,null,null,null,null,null,null,null,null,null,null,null,null,null,null,null,null,null,null,null,null,null,{"$f":"IFERROR(SUM(Table3[[#This Row],[Tile Wide]]*Table3[[#This Row],[Tile High]]),\"\")","v":""},{"$f":"IFERROR(ROUNDUP(SUM(Table3[[#This Row],[Actual W]]/VLOOKUP(AQ135,roomnames[],4,0)),0),\"\")","v":""},{"$f":"IFERROR(ROUNDUP(SUM(Table3[[#This Row],[Actual H]]/VLOOKUP(AQ135,roomnames[],5,0)),0),\"\")","v":""},{"$f":"(Table3[[#This Row],[Actual W]]*Table3[[#This Row],[Actual H]])/1000000","v":0},{"$f":"IFERROR(ROUNDUP(SUM(Table3[[#This Row],[Rectified]]/VLOOKUP(Table3[[#This Row],[Actual W]],roomnames[],5,0)),0),\"\")","v":""},{"$f":"0","v":0},{"$f":"0","v":0},{"$f":"_xlfn.ISFORMULA(Table3[[#This Row],[Qty Tiles]])","v":true},{"$f":"IF(Table3[[#This Row],[Formula Trap]]=TRUE,1,0)","v":1},{"$f":"0","v":0}]
[null,null,null,null,null,null,null,null,null,null,null,null,null,null,null,null,null,null,null,null,null,null,null,null,null,null,null,null,null,null,null,null,null,null,null,null,null,null,null,null,null,null,null,null,null,null,null,null,null,{"$f":"IFERROR(SUM(Table3[[#This Row],[Tile Wide]]*Table3[[#This Row],[Tile High]]),\"\")","v":""},{"$f":"IFERROR(ROUNDUP(SUM(Table3[[#This Row],[Actual W]]/VLOOKUP(AQ136,roomnames[],4,0)),0),\"\")","v":""},{"$f":"IFERROR(ROUNDUP(SUM(Table3[[#This Row],[Actual H]]/VLOOKUP(AQ136,roomnames[],5,0)),0),\"\")","v":""},{"$f":"(Table3[[#This Row],[Actual W]]*Table3[[#This Row],[Actual H]])/1000000","v":0},{"$f":"IFERROR(ROUNDUP(SUM(Table3[[#This Row],[Rectified]]/VLOOKUP(Table3[[#This Row],[Actual W]],roomnames[],5,0)),0),\"\")","v":""},{"$f":"0","v":0},{"$f":"0","v":0},{"$f":"_xlfn.ISFORMULA(Table3[[#This Row],[Qty Tiles]])","v":true},{"$f":"IF(Table3[[#This Row],[Formula Trap]]=TRUE,1,0)","v":1},{"$f":"0","v":0}]
[null,null,null,null,null,null,null,null,null,null,null,null,null,null,null,null,null,null,null,null,null,null,null,null,null,null,null,null,null,null,null,null,null,null,null,null,null,null,null,null,null,null,null,null,null,null,null,null,null,{"$f":"IFERROR(SUM(Table3[[#This Row],[Tile Wide]]*Table3[[#This Row],[Tile High]]),\"\")","v":""},{"$f":"IFERROR(ROUNDUP(SUM(Table3[[#This Row],[Actual W]]/VLOOKUP(AQ137,roomnames[],4,0)),0),\"\")","v":""},{"$f":"IFERROR(ROUNDUP(SUM(Table3[[#This Row],[Actual H]]/VLOOKUP(AQ137,roomnames[],5,0)),0),\"\")","v":""},{"$f":"(Table3[[#This Row],[Actual W]]*Table3[[#This Row],[Actual H]])/1000000","v":0},{"$f":"IFERROR(ROUNDUP(SUM(Table3[[#This Row],[Rectified]]/VLOOKUP(Table3[[#This Row],[Actual W]],roomnames[],5,0)),0),\"\")","v":""},{"$f":"0","v":0},{"$f":"0","v":0},{"$f":"_xlfn.ISFORMULA(Table3[[#This Row],[Qty Tiles]])","v":true},{"$f":"IF(Table3[[#This Row],[Formula Trap]]=TRUE,1,0)","v":1},{"$f":"0","v":0}]
[null,null,null,null,null,null,null,null,null,null,null,null,null,null,null,null,null,null,null,null,null,null,null,null,null,null,null,null,null,null,null,null,null,null,null,null,null,null,null,null,null,null,null,null,null,null,null,null,null,{"$f":"IFERROR(SUM(Table3[[#This Row],[Tile Wide]]*Table3[[#This Row],[Tile High]]),\"\")","v":""},{"$f":"IFERROR(ROUNDUP(SUM(Table3[[#This Row],[Actual W]]/VLOOKUP(AQ138,roomnames[],4,0)),0),\"\")","v":""},{"$f":"IFERROR(ROUNDUP(SUM(Table3[[#This Row],[Actual H]]/VLOOKUP(AQ138,roomnames[],5,0)),0),\"\")","v":""},{"$f":"(Table3[[#This Row],[Actual W]]*Table3[[#This Row],[Actual H]])/1000000","v":0},{"$f":"IFERROR(ROUNDUP(SUM(Table3[[#This Row],[Rectified]]/VLOOKUP(Table3[[#This Row],[Actual W]],roomnames[],5,0)),0),\"\")","v":""},{"$f":"0","v":0},{"$f":"0","v":0},{"$f":"_xlfn.ISFORMULA(Table3[[#This Row],[Qty Tiles]])","v":true},{"$f":"IF(Table3[[#This Row],[Formula Trap]]=TRUE,1,0)","v":1},{"$f":"0","v":0}]
[null,null,null,null,null,null,null,null,null,null,null,null,null,null,null,null,null,null,null,null,null,null,null,null,null,null,null,null,null,null,null,null,null,null,null,null,null,null,null,null,null,null,null,null,null,null,null,null,null,{"$f":"IFERROR(SUM(Table3[[#This Row],[Tile Wide]]*Table3[[#This Row],[Tile High]]),\"\")","v":""},{"$f":"IFERROR(ROUNDUP(SUM(Table3[[#This Row],[Actual W]]/VLOOKUP(AQ139,roomnames[],4,0)),0),\"\")","v":""},{"$f":"IFERROR(ROUNDUP(SUM(Table3[[#This Row],[Actual H]]/VLOOKUP(AQ139,roomnames[],5,0)),0),\"\")","v":""},{"$f":"(Table3[[#This Row],[Actual W]]*Table3[[#This Row],[Actual H]])/1000000","v":0},{"$f":"IFERROR(ROUNDUP(SUM(Table3[[#This Row],[Rectified]]/VLOOKUP(Table3[[#This Row],[Actual W]],roomnames[],5,0)),0),\"\")","v":""},{"$f":"0","v":0},{"$f":"0","v":0},{"$f":"_xlfn.ISFORMULA(Table3[[#This Row],[Qty Tiles]])","v":true},{"$f":"IF(Table3[[#This Row],[Formula Trap]]=TRUE,1,0)","v":1},{"$f":"0","v":0}]
[null,null,null,null,null,null,null,null,null,null,null,null,null,null,null,null,null,null,null,null,null,null,null,null,null,null,null,null,null,null,null,null,null,null,null,null,null,null,null,null,null,null,null,null,null,null,null,null,null,{"$f":"IFERROR(SUM(Table3[[#This Row],[Tile Wide]]*Table3[[#This Row],[Tile High]]),\"\")","v":""},{"$f":"IFERROR(ROUNDUP(SUM(Table3[[#This Row],[Actual W]]/VLOOKUP(AQ140,roomnames[],4,0)),0),\"\")","v":""},{"$f":"IFERROR(ROUNDUP(SUM(Table3[[#This Row],[Actual H]]/VLOOKUP(AQ140,roomnames[],5,0)),0),\"\")","v":""},{"$f":"(Table3[[#This Row],[Actual W]]*Table3[[#This Row],[Actual H]])/1000000","v":0},{"$f":"IFERROR(ROUNDUP(SUM(Table3[[#This Row],[Rectified]]/VLOOKUP(Table3[[#This Row],[Actual W]],roomnames[],5,0)),0),\"\")","v":""},{"$f":"0","v":0},{"$f":"0","v":0},{"$f":"_xlfn.ISFORMULA(Table3[[#This Row],[Qty Tiles]])","v":true},{"$f":"IF(Table3[[#This Row],[Formula Trap]]=TRUE,1,0)","v":1},{"$f":"0","v":0}]
[null,null,null,null,null,null,null,null,null,null,null,null,null,null,null,null,null,null,null,null,null,null,null,null,null,null,null,null,null,null,null,null,null,null,null,null,null,null,null,null,null,null,null,null,null,null,null,null,null,{"$f":"IFERROR(SUM(Table3[[#This Row],[Tile Wide]]*Table3[[#This Row],[Tile High]]),\"\")","v":""},{"$f":"IFERROR(ROUNDUP(SUM(Table3[[#This Row],[Actual W]]/VLOOKUP(AQ141,roomnames[],4,0)),0),\"\")","v":""},{"$f":"IFERROR(ROUNDUP(SUM(Table3[[#This Row],[Actual H]]/VLOOKUP(AQ141,roomnames[],5,0)),0),\"\")","v":""},{"$f":"(Table3[[#This Row],[Actual W]]*Table3[[#This Row],[Actual H]])/1000000","v":0},{"$f":"IFERROR(ROUNDUP(SUM(Table3[[#This Row],[Rectified]]/VLOOKUP(Table3[[#This Row],[Actual W]],roomnames[],5,0)),0),\"\")","v":""},{"$f":"0","v":0},{"$f":"0","v":0},{"$f":"_xlfn.ISFORMULA(Table3[[#This Row],[Qty Tiles]])","v":true},{"$f":"IF(Table3[[#This Row],[Formula Trap]]=TRUE,1,0)","v":1},{"$f":"0","v":0}]
[null,null,null,null,null,null,null,null,null,null,null,null,null,null,null,null,null,null,null,null,null,null,null,null,null,null,null,null,null,null,null,null,null,null,null,null,null,null,null,null,null,null,null,null,null,null,null,null,null,{"$f":"IFERROR(SUM(Table3[[#This Row],[Tile Wide]]*Table3[[#This Row],[Tile High]]),\"\")","v":""},{"$f":"IFERROR(ROUNDUP(SUM(Table3[[#This Row],[Actual W]]/VLOOKUP(AQ142,roomnames[],4,0)),0),\"\")","v":""},{"$f":"IFERROR(ROUNDUP(SUM(Table3[[#This Row],[Actual H]]/VLOOKUP(AQ142,roomnames[],5,0)),0),\"\")","v":""},{"$f":"(Table3[[#This Row],[Actual W]]*Table3[[#This Row],[Actual H]])/1000000","v":0},{"$f":"IFERROR(ROUNDUP(SUM(Table3[[#This Row],[Rectified]]/VLOOKUP(Table3[[#This Row],[Actual W]],roomnames[],5,0)),0),\"\")","v":""},{"$f":"0","v":0},{"$f":"0","v":0},{"$f":"_xlfn.ISFORMULA(Table3[[#This Row],[Qty Tiles]])","v":true},{"$f":"IF(Table3[[#This Row],[Formula Trap]]=TRUE,1,0)","v":1},{"$f":"0","v":0}]
[null,null,null,null,null,null,null,null,null,null,null,null,null,null,null,null,null,null,null,null,null,null,null,null,null,null,null,null,null,null,null,null,null,null,null,null,null,null,null,null,null,null,null,null,null,null,null,null,null,{"$f":"IFERROR(SUM(Table3[[#This Row],[Tile Wide]]*Table3[[#This Row],[Tile High]]),\"\")","v":""},{"$f":"IFERROR(ROUNDUP(SUM(Table3[[#This Row],[Actual W]]/VLOOKUP(AQ143,roomnames[],4,0)),0),\"\")","v":""},{"$f":"IFERROR(ROUNDUP(SUM(Table3[[#This Row],[Actual H]]/VLOOKUP(AQ143,roomnames[],5,0)),0),\"\")","v":""},{"$f":"(Table3[[#This Row],[Actual W]]*Table3[[#This Row],[Actual H]])/1000000","v":0},{"$f":"IFERROR(ROUNDUP(SUM(Table3[[#This Row],[Rectified]]/VLOOKUP(Table3[[#This Row],[Actual W]],roomnames[],5,0)),0),\"\")","v":""},{"$f":"0","v":0},{"$f":"0","v":0},{"$f":"_xlfn.ISFORMULA(Table3[[#This Row],[Qty Tiles]])","v":true},{"$f":"IF(Table3[[#This Row],[Formula Trap]]=TRUE,1,0)","v":1},{"$f":"0","v":0}]
[null,null,null,null,null,null,null,null,null,null,null,null,null,null,null,null,null,null,null,null,null,null,null,null,null,null,null,null,null,null,null,null,null,null,null,null,null,null,null,null,null,null,null,null,null,null,null,null,null,{"$f":"IFERROR(SUM(Table3[[#This Row],[Tile Wide]]*Table3[[#This Row],[Tile High]]),\"\")","v":""},{"$f":"IFERROR(ROUNDUP(SUM(Table3[[#This Row],[Actual W]]/VLOOKUP(AQ144,roomnames[],4,0)),0),\"\")","v":""},{"$f":"IFERROR(ROUNDUP(SUM(Table3[[#This Row],[Actual H]]/VLOOKUP(AQ144,roomnames[],5,0)),0),\"\")","v":""},{"$f":"(Table3[[#This Row],[Actual W]]*Table3[[#This Row],[Actual H]])/1000000","v":0},{"$f":"IFERROR(ROUNDUP(SUM(Table3[[#This Row],[Rectified]]/VLOOKUP(Table3[[#This Row],[Actual W]],roomnames[],5,0)),0),\"\")","v":""},{"$f":"0","v":0},{"$f":"0","v":0},{"$f":"_xlfn.ISFORMULA(Table3[[#This Row],[Qty Tiles]])","v":true},{"$f":"IF(Table3[[#This Row],[Formula Trap]]=TRUE,1,0)","v":1},{"$f":"0","v":0}]
[null,null,null,null,null,null,null,null,null,null,null,null,null,null,null,null,null,null,null,null,null,null,null,null,null,null,null,null,null,null,null,null,null,null,null,null,null,null,null,null,null,null,null,null,null,null,null,null,null,{"$f":"IFERROR(SUM(Table3[[#This Row],[Tile Wide]]*Table3[[#This Row],[Tile High]]),\"\")","v":""},{"$f":"IFERROR(ROUNDUP(SUM(Table3[[#This Row],[Actual W]]/VLOOKUP(AQ145,roomnames[],4,0)),0),\"\")","v":""},{"$f":"IFERROR(ROUNDUP(SUM(Table3[[#This Row],[Actual H]]/VLOOKUP(AQ145,roomnames[],5,0)),0),\"\")","v":""},{"$f":"(Table3[[#This Row],[Actual W]]*Table3[[#This Row],[Actual H]])/1000000","v":0},{"$f":"IFERROR(ROUNDUP(SUM(Table3[[#This Row],[Rectified]]/VLOOKUP(Table3[[#This Row],[Actual W]],roomnames[],5,0)),0),\"\")","v":""},{"$f":"0","v":0},{"$f":"0","v":0},{"$f":"_xlfn.ISFORMULA(Table3[[#This Row],[Qty Tiles]])","v":true},{"$f":"IF(Table3[[#This Row],[Formula Trap]]=TRUE,1,0)","v":1},{"$f":"0","v":0}]
[]
[]
[]
[]
[]
[]
[]
[]
[]
[]
[]
[]
[]
[]
[null,null,null,null,null,null,null,null,null,null,null,null,null,null,null,null,null,null,null,null,null,null,null,null,null,null,null,null,null,null,null,null,null,null,null,null,null,null,null,null,null,null,null,null,null,null,null,null,null,null,null,null,{"$f":"IFERROR(ROUNDUP(SUM(Table3[[#This Row],[Mitre W/H]]/VLOOKUP(Table3[[#This Row],[Actual W]],roomnames[],4,0)),0),\"\")","v":""},{"$f":"IFERROR(ROUNDUP(SUM(Table3[[#This Row],[Rectified]]/VLOOKUP(Table3[[#This Row],[Actual W]],roomnames[],5,0)),0),\"\")","v":""},null,null,{"$f":"IFERROR(SUM(Table3[[#This Row],[Labour]]*Table3[[#This Row],[Mitre L]]),\"\")","v":""},null,{"$f":"IFERROR(SUM(Table3[[#This Row],[Labour]]*Table3[[#This Row],[Mitre L]]),\"\")","v":""}]
[null,null,null,null,null,null,null,null,null,null,null,null,null,null,null,null,null,null,null,null,null,null,null,null,null,null,null,null,null,null,null,null,null,null,null,null,null,null,null,null,null,null,null,null,null,null,null,null,null,null,null,null,{"$f":"IFERROR(ROUNDUP(SUM(Table3[[#This Row],[Mitre W/H]]/VLOOKUP(Table3[[#This Row],[Actual W]],roomnames[],4,0)),0),\"\")","v":""},{"$f":"IFERROR(ROUNDUP(SUM(Table3[[#This Row],[Rectified]]/VLOOKUP(Table3[[#This Row],[Actual W]],roomnames[],5,0)),0),\"\")","v":""},null,null,{"$f":"IFERROR(SUM(Table3[[#This Row],[Labour]]*Table3[[#This Row],[Mitre L]]),\"\")","v":""},null,{"$f":"IFERROR(SUM(Table3[[#This Row],[Labour]]*Table3[[#This Row],[Mitre L]]),\"\")","v":""}]
[null,null,null,null,null,null,null,null,null,null,null,null,null,null,null,null,null,null,null,null,null,null,null,null,null,null,null,null,null,null,null,null,null,null,null,null,null,null,null,null,null,null,null,null,null,null,null,null,null,null,null,null,{"$f":"IFERROR(ROUNDUP(SUM(Table3[[#This Row],[Mitre W/H]]/VLOOKUP(Table3[[#This Row],[Actual W]],roomnames[],4,0)),0),\"\")","v":""},{"$f":"IFERROR(ROUNDUP(SUM(Table3[[#This Row],[Rectified]]/VLOOKUP(Table3[[#This Row],[Actual W]],roomnames[],5,0)),0),\"\")","v":""},null,null,{"$f":"IFERROR(SUM(Table3[[#This Row],[Labour]]*Table3[[#This Row],[Mitre L]]),\"\")","v":""},null,{"$f":"IFERROR(SUM(Table3[[#This Row],[Labour]]*Table3[[#This Row],[Mitre L]]),\"\")","v":""}]
[null,null,null,null,null,null,null,null,null,null,null,null,null,null,null,null,null,null,null,null,null,null,null,null,null,null,null,null,null,null,null,null,null,null,null,null,null,null,null,null,null,null,null,null,null,null,null,null,null,null,null,null,{"$f":"IFERROR(ROUNDUP(SUM(Table3[[#This Row],[Mitre W/H]]/VLOOKUP(Table3[[#This Row],[Actual W]],roomnames[],4,0)),0),\"\")","v":""},{"$f":"IFERROR(ROUNDUP(SUM(Table3[[#This Row],[Rectified]]/VLOOKUP(Table3[[#This Row],[Actual W]],roomnames[],5,0)),0),\"\")","v":""},null,null,{"$f":"IFERROR(SUM(Table3[[#This Row],[Labour]]*Table3[[#This Row],[Mitre L]]),\"\")","v":""},null,{"$f":"IFERROR(SUM(Table3[[#This Row],[Labour]]*Table3[[#This Row],[Mitre L]]),\"\")","v":""}]
[null,null,null,null,null,null,null,null,null,null,null,null,null,null,null,null,null,null,null,null,null,null,null,null,null,null,null,null,null,null,null,null,null,null,null,null,null,null,null,null,null,null,null,null,null,null,null,null,null,null,null,null,{"$f":"IFERROR(ROUNDUP(SUM(Table3[[#This Row],[Mitre W/H]]/VLOOKUP(Table3[[#This Row],[Actual W]],roomnames[],4,0)),0),\"\")","v":""},{"$f":"IFERROR(ROUNDUP(SUM(Table3[[#This Row],[Rectified]]/VLOOKUP(Table3[[#This Row],[Actual W]],roomnames[],5,0)),0),\"\")","v":""},null,null,{"$f":"IFERROR(SUM(Table3[[#This Row],[Labour]]*Table3[[#This Row],[Mitre L]]),\"\")","v":""},null,{"$f":"IFERROR(SUM(Table3[[#This Row],[Labour]]*Table3[[#This Row],[Mitre L]]),\"\")","v":""}]
[null,null,null,null,null,null,null,null,null,null,null,null,null,null,null,null,null,null,null,null,null,null,null,null,null,null,null,null,null,null,null,null,null,null,null,null,null,null,null,null,null,null,null,null,null,null,null,null,null,null,null,null,{"$f":"IFERROR(ROUNDUP(SUM(Table3[[#This Row],[Mitre W/H]]/VLOOKUP(Table3[[#This Row],[Actual W]],roomnames[],4,0)),0),\"\")","v":""},{"$f":"IFERROR(ROUNDUP(SUM(Table3[[#This Row],[Rectified]]/VLOOKUP(Table3[[#This Row],[Actual W]],roomnames[],5,0)),0),\"\")","v":""},null,null,{"$f":"IFERROR(SUM(Table3[[#This Row],[Labour]]*Table3[[#This Row],[Mitre L]]),\"\")","v":""},null,{"$f":"IFERROR(SUM(Table3[[#This Row],[Labour]]*Table3[[#This Row],[Mitre L]]),\"\")","v":""}]
[null,null,null,null,null,null,null,null,null,null,null,null,null,null,null,null,null,null,null,null,null,null,null,null,null,null,null,null,null,null,null,null,null,null,null,null,null,null,null,null,null,null,null,null,null,null,null,null,null,null,null,null,{"$f":"IFERROR(ROUNDUP(SUM(Table3[[#This Row],[Mitre W/H]]/VLOOKUP(Table3[[#This Row],[Actual W]],roomnames[],4,0)),0),\"\")","v":""},{"$f":"IFERROR(ROUNDUP(SUM(Table3[[#This Row],[Rectified]]/VLOOKUP(Table3[[#This Row],[Actual W]],roomnames[],5,0)),0),\"\")","v":""},null,null,{"$f":"IFERROR(SUM(Table3[[#This Row],[Labour]]*Table3[[#This Row],[Mitre L]]),\"\")","v":""},null,{"$f":"IFERROR(SUM(Table3[[#This Row],[Labour]]*Table3[[#This Row],[Mitre L]]),\"\")","v":""}]
[null,null,null,null,null,null,null,null,null,null,null,null,null,null,null,null,null,null,null,null,null,null,null,null,null,null,null,null,null,null,null,null,null,null,null,null,null,null,null,null,null,null,null,null,null,null,null,null,null,null,null,null,{"$f":"IFERROR(ROUNDUP(SUM(Table3[[#This Row],[Mitre W/H]]/VLOOKUP(Table3[[#This Row],[Actual W]],roomnames[],4,0)),0),\"\")","v":""},{"$f":"IFERROR(ROUNDUP(SUM(Table3[[#This Row],[Rectified]]/VLOOKUP(Table3[[#This Row],[Actual W]],roomnames[],5,0)),0),\"\")","v":""},null,null,{"$f":"IFERROR(SUM(Table3[[#This Row],[Labour]]*Table3[[#This Row],[Mitre L]]),\"\")","v":""},null,{"$f":"IFERROR(SUM(Table3[[#This Row],[Labour]]*Table3[[#This Row],[Mitre L]]),\"\")","v":""}]
[null,null,null,null,null,null,null,null,null,null,null,null,null,null,null,null,null,null,null,null,null,null,null,null,null,null,null,null,null,null,null,null,null,null,null,null,null,null,null,null,null,null,null,null,null,null,null,null,null,null,null,null,{"$f":"IFERROR(ROUNDUP(SUM(Table3[[#This Row],[Mitre W/H]]/VLOOKUP(Table3[[#This Row],[Actual W]],roomnames[],4,0)),0),\"\")","v":""},{"$f":"IFERROR(ROUNDUP(SUM(Table3[[#This Row],[Rectified]]/VLOOKUP(Table3[[#This Row],[Actual W]],roomnames[],5,0)),0),\"\")","v":""},null,null,{"$f":"IFERROR(SUM(Table3[[#This Row],[Labour]]*Table3[[#This Row],[Mitre L]]),\"\")","v":""},null,{"$f":"IFERROR(SUM(Table3[[#This Row],[Labour]]*Table3[[#This Row],[Mitre L]]),\"\")","v":""}]

{"sheet":"Paving & Grano","index":18,"n_rows":56,"n_cols":35,"rows_kept":56,"cut":false,"hidden":false,"merged":[[22,24,22,25],[25,26,25,27],[26,26,26,27],[45,17,46,17],[45,21,45,22],[40,17,41,17],[35,17,36,17],[34,19,34,20],[49,23,51,24],[25,24,26,25],[35,21,35,22],[36,19,36,20],[39,19,39,20],[41,19,41,20],[46,19,46,20],[42,21,42,24],[33,21,33,24],[50,20,50,22],[51,20,51,22],[50,17,50,19],[51,17,51,19],[49,25,51,25],[42,2,42,3],[36,2,36,3],[41,2,41,3],[39,2,39,3],[47,21,47,24],[40,21,40,22],[35,0,36,0],[49,8,51,8],[42,4,42,7],[47,4,47,7],[40,4,40,5],[51,0,51,5],[45,0,46,0],[45,4,45,5],[40,0,41,0],[49,6,51,7],[46,2,46,3],[47,2,47,3],[35,4,35,5],[37,2,37,3],[37,4,37,7],[44,2,44,3],[3,0,3,5],[3,7,3,9],[34,2,34,3],[16,1,16,3],[19,3,20,5],[20,7,20,8],[21,7,21,8],[33,4,33,7],[28,0,28,3],[25,7,26,8],[16,7,16,8],[32,4,32,7],[30,4,30,7],[31,4,31,7],[22,7,22,8],[3,24,3,26],[3,17,3,22],[47,19,47,20],[44,19,44,20],[42,19,42,20],[37,19,37,20],[28,17,28,20],[30,21,30,24],[31,21,31,24],[32,21,32,24],[16,24,16,25],[19,20,20,22],[20,24,20,25],[21,24,21,25],[16,18,16,20],[37,21,37,24]]}
[{"$f":"'Main Details'!B2","v":"QUANTITY SHEET FOR EASY START HOMES"},null,null,null,null,null,null,null,null,null,"PG 14",null,null,1,null,null,null,{"$f":"'Main Details'!B2","v":"QUANTITY SHEET FOR EASY START HOMES"},null,null,null,null,null,null,null,null,null,"PG 14",null,null,4,null,null,null,1]
[{"$f":"'Main Details'!D6","v":0},null,null,null,null,null,null,null,null,null,null,null,null,1,null,null,null,{"$f":"'Main Details'!D6","v":0},null,null,null,null,null,null,null,null,null,null,null,null,5,null,null,null,1]
[null,null,null,null,null,null,null,null,null,null,null,null,null,1,null,null,null,null,null,null,null,null,null,null,null,null,null,null,null,null,6,null,null,null,1]
["PAVING",null,null,null,null,null,null,"GRANO",null,null,null,null,null,null,null,null,null,"PAVING",null,null,null,null,null,null,"GRANO"]
[]
[null,null,null,null,null,null,null,null,null,null,null,null,null,1,null,null,null,null,null,null,null,null,null,null,null,null,null,null,null,null,1]
["AREAS","length","x","width",null,"Totals",null,"Y","or N",null,null,null,null,1,null,null,null,"AREAS","length","x","width",null,"Totals",null,"Y","or N",null,null,null,null,1]
["Carport/Garage",{"$f":"'Main Details'!D34","v":0},"x",1,"=",{"$f":"IF(B8=\"\",\"\",B8*D8)","v":0},null,"Y",{"$f":"IF(H8=\"Y\",F8,\"\")","v":0},null,null,null,null,null,null,null,null,"Carport/Garage",null,"x",1,"=",{"$f":"IF(S8=\"\",\"\",S8*U8)","v":""},null,"N",{"$f":"IF(Y8=\"Y\",W8,\"\")","v":""}]
["Driveway",null,"x",1,"=","",null,"N","",null,null,null,null,null,null,null,null,"Driveway",null,"x",1,"=",{"$f":"IF(S9=\"\",\"\",S9*U9)","v":""},null,"N",""]
["Cross over",null,"x",1,"=","",null,"N","",null,null,null,null,1,null,null,null,"Cross over",null,"x",1,"=","",null,"N","",null,null,null,null,1]
["Verandah/Portico",null,"x",1,"=","",null,"N","",null,null,null,null,null,null,null,null,"Verandah/Portico",null,"x",1,"=","",null,"N",""]
["Front Porch Path",null,"x",1,"=","",null,"N","",null,null,null,null,null,null,null,null,"Path",null,"x",1,"=","",null,"N",""]
["Alfresco",null,"x",1,"=","",null,"N","",null,null,null,null,null,null,null,null,"Rear Entertaining",null,"x",1,"=","",null,"N",""]
["Clothesline ",null,"x",1,"=","",null,"N","",null,null,null,null,null,null,null,null,null,null,"x",null,"=","",null,"N",""]
["Bin Pad",null,"x",1,"=","",null,"N","",null,null,null,null,null,null,null,null,null,null,"x",null,"=","",null,"N",""]
[null,null,"x",null,"=","",null,"N","",null,null,null,null,null,null,null,null,null,null,"x",null,"=","",null,"N",""]
[null,"TOTAL AREA",null,null,"=",{"$f":"SUM(F8:F16)-J17","v":0},"m2","Total Grano =",null,{"$f":"SUM(I8:I16)","v":0},null,null,null,null,null,null,null,null,"TOTAL AREA",null,null,"=",{"$f":"SUM(W8:W16)-AA17","v":0},"m2","Total Grano =",null,{"$f":"SUM(Z8:Z16)","v":0}]
[]
["Perimeter",null,null,null,null,null,null,null,null,null,null,null,null,null,null,null,null,"Perimeter"]
["Carport/Garage",null,null,"OR 1 TOTAL PERIMETER",null,null,null,null,null,null,null,null,null,null,null,null,null,"Carport/Garage",null,null,"OR 1 TOTAL PERIMETER"]
["Driveway",null,null,null,null,null,null,"LIMESTONE",null,{"$f":"ROUNDUP(((IF(AND(F9=\"\",F10=\"\"),0,((B9*D9)+(B10*D10)))*'BUILDERS SETTINGS'!C37)*'BUILDERS SETTINGS'!C40),0)","v":0},"m3",null,null,null,null,null,null,"Driveway",null,null,null,null,null,null,"LIMESTONE",null,{"$f":"IFERROR(ROUNDUP((((SUMIF(S10,\">0\",W9:W10)+S10)*'BUILDERS SETTINGS'!C37)*'BUILDERS SETTINGS'!C40),0),0)","v":0},"m3"]
["Cross over",null,null,null,"total",null,null,"PAVING SAND",null,{"$f":"ROUNDUP((IF(F17=\"0\",0,F17*'BUILDERS SETTINGS'!C38)*'BUILDERS SETTINGS'!C39),0)","v":0},"m3",null,null,null,null,null,null,"Cross over",null,null,null,"total",null,null,"PAVING SAND",null,{"$f":"ROUNDUP((IF(W17=\"0\",0,W17*'BUILDERS SETTINGS'!C38)*'BUILDERS SETTINGS'!C39),0)","v":0},"m3"]
["Verandah/Portico",null,null,null,null,null,null,"INFILL SAND",null,{"$f":"ROUNDUP(((((IFERROR((B36*((B33+D33)/1000)),0))+(IFERROR((B41*((B34+D34)/1000)),0))+(IFERROR((B46*((B32+D32)/1000)),0)))*0.003)*0.06)/0.0139,0)","v":0},"bags",null,null,null,null,null,null,"Verandah/Portico",null,null,null,null,null,null,"INFILL SAND",null,{"$f":"ROUNDUP(((((IFERROR((S36*((S33+U33)/1000)),0))+(IFERROR((S41*((S34+U34)/1000)),0))+(IFERROR((S46*((S32+U32)/1000)),0)))*0.003)*0.06)/0.0139,0)","v":0},"bags"]
["Path",null,null,null,null,null,null,null,null,null,null,null,null,null,null,null,null,"Path"]
["Rear Entertaining",null,null,null,null,null,null,null,null,null,null,null,null,null,null,null,null,"Rear Entertaining"]
[null,null,null,null,null,null,null,"METRO ZONE ONLY",null,null,null,null,null,1,"Zone 1",null,null,null,null,null,null,null,null,null,"METRO ZONE ONLY",null,null,null,null,null,1,"Zone 1"]
[null,null,null,null,null,null,null,null,null,null,null,null,null,2,"Zone 2",null,null,null,null,null,null,null,null,null,null,null,null,null,null,null,2,"Zone 2"]
[null,null,null,null,null,null,null,null,null,null,null,null,null,null,"Zone 3"]
["TOTAL PERIMETER",null,null,null,"=",{"$f":"SUM(B20:B28)+D22","v":0},"l/m",null,null,null,null,null,null,null,"Zone 4",null,null,"TOTAL PERIMETER",null,null,null,"=",{"$f":"SUM(S20:S28)+U22","v":0},"l/m"]
[]
[null,"Length","x","Width","Type of Paver",null,null,null,"PATTERN","Pk size","No/m2","leafs",null,1,"DETAIL A",{"$f":"D33","v":0},{"$f":"D34","v":0},null,"Length","x","Width","Type of Paver",null,null,null,"PATTERN","Pk size","No/m2","leafs",null,1,"DETAIL A",{"$f":"U33","v":0},{"$f":"U34","v":0}]
["Main Paving Brick",{"$f":"INDEX('BUILDERS BRICK SELECTION'!$T$5:$T$118,N1)","v":0},"x",{"$f":"INDEX('BUILDERS BRICK SELECTION'!V5:V118,N1)","v":0},{"$f":"INDEX('BUILDERS BRICK SELECTION'!Q5:Q112,N1)","v":"NO SELECTION MADE"},null,null,null,null,{"$f":"INDEX('BUILDERS BRICK SELECTION'!R5:R118,N1)","v":0},{"$f":"INDEX('BUILDERS BRICK SELECTION'!S5:S118,N1)","v":0},{"$f":"INDEX('BUILDERS BRICK SELECTION'!Y5:Y118,N1)","v":0},{"$f":"IF(N10=1,INDEX('BUILDERS BRICK SELECTION'!W5:W88,N1),INDEX('BUILDERS BRICK SELECTION'!X5:X88,N1))","v":"x"},2,"DETAIL B",{"$f":"D33","v":0},{"$f":"D34","v":0},"Main Paving Brick",{"$f":"INDEX('BUILDERS BRICK SELECTION'!$T$5:$T$118,AI1)","v":0},"x",{"$f":"INDEX('BUILDERS BRICK SELECTION'!V5:V118,AI1)","v":0},{"$f":"INDEX('BUILDERS BRICK SELECTION'!Q5:Q118,AI1)","v":"NO SELECTION MADE"},null,null,null,null,{"$f":"INDEX('BUILDERS BRICK SELECTION'!R5:R118,AI1)","v":0},{"$f":"INDEX('BUILDERS BRICK SELECTION'!S5:S118,AI1)","v":0},{"$f":"INDEX('BUILDERS BRICK SELECTION'!Y5:Y118,AI1)","v":0},{"$f":"IF(AE10=1,INDEX('BUILDERS BRICK SELECTION'!W5:W118,AE1),INDEX('BUILDERS BRICK SELECTION'!X5:X118,AE1))","v":0},2,"DETAIL B",{"$f":"U33","v":0},{"$f":"U34","v":0}]
["Contrast Paving Brick 1",{"$f":"INDEX('BUILDERS BRICK SELECTION'!T5:T118,N2)","v":0},"x",{"$f":"INDEX('BUILDERS BRICK SELECTION'!V5:V118,N2)","v":0},{"$f":"INDEX('BUILDERS BRICK SELECTION'!Q5:Q88,N2)","v":"NO SELECTION MADE"},null,null,null,{"$f":"INDEX(P31:P42,N6)","v":0},{"$f":"INDEX('BUILDERS BRICK SELECTION'!R5:R118,N2)","v":0},{"$f":"INDEX('BUILDERS BRICK SELECTION'!S5:S118,N2)","v":0},{"$f":"INDEX('BUILDERS BRICK SELECTION'!Y5:Y118,N2)","v":0},{"$f":"IF(N10=1,INDEX('BUILDERS BRICK SELECTION'!W5:W88,N2),INDEX('BUILDERS BRICK SELECTION'!X5:X88,N2))","v":"x"},3,"DETAIL C",{"$f":"D33","v":0},{"$f":"D34","v":0},"Contrast Paving Brick 1",{"$f":"INDEX('BUILDERS BRICK SELECTION'!T5:T118,AI2)","v":0},"x",{"$f":"INDEX('BUILDERS BRICK SELECTION'!V5:V118,AI2)","v":0},{"$f":"INDEX('BUILDERS BRICK SELECTION'!Q5:Q118,AI2)","v":"NO SELECTION MADE"},null,null,null,{"$f":"INDEX(AG31:AG42,AE6)","v":0},{"$f":"INDEX('BUILDERS BRICK SELECTION'!R5:R118,AI2)","v":0},{"$f":"INDEX('BUILDERS BRICK SELECTION'!S5:S118,AI2)","v":0},{"$f":"INDEX('BUILDERS BRICK SELECTION'!Y5:Y118,AI2)","v":0},{"$f":"IF(AE10=1,INDEX('BUILDERS BRICK SELECTION'!W5:W118,AE2),INDEX('BUILDERS BRICK SELECTION'!X5:X118,AE2))","v":0},3,"DETAIL C",{"$f":"U33","v":0},{"$f":"U34","v":0}]
["Contrast Paving Brick 2",{"$f":"INDEX('BUILDERS BRICK SELECTION'!T5:T118,N3)","v":0},"x",{"$f":"INDEX('BUILDERS BRICK SELECTION'!V5:V118,N3)","v":0},{"$f":"INDEX('BUILDERS BRICK SELECTION'!Q5:Q88,N3)","v":"NO SELECTION MADE"},null,null,null,{"$f":"INDEX(Q31:Q42,N7)","v":0},{"$f":"INDEX('BUILDERS BRICK SELECTION'!R5:R118,N3)","v":0},{"$f":"INDEX('BUILDERS BRICK SELECTION'!S5:S118,N3)","v":0},{"$f":"INDEX('BUILDERS BRICK SELECTION'!Y5:Y118,N3)","v":0},{"$f":"IF(N10=1,INDEX('BUILDERS BRICK SELECTION'!W5:W88,N3),INDEX('BUILDERS BRICK SELECTION'!X5:X88,N3))","v":"x"},4,"DETAIL D",{"$f":"B33","v":0},{"$f":"B34","v":0},"Contrast Paving Brick 2",{"$f":"INDEX('BUILDERS BRICK SELECTION'!T5:T118,AI3)","v":0},"x",{"$f":"INDEX('BUILDERS BRICK SELECTION'!V5:V118,AI3)","v":0},{"$f":"INDEX('BUILDERS BRICK SELECTION'!Q5:Q118,AI3)","v":"NO SELECTION MADE"},null,null,null,{"$f":"INDEX(AH31:AH42,AE7)","v":0},{"$f":"INDEX('BUILDERS BRICK SELECTION'!R5:R118,AI3)","v":0},{"$f":"INDEX('BUILDERS BRICK SELECTION'!S5:S118,AI3)","v":0},{"$f":"INDEX('BUILDERS BRICK SELECTION'!Y5:Y118,AI3)","v":0},{"$f":"IF(AE10=1,INDEX('BUILDERS BRICK SELECTION'!W5:W118,AE3),INDEX('BUILDERS BRICK SELECTION'!X5:X118,AE3))","v":0},4,"DETAIL D",{"$f":"S33","v":0},{"$f":"S34","v":0}]
[null,{"$f":"IF(B33>0,((F29/(I33/1000))),\"\")","v":""},{"$f":"IF(B35=\"\",\"\",(((B35)/(J33/L33))/L33))","v":""},null,null,null,null,null,null,null,null,null,null,5,"DETAIL E",{"$f":"D33","v":0},{"$f":"D34","v":0},null,{"$f":"IF(S33>0,((W29/(Z33/1000))),\"\")","v":""},{"$f":"IF(S35=\"\",\"\",(((S35)/(AA33/AC33))/AC33))","v":""},null,null,null,null,null,null,null,null,null,null,5,"DETAIL E",{"$f":"U33","v":0},{"$f":"U34","v":0}]
["CONTRAST  1",{"$f":"IF(B35=\"\",\"\",B35+D36)","v":""},"+",{"$f":"IF(B35=\"\",\"\",B35*E36)","v":""},0.1,null,"waste",null,null,"DELIVERY EXTRA",null,null,null,6,"DETAIL F",{"$f":"D33","v":0},{"$f":"D34","v":0},"CONTRAST  1",{"$f":"IF(S35=\"\",\"\",S35+U36)","v":""},"+",{"$f":"IF(S35=\"\",\"\",S35*V36)","v":""},0.1,null,"waste",null,null,"DELIVERY EXTRA",null,null,null,6,"DETAIL F",{"$f":"U33","v":0},{"$f":"U34","v":0}]
[null,{"$f":"IF(B35=\"\",\"\",(ROUNDUP(SUM((B36)/(J33/L33)),0)/L33))","v":""},"packs",null,null,null,null,null,"M2","PRICE PER m2",null,null,null,7,"DETAIL G",{"$f":"D33","v":0},{"$f":"D34","v":0},null,{"$f":"IF(S35=\"\",\"\",(ROUNDUP(SUM((S36)/(AA33/AC33)),0)/AC33))","v":""},"packs",null,null,null,null,null,"M2","PRICE PER m2",null,null,null,7,"DETAIL G",{"$f":"U33","v":0},{"$f":"U34","v":0}]
[null,{"$f":"IF(B36=\"\",\"\",B37*J33)","v":""},"pavers",null,{"$f":"IF(B33>0,E33,\"\")","v":""},null,null,null,{"$f":"IF(N2=1,\"\",INDEX('BUILDERS BRICK SELECTION'!AA5:AA88,N2)*B37)","v":""}," ",null,null,null,8,"DETAIL H",{"$f":"B33","v":0},{"$f":"B34","v":0},null,{"$f":"IF(S36=\"\",\"\",S37*AA33)","v":""},"pavers",null,{"$f":"IF(S33>0,V33,\"\")","v":""},null,null,null,{"$f":"IF(AI2=1,\"\",INDEX('BUILDERS BRICK SELECTION'!AA5:AA118,AI2)*S37)","v":""}," ",null,null,null,8,"DETAIL H",{"$f":"S33","v":0},{"$f":"S34","v":0}]
[null,null,null,null,null,null,null,null,null,null,null,null,null,9,null,null,null,null,null,null,null,null,null,null,null,null,null,null,null,null,9]
[null,{"$f":"IF(B34>0,((F29/(I34/1000))),\"\")","v":""},{"$f":"IF(B40=\"\",\"\",(((B40)/(J34/L34))/L34))","v":""},null,null,null,null,null,null,null,null,null,null,10,null,null,null,null,{"$f":"IF(S34>0,((W29/(Z34/1000))),\"\")","v":""},{"$f":"IF(S40=\"\",\"\",(((S40)/(AA34/AC34))/AC34))","v":""},null,null,null,null,null,null,null,null,null,null,10]
["CONTRAST  2",{"$f":"IF(B40=\"\",\"\",B40+D41)","v":""},"+",{"$f":"IF(B40=\"\",\"\",B40*E41)","v":""},0.1,null,"waste",null,null,"DELIVERY EXTRA",null,null,{"$f":"IF(B33>0,B35/K33,0)","v":0},11,null,null,null,"CONTRAST  2",{"$f":"IF(S40=\"\",\"\",S40+U41)","v":""},"+",{"$f":"IF(S40=\"\",\"\",S40*V41)","v":""},0.1,null,"waste",null,null,"DELIVERY EXTRA",null,null,{"$f":"IF(S33>0,S35/AB33,0)","v":0},11]
[null,{"$f":"IF(B41=\"\",\"\",(ROUNDUP(SUM((B41)/(J34/L34)),0)/L34))","v":""},"packs",null,null,null,null,null,"M2","PRICE PER m2",null,null,null,12,null,null,null,null,{"$f":"IF(S41=\"\",\"\",(ROUNDUP(SUM((S41)/(AA34/AC34)),0)/AC34))","v":""},"packs",null,null,null,null,null,"M2","PRICE PER m2",null,null,null,12]
[null,{"$f":"IF(B41=\"\",\"\",B42*J34)","v":""},"pavers",null,{"$f":"IF(B34>0,E34,\"\")","v":""},null,null,null,{"$f":"IF(N3=1,\"\",INDEX('BUILDERS BRICK SELECTION'!AA5:AA88,N3)*B42)","v":""}," ",null,null,{"$f":"IF(B34>0,B40/K34,0)","v":0},null,null,null,null,null,{"$f":"IF(S41=\"\",\"\",S42*AA34)","v":""},"pavers",null,{"$f":"IF(S34>0,V34,\"\")","v":""},null,null,null,{"$f":"IF(AI3=1,\"\",INDEX('BUILDERS BRICK SELECTION'!AA5:AA118,AI3)*S42)","v":""}," ",null,null,{"$f":"IF(S34>0,S40/AB34,0)","v":0}]
[]
[null,{"$f":"IF(F17=0,\"\",(F17-(M41+M43))*K32)","v":""},{"$f":"IF(B45=\"\",\"\",(((B45)/(J32/L32))/L32))","v":""},null,null,null,null,null,null,null,null,null,null,null,null,null,null,null,{"$f":"IF(W17=0,\"\",(W17-(AD41+AD43))*AB32)","v":""},{"$f":"IF(S45=\"\",\"\",(((S45)/(AA32/AC32))/AC32))","v":""}]
["MAIN PAVING BRICK",{"$f":"IF(B45=\"\",\"\",B45+D46)","v":""},"+",{"$f":"IF(B45=\"\",\"\",B45*E46)","v":""},0.1,null,"waste",null,null,"DELIVERY EXTRA",null,null,null,null,null,null,null,"MAIN PAVING BRICK",{"$f":"IF(S45=\"\",\"\",S45+U46)","v":""},"+",{"$f":"IF(S45=\"\",\"\",S45*V46)","v":""},0.1,null,"waste",null,null,"DELIVERY EXTRA"]
[null,{"$f":"IF(B46=\"\",\"\",(ROUNDUP(SUM((B46)/(J32/L32)),0)/L32))","v":""},"packs",null,null,null,null,null,"M2","PRICE PER m2",null,null,null,null,null,null,null,null,{"$f":"IF(S46=\"\",\"\",(ROUNDUP(SUM((S46)/(AA32/AC32)),0)/AC32))","v":""},"packs",null,null,null,null,null,"M2","PRICE PER m2"]
[null,{"$f":"IF(B46=\"\",\"\",B47*J32)","v":""},"pavers",null,{"$f":"IF(B32>0,E32,\"\")","v":""},null,null,null,{"$f":"IF(N1=1,\"\",INDEX('BUILDERS BRICK SELECTION'!AA5:AA104,N1)*B47)","v":""}," ",null,null,null,null,null,null,null,null,{"$f":"IF(S46=\"\",\"\",S47*AA32)","v":""},"pavers",null,{"$f":"IF(S32>0,V32,\"\")","v":""},null,null,null,{"$f":"IF(AI1=1,\"\",INDEX('BUILDERS BRICK SELECTION'!AA5:AA118,AI1)*S47)","v":""}," "]
[]
[null,null,null,null,null,null,"TOTAL M2 PAVING",null,{"$f":"SUM(N54:N56)","v":0},null,null,null,null,null,null,null,null,null,null,null,null,null,null,"TOTAL M2 PAVING",null,{"$f":"SUM(AE51:AE53)","v":0}]
[null,null,null,null,null,null,null,null,null,null,null,null,null,null,null,null,null,"GRAND TOTAL   LABOUR  M2",null,null,{"$f":"SUM(F17+W17)","v":0},null,null,null,null,null,null,null,null,null,{"$f":"Z38","v":""}]
[null,null,null,null,null,null,null,null,null,null,null,null,null,null,null,null,null,"GRAND TOTAL   PAVERS  M2",null,null,{"$f":"SUM(I50+Z50)","v":0},null,null,null,null,null,null,null,null,null,{"$f":"Z43","v":""}]
[null,null,null,null,null,null,null,null,null,null,null,null,null,null,null,null,null,null,null,null,null,null,null,null,null,null,null,null,null,null,{"$f":"Z48","v":""}]
[null,null,null,null,null,null,null,null,null,null,null,null,null,{"$f":"I38","v":""}]
[null,null,null,null,null,null,null,null,null,null,null,null,null,{"$f":"I43","v":""}]
[null,null,null,null,null,null,null,null,null,null,null,null,null,{"$f":"I48","v":""}]

{"sheet":"Blinds2","index":19,"n_rows":47,"n_cols":36,"rows_kept":47,"cut":false,"hidden":false,"merged":[[2,4,2,5],[3,32,3,35],[3,37,3,40],[25,4,25,5],[28,32,28,35]]}
[]
[]
[null,null,null,null,"Roller"]
["STANDARD BRICK",null,null,null,"Height",null,null,null,null,null,null,null,null,null,null,null,null,null,null,null,null,null,null,null,null,null,null,null,null,null,null,null,"ROLLER"]
[1,250,{"$f":"A5","v":1},null,"height","2","2.5","3","3.5","4","4.5","5","5.5","6","6.5","7","7.5","8","8.5","9","9.5","10","10.5","11","11.5","12","NA",null,null,null,null,null,"Height ","Width","Courcing W","IMF"]
[1.5,370,{"$f":"A6","v":1.5},null,null,2,2.5,3,{"$f":"+Table105110[[#This Row],[3]]+0.5","v":3.5},4,4.5,5,5.5,6,6.5,7,7.5,8,8.5,9,9.5,10,10.5,11,11.5,12,null,null,null,null,null,null,null,null,{"$f":"IFERROR(VLOOKUP(AH6,widths,2,0),\"\")","v":""},{"$f":"IFERROR(IF($AG$4=\"ROLLER\",(INDEX(Table105110[#All],MATCH(AG6,Table105110[[#All],[height]],0),MATCH(AI6,$E$6:$Z$6,0))),\n  IF($AG$4=\"VERTICALS\",(INDEX(Table1051109[#All],MATCH(AG6,Table1051109[[#All],[height]],0),MATCH(AI6,$E$6:$Z$6,0))))),\"\")","v":""}]
[2,{"$f":"+B6+120","v":490},2,null,7,"630-105-107120","Next W=  3.5   Next H= 8","Next W=  3.5   Next H= 11","630-105-107140","630-105-108150","630-105-107160","Next W=  6   Next H= 12","Next W=  6   Next H= 18","630-105-107180","Next W= 7   Next H= 15","630-105-107200","Next W=  8.5   Next H= 16","Next W=  8.5   Next H= 18","630-105-107220","Next W=  9.5   Next H= 15","630-105-107240","Next W=  11   Next H= 16","Next W=  11   Next H= 25","630-105-107260","Next W=  12   Next H= 25","630-105-107280","",null,null,null,null,null,null,null,"",{"$f":"IFERROR(IF($AG$4=\"ROLLER\",(INDEX(Table105110[#All],MATCH(AG7,Table105110[[#All],[height]],0),MATCH(AI7,$E$6:$Z$6,0))),\n  IF($AG$4=\"VERTICALS\",(INDEX(Table1051109[#All],MATCH(AG7,Table1051109[[#All],[height]],0),MATCH(AI7,$E$6:$Z$6,0))))),\"\")","v":""}]
[2.5,{"$f":"+B7+120","v":610},2.5,null,8,"630-105-108120","630-105-108125","Next W=  3.5   Next H= 11","630-105-108140","630-105-108150","630-105-108160","Next W=  6   Next H= 12","Next W=  6   Next H= 18","630-105-108180","Next W= 7   Next H= 15","630-105-108200","Next W=  8.5   Next H= 16","Next W=  8.5   Next H= 18","630-105-108220","Next W=  9.5   Next H= 15","630-105-108240","Next W=  11   Next H= 16","Next W=  11   Next H= 25","630-105-108260","Next W=  12   Next H= 25","630-105-108280","",null,null,null,null,null,null,null,"",{"$f":"IFERROR(IF($AG$4=\"ROLLER\",(INDEX(Table105110[#All],MATCH(AG8,Table105110[[#All],[height]],0),MATCH(AI8,$E$6:$Z$6,0))),\n  IF($AG$4=\"VERTICALS\",(INDEX(Table1051109[#All],MATCH(AG8,Table1051109[[#All],[height]],0),MATCH(AI8,$E$6:$Z$6,0))))),\"\")","v":""}]
[3,{"$f":"+B8+120","v":730},3,null,10,"630-105-110120","Next W=  3.5   Next H= 12","Next W=  3.5   Next H= 11","630-105-110140","Next W=  4.5   Next H= 12","630-105-110160","Next W=  6   Next H= 12","Next W=  6   Next H= 18","630-105-110180","Next W= 7   Next H= 15","630-105-110200","Next W=  8.5   Next H= 16","Next W=  8.5   Next H= 18","630-105-110220","Next W=  9.5   Next H= 15","630-105-110240","Next W=  11   Next H= 16","Next W=  12   Next H= 25","Next W=  12   Next H= 11","Next W=  12   Next H= 25","630-105-110280","",null,null,null,null,null,null,null,"",{"$f":"IFERROR(IF($AG$4=\"ROLLER\",(INDEX(Table105110[#All],MATCH(AG9,Table105110[[#All],[height]],0),MATCH(AI9,$E$6:$Z$6,0))),\n  IF($AG$4=\"VERTICALS\",(INDEX(Table1051109[#All],MATCH(AG9,Table1051109[[#All],[height]],0),MATCH(AI9,$E$6:$Z$6,0))))),\"\")","v":""}]
[3.5,850,3.5,null,11,"Next W=  3   Next H= 12","Next W=  3   Next H= 12","630-105-111130","Next W=  5   Next H= 12","Next W=  11   Next H= 12","Next W=  11   Next H= 12","Next W=  11   Next H= 12","Next W=  6   Next H= 18","Next W=  11   Next H= 12","Next W=  11   Next H= 15","Next W=  11   Next H= 12","Next W=  11   Next H= 15","Next W=  11   Next H= 18","Next W=  11   Next H= 12","Next W=  11   Next H= 15","Next W=  11   Next H= 12","Next W=  11   Next H= 16","Next W=  11   Next H= 25","630-105-110260","Next W=  Not Available   Next H= 25","Next W=  Not Available   Next H= 12","",null,null,null,null,null,null,null,"",{"$f":"IFERROR(IF($AG$4=\"ROLLER\",(INDEX(Table105110[#All],MATCH(AG10,Table105110[[#All],[height]],0),MATCH(AI10,$E$6:$Z$6,0))),\n  IF($AG$4=\"VERTICALS\",(INDEX(Table1051109[#All],MATCH(AG10,Table1051109[[#All],[height]],0),MATCH(AI10,$E$6:$Z$6,0))))),\"\")","v":""}]
[4,970,4,null,12,"630-105-112120","630-105-112125","630-105-112130","630-105-112140","630-105-112145","630-105-112160","630-105-112165","Next W=  6   Next H= 18","630-105-112180","Next W= 7   Next H= 15","630-105-112200","Next W=  8.5   Next H= 16","Next W=  8.5   Next H= 18","630-105-112220","Next W=  9.5   Next H= 15","630-105-112240","Next W=  11   Next H= 16","Next W=  11   Next H= 25","630-105-112260","Next W=  12   Next H= 25","630-105-112280","",null,null,null,null,null,null,null,"",{"$f":"IFERROR(IF($AG$4=\"ROLLER\",(INDEX(Table105110[#All],MATCH(AG11,Table105110[[#All],[height]],0),MATCH(AI11,$E$6:$Z$6,0))),\n  IF($AG$4=\"VERTICALS\",(INDEX(Table1051109[#All],MATCH(AG11,Table1051109[[#All],[height]],0),MATCH(AI11,$E$6:$Z$6,0))))),\"\")","v":""}]
[4.5,1090,4.5,null,14,"630-105-114120","Next W=  3.5   Next H= 18","Next W=  3.5   Next H= 16","630-105-114140","Next W=  4.5   Next H= 15","630-105-114160","Next W=  6   Next H= 15","Next W=  6   Next H= 18","630-105-114180","Next W= 7   Next H= 15","630-105-114200","Next W=  8.5   Next H= 16","Next W=  8.5   Next H= 18","630-105-114220","Next W=  9.5   Next H= 15","630-105-114240","Next W=  11   Next H= 16","Next W=  11   Next H= 25","630-105-114260","Next W=  12   Next H= 25","630-105-114280","",null,null,null,null,null,null,null,"",{"$f":"IFERROR(IF($AG$4=\"ROLLER\",(INDEX(Table105110[#All],MATCH(AG12,Table105110[[#All],[height]],0),MATCH(AI12,$E$6:$Z$6,0))),\n  IF($AG$4=\"VERTICALS\",(INDEX(Table1051109[#All],MATCH(AG12,Table1051109[[#All],[height]],0),MATCH(AI12,$E$6:$Z$6,0))))),\"\")","v":""}]
[5,1210,5,null,15,"630-105-115120","Next W=  3.5   Next H= 18","Next W=  3.5   Next H= 16","630-105-115140","630-105-115145","630-105-115160","630-105-115165","Next W=  6   Next H= 18","630-105-115180","630-105-115185","630-105-115200","630-105-115205","Next W=  8.5   Next H= 18","630-105-115220","630-105-115225","630-105-115240","Next W=  11   Next H= 16","Next W=  11   Next H= 25","630-105-115260","Next W=  12   Next H= 25","630-105-115280","",null,null,null,null,null,null,null,"",{"$f":"IFERROR(IF($AG$4=\"ROLLER\",(INDEX(Table105110[#All],MATCH(AG13,Table105110[[#All],[height]],0),MATCH(AI13,$E$6:$Z$6,0))),\n  IF($AG$4=\"VERTICALS\",(INDEX(Table1051109[#All],MATCH(AG13,Table1051109[[#All],[height]],0),MATCH(AI13,$E$6:$Z$6,0))))),\"\")","v":""}]
[5.5,1330,5.5,null,16,"Next W=  3   Next H= 16","Next W=  3   Next H= 18","630-105-116130","Next W=  5   Next H= 17","Next W=  5   Next H= 18","Next W=  5   Next H= 17","630-105-116145","Next W=  6   Next H= 18","630-105-116155","Next W= 7   Next H= 18","Next W=  7.5   Next H= 17","630-105-116165","Next W=  9   Next H= 18","Next W=  9   Next H= 17","630-105-116180","Next W=  10   Next H= 17","630-105-116190","Next W=  11   Next H= 25","630-105-117260","Next W=  Not Available   Next H= 25","Next W=  Not Available   Next H= 17","",null,null,null,null,null,null,null,"",{"$f":"IFERROR(IF($AG$4=\"ROLLER\",(INDEX(Table105110[#All],MATCH(AG14,Table105110[[#All],[height]],0),MATCH(AI14,$E$6:$Z$6,0))),\n  IF($AG$4=\"VERTICALS\",(INDEX(Table1051109[#All],MATCH(AG14,Table1051109[[#All],[height]],0),MATCH(AI14,$E$6:$Z$6,0))))),\"\")","v":""}]
[6,1450,6,null,17,"630-105-117120","Next W=  3.5   Next H= 18","Next W=  3.5   Next H= Not available","630-105-117140","Next W=  4.5   Next H= 18","630-105-117160","Next W=  6   Next H= 18","Next W=  6   Next H= 18","630-105-117180","Next W= 7   Next H= 18","630-105-117200","Next W=  8.5   Next H= 18","Next W=  8.5   Next H= 18","630-105-117220","Next W=  9.5   Next H= 19","630-105-117240","Next W=  12   Next H= 18","Next W=  12   Next H= 25","Next W=  12   Next H= 19","Next W=  12   Next H= 25","630-105-117280","",null,null,null,null,null,null,null,"",{"$f":"IFERROR(IF($AG$4=\"ROLLER\",(INDEX(Table105110[#All],MATCH(AG15,Table105110[[#All],[height]],0),MATCH(AI15,$E$6:$Z$6,0))),\n  IF($AG$4=\"VERTICALS\",(INDEX(Table1051109[#All],MATCH(AG15,Table1051109[[#All],[height]],0),MATCH(AI15,$E$6:$Z$6,0))))),\"\")","v":""}]
[6.5,1570,6.5,null,18,"Next W=  2.5  Next H= 19","630-105-118125","630-105-118130","630-105-118135","630-105-118140","630-105-118145","630-105-118150","630-105-118155","630-105-118160","630-105-118165","630-105-118170","630-105-118175","630-105-118180","630-105-118185","630-105-118190","Next W=  10   Next H= 19","630-105-118200","Next W=  12   Next H= 25","Next W=  Not Available   Next H= 19","Next W=  Not Available   Next H= 25","Next W=  Not Available   Next H= 19","",null,null,null,null,null,null,null,"",{"$f":"IFERROR(IF($AG$4=\"ROLLER\",(INDEX(Table105110[#All],MATCH(AG16,Table105110[[#All],[height]],0),MATCH(AI16,$E$6:$Z$6,0))),\n  IF($AG$4=\"VERTICALS\",(INDEX(Table1051109[#All],MATCH(AG16,Table1051109[[#All],[height]],0),MATCH(AI16,$E$6:$Z$6,0))))),\"\")","v":""}]
[7,1690,7,null,19,"630-105-119120","Next W=  3.5   Next H= Not available","Next W=  3.5   Next H= Not available","630-105-119140","Next W=  4.5   Next H= 25","630-105-119160","Next W=  6   Next H= 25","Next W=  6   Next H= 25","630-105-119180","Next W= 7   Next H= 25","630-105-119200","Next W=  8.5   Next H= 22","Next W=  8.5   Next H= 25","630-105-119220","Next W=  9.5   Next H= 22","630-105-119240","Next W=  11   Next H= 25","Next W=  11   Next H= 25","630-105-119260","Next W=  12   Next H= 25","630-105-119280","",null,null,null,null,null,null,null,"",{"$f":"IFERROR(IF($AG$4=\"ROLLER\",(INDEX(Table105110[#All],MATCH(AG17,Table105110[[#All],[height]],0),MATCH(AI17,$E$6:$Z$6,0))),\n  IF($AG$4=\"VERTICALS\",(INDEX(Table1051109[#All],MATCH(AG17,Table1051109[[#All],[height]],0),MATCH(AI17,$E$6:$Z$6,0))))),\"\")","v":""}]
[7.5,1810,7.5,null,21,"630-105-121120","Next W=  3.5   Next H= Not available","Next W=  3.5   Next H= Not available","630-105-121140","Next W=  4.5   Next H= 25","630-105-121160","Next W=  6   Next H= 25","Next W=  6   Next H= 25","630-105-121180","Next W= 7   Next H= 25","630-105-121200","Next W=  8.5   Next H= 22","Next W=  8.5   Next H= 25","630-105-121220","Next W=  9.5   Next H= 22","630-105-121240","Next W=  11   Next H= 25","Next W=  11   Next H= 25","630-105-121260","Next W=  12   Next H= 25","630-105-121280","",null,null,null,null,null,null,null,"",{"$f":"IFERROR(IF($AG$4=\"ROLLER\",(INDEX(Table105110[#All],MATCH(AG18,Table105110[[#All],[height]],0),MATCH(AI18,$E$6:$Z$6,0))),\n  IF($AG$4=\"VERTICALS\",(INDEX(Table1051109[#All],MATCH(AG18,Table1051109[[#All],[height]],0),MATCH(AI18,$E$6:$Z$6,0))))),\"\")","v":""}]
[8,1930,8,null,22,"630-105-122120","Next W=  3.5   Next H= Not available","Next W=  3.5   Next H= Not available","630-105-122140","Next W=  4.5   Next H= 25","630-105-122160","Next W=  6   Next H= 25","Next W=  6   Next H= 25","630-105-122180","Next W= 7   Next H= 25","630-105-122200","630-105-122205","Next W=  8.5   Next H= 25","630-105-122220","630-105-122225","630-105-122240","Next W=  11   Next H= 25","Next W=  11   Next H= 25","630-105-122260","Next W=  12   Next H= 25","630-105-122280","",null,null,null,null,null,null,null,"",{"$f":"IFERROR(IF($AG$4=\"ROLLER\",(INDEX(Table105110[#All],MATCH(AG19,Table105110[[#All],[height]],0),MATCH(AI19,$E$6:$Z$6,0))),\n  IF($AG$4=\"VERTICALS\",(INDEX(Table1051109[#All],MATCH(AG19,Table1051109[[#All],[height]],0),MATCH(AI19,$E$6:$Z$6,0))))),\"\")","v":""}]
[8.5,2050,8.5,null,24,"630-105-124120","Next W=  3.5   Next H= Not available","Next W=  3.5   Next H= Not available","630-105-124140","Next W=  4.5   Next H= 25","630-105-124160","Next W=  6   Next H= 25","Next W=  6   Next H= 25","630-105-124180","Next W= 7   Next H= 25","630-105-124200","Next W=  8.5   Next H= 25","Next W=  8.5   Next H= 25","630-105-124220","Next W=  9.5   Next H= 25","630-105-124240","Next W=  11   Next H= 25","Next W=  11   Next H= 25","630-105-124260","Next W=  12   Next H= 25","630-105-124280","",null,null,null,null,null,null,null,"",{"$f":"IFERROR(IF($AG$4=\"ROLLER\",(INDEX(Table105110[#All],MATCH(AG20,Table105110[[#All],[height]],0),MATCH(AI20,$E$6:$Z$6,0))),\n  IF($AG$4=\"VERTICALS\",(INDEX(Table1051109[#All],MATCH(AG20,Table1051109[[#All],[height]],0),MATCH(AI20,$E$6:$Z$6,0))))),\"\")","v":""}]
[9,2170,9,null,25,"Next W=  4   Next H= 26","Next W=  4   Next H= Not available","Next W=  4   Next H= Not available","Next W=  4   Next H= 26","630-105-125140","Next W=  5   Next H= 26","630-105-125150","630-105-125155","630-105-125160","630-105-125165","630-105-125170","630-105-125175","630-105-125180","630-105-125185","630-105-125190","630-105-125195","630-105-125200","630-105-125205","630-105-125210","630-105-125215","630-105-125220","",null,null,null,null,null,null,null,"",{"$f":"IFERROR(IF($AG$4=\"ROLLER\",(INDEX(Table105110[#All],MATCH(AG21,Table105110[[#All],[height]],0),MATCH(AI21,$E$6:$Z$6,0))),\n  IF($AG$4=\"VERTICALS\",(INDEX(Table1051109[#All],MATCH(AG21,Table1051109[[#All],[height]],0),MATCH(AI21,$E$6:$Z$6,0))))),\"\")","v":""}]
[9.5,{"$f":"+B21+120","v":2290},9.5,null,26,"630-105-126120","Next W=  3.5   Next H= Not available","Next W=  3.5   Next H= Not available","630-105-126140","Next W=  4.5   Next H= 28","630-105-126160","Next W=  6   Next H= 28","Next W=  6   Next H= 28","630-105-126180","Next W= 7   Next H= 28","630-105-126200","Next W=  8.5   Next H= 28","Next W=  8.5   Next H= 28","630-105-126220","Next W=  9.5   Next H= 28","630-105-126240","Next W=  11   Next H= 28","Next W=  11   Next H= 28","630-105-126260","Next W=  12   Next H= 28","630-105-126280","",null,null,null,null,null,null,null,{"$f":"IFERROR(VLOOKUP(AH22,widths,2,0),\"\")","v":""},{"$f":"IFERROR(IF($AG$4=\"ROLLER\",(INDEX(Table105110[#All],MATCH(AG22,Table105110[[#All],[height]],0),MATCH(AI22,$E$6:$Z$6,0))),\n  IF($AG$4=\"VERTICALS\",(INDEX(Table1051109[#All],MATCH(AG22,Table1051109[[#All],[height]],0),MATCH(AI22,$E$6:$Z$6,0))))),\"\")","v":""}]
[10,{"$f":"+B22+120","v":2410},10,null,28,"630-105-128120","Next W=  3.5   Next H= Not available","Next W=  3.5   Next H= Not available","630-105-128140","630-105-128145","630-105-128160","630-105-128165","630-105-128170","630-105-128180","630-105-128185","630-105-128200","630-105-128205","630-105-128210","630-105-128220","630-105-128225","630-105-128240","630-105-128245","630-105-128250","630-105-128260","630-105-128265","630-105-128280",""]
[10.5,{"$f":"+B23+120","v":2530},10.5,null,29,"630-105-129120","Next W=  3.5   Next H= Not available","Next W=  3.5   Next H= Not available","630-105-129140","Next W=  4.5   Next H= Not available","630-105-129160","Next W=  6  Next H= Not available","Next W=  6  Next H= Not available","630-105-129180","Next W=  7  Next H= Not available","630-105-129200","Next W=  8.5  Next H= Not available","Next W=  8.5  Next H= Not available","630-105-129220","Next W=  9.5  Next H= Not available","630-105-129240","Next W=  11  Next H= Not available","Next W=  11  Next H= Not available","630-105-129260","Next W=  12  Next H= Not available","630-105-129280","",null,null,null,null,null,null,null,"",{"$f":"IFERROR(IF($AG$4=\"ROLLER\",(INDEX(Table105110[#All],MATCH(AG24,Table105110[[#All],[height]],0),MATCH(AI24,$E$6:$Z$6,0))),\n  IF($AG$4=\"VERTICALS\",(INDEX(Table1051109[#All],MATCH(AG24,Table1051109[[#All],[height]],0),MATCH(AI24,$E$6:$Z$6,0))))),\"\")","v":""}]
[11,2650,11,null,null,null,null,null,null,null,null,null,null,null,null,null,null,null,null,null,null,null,null,null,null,null,null,null,null,null,null,null,null,null,"",{"$f":"IFERROR(IF($AG$4=\"ROLLER\",(INDEX(Table105110[#All],MATCH(AG25,Table105110[[#All],[height]],0),MATCH(AI25,$E$6:$Z$6,0))),\n  IF($AG$4=\"VERTICALS\",(INDEX(Table1051109[#All],MATCH(AG25,Table1051109[[#All],[height]],0),MATCH(AI25,$E$6:$Z$6,0))))),\"\")","v":""}]
[11.5,2770,11.5,null,"Verticals",null,null,null,null,null,null,null,null,null,null,null,null,null,null,null,null,null,null,null,null,null,null,null,null,null,null,null,null,null,"",{"$f":"IFERROR(IF($AG$4=\"ROLLER\",(INDEX(Table105110[#All],MATCH(AG26,Table105110[[#All],[height]],0),MATCH(AI26,$E$6:$Z$6,0))),\n  IF($AG$4=\"VERTICALS\",(INDEX(Table1051109[#All],MATCH(AG26,Table1051109[[#All],[height]],0),MATCH(AI26,$E$6:$Z$6,0))))),\"\")","v":""}]
[12,2890,12,null,"Height",null,null,null,null,null,null,null,null,null,null,null,null,null,null,null,null,null,null,null,null,null,null,null,null,null,null,null,null,null,"",{"$f":"IFERROR(IF($AG$4=\"ROLLER\",(INDEX(Table105110[#All],MATCH(AG27,Table105110[[#All],[height]],0),MATCH(AI27,$E$6:$Z$6,0))),\n  IF($AG$4=\"VERTICALS\",(INDEX(Table1051109[#All],MATCH(AG27,Table1051109[[#All],[height]],0),MATCH(AI27,$E$6:$Z$6,0))))),\"\")","v":""}]
[12.5,3010,12.5,null,"height","2","2.5","3","3.5","4","4.5","5","5.5","6","6.5","7","7.5","8","8.5","9","9.5","10","10.5","11","11.5","12","13",null,null,null,null,null,null,null,"",{"$f":"IFERROR(IF($AG$4=\"ROLLER\",(INDEX(Table105110[#All],MATCH(AG28,Table105110[[#All],[height]],0),MATCH(AI28,$E$6:$Z$6,0))),\n  IF($AG$4=\"VERTICALS\",(INDEX(Table1051109[#All],MATCH(AG28,Table1051109[[#All],[height]],0),MATCH(AI28,$E$6:$Z$6,0))))),\"\")","v":""}]
[13,3130,13,null,null,2,2.5,3,{"$f":"+Table1051109[[#This Row],[3]]+0.5","v":3.5},4,4.5,5,5.5,6,6.5,7,7.5,8,8.5,9,9.5,10,10.5,11,11.5,12,null,null,null,null,null,null,"VERTICALS"]
[13.5,3250,13.5,null,7,"630-200-000100","Next W=  3.5   Next H= 8","Next W=  3.5   Next H= 11","630-200-000105","Next W=  4.5   Next H= 8","630-200-000110","Next W=  6   Next H= 12","Next W=  6   Next H= 18","630-200-000120","Next W= 7   Next H= 18","630-200-000130","Next W= 8.5   Next H= 11","Next W= 8.5   Next H= 11","630-200-000145","630-200-100100","630-200-100105","Next W= 11   Next H= 11","Next W= 11   Next H= 25","630-200-100120","Next W= 12   Next H= 11","630-200-100130","",null,null,null,null,null,null,null,"",{"$f":"IFERROR(IF($AG$4=\"ROLLER\",(INDEX(Table105110[#All],MATCH(AG30,Table105110[[#All],[height]],0),MATCH(AI30,$E$6:$Z$6,0))),\n  IF($AG$4=\"VERTICALS\",(INDEX(Table1051109[#All],MATCH(AG30,Table1051109[[#All],[height]],0),MATCH(AI30,$E$6:$Z$6,0))))),\"\")","v":""}]
[14,3370,14,null,8,"630-200-200090","630-200-200100","Next W=  3.5   Next H= 11","630-200-200110","630-200-200150","630-200-200155","Next W= 5.5   Next H= 12","Next W=  6   Next H= 18","630-200-200170","Next W= 7   Next H= 18","630-200-200180","Next W= 8.5   Next H= 11","Next W= 8.5   Next H= 11","630-200-200195","Next W= 9.5   Next H= 15","630-200-200205","Next W= 11   Next H= 11","Next W= 11   Next H= 25","630-200-200220","Next W= 12   Next H= 11","630-200-200200","",null,null,null,null,null,null,null,"",{"$f":"IFERROR(IF($AG$4=\"ROLLER\",(INDEX(Table105110[#All],MATCH(AG31,Table105110[[#All],[height]],0),MATCH(AI31,$E$6:$Z$6,0))),\n  IF($AG$4=\"VERTICALS\",(INDEX(Table1051109[#All],MATCH(AG31,Table1051109[[#All],[height]],0),MATCH(AI31,$E$6:$Z$6,0))))),\"\")","v":""}]
[14.5,3490,14.5,null,10,"630-200-210120","Next W=  3.5   Next H= 12","Next W=  3.5   Next H= 11","630-200-210135","Next W= 4.5   Next H= 12","630-200-210145","Next W= 5.5   Next H= 12","Next W=  6   Next H= 18","630-200-210160","Next W= 8.5   Next H= 18","Next W= 8.5   Next H= 11","Next W= 8.5   Next H= 11","Next W= 8.5   Next H= 11","630-200-210185","Next W= 9.5   Next H= 15","630-200-210195","Next W= 11   Next H= 11","Next W= 11   Next H= 25","630-200-210210","Next W= 12   Next H= 11","630-200-210220","",null,null,null,null,null,null,null,"",{"$f":"IFERROR(IF($AG$4=\"ROLLER\",(INDEX(Table105110[#All],MATCH(AG32,Table105110[[#All],[height]],0),MATCH(AI32,$E$6:$Z$6,0))),\n  IF($AG$4=\"VERTICALS\",(INDEX(Table1051109[#All],MATCH(AG32,Table1051109[[#All],[height]],0),MATCH(AI32,$E$6:$Z$6,0))))),\"\")","v":""}]
[null,null,null,null,11,"Next W=  3   Next H= 22","Next W=  3   Next H= 12","630-200-300100","Next W= Not Available   Next H= 14","Next W= Not Available   Next H= 12","Next W= Not Available   Next H= 14","Next W= Not Available   Next H= 12","Next W= Not Available   Next H= 18","Next W= Not Available   Next H= 12","Next W= Not Available   Next H= 18","Next W= Not Available   Next H= 14","Next W= Not Available   Next H=15","Next W= Not Available   Next H= 18","Next W= Not Available   Next H= 12","Next W= Not Available   Next H= 15","Next W= Not Available   Next H= 14","Next W= Not Available   Next H= 16","Next W= Not Available   Next H= 25","Next W= Not Available   Next H= 15","Next W= Not Available   Next H= 25","Next W= Not Available   Next H= 12",null,null,null,null,null,null,null,null,"",{"$f":"IFERROR(IF($AG$4=\"ROLLER\",(INDEX(Table105110[#All],MATCH(AG33,Table105110[[#All],[height]],0),MATCH(AI33,$E$6:$Z$6,0))),\n  IF($AG$4=\"VERTICALS\",(INDEX(Table1051109[#All],MATCH(AG33,Table1051109[[#All],[height]],0),MATCH(AI33,$E$6:$Z$6,0))))),\"\")","v":""}]
[null,null,null,null,12,"Next W= 2.5   Next H= 22","630-200-400100","630-200-400150","Next W= 4   Next H= 14","630-200-400200","Next W= 5   Next H= 14","630-200-400250","Next W=  6   Next H= 18","630-200-400260","Next W= 7   Next H= 18","630-200-400270","Next W= 8.5  Next H=15","Next W= 8.5  Next H=18","630-200-400285","Next W=  12  Next H= 15","Next W=  12  Next H= 14","Next W= 12   Next H= 16","Next W= 12   Next H= 25","Next W= 12  Next H= 15","Next W= 12   Next H= 25","630-200-400320","",null,null,null,null,null,null,null,"",{"$f":"IFERROR(IF($AG$4=\"ROLLER\",(INDEX(Table105110[#All],MATCH(AG34,Table105110[[#All],[height]],0),MATCH(AI34,$E$6:$Z$6,0))),\n  IF($AG$4=\"VERTICALS\",(INDEX(Table1051109[#All],MATCH(AG34,Table1051109[[#All],[height]],0),MATCH(AI34,$E$6:$Z$6,0))))),\"\")","v":""}]
[null,null,null,null,14,"Next W=  3.5   Next H= 22","Next W=  3.5   Next H= 18","Next W=  3.5   Next H= 18","630-200-414135","Next W=  4.5   Next H= 18","630-200-414145","Next W=  5.5   Next H= 18","Next W=  6   Next H= 18","630-200-414160","Next W= 7   Next H= 18","630-200-414170","Next W= 8.5  Next H=15","Next W= 8.5  Next H=18","630-200-414185","Next W= 11   Next H= 15","630-200-414195","Next W= 11   Next H= 16","Next W= 11   Next H= 25","630-200-414210","Next W= 12   Next H= 25","630-200-414220","",null,null,null,null,null,null,null,"",{"$f":"IFERROR(IF($AG$4=\"ROLLER\",(INDEX(Table105110[#All],MATCH(AG35,Table105110[[#All],[height]],0),MATCH(AI35,$E$6:$Z$6,0))),\n  IF($AG$4=\"VERTICALS\",(INDEX(Table1051109[#All],MATCH(AG35,Table1051109[[#All],[height]],0),MATCH(AI35,$E$6:$Z$6,0))))),\"\")","v":""}]
[null,null,null,null,15,"Next W=  3.5   Next H= 22","Next W=  3.5   Next H= 18","Next W=  3.5   Next H= 18","630-200-415135","630-200-500100","Next W=  5   Next H= 18","630-200-500150","Next W=  7.5   Next H= 18","Next W=  7.5   Next H= 16","Next W= 7 .5  Next H= 18","Next W= 7 .5  Next H= 18","630-200-500250","Next W= 8.5  Next H=18","630-200-500260","630-200-500300","Next W= Not Available   Next H= 18","Next W= Not Available   Next H= 16","Next W= Not Available   Next H= 25","Next W= Not Available   Next H= 21","Next W= Not Available   Next H= 25","Next W= Not Available   Next H= 19","",null,null,null,null,null,null,null,"",{"$f":"IFERROR(IF($AG$4=\"ROLLER\",(INDEX(Table105110[#All],MATCH(AG36,Table105110[[#All],[height]],0),MATCH(AI36,$E$6:$Z$6,0))),\n  IF($AG$4=\"VERTICALS\",(INDEX(Table1051109[#All],MATCH(AG36,Table1051109[[#All],[height]],0),MATCH(AI36,$E$6:$Z$6,0))))),\"\")","v":""}]
[null,null,null,null,16,"Next W=  3   Next H= 22","Next W=  3   Next H= 18","630-200-600100","Next W=  5   Next H= 18","Next W=  5   Next H= 18","Next W=  5   Next H= 18","630-200-600150","Next W=  6   Next H= 18","630-200-600200","Next W= 7 .5  Next H= 18","Next W= 7 .5  Next H= 18","630-200-600250","Next W= 9  Next H=18","Next W= 9  Next H=17","630-200-600300","Next W= 10   Next H= 18","630-200-600350","Next W= Not Available   Next H= 25","Next W= Not Available   Next H= 21","Next W= Not Available   Next H= 25","Next W= Not Available   Next H= 19","",null,null,null,null,null,null,null,"",{"$f":"IFERROR(IF($AG$4=\"ROLLER\",(INDEX(Table105110[#All],MATCH(AG37,Table105110[[#All],[height]],0),MATCH(AI37,$E$6:$Z$6,0))),\n  IF($AG$4=\"VERTICALS\",(INDEX(Table1051109[#All],MATCH(AG37,Table1051109[[#All],[height]],0),MATCH(AI37,$E$6:$Z$6,0))))),\"\")","v":""}]
[null,null,null,null,17,"Next W=  6   Next H= 22","Next W=  6   Next H= 18","Next W=  6   Next H= 18","Next W=  6   Next H= 18","Next W=  6   Next H= 18","Next W=  6   Next H= 18","Next W=  6   Next H= 18","Next W=  6   Next H= 18","630-200-617160","Next W= 8  Next H= 18","Next W= 8  Next H= 18","Next W= 8  Next H= 18","Next W= 8.5  Next H=18","630-200-617185","Next W= Not Available   Next H= 18","Next W= Not Available   Next H= 18","Next W= Not Available   Next H= 18","Next W= Not Available   Next H= 25","Next W= Not Available   Next H= 21","Next W= Not Available   Next H= 25","Next W= Not Available   Next H= 19","",null,null,null,null,null,null,null,{"$f":"IFERROR(VLOOKUP(AH38,widths,2,0),\"\")","v":""},{"$f":"IFERROR(IF($AG$4=\"ROLLER\",(INDEX(Table105110[#All],MATCH(AG38,Table105110[[#All],[height]],0),MATCH(AI38,$E$6:$Z$6,0))),\n  IF($AG$4=\"VERTICALS\",(INDEX(Table1051109[#All],MATCH(AG38,Table1051109[[#All],[height]],0),MATCH(AI38,$E$6:$Z$6,0))))),\"\")","v":""}]
[null,null,null,null,18,"Next W=  2.5   Next H= 22","630-200-700100","630-200-700150","630-200-700200","630-200-700250","630-200-700300","630-200-700350","630-200-700400","630-200-700450","630-200-700500","630-200-700550","630-200-700600","630-200-700650","630-200-700700","630-200-700750","630-200-700800","630-200-700850","Next W= Not Available   Next H= 25","Next W= Not Available   Next H= 21","Next W= Not Available   Next H= 25","Next W= Not Available   Next H= 19",""]
[null,null,null,null,19,"Next W=  3.5   Next H= 22","Next W= 3.5   Next H= Not Available ","Next W= 3.5   Next H= Not Available ","630-200-719135","Next W=  6   Next H= 25","Next W=  6   Next H= 21","Next W=  6   Next H= 25","Next W=  6   Next H= 25","630-200-719160","Next W=  12  Next H= 25","Next W=  12  Next H= 21","Next W=  12  Next H= 25","Next W=  12  Next H= 25","Next W=  12  Next H=21","Next W=  12  Next H= 25","Next W=  12  Next H= 21","Next W=  12  Next H= 25","Next W=  12  Next H= 25","Next W= 12   Next H= 21","Next W= 12   Next H= 25","630-200-719220",""]
[null,null,null,null,21,"Next W=  3.5   Next H= 22","Next W= 3.5   Next H= Not Available ","Next W= 3.5   Next H= Not Available ","630-200-721135","Next W=  4.5   Next H= 25","630-200-721145","Next W=  6   Next H= 25","Next W=  6   Next H= 25","630-200-721160","Next W=  7   Next H= 25","630-200-721170","Next W=  8.5   Next H= 25","Next W=  8.5   Next H= 25","630-200-721185","Next W=  9.5   Next H= 25","630-200-721195","Next W= 11   Next H= 25","Next W= 11   Next H= 25","630-200-721210","Next W= Not Available   Next H= 25","Next W= Not Available   Next H= 25",""]
[null,null,null,null,22,"630-200-722120","Next W= 3.5   Next H= Not Available ","Next W= 3.5   Next H= Not Available ","630-200-722135","Next W=  4.5   Next H= 25","630-200-722145","Next W=  6   Next H= 25","Next W=  6   Next H= 25","630-200-722160","Next W=  9.5   Next H= 25","Next W=  9.5   Next H= 25","Next W=  9.5   Next H= 25","Next W=  9.5   Next H= 25","Next W=  9.5   Next H= 24","Next W=  9.5   Next H= 25","630-200-822195","Next W= 11   Next H= 25","Next W= 11   Next H= 25","630-200-822210","Next W= Not Available   Next H= 25","Next W= Not Available   Next H= 25",""]
[null,null,null,null,24,"630-200-824120","Next W= 3.5   Next H= Not Available ","Next W= 3.5   Next H= Not Available ","630-200-824135","Next W=  4.5   Next H= 25","630-200-824145","Next W=  8.5   Next H= 25","Next W=  8.5   Next H= 25","Next W=  8.5   Next H= 25","Next W=  8.5   Next H= 25","Next W=  8.5   Next H= 25","Next W=  8.5   Next H= 25","Next W=  8.5   Next H= 25","630-200-824185","Next W=  9.5   Next H= 25","630-200-824195","Next W= 11   Next H= 25","Next W= 11   Next H= 25","630-200-824210","Next W= Not Available   Next H= 25","Next W= Not Available   Next H= 25",""]
[null,null,null,null,25,"Next W=  4   Next H= 28","Next W=  4   Next H= Not Available ","Next W=  4   Next H= Not Available ","Next W=  4   Next H= 26","630-200-900100","Next W= 5   Next H= 28","630-200-900150","630-200-900200","630-200-900250","630-200-900300","630-200-900350","630-200-900400","630-200-900450","630-200-900500","630-200-900550","630-200-900600","630-200-900650","630-200-900700","630-200-900750","630-200-900800","630-200-900850","630-200-900900"]
[null,null,null,null,26,"Next W=  3.5   Next H= 28","Next W= 3.5   Next H= Not Available ","Next W= 3.5   Next H= Not Available ","630-200-926135","Next W= 8.5   Next H= 28","Next W= 8.5   Next H= 28","Next W= 8.5   Next H= 28","Next W= 8.5   Next H= 28","Next W= 8.5   Next H= Not Available ","Next W= 8.5   Next H= 28","Next W= 8.5   Next H= 28","Next W= 8.5   Next H= 28","Next W= 8.5   Next H= 28","630-200-926185","Next W= Not Available   Next H= Not Available ","Next W= Not Available   Next H= 28","Next W= Not Available   Next H= 28","Next W= Not Available   Next H= 28","Next W= Not Available   Next H= 28","Next W= Not Available   Next H= Not Available ","Next W= Not Available   Next H= 28",""]
[null,null,null,null,28,"630-200-928120","Next W= 3.5   Next H= Not Available ","Next W= 3.5   Next H= Not Available ","630-200-928135","630-200-930100","630-200-930145","630-200-930150","630-200-930200","Next W= 6.5   Next H= Not Available ","630-200-930300","630-200-930350","630-200-930375","630-200-930450","630-200-930500","Next W= 9.5   Next H= Not Available ","630-200-930600","630-200-930650","630-200-930700","630-200-930750","Next W= 12   Next H= Not Available ","630-200-930850","630-200-930900"]
[null,null,null,null,29,"Next W= Not Available   Next H= Not Available ","Next W= Not Available   Next H= Not Available ","Next W= Not Available   Next H= Not Available ","Next W= Not Available   Next H= Not Available ","Next W= Not Available   Next H= Not Available ","Next W= Not Available   Next H= Not Available ","Next W= Not Available   Next H= Not Available ","Next W= Not Available   Next H= Not Available ","Next W= Not Available   Next H= Not Available ","Next W= Not Available   Next H= Not Available ","Next W= Not Available   Next H= Not Available ","Next W= Not Available   Next H= Not Available ","Next W= Not Available   Next H= Not Available ","Next W= Not Available   Next H= Not Available ","Next W= Not Available   Next H= Not Available ","Next W= Not Available   Next H= Not Available ","Next W= Not Available   Next H= Not Available ","Next W= Not Available   Next H= Not Available ","Next W= Not Available   Next H= Not Available ","Next W= Not Available   Next H= Not Available ","Next W= Not Available   Next H= Not Available ",""]